| Back to Multiple platform build/check report for BioC 3.22: simplified long |
|
This page was generated on 2025-10-21 12:07 -0400 (Tue, 21 Oct 2025).
| Hostname | OS | Arch (*) | R version | Installed pkgs |
|---|---|---|---|---|
| nebbiolo2 | Linux (Ubuntu 24.04.3 LTS) | x86_64 | 4.5.1 Patched (2025-08-23 r88802) -- "Great Square Root" | 4887 |
| lconway | macOS 12.7.6 Monterey | x86_64 | 4.5.1 Patched (2025-09-10 r88807) -- "Great Square Root" | 4677 |
| kjohnson3 | macOS 13.7.7 Ventura | arm64 | 4.5.1 Patched (2025-09-10 r88807) -- "Great Square Root" | 4622 |
| taishan | Linux (openEuler 24.03 LTS) | aarch64 | 4.5.0 (2025-04-11) -- "How About a Twenty-Six" | 4642 |
| Click on any hostname to see more info about the system (e.g. compilers) (*) as reported by 'uname -p', except on Windows and Mac OS X | ||||
| Package 1423/2353 | Hostname | OS / Arch | INSTALL | BUILD | CHECK | BUILD BIN | ||||||||
| MutationalPatterns 3.19.1 (landing page) Mark van Roosmalen
| nebbiolo2 | Linux (Ubuntu 24.04.3 LTS) / x86_64 | OK | OK | ERROR | |||||||||
| lconway | macOS 12.7.6 Monterey / x86_64 | OK | ERROR | skipped | skipped | |||||||||
| kjohnson3 | macOS 13.7.7 Ventura / arm64 | OK | ERROR | skipped | skipped | |||||||||
| taishan | Linux (openEuler 24.03 LTS) / aarch64 | OK | OK | ERROR | ||||||||||
|
To the developers/maintainers of the MutationalPatterns package: - Allow up to 24 hours (and sometimes 48 hours) for your latest push to git@git.bioconductor.org:packages/MutationalPatterns.git to reflect on this report. See Troubleshooting Build Report for more information. - Use the following Renviron settings to reproduce errors and warnings. - If 'R CMD check' started to fail recently on the Linux builder(s) over a missing dependency, add the missing dependency to 'Suggests:' in your DESCRIPTION file. See Renviron.bioc for more information. - See Martin Grigorov's blog post for how to debug Linux ARM64 related issues on a x86_64 host. |
| Package: MutationalPatterns |
| Version: 3.19.1 |
| Command: /home/biocbuild/R/R/bin/R CMD check --install=check:MutationalPatterns.install-out.txt --library=/home/biocbuild/R/R/site-library --no-vignettes --timings MutationalPatterns_3.19.1.tar.gz |
| StartedAt: 2025-10-17 11:34:09 -0000 (Fri, 17 Oct 2025) |
| EndedAt: 2025-10-17 11:49:15 -0000 (Fri, 17 Oct 2025) |
| EllapsedTime: 906.1 seconds |
| RetCode: 1 |
| Status: ERROR |
| CheckDir: MutationalPatterns.Rcheck |
| Warnings: NA |
##############################################################################
##############################################################################
###
### Running command:
###
### /home/biocbuild/R/R/bin/R CMD check --install=check:MutationalPatterns.install-out.txt --library=/home/biocbuild/R/R/site-library --no-vignettes --timings MutationalPatterns_3.19.1.tar.gz
###
##############################################################################
##############################################################################
* using log directory ‘/home/biocbuild/bbs-3.22-bioc/meat/MutationalPatterns.Rcheck’
* using R version 4.5.0 (2025-04-11)
* using platform: aarch64-unknown-linux-gnu
* R was compiled by
aarch64-unknown-linux-gnu-gcc (GCC) 14.2.0
GNU Fortran (GCC) 14.2.0
* running under: openEuler 24.03 (LTS)
* using session charset: UTF-8
* using option ‘--no-vignettes’
* checking for file ‘MutationalPatterns/DESCRIPTION’ ... OK
* checking extension type ... Package
* this is package ‘MutationalPatterns’ version ‘3.19.1’
* package encoding: UTF-8
* checking package namespace information ... OK
* checking package dependencies ... OK
* checking if this is a source package ... OK
* checking if there is a namespace ... OK
* checking for hidden files and directories ... OK
* checking for portable file names ... OK
* checking for sufficient/correct file permissions ... OK
* checking whether package ‘MutationalPatterns’ can be installed ... OK
* checking installed package size ... OK
* checking package directory ... OK
* checking ‘build’ directory ... OK
* checking DESCRIPTION meta-information ... NOTE
License stub is invalid DCF.
* checking top-level files ... OK
* checking for left-over files ... OK
* checking index information ... OK
* checking package subdirectories ... OK
* checking code files for non-ASCII characters ... OK
* checking R files for syntax errors ... OK
* checking whether the package can be loaded ... OK
* checking whether the package can be loaded with stated dependencies ... OK
* checking whether the package can be unloaded cleanly ... OK
* checking whether the namespace can be loaded with stated dependencies ... OK
* checking whether the namespace can be unloaded cleanly ... OK
* checking loading without being on the library search path ... OK
* checking dependencies in R code ... OK
* checking S3 generic/method consistency ... OK
* checking replacement functions ... OK
* checking foreign function calls ... OK
* checking R code for possible problems ... OK
* checking Rd files ... OK
* checking Rd metadata ... OK
* checking Rd cross-references ... OK
* checking for missing documentation entries ... OK
* checking for code/documentation mismatches ... OK
* checking Rd \usage sections ... OK
* checking Rd contents ... OK
* checking for unstated dependencies in examples ... OK
* checking files in ‘vignettes’ ... OK
* checking examples ... OK
Examples with CPU (user + system) or elapsed time > 5s
user system elapsed
context_potential_damage_analysis 34.947 0.582 35.631
plot_lesion_segregation 28.160 0.056 28.292
read_vcfs_as_granges 26.170 0.418 41.678
plot_compare_indels 17.461 0.108 17.619
plot_indel_contexts 17.348 0.107 17.503
get_mut_type 17.115 0.028 17.195
calculate_lesion_segregation 16.697 0.319 17.065
genomic_distribution 14.901 0.248 15.197
bin_mutation_density 12.318 0.407 12.763
plot_compare_dbs 11.373 0.019 11.427
get_indel_context 9.652 0.379 10.060
fit_to_signatures_bootstrapped 9.537 0.143 9.704
plot_river 9.369 0.171 9.565
plot_profile_heatmap 9.078 0.112 9.215
plot_spectrum_region 9.035 0.088 9.149
plot_spectrum 8.661 0.076 8.759
plot_dbs_contexts 8.329 0.060 8.412
plot_enrichment_depletion 7.904 0.080 8.005
mut_matrix_stranded 7.259 0.251 7.535
split_muts_region 5.676 0.064 5.760
plot_192_profile 5.441 0.004 5.463
fit_to_signatures_strict 5.355 0.020 5.387
* checking for unstated dependencies in ‘tests’ ... OK
* checking tests ...
Running ‘testthat.R’
ERROR
Running the tests in ‘tests/testthat.R’ failed.
Last 13 lines of output:
382/1728 mismatches (average diff: 1.45)
[68] 2 - 1 == 1
[69] 4 - 3 == 1
[70] 5 - 6 == -1
[71] 2 - 1 == 1
[72] 1 - 0 == 1
[74] 3 - 2 == 1
[77] 4 - 3 == 1
[78] 2 - 1 == 1
[79] 1 - 0 == 1
...
[ FAIL 3 | WARN 41 | SKIP 0 | PASS 471 ]
Error: Test failures
Execution halted
* checking for unstated dependencies in vignettes ... OK
* checking package vignettes ... OK
* checking running R code from vignettes ... SKIPPED
* checking re-building of vignette outputs ... SKIPPED
* checking PDF version of manual ... OK
* DONE
Status: 1 ERROR, 1 NOTE
See
‘/home/biocbuild/bbs-3.22-bioc/meat/MutationalPatterns.Rcheck/00check.log’
for details.
MutationalPatterns.Rcheck/00install.out
############################################################################## ############################################################################## ### ### Running command: ### ### /home/biocbuild/R/R/bin/R CMD INSTALL MutationalPatterns ### ############################################################################## ############################################################################## * installing to library ‘/home/biocbuild/R/R-4.5.0/site-library’ * installing *source* package ‘MutationalPatterns’ ... ** this is package ‘MutationalPatterns’ version ‘3.19.1’ ** using staged installation ** R ** inst ** byte-compile and prepare package for lazy loading ** help *** installing help indices ** building package indices ** installing vignettes ** testing if installed package can be loaded from temporary location ** testing if installed package can be loaded from final location ** testing if installed package keeps a record of temporary installation path * DONE (MutationalPatterns)
MutationalPatterns.Rcheck/tests/testthat.Rout.fail
R version 4.5.0 (2025-04-11) -- "How About a Twenty-Six"
Copyright (C) 2025 The R Foundation for Statistical Computing
Platform: aarch64-unknown-linux-gnu
R is free software and comes with ABSOLUTELY NO WARRANTY.
You are welcome to redistribute it under certain conditions.
Type 'license()' or 'licence()' for distribution details.
R is a collaborative project with many contributors.
Type 'contributors()' for more information and
'citation()' on how to cite R or R packages in publications.
Type 'demo()' for some demos, 'help()' for on-line help, or
'help.start()' for an HTML browser interface to help.
Type 'q()' to quit R.
> library(testthat)
> library(MutationalPatterns)
Loading required package: GenomicRanges
Loading required package: stats4
Loading required package: BiocGenerics
Loading required package: generics
Attaching package: 'generics'
The following objects are masked from 'package:base':
as.difftime, as.factor, as.ordered, intersect, is.element, setdiff,
setequal, union
Attaching package: 'BiocGenerics'
The following objects are masked from 'package:stats':
IQR, mad, sd, var, xtabs
The following objects are masked from 'package:base':
Filter, Find, Map, Position, Reduce, anyDuplicated, aperm, append,
as.data.frame, basename, cbind, colnames, dirname, do.call,
duplicated, eval, evalq, get, grep, grepl, is.unsorted, lapply,
mapply, match, mget, order, paste, pmax, pmax.int, pmin, pmin.int,
rank, rbind, rownames, sapply, saveRDS, table, tapply, unique,
unsplit, which.max, which.min
Loading required package: S4Vectors
Attaching package: 'S4Vectors'
The following object is masked from 'package:utils':
findMatches
The following objects are masked from 'package:base':
I, expand.grid, unname
Loading required package: IRanges
Loading required package: Seqinfo
Loading required package: NMF
Loading required package: registry
Loading required package: rngtools
Loading required package: cluster
NMF - BioConductor layer [OK] | Shared memory capabilities [NO: bigmemory] | Cores 2/2
To enable shared memory capabilities, try: install.extras('
NMF
')
Attaching package: 'NMF'
The following object is masked from 'package:S4Vectors':
nrun
The following object is masked from 'package:generics':
fit
The following object is masked from 'package:testthat':
compare
>
> test_check("MutationalPatterns")
[ FAIL 3 | WARN 41 | SKIP 0 | PASS 471 ]
══ Failed tests ════════════════════════════════════════════════════════════════
── Failure ('test-context_potential_damage_analysis.R:46:3'): Output is equal to expected ──
`output` not equal to `expected`.
Component "n": Mean relative difference: 0.09452736
Component "ratio": Mean relative difference: 0.06150134
Component "blosum62": Mean relative difference: 0.2656804
── Failure ('test-mut_matrix_stranded.R:20:3'): transforms correctly ───────────
`output` not equal to `expected`.
382/1728 mismatches (average diff: 1.45)
[68] 2 - 1 == 1
[69] 4 - 3 == 1
[70] 5 - 6 == -1
[71] 2 - 1 == 1
[72] 1 - 0 == 1
[74] 3 - 2 == 1
[77] 4 - 3 == 1
[78] 2 - 1 == 1
[79] 1 - 0 == 1
...
── Failure ('test-mut_matrix_stranded.R:29:3'): a list is also acceptable input ──
`output_list` not equal to `expected`.
382/1728 mismatches (average diff: 1.45)
[68] 2 - 1 == 1
[69] 4 - 3 == 1
[70] 5 - 6 == -1
[71] 2 - 1 == 1
[72] 1 - 0 == 1
[74] 3 - 2 == 1
[77] 4 - 3 == 1
[78] 2 - 1 == 1
[79] 1 - 0 == 1
...
[ FAIL 3 | WARN 41 | SKIP 0 | PASS 471 ]
Error: Test failures
Execution halted
MutationalPatterns.Rcheck/MutationalPatterns-Ex.timings
| name | user | system | elapsed | |
| bin_mutation_density | 12.318 | 0.407 | 12.763 | |
| binomial_test | 0.012 | 0.000 | 0.012 | |
| calculate_lesion_segregation | 16.697 | 0.319 | 17.065 | |
| cluster_signatures | 0.070 | 0.000 | 0.073 | |
| context_potential_damage_analysis | 34.947 | 0.582 | 35.631 | |
| convert_sigs_to_ref | 0.059 | 0.004 | 0.067 | |
| cos_sim | 0 | 0 | 0 | |
| cos_sim_matrix | 0.029 | 0.004 | 0.033 | |
| count_dbs_contexts | 0.120 | 0.004 | 0.124 | |
| count_indel_contexts | 0.211 | 0.000 | 0.213 | |
| count_mbs_contexts | 0.105 | 0.000 | 0.105 | |
| determine_regional_similarity | 4.636 | 0.204 | 4.854 | |
| enrichment_depletion_test | 0.201 | 0.004 | 0.207 | |
| extract_signatures | 0.001 | 0.000 | 0.002 | |
| fit_to_signatures | 0.132 | 0.000 | 0.135 | |
| fit_to_signatures_bootstrapped | 9.537 | 0.143 | 9.704 | |
| fit_to_signatures_strict | 5.355 | 0.020 | 5.387 | |
| genomic_distribution | 14.901 | 0.248 | 15.197 | |
| get_dbs_context | 0.346 | 0.004 | 0.352 | |
| get_indel_context | 9.652 | 0.379 | 10.060 | |
| get_known_signatures | 0.292 | 0.079 | 0.385 | |
| get_mut_type | 17.115 | 0.028 | 17.195 | |
| lengthen_mut_matrix | 0.015 | 0.000 | 0.015 | |
| merge_signatures | 1.715 | 0.048 | 1.768 | |
| mut_context | 1.590 | 0.072 | 1.668 | |
| mut_matrix | 2.974 | 0.064 | 3.046 | |
| mut_matrix_stranded | 7.259 | 0.251 | 7.535 | |
| mut_strand | 2.444 | 0.024 | 2.475 | |
| mut_type | 0.037 | 0.000 | 0.037 | |
| mut_type_occurrences | 1.340 | 0.076 | 1.420 | |
| mutations_from_vcf | 0.037 | 0.000 | 0.037 | |
| plot_192_profile | 5.441 | 0.004 | 5.463 | |
| plot_96_profile | 4.604 | 0.020 | 4.639 | |
| plot_bootstrapped_contribution | 3.963 | 0.012 | 3.989 | |
| plot_compare_dbs | 11.373 | 0.019 | 11.427 | |
| plot_compare_indels | 17.461 | 0.108 | 17.619 | |
| plot_compare_mbs | 2.257 | 0.000 | 2.263 | |
| plot_compare_profiles | 4.430 | 0.000 | 4.442 | |
| plot_contribution | 3.643 | 0.020 | 3.674 | |
| plot_contribution_heatmap | 3.720 | 0.008 | 3.738 | |
| plot_correlation_bootstrap | 2.747 | 0.008 | 2.763 | |
| plot_cosine_heatmap | 4.557 | 0.020 | 4.590 | |
| plot_dbs_contexts | 8.329 | 0.060 | 8.412 | |
| plot_enrichment_depletion | 7.904 | 0.080 | 8.005 | |
| plot_indel_contexts | 17.348 | 0.107 | 17.503 | |
| plot_lesion_segregation | 28.160 | 0.056 | 28.292 | |
| plot_main_dbs_contexts | 1.382 | 0.004 | 1.390 | |
| plot_main_indel_contexts | 1.426 | 0.000 | 1.430 | |
| plot_mbs_contexts | 1.288 | 0.016 | 1.307 | |
| plot_original_vs_reconstructed | 1.539 | 0.008 | 1.551 | |
| plot_profile_heatmap | 9.078 | 0.112 | 9.215 | |
| plot_profile_region | 2.076 | 0.004 | 2.087 | |
| plot_rainfall | 3.254 | 0.004 | 3.266 | |
| plot_regional_similarity | 4.200 | 0.020 | 4.233 | |
| plot_river | 9.369 | 0.171 | 9.565 | |
| plot_signature_strand_bias | 1.498 | 0.004 | 1.507 | |
| plot_spectrum | 8.661 | 0.076 | 8.759 | |
| plot_spectrum_region | 9.035 | 0.088 | 9.149 | |
| plot_strand | 0.463 | 0.004 | 0.468 | |
| plot_strand_bias | 1.513 | 0.000 | 1.517 | |
| pool_mut_mat | 0.055 | 0.000 | 0.056 | |
| read_vcfs_as_granges | 26.170 | 0.418 | 41.678 | |
| rename_nmf_signatures | 0.037 | 0.008 | 0.046 | |
| signature_potential_damage_analysis | 0.109 | 0.012 | 0.121 | |
| split_muts_region | 5.676 | 0.064 | 5.760 | |
| strand_bias_test | 0.194 | 0.000 | 0.195 | |
| strand_occurrences | 0.215 | 0.012 | 0.228 | |
| type_context | 1.758 | 0.064 | 1.828 | |