| Back to Multiple platform build/check report for BioC 3.22: simplified long |
|
This page was generated on 2025-10-25 12:03 -0400 (Sat, 25 Oct 2025).
| Hostname | OS | Arch (*) | R version | Installed pkgs |
|---|---|---|---|---|
| nebbiolo2 | Linux (Ubuntu 24.04.3 LTS) | x86_64 | 4.5.1 Patched (2025-08-23 r88802) -- "Great Square Root" | 4901 |
| lconway | macOS 12.7.6 Monterey | x86_64 | 4.5.1 Patched (2025-09-10 r88807) -- "Great Square Root" | 4691 |
| kjohnson3 | macOS 13.7.7 Ventura | arm64 | 4.5.1 Patched (2025-09-10 r88807) -- "Great Square Root" | 4637 |
| taishan | Linux (openEuler 24.03 LTS) | aarch64 | 4.5.0 (2025-04-11) -- "How About a Twenty-Six" | 4658 |
| Click on any hostname to see more info about the system (e.g. compilers) (*) as reported by 'uname -p', except on Windows and Mac OS X | ||||
| Package 1430/2361 | Hostname | OS / Arch | INSTALL | BUILD | CHECK | BUILD BIN | ||||||||
| MutationalPatterns 3.19.1 (landing page) Mark van Roosmalen
| nebbiolo2 | Linux (Ubuntu 24.04.3 LTS) / x86_64 | OK | OK | ERROR | |||||||||
| lconway | macOS 12.7.6 Monterey / x86_64 | OK | ERROR | skipped | skipped | |||||||||
| kjohnson3 | macOS 13.7.7 Ventura / arm64 | OK | ERROR | skipped | skipped | |||||||||
| taishan | Linux (openEuler 24.03 LTS) / aarch64 | OK | NA | NA | ||||||||||
|
To the developers/maintainers of the MutationalPatterns package: - Allow up to 24 hours (and sometimes 48 hours) for your latest push to git@git.bioconductor.org:packages/MutationalPatterns.git to reflect on this report. See Troubleshooting Build Report for more information. - Use the following Renviron settings to reproduce errors and warnings. - If 'R CMD check' started to fail recently on the Linux builder(s) over a missing dependency, add the missing dependency to 'Suggests:' in your DESCRIPTION file. See Renviron.bioc for more information. |
| Package: MutationalPatterns |
| Version: 3.19.1 |
| Command: /home/biocbuild/bbs-3.22-bioc/R/bin/R CMD check --install=check:MutationalPatterns.install-out.txt --library=/home/biocbuild/bbs-3.22-bioc/R/site-library --timings MutationalPatterns_3.19.1.tar.gz |
| StartedAt: 2025-10-25 02:04:40 -0400 (Sat, 25 Oct 2025) |
| EndedAt: 2025-10-25 02:24:29 -0400 (Sat, 25 Oct 2025) |
| EllapsedTime: 1189.3 seconds |
| RetCode: 1 |
| Status: ERROR |
| CheckDir: MutationalPatterns.Rcheck |
| Warnings: NA |
##############################################################################
##############################################################################
###
### Running command:
###
### /home/biocbuild/bbs-3.22-bioc/R/bin/R CMD check --install=check:MutationalPatterns.install-out.txt --library=/home/biocbuild/bbs-3.22-bioc/R/site-library --timings MutationalPatterns_3.19.1.tar.gz
###
##############################################################################
##############################################################################
* using log directory ‘/home/biocbuild/bbs-3.22-bioc/meat/MutationalPatterns.Rcheck’
* using R version 4.5.1 Patched (2025-08-23 r88802)
* using platform: x86_64-pc-linux-gnu
* R was compiled by
gcc (Ubuntu 13.3.0-6ubuntu2~24.04) 13.3.0
GNU Fortran (Ubuntu 13.3.0-6ubuntu2~24.04) 13.3.0
* running under: Ubuntu 24.04.3 LTS
* using session charset: UTF-8
* checking for file ‘MutationalPatterns/DESCRIPTION’ ... OK
* checking extension type ... Package
* this is package ‘MutationalPatterns’ version ‘3.19.1’
* package encoding: UTF-8
* checking package namespace information ... OK
* checking package dependencies ... OK
* checking if this is a source package ... OK
* checking if there is a namespace ... OK
* checking for hidden files and directories ... OK
* checking for portable file names ... OK
* checking for sufficient/correct file permissions ... OK
* checking whether package ‘MutationalPatterns’ can be installed ... OK
* checking installed package size ... OK
* checking package directory ... OK
* checking ‘build’ directory ... OK
* checking DESCRIPTION meta-information ... NOTE
License stub is invalid DCF.
* checking top-level files ... OK
* checking for left-over files ... OK
* checking index information ... OK
* checking package subdirectories ... OK
* checking code files for non-ASCII characters ... OK
* checking R files for syntax errors ... OK
* checking whether the package can be loaded ... OK
* checking whether the package can be loaded with stated dependencies ... OK
* checking whether the package can be unloaded cleanly ... OK
* checking whether the namespace can be loaded with stated dependencies ... OK
* checking whether the namespace can be unloaded cleanly ... OK
* checking loading without being on the library search path ... OK
* checking dependencies in R code ... OK
* checking S3 generic/method consistency ... OK
* checking replacement functions ... OK
* checking foreign function calls ... OK
* checking R code for possible problems ... OK
* checking Rd files ... OK
* checking Rd metadata ... OK
* checking Rd cross-references ... OK
* checking for missing documentation entries ... OK
* checking for code/documentation mismatches ... OK
* checking Rd \usage sections ... OK
* checking Rd contents ... OK
* checking for unstated dependencies in examples ... OK
* checking files in ‘vignettes’ ... OK
* checking examples ... OK
Examples with CPU (user + system) or elapsed time > 5s
user system elapsed
context_potential_damage_analysis 24.486 0.673 25.160
read_vcfs_as_granges 19.663 0.337 24.979
plot_lesion_segregation 17.568 0.213 17.782
get_mut_type 11.677 0.004 11.682
plot_compare_indels 10.756 0.044 10.800
calculate_lesion_segregation 10.519 0.185 10.704
genomic_distribution 10.402 0.231 10.636
plot_indel_contexts 10.588 0.033 10.622
bin_mutation_density 9.715 0.515 10.230
plot_compare_dbs 6.952 0.025 6.980
fit_to_signatures_bootstrapped 6.758 0.124 6.882
get_indel_context 6.591 0.222 6.814
plot_spectrum_region 5.667 0.035 5.703
plot_spectrum 5.327 0.032 5.359
mut_matrix_stranded 5.077 0.132 5.209
* checking for unstated dependencies in ‘tests’ ... OK
* checking tests ...
Running ‘testthat.R’
ERROR
Running the tests in ‘tests/testthat.R’ failed.
Last 13 lines of output:
382/1728 mismatches (average diff: 1.45)
[68] 2 - 1 == 1
[69] 4 - 3 == 1
[70] 5 - 6 == -1
[71] 2 - 1 == 1
[72] 1 - 0 == 1
[74] 3 - 2 == 1
[77] 4 - 3 == 1
[78] 2 - 1 == 1
[79] 1 - 0 == 1
...
[ FAIL 3 | WARN 41 | SKIP 0 | PASS 471 ]
Error: Test failures
Execution halted
* checking for unstated dependencies in vignettes ... OK
* checking package vignettes ... OK
* checking re-building of vignette outputs ... OK
* checking PDF version of manual ... OK
* DONE
Status: 1 ERROR, 1 NOTE
See
‘/home/biocbuild/bbs-3.22-bioc/meat/MutationalPatterns.Rcheck/00check.log’
for details.
MutationalPatterns.Rcheck/00install.out
############################################################################## ############################################################################## ### ### Running command: ### ### /home/biocbuild/bbs-3.22-bioc/R/bin/R CMD INSTALL MutationalPatterns ### ############################################################################## ############################################################################## * installing to library ‘/home/biocbuild/bbs-3.22-bioc/R/site-library’ * installing *source* package ‘MutationalPatterns’ ... ** this is package ‘MutationalPatterns’ version ‘3.19.1’ ** using staged installation ** R ** inst ** byte-compile and prepare package for lazy loading ** help *** installing help indices ** building package indices ** installing vignettes ** testing if installed package can be loaded from temporary location ** testing if installed package can be loaded from final location ** testing if installed package keeps a record of temporary installation path * DONE (MutationalPatterns)
MutationalPatterns.Rcheck/tests/testthat.Rout.fail
R version 4.5.1 Patched (2025-08-23 r88802) -- "Great Square Root"
Copyright (C) 2025 The R Foundation for Statistical Computing
Platform: x86_64-pc-linux-gnu
R is free software and comes with ABSOLUTELY NO WARRANTY.
You are welcome to redistribute it under certain conditions.
Type 'license()' or 'licence()' for distribution details.
R is a collaborative project with many contributors.
Type 'contributors()' for more information and
'citation()' on how to cite R or R packages in publications.
Type 'demo()' for some demos, 'help()' for on-line help, or
'help.start()' for an HTML browser interface to help.
Type 'q()' to quit R.
> library(testthat)
> library(MutationalPatterns)
Loading required package: GenomicRanges
Loading required package: stats4
Loading required package: BiocGenerics
Loading required package: generics
Attaching package: 'generics'
The following objects are masked from 'package:base':
as.difftime, as.factor, as.ordered, intersect, is.element, setdiff,
setequal, union
Attaching package: 'BiocGenerics'
The following objects are masked from 'package:stats':
IQR, mad, sd, var, xtabs
The following objects are masked from 'package:base':
Filter, Find, Map, Position, Reduce, anyDuplicated, aperm, append,
as.data.frame, basename, cbind, colnames, dirname, do.call,
duplicated, eval, evalq, get, grep, grepl, is.unsorted, lapply,
mapply, match, mget, order, paste, pmax, pmax.int, pmin, pmin.int,
rank, rbind, rownames, sapply, saveRDS, table, tapply, unique,
unsplit, which.max, which.min
Loading required package: S4Vectors
Attaching package: 'S4Vectors'
The following object is masked from 'package:utils':
findMatches
The following objects are masked from 'package:base':
I, expand.grid, unname
Loading required package: IRanges
Loading required package: Seqinfo
Loading required package: NMF
Loading required package: registry
Loading required package: rngtools
Loading required package: cluster
NMF - BioConductor layer [OK] | Shared memory capabilities [NO: bigmemory] | Cores 2/2
To enable shared memory capabilities, try: install.extras('
NMF
')
Attaching package: 'NMF'
The following object is masked from 'package:S4Vectors':
nrun
The following object is masked from 'package:generics':
fit
The following object is masked from 'package:testthat':
compare
>
> test_check("MutationalPatterns")
[ FAIL 3 | WARN 41 | SKIP 0 | PASS 471 ]
══ Failed tests ════════════════════════════════════════════════════════════════
── Failure ('test-context_potential_damage_analysis.R:46:3'): Output is equal to expected ──
`output` not equal to `expected`.
Component "n": Mean relative difference: 0.09452736
Component "ratio": Mean relative difference: 0.06150134
Component "blosum62": Mean relative difference: 0.2656804
── Failure ('test-mut_matrix_stranded.R:20:3'): transforms correctly ───────────
`output` not equal to `expected`.
382/1728 mismatches (average diff: 1.45)
[68] 2 - 1 == 1
[69] 4 - 3 == 1
[70] 5 - 6 == -1
[71] 2 - 1 == 1
[72] 1 - 0 == 1
[74] 3 - 2 == 1
[77] 4 - 3 == 1
[78] 2 - 1 == 1
[79] 1 - 0 == 1
...
── Failure ('test-mut_matrix_stranded.R:29:3'): a list is also acceptable input ──
`output_list` not equal to `expected`.
382/1728 mismatches (average diff: 1.45)
[68] 2 - 1 == 1
[69] 4 - 3 == 1
[70] 5 - 6 == -1
[71] 2 - 1 == 1
[72] 1 - 0 == 1
[74] 3 - 2 == 1
[77] 4 - 3 == 1
[78] 2 - 1 == 1
[79] 1 - 0 == 1
...
[ FAIL 3 | WARN 41 | SKIP 0 | PASS 471 ]
Error: Test failures
Execution halted
MutationalPatterns.Rcheck/MutationalPatterns-Ex.timings
| name | user | system | elapsed | |
| bin_mutation_density | 9.715 | 0.515 | 10.230 | |
| binomial_test | 0.009 | 0.000 | 0.009 | |
| calculate_lesion_segregation | 10.519 | 0.185 | 10.704 | |
| cluster_signatures | 0.044 | 0.006 | 0.051 | |
| context_potential_damage_analysis | 24.486 | 0.673 | 25.160 | |
| convert_sigs_to_ref | 0.040 | 0.002 | 0.042 | |
| cos_sim | 0 | 0 | 0 | |
| cos_sim_matrix | 0.018 | 0.003 | 0.021 | |
| count_dbs_contexts | 0.087 | 0.000 | 0.087 | |
| count_indel_contexts | 0.134 | 0.004 | 0.138 | |
| count_mbs_contexts | 0.070 | 0.000 | 0.073 | |
| determine_regional_similarity | 2.801 | 0.076 | 2.877 | |
| enrichment_depletion_test | 0.133 | 0.000 | 0.133 | |
| extract_signatures | 0.001 | 0.000 | 0.001 | |
| fit_to_signatures | 0.085 | 0.012 | 0.096 | |
| fit_to_signatures_bootstrapped | 6.758 | 0.124 | 6.882 | |
| fit_to_signatures_strict | 3.673 | 0.018 | 3.692 | |
| genomic_distribution | 10.402 | 0.231 | 10.636 | |
| get_dbs_context | 0.236 | 0.002 | 0.240 | |
| get_indel_context | 6.591 | 0.222 | 6.814 | |
| get_known_signatures | 0.197 | 0.054 | 0.251 | |
| get_mut_type | 11.677 | 0.004 | 11.682 | |
| lengthen_mut_matrix | 0.011 | 0.002 | 0.012 | |
| merge_signatures | 1.087 | 0.051 | 1.138 | |
| mut_context | 1.094 | 0.049 | 1.143 | |
| mut_matrix | 1.885 | 0.082 | 1.967 | |
| mut_matrix_stranded | 5.077 | 0.132 | 5.209 | |
| mut_strand | 1.950 | 0.029 | 1.978 | |
| mut_type | 0.031 | 0.000 | 0.031 | |
| mut_type_occurrences | 0.842 | 0.030 | 0.872 | |
| mutations_from_vcf | 0.027 | 0.001 | 0.028 | |
| plot_192_profile | 3.678 | 0.026 | 3.706 | |
| plot_96_profile | 2.922 | 0.002 | 2.925 | |
| plot_bootstrapped_contribution | 2.577 | 0.005 | 2.583 | |
| plot_compare_dbs | 6.952 | 0.025 | 6.980 | |
| plot_compare_indels | 10.756 | 0.044 | 10.800 | |
| plot_compare_mbs | 1.420 | 0.002 | 1.421 | |
| plot_compare_profiles | 2.779 | 0.000 | 2.779 | |
| plot_contribution | 2.356 | 0.001 | 2.358 | |
| plot_contribution_heatmap | 2.409 | 0.004 | 2.413 | |
| plot_correlation_bootstrap | 1.721 | 0.001 | 1.723 | |
| plot_cosine_heatmap | 2.812 | 0.017 | 2.829 | |
| plot_dbs_contexts | 4.945 | 0.008 | 4.953 | |
| plot_enrichment_depletion | 4.885 | 0.024 | 4.909 | |
| plot_indel_contexts | 10.588 | 0.033 | 10.622 | |
| plot_lesion_segregation | 17.568 | 0.213 | 17.782 | |
| plot_main_dbs_contexts | 0.764 | 0.001 | 0.766 | |
| plot_main_indel_contexts | 0.768 | 0.001 | 0.769 | |
| plot_mbs_contexts | 0.700 | 0.001 | 0.701 | |
| plot_original_vs_reconstructed | 0.869 | 0.001 | 0.870 | |
| plot_profile_heatmap | 4.908 | 0.074 | 4.983 | |
| plot_profile_region | 1.074 | 0.001 | 1.075 | |
| plot_rainfall | 1.894 | 0.003 | 1.897 | |
| plot_regional_similarity | 2.248 | 0.001 | 2.249 | |
| plot_river | 4.759 | 0.015 | 4.775 | |
| plot_signature_strand_bias | 1.031 | 0.001 | 1.032 | |
| plot_spectrum | 5.327 | 0.032 | 5.359 | |
| plot_spectrum_region | 5.667 | 0.035 | 5.703 | |
| plot_strand | 0.283 | 0.002 | 0.284 | |
| plot_strand_bias | 0.953 | 0.013 | 0.966 | |
| pool_mut_mat | 0.038 | 0.001 | 0.038 | |
| read_vcfs_as_granges | 19.663 | 0.337 | 24.979 | |
| rename_nmf_signatures | 0.027 | 0.003 | 0.031 | |
| signature_potential_damage_analysis | 0.089 | 0.000 | 0.089 | |
| split_muts_region | 3.967 | 0.005 | 3.972 | |
| strand_bias_test | 0.105 | 0.001 | 0.106 | |
| strand_occurrences | 0.121 | 0.003 | 0.125 | |
| type_context | 1.132 | 0.050 | 1.183 | |