| Back to Multiple platform build/check report for BioC 3.22: simplified long |
|
This page was generated on 2025-10-21 12:08 -0400 (Tue, 21 Oct 2025).
| Hostname | OS | Arch (*) | R version | Installed pkgs |
|---|---|---|---|---|
| nebbiolo2 | Linux (Ubuntu 24.04.3 LTS) | x86_64 | 4.5.1 Patched (2025-08-23 r88802) -- "Great Square Root" | 4887 |
| lconway | macOS 12.7.6 Monterey | x86_64 | 4.5.1 Patched (2025-09-10 r88807) -- "Great Square Root" | 4677 |
| kjohnson3 | macOS 13.7.7 Ventura | arm64 | 4.5.1 Patched (2025-09-10 r88807) -- "Great Square Root" | 4622 |
| taishan | Linux (openEuler 24.03 LTS) | aarch64 | 4.5.0 (2025-04-11) -- "How About a Twenty-Six" | 4642 |
| Click on any hostname to see more info about the system (e.g. compilers) (*) as reported by 'uname -p', except on Windows and Mac OS X | ||||
| Package 2138/2353 | Hostname | OS / Arch | INSTALL | BUILD | CHECK | BUILD BIN | ||||||||
| structToolbox 1.21.0 (landing page) Gavin Rhys Lloyd
| nebbiolo2 | Linux (Ubuntu 24.04.3 LTS) / x86_64 | OK | OK | OK | |||||||||
| lconway | macOS 12.7.6 Monterey / x86_64 | OK | OK | OK | OK | |||||||||
| kjohnson3 | macOS 13.7.7 Ventura / arm64 | OK | OK | OK | OK | |||||||||
| taishan | Linux (openEuler 24.03 LTS) / aarch64 | OK | OK | OK | ||||||||||
|
To the developers/maintainers of the structToolbox package: - Allow up to 24 hours (and sometimes 48 hours) for your latest push to git@git.bioconductor.org:packages/structToolbox.git to reflect on this report. See Troubleshooting Build Report for more information. - Use the following Renviron settings to reproduce errors and warnings. - If 'R CMD check' started to fail recently on the Linux builder(s) over a missing dependency, add the missing dependency to 'Suggests:' in your DESCRIPTION file. See Renviron.bioc for more information. - See Martin Grigorov's blog post for how to debug Linux ARM64 related issues on a x86_64 host. |
| Package: structToolbox |
| Version: 1.21.0 |
| Command: /home/biocbuild/R/R/bin/R CMD check --install=check:structToolbox.install-out.txt --library=/home/biocbuild/R/R/site-library --no-vignettes --timings structToolbox_1.21.0.tar.gz |
| StartedAt: 2025-10-17 14:12:51 -0000 (Fri, 17 Oct 2025) |
| EndedAt: 2025-10-17 14:24:56 -0000 (Fri, 17 Oct 2025) |
| EllapsedTime: 724.8 seconds |
| RetCode: 0 |
| Status: OK |
| CheckDir: structToolbox.Rcheck |
| Warnings: 0 |
##############################################################################
##############################################################################
###
### Running command:
###
### /home/biocbuild/R/R/bin/R CMD check --install=check:structToolbox.install-out.txt --library=/home/biocbuild/R/R/site-library --no-vignettes --timings structToolbox_1.21.0.tar.gz
###
##############################################################################
##############################################################################
* using log directory ‘/home/biocbuild/bbs-3.22-bioc/meat/structToolbox.Rcheck’
* using R version 4.5.0 (2025-04-11)
* using platform: aarch64-unknown-linux-gnu
* R was compiled by
aarch64-unknown-linux-gnu-gcc (GCC) 14.2.0
GNU Fortran (GCC) 14.2.0
* running under: openEuler 24.03 (LTS)
* using session charset: UTF-8
* using option ‘--no-vignettes’
* checking for file ‘structToolbox/DESCRIPTION’ ... OK
* checking extension type ... Package
* this is package ‘structToolbox’ version ‘1.21.0’
* package encoding: UTF-8
* checking package namespace information ... OK
* checking package dependencies ... OK
* checking if this is a source package ... OK
* checking if there is a namespace ... OK
* checking for hidden files and directories ... OK
* checking for portable file names ... OK
* checking for sufficient/correct file permissions ... OK
* checking whether package ‘structToolbox’ can be installed ... OK
* checking installed package size ... OK
* checking package directory ... OK
* checking ‘build’ directory ... OK
* checking DESCRIPTION meta-information ... OK
* checking top-level files ... OK
* checking for left-over files ... OK
* checking index information ... OK
* checking package subdirectories ... OK
* checking code files for non-ASCII characters ... OK
* checking R files for syntax errors ... OK
* checking whether the package can be loaded ... OK
* checking whether the package can be loaded with stated dependencies ... OK
* checking whether the package can be unloaded cleanly ... OK
* checking whether the namespace can be loaded with stated dependencies ... OK
* checking whether the namespace can be unloaded cleanly ... OK
* checking loading without being on the library search path ... OK
* checking dependencies in R code ... OK
* checking S3 generic/method consistency ... OK
* checking replacement functions ... OK
* checking foreign function calls ... OK
* checking R code for possible problems ... OK
* checking Rd files ... OK
* checking Rd metadata ... OK
* checking Rd cross-references ... OK
* checking for missing documentation entries ... OK
* checking for code/documentation mismatches ... OK
* checking Rd \usage sections ... OK
* checking Rd contents ... OK
* checking for unstated dependencies in examples ... OK
* checking R/sysdata.rda ... OK
* checking files in ‘vignettes’ ... OK
* checking examples ... OK
Examples with CPU (user + system) or elapsed time > 5s
user system elapsed
fold_change_int 23.707 0.151 25.135
fold_change 17.960 0.036 20.340
fisher_exact 15.349 0.076 15.974
fs_line 9.972 0.032 10.707
forward_selection_by_rank 9.590 0.128 9.860
compare_dist 6.967 0.099 7.403
kfoldxcv_grid 5.635 0.004 5.702
confounders_lsq_boxplot 5.588 0.020 5.646
confounders_lsq_barchart 5.254 0.004 5.274
grid_search_1d 5.166 0.003 5.536
kfold_xval 4.923 0.015 5.113
* checking for unstated dependencies in ‘tests’ ... OK
* checking tests ...
Running ‘testthat.R’
OK
* checking for unstated dependencies in vignettes ... OK
* checking package vignettes ... OK
* checking running R code from vignettes ... SKIPPED
* checking re-building of vignette outputs ... SKIPPED
* checking PDF version of manual ... OK
* DONE
Status: OK
structToolbox.Rcheck/00install.out
############################################################################## ############################################################################## ### ### Running command: ### ### /home/biocbuild/R/R/bin/R CMD INSTALL structToolbox ### ############################################################################## ############################################################################## * installing to library ‘/home/biocbuild/R/R-4.5.0/site-library’ * installing *source* package ‘structToolbox’ ... ** this is package ‘structToolbox’ version ‘1.21.0’ ** using staged installation ** R ** inst ** byte-compile and prepare package for lazy loading ** help *** installing help indices ** building package indices ** installing vignettes ** testing if installed package can be loaded from temporary location ** testing if installed package can be loaded from final location ** testing if installed package keeps a record of temporary installation path * DONE (structToolbox)
structToolbox.Rcheck/tests/testthat.Rout
R version 4.5.0 (2025-04-11) -- "How About a Twenty-Six"
Copyright (C) 2025 The R Foundation for Statistical Computing
Platform: aarch64-unknown-linux-gnu
R is free software and comes with ABSOLUTELY NO WARRANTY.
You are welcome to redistribute it under certain conditions.
Type 'license()' or 'licence()' for distribution details.
R is a collaborative project with many contributors.
Type 'contributors()' for more information and
'citation()' on how to cite R or R packages in publications.
Type 'demo()' for some demos, 'help()' for on-line help, or
'help.start()' for an HTML browser interface to help.
Type 'q()' to quit R.
> library(testthat)
> library(ggplot2)
> library(structToolbox)
Loading required package: struct
>
> test_check("structToolbox")
[ FAIL 0 | WARN 6 | SKIP 0 | PASS 166 ]
[ FAIL 0 | WARN 6 | SKIP 0 | PASS 166 ]
>
> proc.time()
user system elapsed
270.289 1.984 296.399
structToolbox.Rcheck/structToolbox-Ex.timings
| name | user | system | elapsed | |
| ANOVA | 0.315 | 0.001 | 0.317 | |
| AUC | 3.099 | 0.138 | 3.354 | |
| DFA | 0.308 | 0.004 | 0.361 | |
| DatasetExperiment_boxplot | 1.393 | 0.052 | 1.594 | |
| DatasetExperiment_dist | 1.793 | 0.048 | 1.941 | |
| DatasetExperiment_factor_boxplot | 0.524 | 0.016 | 0.795 | |
| DatasetExperiment_heatmap | 1.628 | 0.012 | 1.724 | |
| HCA | 0.088 | 0.000 | 0.089 | |
| HSD | 0.412 | 0.008 | 0.454 | |
| HSDEM | 0.387 | 0.004 | 0.391 | |
| MTBLS79_DatasetExperiment | 0.002 | 0.000 | 0.002 | |
| OPLSDA | 0.018 | 0.000 | 0.018 | |
| OPLSR | 0.013 | 0.000 | 0.013 | |
| PCA | 0.007 | 0.000 | 0.007 | |
| PLSDA | 0.02 | 0.00 | 0.02 | |
| PLSR | 0.016 | 0.000 | 0.016 | |
| SVM | 0.035 | 0.000 | 0.035 | |
| as_data_frame | 0.228 | 0.000 | 0.228 | |
| autoscale | 0.110 | 0.000 | 0.111 | |
| balanced_accuracy | 2.732 | 0.000 | 3.211 | |
| blank_filter | 0.478 | 0.007 | 0.487 | |
| blank_filter_hist | 0.001 | 0.000 | 0.001 | |
| bootstrap | 0.015 | 0.000 | 0.015 | |
| calculate | 0.004 | 0.003 | 0.007 | |
| chart_plot | 0.041 | 0.000 | 0.041 | |
| classical_lsq | 0.448 | 0.000 | 0.450 | |
| compare_dist | 6.967 | 0.099 | 7.403 | |
| confounders_clsq | 4.550 | 0.001 | 4.703 | |
| confounders_lsq_barchart | 5.254 | 0.004 | 5.274 | |
| confounders_lsq_boxplot | 5.588 | 0.020 | 5.646 | |
| constant_sum_norm | 0.013 | 0.000 | 0.013 | |
| corr_coef | 0.482 | 0.000 | 0.699 | |
| dfa_scores_plot | 1.731 | 0.008 | 1.744 | |
| dratio_filter | 0.463 | 0.000 | 0.464 | |
| equal_split | 0.184 | 0.000 | 0.208 | |
| feature_boxplot | 0.038 | 0.000 | 0.038 | |
| feature_profile | 0.805 | 0.000 | 0.899 | |
| feature_profile_array | 1.047 | 0.002 | 1.106 | |
| filter_by_name | 0.050 | 0.000 | 0.051 | |
| filter_na_count | 1.595 | 0.012 | 1.625 | |
| filter_smeta | 0.123 | 0.004 | 0.127 | |
| fisher_exact | 15.349 | 0.076 | 15.974 | |
| fold_change | 17.960 | 0.036 | 20.340 | |
| fold_change_int | 23.707 | 0.151 | 25.135 | |
| fold_change_plot | 0.01 | 0.00 | 0.01 | |
| forward_selection_by_rank | 9.590 | 0.128 | 9.860 | |
| fs_line | 9.972 | 0.032 | 10.707 | |
| glog_opt_plot | 0.845 | 0.000 | 1.150 | |
| glog_transform | 0.431 | 0.000 | 0.433 | |
| grid_search_1d | 5.166 | 0.003 | 5.536 | |
| gs_line | 0.001 | 0.000 | 0.001 | |
| hca_dendrogram | 0.001 | 0.000 | 0.001 | |
| kfold_xval | 4.923 | 0.015 | 5.113 | |
| kfoldxcv_grid | 5.635 | 0.004 | 5.702 | |
| kfoldxcv_metric | 0.001 | 0.000 | 0.001 | |
| knn_impute | 0.018 | 0.000 | 0.019 | |
| kw_p_hist | 0.001 | 0.000 | 0.001 | |
| kw_rank_sum | 0.109 | 0.000 | 0.110 | |
| linear_model | 0.042 | 0.000 | 0.042 | |
| log_transform | 0.01 | 0.00 | 0.01 | |
| mean_centre | 0.004 | 0.000 | 0.004 | |
| mean_of_medians | 0.168 | 0.000 | 0.169 | |
| mixed_effect | 0.226 | 0.000 | 0.354 | |
| model_apply | 0.033 | 0.000 | 0.033 | |
| model_predict | 0.098 | 0.000 | 0.099 | |
| model_reverse | 0.036 | 0.000 | 0.036 | |
| model_train | 0.072 | 0.000 | 0.074 | |
| mv_boxplot | 0.609 | 0.000 | 0.634 | |
| mv_feature_filter | 0.156 | 0.000 | 0.157 | |
| mv_feature_filter_hist | 0.001 | 0.000 | 0.001 | |
| mv_histogram | 0.531 | 0.008 | 0.541 | |
| mv_sample_filter | 0.011 | 0.000 | 0.011 | |
| mv_sample_filter_hist | 0.001 | 0.000 | 0.001 | |
| nroot_transform | 0.010 | 0.000 | 0.009 | |
| ontology_cache | 0 | 0 | 0 | |
| pairs_filter | 0.013 | 0.000 | 0.013 | |
| pareto_scale | 0.071 | 0.008 | 0.079 | |
| pca_biplot | 0.020 | 0.000 | 0.021 | |
| pca_correlation_plot | 0.009 | 0.000 | 0.009 | |
| pca_dstat_plot | 0.013 | 0.000 | 0.012 | |
| pca_loadings_plot | 0.013 | 0.000 | 0.013 | |
| pca_scores_plot | 1.061 | 0.004 | 1.068 | |
| pca_scree_plot | 0.009 | 0.000 | 0.009 | |
| permutation_test | 0.014 | 0.000 | 0.014 | |
| permutation_test_plot | 0.004 | 0.000 | 0.004 | |
| permute_sample_order | 0.009 | 0.000 | 0.009 | |
| pls_regcoeff_plot | 0.657 | 0.004 | 0.667 | |
| pls_scores_plot | 1.265 | 0.000 | 1.351 | |
| pls_vip_plot | 0.705 | 0.004 | 0.763 | |
| plsda_feature_importance_plot | 1.281 | 0.000 | 1.293 | |
| plsda_predicted_plot | 0.856 | 0.008 | 0.869 | |
| plsda_roc_plot | 1.862 | 0.003 | 1.943 | |
| plsr_cook_dist | 0.006 | 0.003 | 0.009 | |
| plsr_prediction_plot | 0.009 | 0.000 | 0.009 | |
| plsr_qq_plot | 0.009 | 0.000 | 0.009 | |
| plsr_residual_hist | 0.009 | 0.000 | 0.009 | |
| pqn_norm | 0.506 | 0.000 | 0.623 | |
| pqn_norm_hist | 0.001 | 0.000 | 0.005 | |
| prop_na | 0.015 | 0.000 | 0.027 | |
| r_squared | 0.001 | 0.000 | 0.001 | |
| resample | 0.024 | 0.000 | 0.024 | |
| resample_chart | 0.004 | 0.000 | 0.004 | |
| rsd_filter | 0.023 | 0.000 | 0.022 | |
| rsd_filter_hist | 0.001 | 0.000 | 0.001 | |
| run | 0.047 | 0.000 | 0.047 | |
| sb_corr | 0.039 | 0.000 | 0.041 | |
| scatter_chart | 0.826 | 0.004 | 0.836 | |
| split_data | 0.01 | 0.00 | 0.01 | |
| stratified_split | 0.159 | 0.004 | 0.208 | |
| svm_plot_2d | 1.187 | 0.004 | 1.231 | |
| tSNE | 0.034 | 0.000 | 0.033 | |
| tSNE_scatter | 0.011 | 0.000 | 0.011 | |
| tic_chart | 0.485 | 0.000 | 0.486 | |
| ttest | 0.031 | 0.000 | 0.031 | |
| vec_norm | 0.001 | 0.000 | 0.001 | |
| wilcox_p_hist | 0.001 | 0.000 | 0.001 | |
| wilcox_test | 0.025 | 0.000 | 0.025 | |