Back to Multiple platform build/check report for BioC 3.22:   simplified   long
ABCDEFGHIJKLMNOPQR[S]TUVWXYZ

This page was generated on 2025-11-15 11:58 -0500 (Sat, 15 Nov 2025).

HostnameOSArch (*)R versionInstalled pkgs
nebbiolo2Linux (Ubuntu 24.04.3 LTS)x86_644.5.1 Patched (2025-08-23 r88802) -- "Great Square Root" 4903
taishanLinux (openEuler 24.03 LTS)aarch644.5.0 (2025-04-11) -- "How About a Twenty-Six" 4668
Click on any hostname to see more info about the system (e.g. compilers)      (*) as reported by 'uname -p', except on Windows and Mac OS X

Package 2146/2361HostnameOS / ArchINSTALLBUILDCHECKBUILD BIN
structToolbox 1.22.0  (landing page)
Gavin Rhys Lloyd
Snapshot Date: 2025-11-14 13:45 -0500 (Fri, 14 Nov 2025)
git_url: https://git.bioconductor.org/packages/structToolbox
git_branch: RELEASE_3_22
git_last_commit: cad0ce8
git_last_commit_date: 2025-10-29 10:56:35 -0500 (Wed, 29 Oct 2025)
nebbiolo2Linux (Ubuntu 24.04.3 LTS) / x86_64  OK    OK    OK  NO, package depends on 'struct' which is not available
taishanLinux (openEuler 24.03 LTS) / aarch64  OK    OK    OK  


CHECK results for structToolbox on nebbiolo2

To the developers/maintainers of the structToolbox package:
- Allow up to 24 hours (and sometimes 48 hours) for your latest push to git@git.bioconductor.org:packages/structToolbox.git to reflect on this report. See Troubleshooting Build Report for more information.
- Use the following Renviron settings to reproduce errors and warnings.
- If 'R CMD check' started to fail recently on the Linux builder(s) over a missing dependency, add the missing dependency to 'Suggests:' in your DESCRIPTION file. See Renviron.bioc for more information.

raw results


Summary

Package: structToolbox
Version: 1.22.0
Command: /home/biocbuild/bbs-3.22-bioc/R/bin/R CMD check --install=check:structToolbox.install-out.txt --library=/home/biocbuild/bbs-3.22-bioc/R/site-library --timings structToolbox_1.22.0.tar.gz
StartedAt: 2025-11-15 04:57:28 -0500 (Sat, 15 Nov 2025)
EndedAt: 2025-11-15 05:16:03 -0500 (Sat, 15 Nov 2025)
EllapsedTime: 1114.2 seconds
RetCode: 0
Status:   OK  
CheckDir: structToolbox.Rcheck
Warnings: 0

Command output

##############################################################################
##############################################################################
###
### Running command:
###
###   /home/biocbuild/bbs-3.22-bioc/R/bin/R CMD check --install=check:structToolbox.install-out.txt --library=/home/biocbuild/bbs-3.22-bioc/R/site-library --timings structToolbox_1.22.0.tar.gz
###
##############################################################################
##############################################################################


* using log directory ‘/home/biocbuild/bbs-3.22-bioc/meat/structToolbox.Rcheck’
* using R version 4.5.1 Patched (2025-08-23 r88802)
* using platform: x86_64-pc-linux-gnu
* R was compiled by
    gcc (Ubuntu 13.3.0-6ubuntu2~24.04) 13.3.0
    GNU Fortran (Ubuntu 13.3.0-6ubuntu2~24.04) 13.3.0
* running under: Ubuntu 24.04.3 LTS
* using session charset: UTF-8
* checking for file ‘structToolbox/DESCRIPTION’ ... OK
* checking extension type ... Package
* this is package ‘structToolbox’ version ‘1.22.0’
* package encoding: UTF-8
* checking package namespace information ... OK
* checking package dependencies ... OK
* checking if this is a source package ... OK
* checking if there is a namespace ... OK
* checking for hidden files and directories ... OK
* checking for portable file names ... OK
* checking for sufficient/correct file permissions ... OK
* checking whether package ‘structToolbox’ can be installed ... OK
* checking installed package size ... OK
* checking package directory ... OK
* checking ‘build’ directory ... OK
* checking DESCRIPTION meta-information ... OK
* checking top-level files ... OK
* checking for left-over files ... OK
* checking index information ... OK
* checking package subdirectories ... OK
* checking code files for non-ASCII characters ... OK
* checking R files for syntax errors ... OK
* checking whether the package can be loaded ... OK
* checking whether the package can be loaded with stated dependencies ... OK
* checking whether the package can be unloaded cleanly ... OK
* checking whether the namespace can be loaded with stated dependencies ... OK
* checking whether the namespace can be unloaded cleanly ... OK
* checking loading without being on the library search path ... OK
* checking dependencies in R code ... OK
* checking S3 generic/method consistency ... OK
* checking replacement functions ... OK
* checking foreign function calls ... OK
* checking R code for possible problems ... OK
* checking Rd files ... OK
* checking Rd metadata ... OK
* checking Rd cross-references ... OK
* checking for missing documentation entries ... OK
* checking for code/documentation mismatches ... OK
* checking Rd \usage sections ... OK
* checking Rd contents ... OK
* checking for unstated dependencies in examples ... OK
* checking R/sysdata.rda ... OK
* checking files in ‘vignettes’ ... OK
* checking examples ... OK
Examples with CPU (user + system) or elapsed time > 5s
                            user system elapsed
fold_change_int           15.992  0.069  16.069
fold_change               10.359  0.043  10.401
fisher_exact               9.877  0.018   9.894
fs_line                    6.956  0.108   7.065
forward_selection_by_rank  5.986  0.059   6.045
compare_dist               5.190  0.113   5.303
* checking for unstated dependencies in ‘tests’ ... OK
* checking tests ...
  Running ‘testthat.R’
 OK
* checking for unstated dependencies in vignettes ... OK
* checking package vignettes ... OK
* checking re-building of vignette outputs ... OK
* checking PDF version of manual ... OK
* DONE

Status: OK


Installation output

structToolbox.Rcheck/00install.out

##############################################################################
##############################################################################
###
### Running command:
###
###   /home/biocbuild/bbs-3.22-bioc/R/bin/R CMD INSTALL structToolbox
###
##############################################################################
##############################################################################


* installing to library ‘/home/biocbuild/bbs-3.22-bioc/R/site-library’
* installing *source* package ‘structToolbox’ ...
** this is package ‘structToolbox’ version ‘1.22.0’
** using staged installation
** R
** inst
** byte-compile and prepare package for lazy loading
** help
*** installing help indices
** building package indices
** installing vignettes
** testing if installed package can be loaded from temporary location
** testing if installed package can be loaded from final location
** testing if installed package keeps a record of temporary installation path
* DONE (structToolbox)

Tests output

structToolbox.Rcheck/tests/testthat.Rout


R version 4.5.1 Patched (2025-08-23 r88802) -- "Great Square Root"
Copyright (C) 2025 The R Foundation for Statistical Computing
Platform: x86_64-pc-linux-gnu

R is free software and comes with ABSOLUTELY NO WARRANTY.
You are welcome to redistribute it under certain conditions.
Type 'license()' or 'licence()' for distribution details.

R is a collaborative project with many contributors.
Type 'contributors()' for more information and
'citation()' on how to cite R or R packages in publications.

Type 'demo()' for some demos, 'help()' for on-line help, or
'help.start()' for an HTML browser interface to help.
Type 'q()' to quit R.

> library(testthat)
> library(ggplot2)
> library(structToolbox)
Loading required package: struct
> 
> test_check("structToolbox")
[ FAIL 0 | WARN 6 | SKIP 0 | PASS 166 ]

[ FAIL 0 | WARN 6 | SKIP 0 | PASS 166 ]
> 
> proc.time()
   user  system elapsed 
184.377   1.812 186.229 

Example timings

structToolbox.Rcheck/structToolbox-Ex.timings

nameusersystemelapsed
ANOVA0.2030.0010.203
AUC2.1300.0742.204
DFA0.1840.0000.184
DatasetExperiment_boxplot1.0010.0231.025
DatasetExperiment_dist1.3790.0731.452
DatasetExperiment_factor_boxplot0.3260.0020.327
DatasetExperiment_heatmap1.2800.0241.305
HCA0.0590.0010.060
HSD0.2760.0080.286
HSDEM0.2630.0000.265
MTBLS79_DatasetExperiment0.0010.0000.001
OPLSDA0.0110.0000.010
OPLSR0.0070.0010.007
PCA0.0040.0000.004
PLSDA0.0100.0010.011
PLSR0.0080.0000.009
SVM0.0190.0010.020
as_data_frame0.1260.0000.126
autoscale0.0740.0000.074
balanced_accuracy1.7360.0361.772
blank_filter0.3740.0210.394
blank_filter_hist0.0010.0000.001
bootstrap0.0090.0000.010
calculate0.0050.0000.005
chart_plot0.0270.0020.028
classical_lsq0.2770.0010.277
compare_dist5.1900.1135.303
confounders_clsq2.8520.0002.853
confounders_lsq_barchart3.1030.0263.130
confounders_lsq_boxplot3.0980.0343.142
constant_sum_norm0.0070.0000.007
corr_coef0.250.000.25
dfa_scores_plot0.9810.0010.982
dratio_filter0.2490.0000.248
equal_split0.1130.0000.113
feature_boxplot0.0250.0000.026
feature_profile0.5260.0010.527
feature_profile_array0.6830.0520.736
filter_by_name0.0320.0010.033
filter_na_count0.9400.0050.944
filter_smeta0.0620.0000.061
fisher_exact9.8770.0189.894
fold_change10.359 0.04310.401
fold_change_int15.992 0.06916.069
fold_change_plot0.0070.0000.007
forward_selection_by_rank5.9860.0596.045
fs_line6.9560.1087.065
glog_opt_plot0.5770.0280.605
glog_transform0.2910.0260.318
grid_search_1d3.2840.0223.306
gs_line0.0010.0000.000
hca_dendrogram0.0010.0000.000
kfold_xval3.2490.0063.255
kfoldxcv_grid3.7670.0063.773
kfoldxcv_metric0.0010.0000.000
knn_impute0.0120.0000.011
kw_p_hist0.0010.0000.000
kw_rank_sum0.070.000.07
linear_model0.0290.0000.029
log_transform0.0070.0000.006
mean_centre0.0030.0000.002
mean_of_medians0.1160.0010.117
mixed_effect0.1760.0000.176
model_apply0.0240.0000.023
model_predict0.0520.0000.053
model_reverse0.0240.0000.025
model_train0.0490.0000.049
mv_boxplot0.4000.0000.401
mv_feature_filter0.1110.0010.112
mv_feature_filter_hist0.0010.0000.000
mv_histogram0.3350.0000.335
mv_sample_filter0.0080.0000.008
mv_sample_filter_hist0.0010.0000.000
nroot_transform0.0060.0010.006
ontology_cache000
pairs_filter0.0080.0000.009
pareto_scale0.0550.0000.055
pca_biplot0.0140.0000.014
pca_correlation_plot0.0060.0000.006
pca_dstat_plot0.0080.0000.008
pca_loadings_plot0.0090.0000.009
pca_scores_plot0.7170.0020.719
pca_scree_plot0.0070.0000.007
permutation_test0.0080.0010.009
permutation_test_plot0.0030.0000.002
permute_sample_order0.0060.0010.007
pls_regcoeff_plot0.4990.0000.499
pls_scores_plot0.8400.0020.842
pls_vip_plot0.4690.0010.470
plsda_feature_importance_plot0.8810.0020.883
plsda_predicted_plot0.5760.0010.577
plsda_roc_plot1.1540.0101.163
plsr_cook_dist0.0060.0010.007
plsr_prediction_plot0.0060.0000.005
plsr_qq_plot0.0050.0000.006
plsr_residual_hist0.0060.0000.006
pqn_norm0.3340.0130.347
pqn_norm_hist0.0000.0000.001
prop_na0.0090.0000.009
r_squared0.0010.0000.001
resample0.0140.0000.014
resample_chart0.0030.0000.002
rsd_filter0.0130.0000.012
rsd_filter_hist0.0010.0000.001
run0.0280.0000.028
sb_corr0.0250.0000.026
scatter_chart0.5600.0010.562
split_data0.0060.0000.006
stratified_split0.1060.0010.107
svm_plot_2d0.7730.0030.776
tSNE0.0230.0000.023
tSNE_scatter0.0060.0000.007
tic_chart0.3280.0020.330
ttest0.0220.0000.021
vec_norm0.0010.0000.001
wilcox_p_hist0.0000.0010.000
wilcox_test0.0170.0000.016