| Back to Multiple platform build/check report for BioC 3.22: simplified long |
|
This page was generated on 2025-10-21 12:07 -0400 (Tue, 21 Oct 2025).
| Hostname | OS | Arch (*) | R version | Installed pkgs |
|---|---|---|---|---|
| nebbiolo2 | Linux (Ubuntu 24.04.3 LTS) | x86_64 | 4.5.1 Patched (2025-08-23 r88802) -- "Great Square Root" | 4887 |
| lconway | macOS 12.7.6 Monterey | x86_64 | 4.5.1 Patched (2025-09-10 r88807) -- "Great Square Root" | 4677 |
| kjohnson3 | macOS 13.7.7 Ventura | arm64 | 4.5.1 Patched (2025-09-10 r88807) -- "Great Square Root" | 4622 |
| taishan | Linux (openEuler 24.03 LTS) | aarch64 | 4.5.0 (2025-04-11) -- "How About a Twenty-Six" | 4642 |
| Click on any hostname to see more info about the system (e.g. compilers) (*) as reported by 'uname -p', except on Windows and Mac OS X | ||||
| Package 1858/2353 | Hostname | OS / Arch | INSTALL | BUILD | CHECK | BUILD BIN | ||||||||
| rtracklayer 1.69.1 (landing page) Michael Lawrence
| nebbiolo2 | Linux (Ubuntu 24.04.3 LTS) / x86_64 | OK | OK | WARNINGS | |||||||||
| lconway | macOS 12.7.6 Monterey / x86_64 | OK | OK | WARNINGS | OK | |||||||||
| kjohnson3 | macOS 13.7.7 Ventura / arm64 | OK | OK | WARNINGS | OK | |||||||||
| taishan | Linux (openEuler 24.03 LTS) / aarch64 | OK | OK | WARNINGS | ||||||||||
|
To the developers/maintainers of the rtracklayer package: - Allow up to 24 hours (and sometimes 48 hours) for your latest push to git@git.bioconductor.org:packages/rtracklayer.git to reflect on this report. See Troubleshooting Build Report for more information. - Use the following Renviron settings to reproduce errors and warnings. - If 'R CMD check' started to fail recently on the Linux builder(s) over a missing dependency, add the missing dependency to 'Suggests:' in your DESCRIPTION file. See Renviron.bioc for more information. - See Martin Grigorov's blog post for how to debug Linux ARM64 related issues on a x86_64 host. |
| Package: rtracklayer |
| Version: 1.69.1 |
| Command: /home/biocbuild/R/R/bin/R CMD check --install=check:rtracklayer.install-out.txt --library=/home/biocbuild/R/R/site-library --no-vignettes --timings rtracklayer_1.69.1.tar.gz |
| StartedAt: 2025-10-17 13:05:19 -0000 (Fri, 17 Oct 2025) |
| EndedAt: 2025-10-17 13:13:03 -0000 (Fri, 17 Oct 2025) |
| EllapsedTime: 463.9 seconds |
| RetCode: 0 |
| Status: WARNINGS |
| CheckDir: rtracklayer.Rcheck |
| Warnings: 2 |
##############################################################################
##############################################################################
###
### Running command:
###
### /home/biocbuild/R/R/bin/R CMD check --install=check:rtracklayer.install-out.txt --library=/home/biocbuild/R/R/site-library --no-vignettes --timings rtracklayer_1.69.1.tar.gz
###
##############################################################################
##############################################################################
* using log directory ‘/home/biocbuild/bbs-3.22-bioc/meat/rtracklayer.Rcheck’
* using R version 4.5.0 (2025-04-11)
* using platform: aarch64-unknown-linux-gnu
* R was compiled by
aarch64-unknown-linux-gnu-gcc (GCC) 14.2.0
GNU Fortran (GCC) 14.2.0
* running under: openEuler 24.03 (LTS)
* using session charset: UTF-8
* using option ‘--no-vignettes’
* checking for file ‘rtracklayer/DESCRIPTION’ ... OK
* this is package ‘rtracklayer’ version ‘1.69.1’
* checking package namespace information ... OK
* checking package dependencies ... OK
* checking if this is a source package ... OK
* checking if there is a namespace ... OK
* checking for hidden files and directories ... OK
* checking for portable file names ... OK
* checking for sufficient/correct file permissions ... OK
* checking whether package ‘rtracklayer’ can be installed ... WARNING
Found the following significant warnings:
bigBedHelper.c:134:3: warning: ‘strncpy’ destination unchanged after copying no bytes [-Wstringop-truncation]
ucsc/basicBed.c:449:1: warning: ‘strncpy’ specified bound 64 equals destination size [-Wstringop-truncation]
ucsc/udc.c:936:30: warning: ‘snprintf’ output truncated before the last format character [-Wformat-truncation=]
See ‘/home/biocbuild/bbs-3.22-bioc/meat/rtracklayer.Rcheck/00install.out’ for details.
* used C compiler: ‘aarch64-unknown-linux-gnu-gcc (GCC) 14.2.0’
* checking installed package size ... OK
* checking package directory ... OK
* checking ‘build’ directory ... OK
* checking DESCRIPTION meta-information ... NOTE
License components with restrictions not permitted:
Artistic-2.0 + file LICENSE
* checking top-level files ... OK
* checking for left-over files ... OK
* checking index information ... OK
* checking package subdirectories ... OK
* checking code files for non-ASCII characters ... OK
* checking R files for syntax errors ... OK
* checking whether the package can be loaded ... OK
* checking whether the package can be loaded with stated dependencies ... OK
* checking whether the package can be unloaded cleanly ... OK
* checking whether the namespace can be loaded with stated dependencies ... OK
* checking whether the namespace can be unloaded cleanly ... OK
* checking loading without being on the library search path ... OK
* checking whether startup messages can be suppressed ... OK
* checking dependencies in R code ... NOTE
Unexported objects imported by ':::' calls:
‘BiocGenerics:::testPackage’ ‘GenomicRanges:::INVALID.GR.COLNAMES’
‘S4Vectors:::labeledLine’
‘S4Vectors:::make_XYZxyz_to_XxYyZz_subscript’
‘S4Vectors:::new_SimpleList_from_list’ ‘XVector:::rewind_filexp’
See the note in ?`:::` about the use of this operator.
* checking S3 generic/method consistency ... OK
* checking replacement functions ... OK
* checking foreign function calls ... OK
* checking R code for possible problems ... NOTE
import,BEDPEFile-ANY-ANY: no visible binding for global variable
‘chrom2’
import,BEDPEFile-ANY-ANY: no visible binding for global variable
‘start2’
import,BEDPEFile-ANY-ANY: no visible binding for global variable ‘end2’
import,BEDPEFile-ANY-ANY: no visible binding for global variable
‘strand2’
Undefined global functions or variables:
chrom2 end2 start2 strand2
* checking Rd files ... OK
* checking Rd metadata ... OK
* checking Rd cross-references ... NOTE
Found the following Rd file(s) with Rd \link{} targets missing package
anchors:
GRangesForUCSCGenome.Rd: genome
Please provide package anchors for all Rd \link{} targets not in the
package itself and the base packages.
* checking for missing documentation entries ... WARNING
Undocumented code objects:
‘Genome’ ‘Track’ ‘TrackContainer’ ‘cleanupBigBedCache’
‘descriptionUrl’ ‘descriptionUrl<-’ ‘email’ ‘email<-’ ‘genomeField’
‘genomeField<-’ ‘genomeInfo’ ‘genomeInfo<-’ ‘genomesFile’
‘genomesFile<-’ ‘getTracks’ ‘hub’ ‘hub<-’ ‘hubUrl<-’ ‘longLabel’
‘longLabel<-’ ‘readGFFAsGRanges’ ‘readGFFPragmas’ ‘shortLabel’
‘shortLabel<-’ ‘sniffGFFVersion’ ‘trackField’ ‘trackField<-’
Undocumented S4 classes:
‘Track’ ‘TrackContainer’
Undocumented S4 methods:
generic 'genomesFile' and siglist 'TrackHub'
generic 'genomesFile<-' and siglist 'TrackHub'
generic 'names' and siglist 'GenomeContainer'
generic 'names' and siglist 'TrackContainer'
generic 'names' and siglist 'TrackHub'
generic 'track<-' and siglist 'TrackHubGenome,BiocFile'
generic 'trackNames' and siglist 'TrackHubGenome'
generic 'trackNames' and siglist 'UCSCTableQuery'
generic 'uri' and siglist 'TrackHub'
generic 'writeTrackHub' and siglist 'TrackHub'
All user-level objects in a package (including S4 classes and methods)
should have documentation entries.
See chapter ‘Writing R documentation files’ in the ‘Writing R
Extensions’ manual.
* checking for code/documentation mismatches ... OK
* checking Rd \usage sections ... OK
* checking Rd contents ... NOTE
Argument items with no description in Rd file 'readGFF.Rd':
‘filter’ ‘raw_data’ ‘GFF1’
* checking for unstated dependencies in examples ... OK
* checking contents of ‘data’ directory ... OK
* checking data for non-ASCII characters ... OK
* checking data for ASCII and uncompressed saves ... OK
* checking line endings in shell scripts ... OK
* checking line endings in C/C++/Fortran sources/headers ... OK
* checking line endings in Makefiles ... OK
* checking compilation flags in Makevars ... OK
* checking for GNU extensions in Makefiles ... OK
* checking for portable use of $(BLAS_LIBS) and $(LAPACK_LIBS) ... OK
* checking use of PKG_*FLAGS in Makefiles ... OK
* checking compiled code ... NOTE
Note: information on .o files is not available
File ‘rtracklayer/libs/rtracklayer.so’:
Found non-API calls to R: ‘R_ReadConnection’, ‘R_ignore_SIGPIPE’,
‘getConnection’
Compiled code should not call non-API entry points in R.
See ‘Writing portable packages’ in the ‘Writing R Extensions’ manual,
and section ‘Moving into C API compliance’ for issues with the use of
non-API entry points.
* checking files in ‘vignettes’ ... OK
* checking examples ... OK
Examples with CPU (user + system) or elapsed time > 5s
user system elapsed
BigWigFile 23.458 1.604 25.118
* checking for unstated dependencies in ‘tests’ ... OK
* checking tests ...
Running ‘rtracklayer_unit_tests.R’
OK
* checking for unstated dependencies in vignettes ... OK
* checking package vignettes ... OK
* checking running R code from vignettes ... SKIPPED
* checking re-building of vignette outputs ... SKIPPED
* checking PDF version of manual ... OK
* DONE
Status: 2 WARNINGs, 6 NOTEs
See
‘/home/biocbuild/bbs-3.22-bioc/meat/rtracklayer.Rcheck/00check.log’
for details.
rtracklayer.Rcheck/00install.out
##############################################################################
##############################################################################
###
### Running command:
###
### /home/biocbuild/R/R/bin/R CMD INSTALL rtracklayer
###
##############################################################################
##############################################################################
* installing to library ‘/home/biocbuild/R/R-4.5.0/site-library’
* installing *source* package ‘rtracklayer’ ...
** this is package ‘rtracklayer’ version ‘1.69.1’
** using staged installation
checking for pkg-config... /usr/bin/pkg-config
checking pkg-config is at least version 0.9.0... yes
checking for OPENSSL... yes
configure: creating ./config.status
config.status: creating src/Makevars
** libs
using C compiler: ‘aarch64-unknown-linux-gnu-gcc (GCC) 14.2.0’
/opt/ohpc/pub/compiler/gcc/14.2.0/bin/aarch64-unknown-linux-gnu-gcc -std=gnu23 -I"/home/biocbuild/R/R-4.5.0/include" -DNDEBUG -DUSE_SSL -D_FILE_OFFSET_BITS=64 -I'/home/biocbuild/R/R-4.5.0/site-library/S4Vectors/include' -I'/home/biocbuild/R/R-4.5.0/site-library/IRanges/include' -I'/home/biocbuild/R/R-4.5.0/site-library/XVector/include' -I/usr/local/include -fPIC -g -O2 -Wall -Werror=format-security -c S4Vectors_stubs.c -o S4Vectors_stubs.o
/opt/ohpc/pub/compiler/gcc/14.2.0/bin/aarch64-unknown-linux-gnu-gcc -std=gnu23 -I"/home/biocbuild/R/R-4.5.0/include" -DNDEBUG -DUSE_SSL -D_FILE_OFFSET_BITS=64 -I'/home/biocbuild/R/R-4.5.0/site-library/S4Vectors/include' -I'/home/biocbuild/R/R-4.5.0/site-library/IRanges/include' -I'/home/biocbuild/R/R-4.5.0/site-library/XVector/include' -I/usr/local/include -fPIC -g -O2 -Wall -Werror=format-security -c IRanges_stubs.c -o IRanges_stubs.o
/opt/ohpc/pub/compiler/gcc/14.2.0/bin/aarch64-unknown-linux-gnu-gcc -std=gnu23 -I"/home/biocbuild/R/R-4.5.0/include" -DNDEBUG -DUSE_SSL -D_FILE_OFFSET_BITS=64 -I'/home/biocbuild/R/R-4.5.0/site-library/S4Vectors/include' -I'/home/biocbuild/R/R-4.5.0/site-library/IRanges/include' -I'/home/biocbuild/R/R-4.5.0/site-library/XVector/include' -I/usr/local/include -fPIC -g -O2 -Wall -Werror=format-security -c XVector_stubs.c -o XVector_stubs.o
/opt/ohpc/pub/compiler/gcc/14.2.0/bin/aarch64-unknown-linux-gnu-gcc -std=gnu23 -I"/home/biocbuild/R/R-4.5.0/include" -DNDEBUG -DUSE_SSL -D_FILE_OFFSET_BITS=64 -I'/home/biocbuild/R/R-4.5.0/site-library/S4Vectors/include' -I'/home/biocbuild/R/R-4.5.0/site-library/IRanges/include' -I'/home/biocbuild/R/R-4.5.0/site-library/XVector/include' -I/usr/local/include -fPIC -g -O2 -Wall -Werror=format-security -c R_init_rtracklayer.c -o R_init_rtracklayer.o
/opt/ohpc/pub/compiler/gcc/14.2.0/bin/aarch64-unknown-linux-gnu-gcc -std=gnu23 -I"/home/biocbuild/R/R-4.5.0/include" -DNDEBUG -DUSE_SSL -D_FILE_OFFSET_BITS=64 -I'/home/biocbuild/R/R-4.5.0/site-library/S4Vectors/include' -I'/home/biocbuild/R/R-4.5.0/site-library/IRanges/include' -I'/home/biocbuild/R/R-4.5.0/site-library/XVector/include' -I/usr/local/include -fPIC -g -O2 -Wall -Werror=format-security -c readGFF.c -o readGFF.o
/opt/ohpc/pub/compiler/gcc/14.2.0/bin/aarch64-unknown-linux-gnu-gcc -std=gnu23 -I"/home/biocbuild/R/R-4.5.0/include" -DNDEBUG -DUSE_SSL -D_FILE_OFFSET_BITS=64 -I'/home/biocbuild/R/R-4.5.0/site-library/S4Vectors/include' -I'/home/biocbuild/R/R-4.5.0/site-library/IRanges/include' -I'/home/biocbuild/R/R-4.5.0/site-library/XVector/include' -I/usr/local/include -fPIC -g -O2 -Wall -Werror=format-security -c bbiHelper.c -o bbiHelper.o
/opt/ohpc/pub/compiler/gcc/14.2.0/bin/aarch64-unknown-linux-gnu-gcc -std=gnu23 -I"/home/biocbuild/R/R-4.5.0/include" -DNDEBUG -DUSE_SSL -D_FILE_OFFSET_BITS=64 -I'/home/biocbuild/R/R-4.5.0/site-library/S4Vectors/include' -I'/home/biocbuild/R/R-4.5.0/site-library/IRanges/include' -I'/home/biocbuild/R/R-4.5.0/site-library/XVector/include' -I/usr/local/include -fPIC -g -O2 -Wall -Werror=format-security -c bigWig.c -o bigWig.o
bigWig.c: In function ‘BWGFile_query’:
bigWig.c:268:11: warning: ‘ans_nhits’ may be used uninitialized [-Wmaybe-uninitialized]
268 | INTEGER(ans_nhits)[i] = nqhits;
| ^~~~~~~~~~~~~~~~~~
bigWig.c:231:58: note: ‘ans_nhits’ was declared here
231 | SEXP ans, ans_start, ans_width, ans_score, ans_ranges, ans_nhits;
| ^~~~~~~~~
/opt/ohpc/pub/compiler/gcc/14.2.0/bin/aarch64-unknown-linux-gnu-gcc -std=gnu23 -I"/home/biocbuild/R/R-4.5.0/include" -DNDEBUG -DUSE_SSL -D_FILE_OFFSET_BITS=64 -I'/home/biocbuild/R/R-4.5.0/site-library/S4Vectors/include' -I'/home/biocbuild/R/R-4.5.0/site-library/IRanges/include' -I'/home/biocbuild/R/R-4.5.0/site-library/XVector/include' -I/usr/local/include -fPIC -g -O2 -Wall -Werror=format-security -c bigBedHelper.c -o bigBedHelper.o
bigBedHelper.c: In function ‘bbNamedFileChunkKey’:
bigBedHelper.c:134:3: warning: ‘strncpy’ destination unchanged after copying no bytes [-Wstringop-truncation]
134 | strncpy(keyBuf,item->name, maxBedNameSize);
| ^~~~~~~~~~~~~~~~~~~~~~~~~~~~~~~~~~~~~~~~~~
/opt/ohpc/pub/compiler/gcc/14.2.0/bin/aarch64-unknown-linux-gnu-gcc -std=gnu23 -I"/home/biocbuild/R/R-4.5.0/include" -DNDEBUG -DUSE_SSL -D_FILE_OFFSET_BITS=64 -I'/home/biocbuild/R/R-4.5.0/site-library/S4Vectors/include' -I'/home/biocbuild/R/R-4.5.0/site-library/IRanges/include' -I'/home/biocbuild/R/R-4.5.0/site-library/XVector/include' -I/usr/local/include -fPIC -g -O2 -Wall -Werror=format-security -c bigBed.c -o bigBed.o
/opt/ohpc/pub/compiler/gcc/14.2.0/bin/aarch64-unknown-linux-gnu-gcc -std=gnu23 -I"/home/biocbuild/R/R-4.5.0/include" -DNDEBUG -DUSE_SSL -D_FILE_OFFSET_BITS=64 -I'/home/biocbuild/R/R-4.5.0/site-library/S4Vectors/include' -I'/home/biocbuild/R/R-4.5.0/site-library/IRanges/include' -I'/home/biocbuild/R/R-4.5.0/site-library/XVector/include' -I/usr/local/include -fPIC -g -O2 -Wall -Werror=format-security -c chain_io.c -o chain_io.o
/opt/ohpc/pub/compiler/gcc/14.2.0/bin/aarch64-unknown-linux-gnu-gcc -std=gnu23 -I"/home/biocbuild/R/R-4.5.0/include" -DNDEBUG -DUSE_SSL -D_FILE_OFFSET_BITS=64 -I'/home/biocbuild/R/R-4.5.0/site-library/S4Vectors/include' -I'/home/biocbuild/R/R-4.5.0/site-library/IRanges/include' -I'/home/biocbuild/R/R-4.5.0/site-library/XVector/include' -I/usr/local/include -fPIC -g -O2 -Wall -Werror=format-security -c twoBit.c -o twoBit.o
/opt/ohpc/pub/compiler/gcc/14.2.0/bin/aarch64-unknown-linux-gnu-gcc -std=gnu23 -I"/home/biocbuild/R/R-4.5.0/include" -DNDEBUG -DUSE_SSL -D_FILE_OFFSET_BITS=64 -I'/home/biocbuild/R/R-4.5.0/site-library/S4Vectors/include' -I'/home/biocbuild/R/R-4.5.0/site-library/IRanges/include' -I'/home/biocbuild/R/R-4.5.0/site-library/XVector/include' -I/usr/local/include -fPIC -g -O2 -Wall -Werror=format-security -c handlers.c -o handlers.o
/opt/ohpc/pub/compiler/gcc/14.2.0/bin/aarch64-unknown-linux-gnu-gcc -std=gnu23 -I"/home/biocbuild/R/R-4.5.0/include" -DNDEBUG -DUSE_SSL -D_FILE_OFFSET_BITS=64 -I'/home/biocbuild/R/R-4.5.0/site-library/S4Vectors/include' -I'/home/biocbuild/R/R-4.5.0/site-library/IRanges/include' -I'/home/biocbuild/R/R-4.5.0/site-library/XVector/include' -I/usr/local/include -fPIC -g -O2 -Wall -Werror=format-security -c utils.c -o utils.o
/opt/ohpc/pub/compiler/gcc/14.2.0/bin/aarch64-unknown-linux-gnu-gcc -std=gnu23 -I"/home/biocbuild/R/R-4.5.0/include" -DNDEBUG -DUSE_SSL -D_FILE_OFFSET_BITS=64 -I'/home/biocbuild/R/R-4.5.0/site-library/S4Vectors/include' -I'/home/biocbuild/R/R-4.5.0/site-library/IRanges/include' -I'/home/biocbuild/R/R-4.5.0/site-library/XVector/include' -I/usr/local/include -fPIC -g -O2 -Wall -Werror=format-security -c ucsc/memgfx.c -o ucsc/memgfx.o
/opt/ohpc/pub/compiler/gcc/14.2.0/bin/aarch64-unknown-linux-gnu-gcc -std=gnu23 -I"/home/biocbuild/R/R-4.5.0/include" -DNDEBUG -DUSE_SSL -D_FILE_OFFSET_BITS=64 -I'/home/biocbuild/R/R-4.5.0/site-library/S4Vectors/include' -I'/home/biocbuild/R/R-4.5.0/site-library/IRanges/include' -I'/home/biocbuild/R/R-4.5.0/site-library/XVector/include' -I/usr/local/include -fPIC -g -O2 -Wall -Werror=format-security -c ucsc/binRange.c -o ucsc/binRange.o
/opt/ohpc/pub/compiler/gcc/14.2.0/bin/aarch64-unknown-linux-gnu-gcc -std=gnu23 -I"/home/biocbuild/R/R-4.5.0/include" -DNDEBUG -DUSE_SSL -D_FILE_OFFSET_BITS=64 -I'/home/biocbuild/R/R-4.5.0/site-library/S4Vectors/include' -I'/home/biocbuild/R/R-4.5.0/site-library/IRanges/include' -I'/home/biocbuild/R/R-4.5.0/site-library/XVector/include' -I/usr/local/include -fPIC -g -O2 -Wall -Werror=format-security -c ucsc/htmlColor.c -o ucsc/htmlColor.o
/opt/ohpc/pub/compiler/gcc/14.2.0/bin/aarch64-unknown-linux-gnu-gcc -std=gnu23 -I"/home/biocbuild/R/R-4.5.0/include" -DNDEBUG -DUSE_SSL -D_FILE_OFFSET_BITS=64 -I'/home/biocbuild/R/R-4.5.0/site-library/S4Vectors/include' -I'/home/biocbuild/R/R-4.5.0/site-library/IRanges/include' -I'/home/biocbuild/R/R-4.5.0/site-library/XVector/include' -I/usr/local/include -fPIC -g -O2 -Wall -Werror=format-security -c ucsc/sqlList.c -o ucsc/sqlList.o
/opt/ohpc/pub/compiler/gcc/14.2.0/bin/aarch64-unknown-linux-gnu-gcc -std=gnu23 -I"/home/biocbuild/R/R-4.5.0/include" -DNDEBUG -DUSE_SSL -D_FILE_OFFSET_BITS=64 -I'/home/biocbuild/R/R-4.5.0/site-library/S4Vectors/include' -I'/home/biocbuild/R/R-4.5.0/site-library/IRanges/include' -I'/home/biocbuild/R/R-4.5.0/site-library/XVector/include' -I/usr/local/include -fPIC -g -O2 -Wall -Werror=format-security -c ucsc/tokenizer.c -o ucsc/tokenizer.o
/opt/ohpc/pub/compiler/gcc/14.2.0/bin/aarch64-unknown-linux-gnu-gcc -std=gnu23 -I"/home/biocbuild/R/R-4.5.0/include" -DNDEBUG -DUSE_SSL -D_FILE_OFFSET_BITS=64 -I'/home/biocbuild/R/R-4.5.0/site-library/S4Vectors/include' -I'/home/biocbuild/R/R-4.5.0/site-library/IRanges/include' -I'/home/biocbuild/R/R-4.5.0/site-library/XVector/include' -I/usr/local/include -fPIC -g -O2 -Wall -Werror=format-security -c ucsc/asParse.c -o ucsc/asParse.o
/opt/ohpc/pub/compiler/gcc/14.2.0/bin/aarch64-unknown-linux-gnu-gcc -std=gnu23 -I"/home/biocbuild/R/R-4.5.0/include" -DNDEBUG -DUSE_SSL -D_FILE_OFFSET_BITS=64 -I'/home/biocbuild/R/R-4.5.0/site-library/S4Vectors/include' -I'/home/biocbuild/R/R-4.5.0/site-library/IRanges/include' -I'/home/biocbuild/R/R-4.5.0/site-library/XVector/include' -I/usr/local/include -fPIC -g -O2 -Wall -Werror=format-security -c ucsc/basicBed.c -o ucsc/basicBed.o
ucsc/basicBed.c: In function ‘bedParseRgb’:
ucsc/basicBed.c:449:1: warning: ‘strncpy’ specified bound 64 equals destination size [-Wstringop-truncation]
449 | strncpy(dupe, itemRgb, sizeof(dupe));
| ^~~~~~~~~~~~~~~~~~~~~~~~~~~~~~~~~~~~
/opt/ohpc/pub/compiler/gcc/14.2.0/bin/aarch64-unknown-linux-gnu-gcc -std=gnu23 -I"/home/biocbuild/R/R-4.5.0/include" -DNDEBUG -DUSE_SSL -D_FILE_OFFSET_BITS=64 -I'/home/biocbuild/R/R-4.5.0/site-library/S4Vectors/include' -I'/home/biocbuild/R/R-4.5.0/site-library/IRanges/include' -I'/home/biocbuild/R/R-4.5.0/site-library/XVector/include' -I/usr/local/include -fPIC -g -O2 -Wall -Werror=format-security -c ucsc/bigBed.c -o ucsc/bigBed.o
/opt/ohpc/pub/compiler/gcc/14.2.0/bin/aarch64-unknown-linux-gnu-gcc -std=gnu23 -I"/home/biocbuild/R/R-4.5.0/include" -DNDEBUG -DUSE_SSL -D_FILE_OFFSET_BITS=64 -I'/home/biocbuild/R/R-4.5.0/site-library/S4Vectors/include' -I'/home/biocbuild/R/R-4.5.0/site-library/IRanges/include' -I'/home/biocbuild/R/R-4.5.0/site-library/XVector/include' -I/usr/local/include -fPIC -g -O2 -Wall -Werror=format-security -c ucsc/bPlusTree.c -o ucsc/bPlusTree.o
/opt/ohpc/pub/compiler/gcc/14.2.0/bin/aarch64-unknown-linux-gnu-gcc -std=gnu23 -I"/home/biocbuild/R/R-4.5.0/include" -DNDEBUG -DUSE_SSL -D_FILE_OFFSET_BITS=64 -I'/home/biocbuild/R/R-4.5.0/site-library/S4Vectors/include' -I'/home/biocbuild/R/R-4.5.0/site-library/IRanges/include' -I'/home/biocbuild/R/R-4.5.0/site-library/XVector/include' -I/usr/local/include -fPIC -g -O2 -Wall -Werror=format-security -c ucsc/bbiRead.c -o ucsc/bbiRead.o
/opt/ohpc/pub/compiler/gcc/14.2.0/bin/aarch64-unknown-linux-gnu-gcc -std=gnu23 -I"/home/biocbuild/R/R-4.5.0/include" -DNDEBUG -DUSE_SSL -D_FILE_OFFSET_BITS=64 -I'/home/biocbuild/R/R-4.5.0/site-library/S4Vectors/include' -I'/home/biocbuild/R/R-4.5.0/site-library/IRanges/include' -I'/home/biocbuild/R/R-4.5.0/site-library/XVector/include' -I/usr/local/include -fPIC -g -O2 -Wall -Werror=format-security -c ucsc/bbiWrite.c -o ucsc/bbiWrite.o
/opt/ohpc/pub/compiler/gcc/14.2.0/bin/aarch64-unknown-linux-gnu-gcc -std=gnu23 -I"/home/biocbuild/R/R-4.5.0/include" -DNDEBUG -DUSE_SSL -D_FILE_OFFSET_BITS=64 -I'/home/biocbuild/R/R-4.5.0/site-library/S4Vectors/include' -I'/home/biocbuild/R/R-4.5.0/site-library/IRanges/include' -I'/home/biocbuild/R/R-4.5.0/site-library/XVector/include' -I/usr/local/include -fPIC -g -O2 -Wall -Werror=format-security -c ucsc/bwgCreate.c -o ucsc/bwgCreate.o
/opt/ohpc/pub/compiler/gcc/14.2.0/bin/aarch64-unknown-linux-gnu-gcc -std=gnu23 -I"/home/biocbuild/R/R-4.5.0/include" -DNDEBUG -DUSE_SSL -D_FILE_OFFSET_BITS=64 -I'/home/biocbuild/R/R-4.5.0/site-library/S4Vectors/include' -I'/home/biocbuild/R/R-4.5.0/site-library/IRanges/include' -I'/home/biocbuild/R/R-4.5.0/site-library/XVector/include' -I/usr/local/include -fPIC -g -O2 -Wall -Werror=format-security -c ucsc/bwgQuery.c -o ucsc/bwgQuery.o
/opt/ohpc/pub/compiler/gcc/14.2.0/bin/aarch64-unknown-linux-gnu-gcc -std=gnu23 -I"/home/biocbuild/R/R-4.5.0/include" -DNDEBUG -DUSE_SSL -D_FILE_OFFSET_BITS=64 -I'/home/biocbuild/R/R-4.5.0/site-library/S4Vectors/include' -I'/home/biocbuild/R/R-4.5.0/site-library/IRanges/include' -I'/home/biocbuild/R/R-4.5.0/site-library/XVector/include' -I/usr/local/include -fPIC -g -O2 -Wall -Werror=format-security -c ucsc/cirTree.c -o ucsc/cirTree.o
/opt/ohpc/pub/compiler/gcc/14.2.0/bin/aarch64-unknown-linux-gnu-gcc -std=gnu23 -I"/home/biocbuild/R/R-4.5.0/include" -DNDEBUG -DUSE_SSL -D_FILE_OFFSET_BITS=64 -I'/home/biocbuild/R/R-4.5.0/site-library/S4Vectors/include' -I'/home/biocbuild/R/R-4.5.0/site-library/IRanges/include' -I'/home/biocbuild/R/R-4.5.0/site-library/XVector/include' -I/usr/local/include -fPIC -g -O2 -Wall -Werror=format-security -c ucsc/common.c -o ucsc/common.o
/opt/ohpc/pub/compiler/gcc/14.2.0/bin/aarch64-unknown-linux-gnu-gcc -std=gnu23 -I"/home/biocbuild/R/R-4.5.0/include" -DNDEBUG -DUSE_SSL -D_FILE_OFFSET_BITS=64 -I'/home/biocbuild/R/R-4.5.0/site-library/S4Vectors/include' -I'/home/biocbuild/R/R-4.5.0/site-library/IRanges/include' -I'/home/biocbuild/R/R-4.5.0/site-library/XVector/include' -I/usr/local/include -fPIC -g -O2 -Wall -Werror=format-security -c ucsc/dnaseq.c -o ucsc/dnaseq.o
/opt/ohpc/pub/compiler/gcc/14.2.0/bin/aarch64-unknown-linux-gnu-gcc -std=gnu23 -I"/home/biocbuild/R/R-4.5.0/include" -DNDEBUG -DUSE_SSL -D_FILE_OFFSET_BITS=64 -I'/home/biocbuild/R/R-4.5.0/site-library/S4Vectors/include' -I'/home/biocbuild/R/R-4.5.0/site-library/IRanges/include' -I'/home/biocbuild/R/R-4.5.0/site-library/XVector/include' -I/usr/local/include -fPIC -g -O2 -Wall -Werror=format-security -c ucsc/dnautil.c -o ucsc/dnautil.o
/opt/ohpc/pub/compiler/gcc/14.2.0/bin/aarch64-unknown-linux-gnu-gcc -std=gnu23 -I"/home/biocbuild/R/R-4.5.0/include" -DNDEBUG -DUSE_SSL -D_FILE_OFFSET_BITS=64 -I'/home/biocbuild/R/R-4.5.0/site-library/S4Vectors/include' -I'/home/biocbuild/R/R-4.5.0/site-library/IRanges/include' -I'/home/biocbuild/R/R-4.5.0/site-library/XVector/include' -I/usr/local/include -fPIC -g -O2 -Wall -Werror=format-security -c ucsc/errAbort.c -o ucsc/errAbort.o
/opt/ohpc/pub/compiler/gcc/14.2.0/bin/aarch64-unknown-linux-gnu-gcc -std=gnu23 -I"/home/biocbuild/R/R-4.5.0/include" -DNDEBUG -DUSE_SSL -D_FILE_OFFSET_BITS=64 -I'/home/biocbuild/R/R-4.5.0/site-library/S4Vectors/include' -I'/home/biocbuild/R/R-4.5.0/site-library/IRanges/include' -I'/home/biocbuild/R/R-4.5.0/site-library/XVector/include' -I/usr/local/include -fPIC -g -O2 -Wall -Werror=format-security -c ucsc/hash.c -o ucsc/hash.o
/opt/ohpc/pub/compiler/gcc/14.2.0/bin/aarch64-unknown-linux-gnu-gcc -std=gnu23 -I"/home/biocbuild/R/R-4.5.0/include" -DNDEBUG -DUSE_SSL -D_FILE_OFFSET_BITS=64 -I'/home/biocbuild/R/R-4.5.0/site-library/S4Vectors/include' -I'/home/biocbuild/R/R-4.5.0/site-library/IRanges/include' -I'/home/biocbuild/R/R-4.5.0/site-library/XVector/include' -I/usr/local/include -fPIC -g -O2 -Wall -Werror=format-security -c ucsc/linefile.c -o ucsc/linefile.o
/opt/ohpc/pub/compiler/gcc/14.2.0/bin/aarch64-unknown-linux-gnu-gcc -std=gnu23 -I"/home/biocbuild/R/R-4.5.0/include" -DNDEBUG -DUSE_SSL -D_FILE_OFFSET_BITS=64 -I'/home/biocbuild/R/R-4.5.0/site-library/S4Vectors/include' -I'/home/biocbuild/R/R-4.5.0/site-library/IRanges/include' -I'/home/biocbuild/R/R-4.5.0/site-library/XVector/include' -I/usr/local/include -fPIC -g -O2 -Wall -Werror=format-security -c ucsc/localmem.c -o ucsc/localmem.o
/opt/ohpc/pub/compiler/gcc/14.2.0/bin/aarch64-unknown-linux-gnu-gcc -std=gnu23 -I"/home/biocbuild/R/R-4.5.0/include" -DNDEBUG -DUSE_SSL -D_FILE_OFFSET_BITS=64 -I'/home/biocbuild/R/R-4.5.0/site-library/S4Vectors/include' -I'/home/biocbuild/R/R-4.5.0/site-library/IRanges/include' -I'/home/biocbuild/R/R-4.5.0/site-library/XVector/include' -I/usr/local/include -fPIC -g -O2 -Wall -Werror=format-security -c ucsc/sqlNum.c -o ucsc/sqlNum.o
/opt/ohpc/pub/compiler/gcc/14.2.0/bin/aarch64-unknown-linux-gnu-gcc -std=gnu23 -I"/home/biocbuild/R/R-4.5.0/include" -DNDEBUG -DUSE_SSL -D_FILE_OFFSET_BITS=64 -I'/home/biocbuild/R/R-4.5.0/site-library/S4Vectors/include' -I'/home/biocbuild/R/R-4.5.0/site-library/IRanges/include' -I'/home/biocbuild/R/R-4.5.0/site-library/XVector/include' -I/usr/local/include -fPIC -g -O2 -Wall -Werror=format-security -c ucsc/zlibFace.c -o ucsc/zlibFace.o
/opt/ohpc/pub/compiler/gcc/14.2.0/bin/aarch64-unknown-linux-gnu-gcc -std=gnu23 -I"/home/biocbuild/R/R-4.5.0/include" -DNDEBUG -DUSE_SSL -D_FILE_OFFSET_BITS=64 -I'/home/biocbuild/R/R-4.5.0/site-library/S4Vectors/include' -I'/home/biocbuild/R/R-4.5.0/site-library/IRanges/include' -I'/home/biocbuild/R/R-4.5.0/site-library/XVector/include' -I/usr/local/include -fPIC -g -O2 -Wall -Werror=format-security -c ucsc/dystring.c -o ucsc/dystring.o
/opt/ohpc/pub/compiler/gcc/14.2.0/bin/aarch64-unknown-linux-gnu-gcc -std=gnu23 -I"/home/biocbuild/R/R-4.5.0/include" -DNDEBUG -DUSE_SSL -D_FILE_OFFSET_BITS=64 -I'/home/biocbuild/R/R-4.5.0/site-library/S4Vectors/include' -I'/home/biocbuild/R/R-4.5.0/site-library/IRanges/include' -I'/home/biocbuild/R/R-4.5.0/site-library/XVector/include' -I/usr/local/include -fPIC -g -O2 -Wall -Werror=format-security -c ucsc/hmmstats.c -o ucsc/hmmstats.o
/opt/ohpc/pub/compiler/gcc/14.2.0/bin/aarch64-unknown-linux-gnu-gcc -std=gnu23 -I"/home/biocbuild/R/R-4.5.0/include" -DNDEBUG -DUSE_SSL -D_FILE_OFFSET_BITS=64 -I'/home/biocbuild/R/R-4.5.0/site-library/S4Vectors/include' -I'/home/biocbuild/R/R-4.5.0/site-library/IRanges/include' -I'/home/biocbuild/R/R-4.5.0/site-library/XVector/include' -I/usr/local/include -fPIC -g -O2 -Wall -Werror=format-security -c ucsc/obscure.c -o ucsc/obscure.o
/opt/ohpc/pub/compiler/gcc/14.2.0/bin/aarch64-unknown-linux-gnu-gcc -std=gnu23 -I"/home/biocbuild/R/R-4.5.0/include" -DNDEBUG -DUSE_SSL -D_FILE_OFFSET_BITS=64 -I'/home/biocbuild/R/R-4.5.0/site-library/S4Vectors/include' -I'/home/biocbuild/R/R-4.5.0/site-library/IRanges/include' -I'/home/biocbuild/R/R-4.5.0/site-library/XVector/include' -I/usr/local/include -fPIC -g -O2 -Wall -Werror=format-security -c ucsc/rangeTree.c -o ucsc/rangeTree.o
/opt/ohpc/pub/compiler/gcc/14.2.0/bin/aarch64-unknown-linux-gnu-gcc -std=gnu23 -I"/home/biocbuild/R/R-4.5.0/include" -DNDEBUG -DUSE_SSL -D_FILE_OFFSET_BITS=64 -I'/home/biocbuild/R/R-4.5.0/site-library/S4Vectors/include' -I'/home/biocbuild/R/R-4.5.0/site-library/IRanges/include' -I'/home/biocbuild/R/R-4.5.0/site-library/XVector/include' -I/usr/local/include -fPIC -g -O2 -Wall -Werror=format-security -c ucsc/rbTree.c -o ucsc/rbTree.o
/opt/ohpc/pub/compiler/gcc/14.2.0/bin/aarch64-unknown-linux-gnu-gcc -std=gnu23 -I"/home/biocbuild/R/R-4.5.0/include" -DNDEBUG -DUSE_SSL -D_FILE_OFFSET_BITS=64 -I'/home/biocbuild/R/R-4.5.0/site-library/S4Vectors/include' -I'/home/biocbuild/R/R-4.5.0/site-library/IRanges/include' -I'/home/biocbuild/R/R-4.5.0/site-library/XVector/include' -I/usr/local/include -fPIC -g -O2 -Wall -Werror=format-security -c ucsc/memalloc.c -o ucsc/memalloc.o
/opt/ohpc/pub/compiler/gcc/14.2.0/bin/aarch64-unknown-linux-gnu-gcc -std=gnu23 -I"/home/biocbuild/R/R-4.5.0/include" -DNDEBUG -DUSE_SSL -D_FILE_OFFSET_BITS=64 -I'/home/biocbuild/R/R-4.5.0/site-library/S4Vectors/include' -I'/home/biocbuild/R/R-4.5.0/site-library/IRanges/include' -I'/home/biocbuild/R/R-4.5.0/site-library/XVector/include' -I/usr/local/include -fPIC -g -O2 -Wall -Werror=format-security -c ucsc/dlist.c -o ucsc/dlist.o
/opt/ohpc/pub/compiler/gcc/14.2.0/bin/aarch64-unknown-linux-gnu-gcc -std=gnu23 -I"/home/biocbuild/R/R-4.5.0/include" -DNDEBUG -DUSE_SSL -D_FILE_OFFSET_BITS=64 -I'/home/biocbuild/R/R-4.5.0/site-library/S4Vectors/include' -I'/home/biocbuild/R/R-4.5.0/site-library/IRanges/include' -I'/home/biocbuild/R/R-4.5.0/site-library/XVector/include' -I/usr/local/include -fPIC -g -O2 -Wall -Werror=format-security -c ucsc/filePath.c -o ucsc/filePath.o
/opt/ohpc/pub/compiler/gcc/14.2.0/bin/aarch64-unknown-linux-gnu-gcc -std=gnu23 -I"/home/biocbuild/R/R-4.5.0/include" -DNDEBUG -DUSE_SSL -D_FILE_OFFSET_BITS=64 -I'/home/biocbuild/R/R-4.5.0/site-library/S4Vectors/include' -I'/home/biocbuild/R/R-4.5.0/site-library/IRanges/include' -I'/home/biocbuild/R/R-4.5.0/site-library/XVector/include' -I/usr/local/include -fPIC -g -O2 -Wall -Werror=format-security -c ucsc/htmlPage.c -o ucsc/htmlPage.o
/opt/ohpc/pub/compiler/gcc/14.2.0/bin/aarch64-unknown-linux-gnu-gcc -std=gnu23 -I"/home/biocbuild/R/R-4.5.0/include" -DNDEBUG -DUSE_SSL -D_FILE_OFFSET_BITS=64 -I'/home/biocbuild/R/R-4.5.0/site-library/S4Vectors/include' -I'/home/biocbuild/R/R-4.5.0/site-library/IRanges/include' -I'/home/biocbuild/R/R-4.5.0/site-library/XVector/include' -I/usr/local/include -fPIC -g -O2 -Wall -Werror=format-security -c ucsc/udc.c -o ucsc/udc.o
ucsc/udc.c: In function ‘qEncode’:
ucsc/udc.c:936:30: warning: ‘snprintf’ output truncated before the last format character [-Wformat-truncation=]
936 | snprintf(d, 3, "Q%02X", (unsigned)c);
| ^
ucsc/udc.c:936:9: note: ‘snprintf’ output 4 bytes into a destination of size 3
936 | snprintf(d, 3, "Q%02X", (unsigned)c);
| ^~~~~~~~~~~~~~~~~~~~~~~~~~~~~~~~~~~~
/opt/ohpc/pub/compiler/gcc/14.2.0/bin/aarch64-unknown-linux-gnu-gcc -std=gnu23 -I"/home/biocbuild/R/R-4.5.0/include" -DNDEBUG -DUSE_SSL -D_FILE_OFFSET_BITS=64 -I'/home/biocbuild/R/R-4.5.0/site-library/S4Vectors/include' -I'/home/biocbuild/R/R-4.5.0/site-library/IRanges/include' -I'/home/biocbuild/R/R-4.5.0/site-library/XVector/include' -I/usr/local/include -fPIC -g -O2 -Wall -Werror=format-security -c ucsc/net.c -o ucsc/net.o
/opt/ohpc/pub/compiler/gcc/14.2.0/bin/aarch64-unknown-linux-gnu-gcc -std=gnu23 -I"/home/biocbuild/R/R-4.5.0/include" -DNDEBUG -DUSE_SSL -D_FILE_OFFSET_BITS=64 -I'/home/biocbuild/R/R-4.5.0/site-library/S4Vectors/include' -I'/home/biocbuild/R/R-4.5.0/site-library/IRanges/include' -I'/home/biocbuild/R/R-4.5.0/site-library/XVector/include' -I/usr/local/include -fPIC -g -O2 -Wall -Werror=format-security -c ucsc/bits.c -o ucsc/bits.o
/opt/ohpc/pub/compiler/gcc/14.2.0/bin/aarch64-unknown-linux-gnu-gcc -std=gnu23 -I"/home/biocbuild/R/R-4.5.0/include" -DNDEBUG -DUSE_SSL -D_FILE_OFFSET_BITS=64 -I'/home/biocbuild/R/R-4.5.0/site-library/S4Vectors/include' -I'/home/biocbuild/R/R-4.5.0/site-library/IRanges/include' -I'/home/biocbuild/R/R-4.5.0/site-library/XVector/include' -I/usr/local/include -fPIC -g -O2 -Wall -Werror=format-security -c ucsc/twoBit.c -o ucsc/twoBit.o
/opt/ohpc/pub/compiler/gcc/14.2.0/bin/aarch64-unknown-linux-gnu-gcc -std=gnu23 -I"/home/biocbuild/R/R-4.5.0/include" -DNDEBUG -DUSE_SSL -D_FILE_OFFSET_BITS=64 -I'/home/biocbuild/R/R-4.5.0/site-library/S4Vectors/include' -I'/home/biocbuild/R/R-4.5.0/site-library/IRanges/include' -I'/home/biocbuild/R/R-4.5.0/site-library/XVector/include' -I/usr/local/include -fPIC -g -O2 -Wall -Werror=format-security -c ucsc/_cheapcgi.c -o ucsc/_cheapcgi.o
/opt/ohpc/pub/compiler/gcc/14.2.0/bin/aarch64-unknown-linux-gnu-gcc -std=gnu23 -I"/home/biocbuild/R/R-4.5.0/include" -DNDEBUG -DUSE_SSL -D_FILE_OFFSET_BITS=64 -I'/home/biocbuild/R/R-4.5.0/site-library/S4Vectors/include' -I'/home/biocbuild/R/R-4.5.0/site-library/IRanges/include' -I'/home/biocbuild/R/R-4.5.0/site-library/XVector/include' -I/usr/local/include -fPIC -g -O2 -Wall -Werror=format-security -c ucsc/internet.c -o ucsc/internet.o
/opt/ohpc/pub/compiler/gcc/14.2.0/bin/aarch64-unknown-linux-gnu-gcc -std=gnu23 -I"/home/biocbuild/R/R-4.5.0/include" -DNDEBUG -DUSE_SSL -D_FILE_OFFSET_BITS=64 -I'/home/biocbuild/R/R-4.5.0/site-library/S4Vectors/include' -I'/home/biocbuild/R/R-4.5.0/site-library/IRanges/include' -I'/home/biocbuild/R/R-4.5.0/site-library/XVector/include' -I/usr/local/include -fPIC -g -O2 -Wall -Werror=format-security -c ucsc/https.c -o ucsc/https.o
/opt/ohpc/pub/compiler/gcc/14.2.0/bin/aarch64-unknown-linux-gnu-gcc -std=gnu23 -I"/home/biocbuild/R/R-4.5.0/include" -DNDEBUG -DUSE_SSL -D_FILE_OFFSET_BITS=64 -I'/home/biocbuild/R/R-4.5.0/site-library/S4Vectors/include' -I'/home/biocbuild/R/R-4.5.0/site-library/IRanges/include' -I'/home/biocbuild/R/R-4.5.0/site-library/XVector/include' -I/usr/local/include -fPIC -g -O2 -Wall -Werror=format-security -c ucsc/base64.c -o ucsc/base64.o
/opt/ohpc/pub/compiler/gcc/14.2.0/bin/aarch64-unknown-linux-gnu-gcc -std=gnu23 -I"/home/biocbuild/R/R-4.5.0/include" -DNDEBUG -DUSE_SSL -D_FILE_OFFSET_BITS=64 -I'/home/biocbuild/R/R-4.5.0/site-library/S4Vectors/include' -I'/home/biocbuild/R/R-4.5.0/site-library/IRanges/include' -I'/home/biocbuild/R/R-4.5.0/site-library/XVector/include' -I/usr/local/include -fPIC -g -O2 -Wall -Werror=format-security -c ucsc/verbose.c -o ucsc/verbose.o
/opt/ohpc/pub/compiler/gcc/14.2.0/bin/aarch64-unknown-linux-gnu-gcc -std=gnu23 -I"/home/biocbuild/R/R-4.5.0/include" -DNDEBUG -DUSE_SSL -D_FILE_OFFSET_BITS=64 -I'/home/biocbuild/R/R-4.5.0/site-library/S4Vectors/include' -I'/home/biocbuild/R/R-4.5.0/site-library/IRanges/include' -I'/home/biocbuild/R/R-4.5.0/site-library/XVector/include' -I/usr/local/include -fPIC -g -O2 -Wall -Werror=format-security -c ucsc/os.c -o ucsc/os.o
/opt/ohpc/pub/compiler/gcc/14.2.0/bin/aarch64-unknown-linux-gnu-gcc -std=gnu23 -I"/home/biocbuild/R/R-4.5.0/include" -DNDEBUG -DUSE_SSL -D_FILE_OFFSET_BITS=64 -I'/home/biocbuild/R/R-4.5.0/site-library/S4Vectors/include' -I'/home/biocbuild/R/R-4.5.0/site-library/IRanges/include' -I'/home/biocbuild/R/R-4.5.0/site-library/XVector/include' -I/usr/local/include -fPIC -g -O2 -Wall -Werror=format-security -c ucsc/wildcmp.c -o ucsc/wildcmp.o
/opt/ohpc/pub/compiler/gcc/14.2.0/bin/aarch64-unknown-linux-gnu-gcc -std=gnu23 -I"/home/biocbuild/R/R-4.5.0/include" -DNDEBUG -DUSE_SSL -D_FILE_OFFSET_BITS=64 -I'/home/biocbuild/R/R-4.5.0/site-library/S4Vectors/include' -I'/home/biocbuild/R/R-4.5.0/site-library/IRanges/include' -I'/home/biocbuild/R/R-4.5.0/site-library/XVector/include' -I/usr/local/include -fPIC -g -O2 -Wall -Werror=format-security -c ucsc/_portimpl.c -o ucsc/_portimpl.o
/opt/ohpc/pub/compiler/gcc/14.2.0/bin/aarch64-unknown-linux-gnu-gcc -std=gnu23 -shared -L/home/biocbuild/R/R-4.5.0/lib -L/usr/local/lib -o rtracklayer.so S4Vectors_stubs.o IRanges_stubs.o XVector_stubs.o R_init_rtracklayer.o readGFF.o bbiHelper.o bigWig.o bigBedHelper.o bigBed.o chain_io.o twoBit.o handlers.o utils.o ucsc/memgfx.o ucsc/binRange.o ucsc/htmlColor.o ucsc/sqlList.o ucsc/tokenizer.o ucsc/asParse.o ucsc/basicBed.o ucsc/bigBed.o ucsc/bPlusTree.o ucsc/bbiRead.o ucsc/bbiWrite.o ucsc/bwgCreate.o ucsc/bwgQuery.o ucsc/cirTree.o ucsc/common.o ucsc/dnaseq.o ucsc/dnautil.o ucsc/errAbort.o ucsc/hash.o ucsc/linefile.o ucsc/localmem.o ucsc/sqlNum.o ucsc/zlibFace.o ucsc/dystring.o ucsc/hmmstats.o ucsc/obscure.o ucsc/rangeTree.o ucsc/rbTree.o ucsc/memalloc.o ucsc/dlist.o ucsc/filePath.o ucsc/htmlPage.o ucsc/udc.o ucsc/net.o ucsc/bits.o ucsc/twoBit.o ucsc/_cheapcgi.o ucsc/internet.o ucsc/https.o ucsc/base64.o ucsc/verbose.o ucsc/os.o ucsc/wildcmp.o ucsc/_portimpl.o -lz -pthread -lssl -lcrypto -lcurl -L/home/biocbuild/R/R-4.5.0/lib -lR
installing to /home/biocbuild/R/R-4.5.0/site-library/00LOCK-rtracklayer/00new/rtracklayer/libs
** R
** data
** demo
** inst
** byte-compile and prepare package for lazy loading
Creating a generic function for ‘offset’ from package ‘stats’ in package ‘rtracklayer’
** help
*** installing help indices
** building package indices
** installing vignettes
** testing if installed package can be loaded from temporary location
** checking absolute paths in shared objects and dynamic libraries
** testing if installed package can be loaded from final location
** testing if installed package keeps a record of temporary installation path
* DONE (rtracklayer)
rtracklayer.Rcheck/tests/rtracklayer_unit_tests.Rout
R version 4.5.0 (2025-04-11) -- "How About a Twenty-Six"
Copyright (C) 2025 The R Foundation for Statistical Computing
Platform: aarch64-unknown-linux-gnu
R is free software and comes with ABSOLUTELY NO WARRANTY.
You are welcome to redistribute it under certain conditions.
Type 'license()' or 'licence()' for distribution details.
R is a collaborative project with many contributors.
Type 'contributors()' for more information and
'citation()' on how to cite R or R packages in publications.
Type 'demo()' for some demos, 'help()' for on-line help, or
'help.start()' for an HTML browser interface to help.
Type 'q()' to quit R.
> require("rtracklayer") || stop("unable to load rtracklayer package")
Loading required package: rtracklayer
Loading required package: GenomicRanges
Loading required package: stats4
Loading required package: BiocGenerics
Loading required package: generics
Attaching package: 'generics'
The following objects are masked from 'package:base':
as.difftime, as.factor, as.ordered, intersect, is.element, setdiff,
setequal, union
Attaching package: 'BiocGenerics'
The following objects are masked from 'package:stats':
IQR, mad, sd, var, xtabs
The following objects are masked from 'package:base':
Filter, Find, Map, Position, Reduce, anyDuplicated, aperm, append,
as.data.frame, basename, cbind, colnames, dirname, do.call,
duplicated, eval, evalq, get, grep, grepl, is.unsorted, lapply,
mapply, match, mget, order, paste, pmax, pmax.int, pmin, pmin.int,
rank, rbind, rownames, sapply, saveRDS, table, tapply, unique,
unsplit, which.max, which.min
Loading required package: S4Vectors
Attaching package: 'S4Vectors'
The following object is masked from 'package:utils':
findMatches
The following objects are masked from 'package:base':
I, expand.grid, unname
Loading required package: IRanges
Loading required package: Seqinfo
[1] TRUE
> rtracklayer:::.test()
Attaching package: 'Biostrings'
The following object is masked from 'package:base':
strsplit
Warning in readGFF(filepath, version = version, filter = filter) :
connection is not positioned at the start of the file, rewinding it
Warning in readGFF(filepath, version = version, filter = filter) :
connection is not positioned at the start of the file, rewinding it
Warning in readGFF(filepath, version = version, filter = filter) :
connection is not positioned at the start of the file, rewinding it
For efficiency, consider converting this WIG file to a BigWig file;
see ?wigToBigWig
RUNIT TEST PROTOCOL -- Fri Oct 17 13:12:54 2025
***********************************************
Number of test functions: 11
Number of errors: 0
Number of failures: 0
1 Test Suite :
rtracklayer RUnit Tests - 11 test functions, 0 errors, 0 failures
Number of test functions: 11
Number of errors: 0
Number of failures: 0
There were 14 warnings (use warnings() to see them)
>
> proc.time()
user system elapsed
53.866 2.122 147.473
rtracklayer.Rcheck/rtracklayer-Ex.timings
| name | user | system | elapsed | |
| BEDFile-class | 2.859 | 0.095 | 2.964 | |
| BamFile-methods | 0.148 | 0.004 | 0.153 | |
| BigBedFile | 0.451 | 0.024 | 0.477 | |
| BigBedSelection | 0.032 | 0.000 | 0.033 | |
| BigWigFile | 23.458 | 1.604 | 25.118 | |
| BigWigSelection-class | 0.024 | 0.000 | 0.024 | |
| GFFFile-class | 1.407 | 0.044 | 1.456 | |
| GenomicData | 0.617 | 0.014 | 3.862 | |
| GenomicSelection | 0.142 | 0.000 | 0.142 | |
| Quickload-class | 0.019 | 0.000 | 0.021 | |
| QuickloadGenome-class | 0.127 | 0.023 | 0.152 | |
| TrackHub-class | 0.051 | 0.012 | 0.066 | |
| TrackHubGenome-class | 0.016 | 0.004 | 0.019 | |
| TwoBitFile-class | 0.107 | 0.008 | 0.116 | |
| UCSCSchema-class | 0 | 0 | 0 | |
| UCSCTableQuery-class | 0.001 | 0.000 | 0.000 | |
| WIGFile-class | 1.182 | 0.079 | 1.265 | |
| asBED | 0 | 0 | 0 | |
| asGFF | 0 | 0 | 0 | |
| browseGenome | 0.001 | 0.000 | 0.001 | |
| browserView-methods | 0 | 0 | 0 | |
| browserViews-methods | 0 | 0 | 0 | |
| cpneTrack | 0.776 | 0.032 | 0.809 | |
| layTrack-methods | 0.001 | 0.000 | 0.000 | |
| liftOver | 0 | 0 | 0 | |
| readGFF | 0.470 | 0.112 | 0.584 | |
| targets | 0.041 | 0.016 | 0.057 | |
| ucscGenomes | 0.272 | 0.039 | 1.520 | |
| ucscTrackModes-methods | 0.015 | 0.003 | 0.019 | |