Back to Multiple platform build/check report for BioC 3.22:   simplified   long
ABC[D]EFGHIJKLMNOPQRSTUVWXYZ

This page was generated on 2025-10-24 12:07 -0400 (Fri, 24 Oct 2025).

HostnameOSArch (*)R versionInstalled pkgs
nebbiolo2Linux (Ubuntu 24.04.3 LTS)x86_644.5.1 Patched (2025-08-23 r88802) -- "Great Square Root" 4898
lconwaymacOS 12.7.6 Montereyx86_644.5.1 Patched (2025-09-10 r88807) -- "Great Square Root" 4688
kjohnson3macOS 13.7.7 Venturaarm644.5.1 Patched (2025-09-10 r88807) -- "Great Square Root" 4634
taishanLinux (openEuler 24.03 LTS)aarch644.5.0 (2025-04-11) -- "How About a Twenty-Six" 4658
Click on any hostname to see more info about the system (e.g. compilers)      (*) as reported by 'uname -p', except on Windows and Mac OS X

Package 613/2359HostnameOS / ArchINSTALLBUILDCHECKBUILD BIN
DNAfusion 1.11.0  (landing page)
Christoffer Trier Maansson
Snapshot Date: 2025-10-23 14:17 -0400 (Thu, 23 Oct 2025)
git_url: https://git.bioconductor.org/packages/DNAfusion
git_branch: devel
git_last_commit: 2308eec
git_last_commit_date: 2025-05-13 07:26:04 -0400 (Tue, 13 May 2025)
nebbiolo2Linux (Ubuntu 24.04.3 LTS) / x86_64  OK    OK    OK  UNNEEDED, same version is already published
lconwaymacOS 12.7.6 Monterey / x86_64  OK    OK    OK    OK  UNNEEDED, same version is already published
kjohnson3macOS 13.7.7 Ventura / arm64  OK    OK    OK    OK  UNNEEDED, same version is already published
taishanLinux (openEuler 24.03 LTS) / aarch64  OK    OK    ERROR  


CHECK results for DNAfusion on taishan

To the developers/maintainers of the DNAfusion package:
- Allow up to 24 hours (and sometimes 48 hours) for your latest push to git@git.bioconductor.org:packages/DNAfusion.git to reflect on this report. See Troubleshooting Build Report for more information.
- Use the following Renviron settings to reproduce errors and warnings.
- If 'R CMD check' started to fail recently on the Linux builder(s) over a missing dependency, add the missing dependency to 'Suggests:' in your DESCRIPTION file. See Renviron.bioc for more information.
- See Martin Grigorov's blog post for how to debug Linux ARM64 related issues on a x86_64 host.

raw results


Summary

Package: DNAfusion
Version: 1.11.0
Command: /home/biocbuild/R/R/bin/R CMD check --install=check:DNAfusion.install-out.txt --library=/home/biocbuild/R/R/site-library --no-vignettes --timings DNAfusion_1.11.0.tar.gz
StartedAt: 2025-10-21 07:38:15 -0000 (Tue, 21 Oct 2025)
EndedAt: 2025-10-21 07:38:24 -0000 (Tue, 21 Oct 2025)
EllapsedTime: 9.0 seconds
RetCode: 1
Status:   ERROR  
CheckDir: DNAfusion.Rcheck
Warnings: NA

Command output

##############################################################################
##############################################################################
###
### Running command:
###
###   /home/biocbuild/R/R/bin/R CMD check --install=check:DNAfusion.install-out.txt --library=/home/biocbuild/R/R/site-library --no-vignettes --timings DNAfusion_1.11.0.tar.gz
###
##############################################################################
##############################################################################


* using log directory ‘/home/biocbuild/bbs-3.22-bioc/meat/DNAfusion.Rcheck’
* using R version 4.5.0 (2025-04-11)
* using platform: aarch64-unknown-linux-gnu
* R was compiled by
    aarch64-unknown-linux-gnu-gcc (GCC) 14.2.0
    GNU Fortran (GCC) 14.2.0
* running under: openEuler 24.03 (LTS)
* using session charset: UTF-8
* using option ‘--no-vignettes’
* checking for file ‘DNAfusion/DESCRIPTION’ ... OK
* this is package ‘DNAfusion’ version ‘1.11.0’
* package encoding: UTF-8
* checking package namespace information ... OK
* checking package dependencies ...Warning in close.connection(con) :
  Problem closing connection:  No space left on device
Error: inferior call failed
Execution halted

Installation output


Tests output


Example timings