Back to Multiple platform build/check report for BioC 3.22:   simplified   long
A[B]CDEFGHIJKLMNOPQRSTUVWXYZ

This page was generated on 2025-11-15 11:58 -0500 (Sat, 15 Nov 2025).

HostnameOSArch (*)R versionInstalled pkgs
nebbiolo2Linux (Ubuntu 24.04.3 LTS)x86_644.5.1 Patched (2025-08-23 r88802) -- "Great Square Root" 4903
taishanLinux (openEuler 24.03 LTS)aarch644.5.0 (2025-04-11) -- "How About a Twenty-Six" 4668
Click on any hostname to see more info about the system (e.g. compilers)      (*) as reported by 'uname -p', except on Windows and Mac OS X

Package 221/2361HostnameOS / ArchINSTALLBUILDCHECKBUILD BIN
BioNAR 1.12.0  (landing page)
Anatoly Sorokin
Snapshot Date: 2025-11-14 13:45 -0500 (Fri, 14 Nov 2025)
git_url: https://git.bioconductor.org/packages/BioNAR
git_branch: RELEASE_3_22
git_last_commit: a683d4b
git_last_commit_date: 2025-10-29 11:19:29 -0500 (Wed, 29 Oct 2025)
nebbiolo2Linux (Ubuntu 24.04.3 LTS) / x86_64  OK    OK    ERROR  
taishanLinux (openEuler 24.03 LTS) / aarch64  OK    OK    ERROR  


CHECK results for BioNAR on taishan

To the developers/maintainers of the BioNAR package:
- Allow up to 24 hours (and sometimes 48 hours) for your latest push to git@git.bioconductor.org:packages/BioNAR.git to reflect on this report. See Troubleshooting Build Report for more information.
- Use the following Renviron settings to reproduce errors and warnings.
- If 'R CMD check' started to fail recently on the Linux builder(s) over a missing dependency, add the missing dependency to 'Suggests:' in your DESCRIPTION file. See Renviron.bioc for more information.
- See Martin Grigorov's blog post for how to debug Linux ARM64 related issues on a x86_64 host.

raw results


Summary

Package: BioNAR
Version: 1.12.0
Command: /home/biocbuild/R/R/bin/R CMD check --install=check:BioNAR.install-out.txt --library=/home/biocbuild/R/R/site-library --no-vignettes --timings BioNAR_1.12.0.tar.gz
StartedAt: 2025-11-14 07:20:46 -0000 (Fri, 14 Nov 2025)
EndedAt: 2025-11-14 07:29:54 -0000 (Fri, 14 Nov 2025)
EllapsedTime: 548.0 seconds
RetCode: 1
Status:   ERROR  
CheckDir: BioNAR.Rcheck
Warnings: NA

Command output

##############################################################################
##############################################################################
###
### Running command:
###
###   /home/biocbuild/R/R/bin/R CMD check --install=check:BioNAR.install-out.txt --library=/home/biocbuild/R/R/site-library --no-vignettes --timings BioNAR_1.12.0.tar.gz
###
##############################################################################
##############################################################################


* using log directory ‘/home/biocbuild/bbs-3.22-bioc/meat/BioNAR.Rcheck’
* using R version 4.5.0 (2025-04-11)
* using platform: aarch64-unknown-linux-gnu
* R was compiled by
    aarch64-unknown-linux-gnu-gcc (GCC) 14.2.0
    GNU Fortran (GCC) 14.2.0
* running under: openEuler 24.03 (LTS)
* using session charset: UTF-8
* using option ‘--no-vignettes’
* checking for file ‘BioNAR/DESCRIPTION’ ... OK
* this is package ‘BioNAR’ version ‘1.12.0’
* package encoding: UTF-8
* checking package namespace information ... OK
* checking package dependencies ... OK
* checking if this is a source package ... OK
* checking if there is a namespace ... OK
* checking for hidden files and directories ... OK
* checking for portable file names ... OK
* checking for sufficient/correct file permissions ... OK
* checking whether package ‘BioNAR’ can be installed ... OK
* checking installed package size ... INFO
  installed size is  6.8Mb
  sub-directories of 1Mb or more:
    extdata   6.1Mb
* checking package directory ... OK
* checking ‘build’ directory ... OK
* checking DESCRIPTION meta-information ... OK
* checking top-level files ... OK
* checking for left-over files ... OK
* checking index information ... OK
* checking package subdirectories ... OK
* checking code files for non-ASCII characters ... OK
* checking R files for syntax errors ... OK
* checking whether the package can be loaded ... OK
* checking whether the package can be loaded with stated dependencies ... OK
* checking whether the package can be unloaded cleanly ... OK
* checking whether the namespace can be loaded with stated dependencies ... OK
* checking whether the namespace can be unloaded cleanly ... OK
* checking loading without being on the library search path ... OK
* checking dependencies in R code ... NOTE
Package in Depends field not imported from: ‘Rdpack’
  These packages need to be imported from (in the NAMESPACE file)
  for when this namespace is loaded but not attached.
There are ::: calls to the package's namespace in its code. A package
  almost never needs to use ::: for its own objects:
  ‘addNoise’ ‘gofs’ ‘highlightRate’ ‘plotSigmoid’
* checking S3 generic/method consistency ... OK
* checking replacement functions ... OK
* checking foreign function calls ... OK
* checking R code for possible problems ... OK
* checking Rd files ... OK
* checking Rd metadata ... OK
* checking Rd cross-references ... NOTE
Unknown package ‘clusterCons’ in Rd xrefs
* checking for missing documentation entries ... OK
* checking for code/documentation mismatches ... OK
* checking Rd \usage sections ... OK
* checking Rd contents ... OK
* checking for unstated dependencies in examples ... OK
* checking contents of ‘data’ directory ... OK
* checking data for non-ASCII characters ... OK
* checking LazyData ... OK
* checking data for ASCII and uncompressed saves ... OK
* checking files in ‘vignettes’ ... OK
* checking examples ... OK
Examples with CPU (user + system) or elapsed time > 5s
                           user system elapsed
clusteringSummary        13.839  0.009  13.870
plotEntropy              13.794  0.051  13.887
calcEntropy              13.590  0.067  13.701
getGraphCentralityECDF   12.444  0.016  12.493
getEntropy               12.330  0.104  12.468
getCentralityMatrix      12.178  0.060  12.270
addEdgeAtts              10.831  0.155  11.019
annotateTopOntoOVG       10.535  0.064  10.634
runPermDisease            8.258  0.052   8.332
annotateSCHanno           7.149  0.024   7.198
annotateGoBP              6.468  0.032   6.521
annotateGOont             6.252  0.190   6.709
annotateGoMF              5.555  0.063   5.639
calcSparsness             5.596  0.000   5.611
normModularity            5.198  0.016   5.227
calcAllClustering         5.169  0.004   5.187
annotateGoCC              5.084  0.024   5.127
FitDegree                 1.444  0.026   7.797
getRandomGraphCentrality  0.858  0.018  14.701
* checking for unstated dependencies in ‘tests’ ... OK
* checking tests ...
  Running ‘testthat.R’
 ERROR
Running the tests in ‘tests/testthat.R’ failed.
Last 13 lines of output:
  [ FAIL 1 | WARN 0 | SKIP 2 | PASS 124 ]
  
  ══ Skipped tests (2) ═══════════════════════════════════════════════════════════
  • On CRAN (2): 'test_bridgeness.R:38:5', 'test_bridgeness.R:81:5'
  
  ══ Failed tests ════════════════════════════════════════════════════════════════
  ── Failure ('test_bridgeness.R:101:5'): Norm Modularity ────────────────────────
  `nm` (`actual`) not equal to 0.009390085 (`expected`).
  
    `actual`: 0.0070
  `expected`: 0.0094
  
  [ FAIL 1 | WARN 0 | SKIP 2 | PASS 124 ]
  Error: Test failures
  Execution halted
* checking for unstated dependencies in vignettes ... OK
* checking package vignettes ... OK
* checking running R code from vignettes ... SKIPPED
* checking re-building of vignette outputs ... SKIPPED
* checking PDF version of manual ... OK
* DONE

Status: 1 ERROR, 2 NOTEs
See
  ‘/home/biocbuild/bbs-3.22-bioc/meat/BioNAR.Rcheck/00check.log’
for details.


Installation output

BioNAR.Rcheck/00install.out

##############################################################################
##############################################################################
###
### Running command:
###
###   /home/biocbuild/R/R/bin/R CMD INSTALL BioNAR
###
##############################################################################
##############################################################################


* installing to library ‘/home/biocbuild/R/R-4.5.0/site-library’
* installing *source* package ‘BioNAR’ ...
** this is package ‘BioNAR’ version ‘1.12.0’
** using staged installation
** R
** data
*** moving datasets to lazyload DB
** inst
** byte-compile and prepare package for lazy loading
** help
*** installing help indices
** building package indices
** installing vignettes
** testing if installed package can be loaded from temporary location
** testing if installed package can be loaded from final location
** testing if installed package keeps a record of temporary installation path
* DONE (BioNAR)

Tests output

BioNAR.Rcheck/tests/testthat.Rout.fail


R version 4.5.0 (2025-04-11) -- "How About a Twenty-Six"
Copyright (C) 2025 The R Foundation for Statistical Computing
Platform: aarch64-unknown-linux-gnu

R is free software and comes with ABSOLUTELY NO WARRANTY.
You are welcome to redistribute it under certain conditions.
Type 'license()' or 'licence()' for distribution details.

R is a collaborative project with many contributors.
Type 'contributors()' for more information and
'citation()' on how to cite R or R packages in publications.

Type 'demo()' for some demos, 'help()' for on-line help, or
'help.start()' for an HTML browser interface to help.
Type 'q()' to quit R.

> library(testthat)
> library(BioNAR)
Loading required package: igraph

Attaching package: 'igraph'

The following object is masked from 'package:testthat':

    compare

The following objects are masked from 'package:stats':

    decompose, spectrum

The following object is masked from 'package:base':

    union

Loading required package: poweRlaw
Loading required package: latex2exp
Loading required package: RSpectra
Loading required package: Rdpack



Attaching package: 'BioNAR'

The following object is masked from 'package:igraph':

    permute

> 
> test_check("BioNAR")
[ FAIL 1 | WARN 0 | SKIP 2 | PASS 124 ]

══ Skipped tests (2) ═══════════════════════════════════════════════════════════
• On CRAN (2): 'test_bridgeness.R:38:5', 'test_bridgeness.R:81:5'

══ Failed tests ════════════════════════════════════════════════════════════════
── Failure ('test_bridgeness.R:101:5'): Norm Modularity ────────────────────────
`nm` (`actual`) not equal to 0.009390085 (`expected`).

  `actual`: 0.0070
`expected`: 0.0094

[ FAIL 1 | WARN 0 | SKIP 2 | PASS 124 ]
Error: Test failures
Execution halted

Example timings

BioNAR.Rcheck/BioNAR-Ex.timings

nameusersystemelapsed
FitDegree1.4440.0267.797
addEdgeAtts10.831 0.15511.019
annotateGOont6.2520.1906.709
annotateGeneNames0.3040.0050.327
annotateGoBP6.4680.0326.521
annotateGoCC5.0840.0245.127
annotateGoMF5.5550.0635.639
annotatePresynaptic2.2810.0002.290
annotateSCHanno7.1490.0247.198
annotateTopOntoOVG10.535 0.06410.634
annotateVertex0.0050.0000.005
applpMatrixToGraph0.0020.0000.003
buildNetwork0.0000.0040.005
calcAllClustering5.1690.0045.187
calcBridgeness0.1070.0080.115
calcCentrality0.1360.0160.154
calcCentralityExternalDistances0.8530.0520.909
calcCentralityInternalDistances0.8710.0160.889
calcClustering0.0060.0000.006
calcDiseasePairs0.6880.0200.710
calcEntropy13.590 0.06713.701
calcMembership0.0070.0000.008
calcReclusterMatrix0.0490.0000.049
calcSparsness5.5960.0005.611
clusterORA0.4630.0040.470
clusteringSummary13.839 0.00913.870
degreeBinnedGDAs0.2880.0110.300
escapeAnnotation0.0000.0000.001
evalCentralitySignificance0.8210.0160.840
findLCC0.0060.0000.006
getAnnotationList0.0690.0030.072
getAnnotationVertexList0.0870.0000.087
getBridgeness0.0910.0000.091
getCentralityMatrix12.178 0.06012.270
getClusterSubgraphByID0.030.000.03
getClustering0.0230.0080.031
getCommunityGraph0.0340.0000.034
getDType000
getDYNAMO0.0440.0040.048
getDiseases000
getEntropy12.330 0.10412.468
getEntropyRate0.0060.0000.006
getGNP0.0260.0000.026
getGraphCentralityECDF12.444 0.01612.493
getPA0.0280.0000.028
getRandomGraphCentrality 0.858 0.01814.701
getRobustness0.7130.0200.736
layoutByCluster0.4290.0000.429
layoutByRecluster0.2920.0000.293
makeConsensusMatrix0.7370.0080.747
makeMembership0.0030.0000.003
metlMatrix0.0100.0000.011
normModularity5.1980.0165.227
permute0.0010.0000.000
plotBridgeness0.7140.0120.728
plotEntropy13.794 0.05113.887
prepareGDA0.2860.0040.290
recluster0.0450.0040.049
removeVertexTerm0.0060.0000.006
runPermDisease8.2580.0528.332
sampleDegBinnedGDA0.3870.0000.388
sampleGraphClust0.0340.0000.034
unescapeAnnotation0.0000.0000.001
zeroNA000