| Back to Multiple platform build/check report for BioC 3.22: simplified long |
|
This page was generated on 2025-10-21 12:07 -0400 (Tue, 21 Oct 2025).
| Hostname | OS | Arch (*) | R version | Installed pkgs |
|---|---|---|---|---|
| nebbiolo2 | Linux (Ubuntu 24.04.3 LTS) | x86_64 | 4.5.1 Patched (2025-08-23 r88802) -- "Great Square Root" | 4887 |
| lconway | macOS 12.7.6 Monterey | x86_64 | 4.5.1 Patched (2025-09-10 r88807) -- "Great Square Root" | 4677 |
| kjohnson3 | macOS 13.7.7 Ventura | arm64 | 4.5.1 Patched (2025-09-10 r88807) -- "Great Square Root" | 4622 |
| taishan | Linux (openEuler 24.03 LTS) | aarch64 | 4.5.0 (2025-04-11) -- "How About a Twenty-Six" | 4642 |
| Click on any hostname to see more info about the system (e.g. compilers) (*) as reported by 'uname -p', except on Windows and Mac OS X | ||||
| Package 1563/2353 | Hostname | OS / Arch | INSTALL | BUILD | CHECK | BUILD BIN | ||||||||
| peakPantheR 1.23.3 (landing page) Arnaud Wolfer
| nebbiolo2 | Linux (Ubuntu 24.04.3 LTS) / x86_64 | OK | OK | OK | |||||||||
| lconway | macOS 12.7.6 Monterey / x86_64 | OK | OK | OK | OK | |||||||||
| kjohnson3 | macOS 13.7.7 Ventura / arm64 | OK | OK | OK | OK | |||||||||
| taishan | Linux (openEuler 24.03 LTS) / aarch64 | OK | OK | OK | ||||||||||
|
To the developers/maintainers of the peakPantheR package: - Allow up to 24 hours (and sometimes 48 hours) for your latest push to git@git.bioconductor.org:packages/peakPantheR.git to reflect on this report. See Troubleshooting Build Report for more information. - Use the following Renviron settings to reproduce errors and warnings. - If 'R CMD check' started to fail recently on the Linux builder(s) over a missing dependency, add the missing dependency to 'Suggests:' in your DESCRIPTION file. See Renviron.bioc for more information. - See Martin Grigorov's blog post for how to debug Linux ARM64 related issues on a x86_64 host. |
| Package: peakPantheR |
| Version: 1.23.3 |
| Command: /home/biocbuild/R/R/bin/R CMD check --install=check:peakPantheR.install-out.txt --library=/home/biocbuild/R/R/site-library --no-vignettes --timings peakPantheR_1.23.3.tar.gz |
| StartedAt: 2025-10-17 12:05:41 -0000 (Fri, 17 Oct 2025) |
| EndedAt: 2025-10-17 12:29:32 -0000 (Fri, 17 Oct 2025) |
| EllapsedTime: 1431.9 seconds |
| RetCode: 0 |
| Status: OK |
| CheckDir: peakPantheR.Rcheck |
| Warnings: 0 |
##############################################################################
##############################################################################
###
### Running command:
###
### /home/biocbuild/R/R/bin/R CMD check --install=check:peakPantheR.install-out.txt --library=/home/biocbuild/R/R/site-library --no-vignettes --timings peakPantheR_1.23.3.tar.gz
###
##############################################################################
##############################################################################
* using log directory ‘/home/biocbuild/bbs-3.22-bioc/meat/peakPantheR.Rcheck’
* using R version 4.5.0 (2025-04-11)
* using platform: aarch64-unknown-linux-gnu
* R was compiled by
aarch64-unknown-linux-gnu-gcc (GCC) 14.2.0
GNU Fortran (GCC) 14.2.0
* running under: openEuler 24.03 (LTS)
* using session charset: UTF-8
* using option ‘--no-vignettes’
* checking for file ‘peakPantheR/DESCRIPTION’ ... OK
* this is package ‘peakPantheR’ version ‘1.23.3’
* package encoding: UTF-8
* checking package namespace information ... OK
* checking package dependencies ... OK
* checking if this is a source package ... OK
* checking if there is a namespace ... OK
* checking for hidden files and directories ... OK
* checking for portable file names ... OK
* checking for sufficient/correct file permissions ... OK
* checking whether package ‘peakPantheR’ can be installed ... OK
* checking installed package size ... OK
* checking package directory ... OK
* checking ‘build’ directory ... OK
* checking DESCRIPTION meta-information ... OK
* checking top-level files ... OK
* checking for left-over files ... OK
* checking index information ... OK
* checking package subdirectories ... OK
* checking code files for non-ASCII characters ... OK
* checking R files for syntax errors ... OK
* checking whether the package can be loaded ... OK
* checking whether the package can be loaded with stated dependencies ... OK
* checking whether the package can be unloaded cleanly ... OK
* checking whether the namespace can be loaded with stated dependencies ... OK
* checking whether the namespace can be unloaded cleanly ... OK
* checking loading without being on the library search path ... OK
* checking whether startup messages can be suppressed ... OK
* checking dependencies in R code ... OK
* checking S3 generic/method consistency ... OK
* checking replacement functions ... OK
* checking foreign function calls ... OK
* checking R code for possible problems ... OK
* checking Rd files ... OK
* checking Rd metadata ... OK
* checking Rd cross-references ... OK
* checking for missing documentation entries ... OK
* checking for code/documentation mismatches ... OK
* checking Rd \usage sections ... OK
* checking Rd contents ... OK
* checking for unstated dependencies in examples ... OK
* checking files in ‘vignettes’ ... OK
* checking examples ... OK
Examples with CPU (user + system) or elapsed time > 5s
user system elapsed
peakPantheR_ROIStatistics 24.209 0.247 24.536
peakPantheR_parallelAnnotation 15.445 0.099 15.584
outputAnnotationResult-peakPantheRAnnotation-method 15.281 0.020 15.340
outputAnnotationDiagnostic-peakPantheRAnnotation-method 15.208 0.056 15.400
EICs-peakPantheRAnnotation-method 14.488 0.603 15.145
retentionTimeCorrection-peakPantheRAnnotation-method 10.723 0.016 10.768
peakPantheR_singleFileSearch 5.359 0.008 5.382
* checking for unstated dependencies in ‘tests’ ... OK
* checking tests ...
Running ‘testthat.R’
OK
* checking for unstated dependencies in vignettes ... OK
* checking package vignettes ... OK
* checking running R code from vignettes ... SKIPPED
* checking re-building of vignette outputs ... SKIPPED
* checking PDF version of manual ... OK
* DONE
Status: OK
peakPantheR.Rcheck/00install.out
############################################################################## ############################################################################## ### ### Running command: ### ### /home/biocbuild/R/R/bin/R CMD INSTALL peakPantheR ### ############################################################################## ############################################################################## * installing to library ‘/home/biocbuild/R/R-4.5.0/site-library’ * installing *source* package ‘peakPantheR’ ... ** this is package ‘peakPantheR’ version ‘1.23.3’ ** using staged installation ** R ** inst ** byte-compile and prepare package for lazy loading ** help *** installing help indices *** copying figures ** building package indices ** installing vignettes ** testing if installed package can be loaded from temporary location ** testing if installed package can be loaded from final location ** testing if installed package keeps a record of temporary installation path * DONE (peakPantheR)
peakPantheR.Rcheck/tests/testthat.Rout
R version 4.5.0 (2025-04-11) -- "How About a Twenty-Six"
Copyright (C) 2025 The R Foundation for Statistical Computing
Platform: aarch64-unknown-linux-gnu
R is free software and comes with ABSOLUTELY NO WARRANTY.
You are welcome to redistribute it under certain conditions.
Type 'license()' or 'licence()' for distribution details.
R is a collaborative project with many contributors.
Type 'contributors()' for more information and
'citation()' on how to cite R or R packages in publications.
Type 'demo()' for some demos, 'help()' for on-line help, or
'help.start()' for an HTML browser interface to help.
Type 'q()' to quit R.
> library(testthat)
> library(peakPantheR)
This is peakPantheR version 1.23.3
>
> test_check("peakPantheR")
[ FAIL 0 | WARN 0 | SKIP 0 | PASS 1460 ]
Warning messages:
1: In .Internal(gc(verbose, reset, full)) :
closing unused connection 10 (/home/biocbuild/tmp/Rtmpskgh0e/notValidXML.mzML)
2: In .Internal(gc(verbose, reset, full)) :
closing unused connection 9 (/home/biocbuild/tmp/Rtmpskgh0e/notValidXML.mzML)
3: In .Internal(gc(verbose, reset, full)) :
closing unused connection 8 (/home/biocbuild/tmp/Rtmpskgh0e/notValidXML.mzML)
4: In .Internal(gc(verbose, reset, full)) :
closing unused connection 7 (/home/biocbuild/tmp/Rtmpskgh0e/notValidXML.mzML)
5: In .Internal(gc(verbose, reset, full)) :
closing unused connection 6 (/home/biocbuild/R/R-4.5.0/site-library/peakPantheR/extdata/test_fakemzML.mzML)
6: In .Internal(gc(verbose, reset, full)) :
closing unused connection 5 (/home/biocbuild/R/R-4.5.0/site-library/peakPantheR/extdata/test_fakemzML.mzML)
>
> proc.time()
user system elapsed
848.735 10.368 1224.853
peakPantheR.Rcheck/peakPantheR-Ex.timings
| name | user | system | elapsed | |
| EICs-peakPantheRAnnotation-method | 14.488 | 0.603 | 15.145 | |
| FIR-peakPantheRAnnotation-method | 0.035 | 0.000 | 0.035 | |
| ROI-peakPantheRAnnotation-method | 0.028 | 0.000 | 0.029 | |
| TIC-peakPantheRAnnotation-method | 0.024 | 0.004 | 0.028 | |
| acquisitionTime-peakPantheRAnnotation-method | 0.028 | 0.000 | 0.028 | |
| annotationDiagnosticPlots-peakPantheRAnnotation-method | 0.027 | 0.000 | 0.027 | |
| annotationParamsDiagnostic-peakPantheRAnnotation-method | 0.023 | 0.004 | 0.026 | |
| annotationTable-peakPantheRAnnotation-method | 0.023 | 0.004 | 0.027 | |
| annotation_diagnostic_multiplot_UI_helper | 0.218 | 0.020 | 0.240 | |
| annotation_fit_summary_UI_helper | 0.011 | 0.000 | 0.011 | |
| annotation_showMethod_UI_helper | 0.002 | 0.004 | 0.005 | |
| annotation_showText_UI_helper | 0.001 | 0.000 | 0.001 | |
| cpdID-peakPantheRAnnotation-method | 0.026 | 0.000 | 0.027 | |
| cpdMetadata-peakPantheRAnnotation-method | 0.026 | 0.000 | 0.026 | |
| cpdName-peakPantheRAnnotation-method | 0.023 | 0.003 | 0.026 | |
| dataPoints-peakPantheRAnnotation-method | 0.024 | 0.003 | 0.027 | |
| filename-peakPantheRAnnotation-method | 0.027 | 0.000 | 0.027 | |
| filepath-peakPantheRAnnotation-method | 0.027 | 0.000 | 0.027 | |
| initialise_annotation_from_files_UI_helper | 0.014 | 0.004 | 0.018 | |
| isAnnotated-peakPantheRAnnotation-method | 0.027 | 0.000 | 0.027 | |
| load_annotation_from_file_UI_helper | 0.01 | 0.00 | 0.01 | |
| nbCompounds-peakPantheRAnnotation-method | 0.026 | 0.000 | 0.026 | |
| nbSamples-peakPantheRAnnotation-method | 0.026 | 0.000 | 0.026 | |
| outputAnnotationDiagnostic-peakPantheRAnnotation-method | 15.208 | 0.056 | 15.400 | |
| outputAnnotationFeatureMetadata_UI_helper | 0.007 | 0.000 | 0.007 | |
| outputAnnotationParamsCSV-peakPantheRAnnotation-method | 0.032 | 0.000 | 0.032 | |
| outputAnnotationResult-peakPantheRAnnotation-method | 15.281 | 0.020 | 15.340 | |
| outputAnnotationSpectraMetadata_UI_helper | 0.008 | 0.000 | 0.008 | |
| peakFit-peakPantheRAnnotation-method | 0.027 | 0.000 | 0.027 | |
| peakPantheRAnnotation | 0.034 | 0.000 | 0.033 | |
| peakPantheR_ROIStatistics | 24.209 | 0.247 | 24.536 | |
| peakPantheR_loadAnnotationParamsCSV | 0.008 | 0.000 | 0.009 | |
| peakPantheR_parallelAnnotation | 15.445 | 0.099 | 15.584 | |
| peakPantheR_plotEICFit | 0.774 | 0.000 | 0.779 | |
| peakPantheR_plotPeakwidth | 1.310 | 0.000 | 1.314 | |
| peakPantheR_quickEIC | 4.651 | 0.012 | 4.676 | |
| peakPantheR_singleFileSearch | 5.359 | 0.008 | 5.382 | |
| peakPantheR_start_GUI | 0 | 0 | 0 | |
| peakTables-peakPantheRAnnotation-method | 0.028 | 0.000 | 0.028 | |
| resetAnnotation-peakPantheRAnnotation-method | 0.036 | 0.000 | 0.036 | |
| resetFIR-peakPantheRAnnotation-method | 0.007 | 0.000 | 0.007 | |
| retentionTimeCorrection-peakPantheRAnnotation-method | 10.723 | 0.016 | 10.768 | |
| spectraMetadata-peakPantheRAnnotation-method | 0.027 | 0.000 | 0.027 | |
| spectraPaths_and_metadata_UI_helper | 0.002 | 0.000 | 0.003 | |
| spectra_metadata_colourScheme_UI_helper | 0.007 | 0.000 | 0.007 | |
| uROI-peakPantheRAnnotation-method | 0.022 | 0.008 | 0.031 | |
| uROIExist-peakPantheRAnnotation-method | 0.029 | 0.000 | 0.029 | |
| useFIR-peakPantheRAnnotation-method | 0.028 | 0.000 | 0.028 | |
| useUROI-peakPantheRAnnotation-method | 0.026 | 0.000 | 0.027 | |