| Back to Multiple platform build/check report for BioC 3.22: simplified long |
|
This page was generated on 2025-10-24 12:04 -0400 (Fri, 24 Oct 2025).
| Hostname | OS | Arch (*) | R version | Installed pkgs |
|---|---|---|---|---|
| nebbiolo2 | Linux (Ubuntu 24.04.3 LTS) | x86_64 | 4.5.1 Patched (2025-08-23 r88802) -- "Great Square Root" | 4898 |
| lconway | macOS 12.7.6 Monterey | x86_64 | 4.5.1 Patched (2025-09-10 r88807) -- "Great Square Root" | 4688 |
| kjohnson3 | macOS 13.7.7 Ventura | arm64 | 4.5.1 Patched (2025-09-10 r88807) -- "Great Square Root" | 4634 |
| taishan | Linux (openEuler 24.03 LTS) | aarch64 | 4.5.0 (2025-04-11) -- "How About a Twenty-Six" | 4658 |
| Click on any hostname to see more info about the system (e.g. compilers) (*) as reported by 'uname -p', except on Windows and Mac OS X | ||||
| Package 1569/2359 | Hostname | OS / Arch | INSTALL | BUILD | CHECK | BUILD BIN | ||||||||
| peakPantheR 1.23.3 (landing page) Arnaud Wolfer
| nebbiolo2 | Linux (Ubuntu 24.04.3 LTS) / x86_64 | OK | OK | OK | |||||||||
| lconway | macOS 12.7.6 Monterey / x86_64 | OK | OK | OK | OK | |||||||||
| kjohnson3 | macOS 13.7.7 Ventura / arm64 | OK | OK | OK | OK | |||||||||
| taishan | Linux (openEuler 24.03 LTS) / aarch64 | OK | OK | NA | ||||||||||
|
To the developers/maintainers of the peakPantheR package: - Allow up to 24 hours (and sometimes 48 hours) for your latest push to git@git.bioconductor.org:packages/peakPantheR.git to reflect on this report. See Troubleshooting Build Report for more information. - Use the following Renviron settings to reproduce errors and warnings. - If 'R CMD check' started to fail recently on the Linux builder(s) over a missing dependency, add the missing dependency to 'Suggests:' in your DESCRIPTION file. See Renviron.bioc for more information. |
| Package: peakPantheR |
| Version: 1.23.3 |
| Command: /home/biocbuild/bbs-3.22-bioc/R/bin/R CMD check --install=check:peakPantheR.install-out.txt --library=/home/biocbuild/bbs-3.22-bioc/R/site-library --timings peakPantheR_1.23.3.tar.gz |
| StartedAt: 2025-10-24 02:28:53 -0400 (Fri, 24 Oct 2025) |
| EndedAt: 2025-10-24 02:52:09 -0400 (Fri, 24 Oct 2025) |
| EllapsedTime: 1395.3 seconds |
| RetCode: 0 |
| Status: OK |
| CheckDir: peakPantheR.Rcheck |
| Warnings: 0 |
##############################################################################
##############################################################################
###
### Running command:
###
### /home/biocbuild/bbs-3.22-bioc/R/bin/R CMD check --install=check:peakPantheR.install-out.txt --library=/home/biocbuild/bbs-3.22-bioc/R/site-library --timings peakPantheR_1.23.3.tar.gz
###
##############################################################################
##############################################################################
* using log directory ‘/home/biocbuild/bbs-3.22-bioc/meat/peakPantheR.Rcheck’
* using R version 4.5.1 Patched (2025-08-23 r88802)
* using platform: x86_64-pc-linux-gnu
* R was compiled by
gcc (Ubuntu 13.3.0-6ubuntu2~24.04) 13.3.0
GNU Fortran (Ubuntu 13.3.0-6ubuntu2~24.04) 13.3.0
* running under: Ubuntu 24.04.3 LTS
* using session charset: UTF-8
* checking for file ‘peakPantheR/DESCRIPTION’ ... OK
* this is package ‘peakPantheR’ version ‘1.23.3’
* package encoding: UTF-8
* checking package namespace information ... OK
* checking package dependencies ... OK
* checking if this is a source package ... OK
* checking if there is a namespace ... OK
* checking for hidden files and directories ... OK
* checking for portable file names ... OK
* checking for sufficient/correct file permissions ... OK
* checking whether package ‘peakPantheR’ can be installed ... OK
* checking installed package size ... OK
* checking package directory ... OK
* checking ‘build’ directory ... OK
* checking DESCRIPTION meta-information ... OK
* checking top-level files ... OK
* checking for left-over files ... OK
* checking index information ... OK
* checking package subdirectories ... OK
* checking code files for non-ASCII characters ... OK
* checking R files for syntax errors ... OK
* checking whether the package can be loaded ... OK
* checking whether the package can be loaded with stated dependencies ... OK
* checking whether the package can be unloaded cleanly ... OK
* checking whether the namespace can be loaded with stated dependencies ... OK
* checking whether the namespace can be unloaded cleanly ... OK
* checking loading without being on the library search path ... OK
* checking whether startup messages can be suppressed ... OK
* checking dependencies in R code ... OK
* checking S3 generic/method consistency ... OK
* checking replacement functions ... OK
* checking foreign function calls ... OK
* checking R code for possible problems ... OK
* checking Rd files ... OK
* checking Rd metadata ... OK
* checking Rd cross-references ... OK
* checking for missing documentation entries ... OK
* checking for code/documentation mismatches ... OK
* checking Rd \usage sections ... OK
* checking Rd contents ... OK
* checking for unstated dependencies in examples ... OK
* checking files in ‘vignettes’ ... OK
* checking examples ... OK
Examples with CPU (user + system) or elapsed time > 5s
user system elapsed
peakPantheR_ROIStatistics 24.025 0.278 24.310
peakPantheR_parallelAnnotation 16.094 0.900 16.995
outputAnnotationDiagnostic-peakPantheRAnnotation-method 16.286 0.220 16.528
outputAnnotationResult-peakPantheRAnnotation-method 15.546 0.127 15.674
EICs-peakPantheRAnnotation-method 11.685 0.575 12.382
retentionTimeCorrection-peakPantheRAnnotation-method 10.417 0.101 10.518
peakPantheR_singleFileSearch 5.201 0.081 5.282
* checking for unstated dependencies in ‘tests’ ... OK
* checking tests ...
Running ‘testthat.R’
OK
* checking for unstated dependencies in vignettes ... OK
* checking package vignettes ... OK
* checking re-building of vignette outputs ... OK
* checking PDF version of manual ... OK
* DONE
Status: OK
peakPantheR.Rcheck/00install.out
############################################################################## ############################################################################## ### ### Running command: ### ### /home/biocbuild/bbs-3.22-bioc/R/bin/R CMD INSTALL peakPantheR ### ############################################################################## ############################################################################## * installing to library ‘/home/biocbuild/bbs-3.22-bioc/R/site-library’ * installing *source* package ‘peakPantheR’ ... ** this is package ‘peakPantheR’ version ‘1.23.3’ ** using staged installation ** R ** inst ** byte-compile and prepare package for lazy loading ** help *** installing help indices *** copying figures ** building package indices ** installing vignettes ** testing if installed package can be loaded from temporary location ** testing if installed package can be loaded from final location ** testing if installed package keeps a record of temporary installation path * DONE (peakPantheR)
peakPantheR.Rcheck/tests/testthat.Rout
R version 4.5.1 Patched (2025-08-23 r88802) -- "Great Square Root"
Copyright (C) 2025 The R Foundation for Statistical Computing
Platform: x86_64-pc-linux-gnu
R is free software and comes with ABSOLUTELY NO WARRANTY.
You are welcome to redistribute it under certain conditions.
Type 'license()' or 'licence()' for distribution details.
R is a collaborative project with many contributors.
Type 'contributors()' for more information and
'citation()' on how to cite R or R packages in publications.
Type 'demo()' for some demos, 'help()' for on-line help, or
'help.start()' for an HTML browser interface to help.
Type 'q()' to quit R.
> library(testthat)
> library(peakPantheR)
This is peakPantheR version 1.23.3
>
> test_check("peakPantheR")
[ FAIL 0 | WARN 0 | SKIP 0 | PASS 1460 ]
Warning messages:
1: In .Internal(gc(verbose, reset, full)) :
closing unused connection 10 (/tmp/RtmpND0miL/notValidXML.mzML)
2: In .Internal(gc(verbose, reset, full)) :
closing unused connection 9 (/tmp/RtmpND0miL/notValidXML.mzML)
3: In .Internal(gc(verbose, reset, full)) :
closing unused connection 8 (/tmp/RtmpND0miL/notValidXML.mzML)
4: In .Internal(gc(verbose, reset, full)) :
closing unused connection 7 (/tmp/RtmpND0miL/notValidXML.mzML)
5: In .Internal(gc(verbose, reset, full)) :
closing unused connection 6 (/home/biocbuild/bbs-3.22-bioc/R/site-library/peakPantheR/extdata/test_fakemzML.mzML)
6: In .Internal(gc(verbose, reset, full)) :
closing unused connection 5 (/home/biocbuild/bbs-3.22-bioc/R/site-library/peakPantheR/extdata/test_fakemzML.mzML)
>
> proc.time()
user system elapsed
774.833 7.838 1072.920
peakPantheR.Rcheck/peakPantheR-Ex.timings
| name | user | system | elapsed | |
| EICs-peakPantheRAnnotation-method | 11.685 | 0.575 | 12.382 | |
| FIR-peakPantheRAnnotation-method | 0.025 | 0.001 | 0.025 | |
| ROI-peakPantheRAnnotation-method | 0.018 | 0.001 | 0.020 | |
| TIC-peakPantheRAnnotation-method | 0.020 | 0.002 | 0.022 | |
| acquisitionTime-peakPantheRAnnotation-method | 0.018 | 0.002 | 0.019 | |
| annotationDiagnosticPlots-peakPantheRAnnotation-method | 0.017 | 0.003 | 0.020 | |
| annotationParamsDiagnostic-peakPantheRAnnotation-method | 0.017 | 0.001 | 0.019 | |
| annotationTable-peakPantheRAnnotation-method | 0.019 | 0.001 | 0.020 | |
| annotation_diagnostic_multiplot_UI_helper | 0.160 | 0.023 | 0.183 | |
| annotation_fit_summary_UI_helper | 0.008 | 0.000 | 0.009 | |
| annotation_showMethod_UI_helper | 0.003 | 0.001 | 0.004 | |
| annotation_showText_UI_helper | 0.000 | 0.000 | 0.001 | |
| cpdID-peakPantheRAnnotation-method | 0.018 | 0.001 | 0.018 | |
| cpdMetadata-peakPantheRAnnotation-method | 0.015 | 0.002 | 0.018 | |
| cpdName-peakPantheRAnnotation-method | 0.018 | 0.001 | 0.019 | |
| dataPoints-peakPantheRAnnotation-method | 0.020 | 0.000 | 0.019 | |
| filename-peakPantheRAnnotation-method | 0.017 | 0.001 | 0.018 | |
| filepath-peakPantheRAnnotation-method | 0.018 | 0.001 | 0.019 | |
| initialise_annotation_from_files_UI_helper | 0.014 | 0.000 | 0.013 | |
| isAnnotated-peakPantheRAnnotation-method | 0.016 | 0.003 | 0.019 | |
| load_annotation_from_file_UI_helper | 0.004 | 0.003 | 0.006 | |
| nbCompounds-peakPantheRAnnotation-method | 0.019 | 0.000 | 0.019 | |
| nbSamples-peakPantheRAnnotation-method | 0.016 | 0.003 | 0.019 | |
| outputAnnotationDiagnostic-peakPantheRAnnotation-method | 16.286 | 0.220 | 16.528 | |
| outputAnnotationFeatureMetadata_UI_helper | 0.003 | 0.001 | 0.005 | |
| outputAnnotationParamsCSV-peakPantheRAnnotation-method | 0.021 | 0.001 | 0.022 | |
| outputAnnotationResult-peakPantheRAnnotation-method | 15.546 | 0.127 | 15.674 | |
| outputAnnotationSpectraMetadata_UI_helper | 0.006 | 0.000 | 0.006 | |
| peakFit-peakPantheRAnnotation-method | 0.02 | 0.00 | 0.02 | |
| peakPantheRAnnotation | 0.021 | 0.000 | 0.021 | |
| peakPantheR_ROIStatistics | 24.025 | 0.278 | 24.310 | |
| peakPantheR_loadAnnotationParamsCSV | 0.005 | 0.001 | 0.006 | |
| peakPantheR_parallelAnnotation | 16.094 | 0.900 | 16.995 | |
| peakPantheR_plotEICFit | 0.531 | 0.010 | 0.541 | |
| peakPantheR_plotPeakwidth | 0.932 | 0.048 | 0.980 | |
| peakPantheR_quickEIC | 4.553 | 0.158 | 4.711 | |
| peakPantheR_singleFileSearch | 5.201 | 0.081 | 5.282 | |
| peakPantheR_start_GUI | 0 | 0 | 0 | |
| peakTables-peakPantheRAnnotation-method | 0.018 | 0.001 | 0.019 | |
| resetAnnotation-peakPantheRAnnotation-method | 0.021 | 0.002 | 0.023 | |
| resetFIR-peakPantheRAnnotation-method | 0.005 | 0.000 | 0.004 | |
| retentionTimeCorrection-peakPantheRAnnotation-method | 10.417 | 0.101 | 10.518 | |
| spectraMetadata-peakPantheRAnnotation-method | 0.026 | 0.000 | 0.025 | |
| spectraPaths_and_metadata_UI_helper | 0.002 | 0.000 | 0.003 | |
| spectra_metadata_colourScheme_UI_helper | 0.005 | 0.000 | 0.005 | |
| uROI-peakPantheRAnnotation-method | 0.022 | 0.011 | 0.032 | |
| uROIExist-peakPantheRAnnotation-method | 0.019 | 0.009 | 0.028 | |
| useFIR-peakPantheRAnnotation-method | 0.018 | 0.000 | 0.018 | |
| useUROI-peakPantheRAnnotation-method | 0.018 | 0.001 | 0.019 | |