| Back to Multiple platform build/check report for BioC 3.22: simplified long | 
 | 
This page was generated on 2025-10-24 12:07 -0400 (Fri, 24 Oct 2025).
| Hostname | OS | Arch (*) | R version | Installed pkgs | 
|---|---|---|---|---|
| nebbiolo2 | Linux (Ubuntu 24.04.3 LTS) | x86_64 | 4.5.1 Patched (2025-08-23 r88802) -- "Great Square Root" | 4898 | 
| lconway | macOS 12.7.6 Monterey | x86_64 | 4.5.1 Patched (2025-09-10 r88807) -- "Great Square Root" | 4688 | 
| kjohnson3 | macOS 13.7.7 Ventura | arm64 | 4.5.1 Patched (2025-09-10 r88807) -- "Great Square Root" | 4634 | 
| taishan | Linux (openEuler 24.03 LTS) | aarch64 | 4.5.0 (2025-04-11) -- "How About a Twenty-Six" | 4658 | 
| Click on any hostname to see more info about the system (e.g. compilers) (*) as reported by 'uname -p', except on Windows and Mac OS X | ||||
| Package 234/2359 | Hostname | OS / Arch | INSTALL | BUILD | CHECK | BUILD BIN | ||||||||
| blase 0.99.5  (landing page) Andrew McCluskey 
 | nebbiolo2 | Linux (Ubuntu 24.04.3 LTS) / x86_64 | OK | OK | OK |  | ||||||||
| lconway | macOS 12.7.6 Monterey / x86_64 | OK | OK | OK | OK |  | ||||||||
| kjohnson3 | macOS 13.7.7 Ventura / arm64 | OK | OK | OK | OK |  | ||||||||
| taishan | Linux (openEuler 24.03 LTS) / aarch64 | OK | OK | OK | ||||||||||
| To the developers/maintainers of the blase package: - Allow up to 24 hours (and sometimes 48 hours) for your latest push to git@git.bioconductor.org:packages/blase.git to reflect on this report. See Troubleshooting Build Report for more information. - Use the following Renviron settings to reproduce errors and warnings. - If 'R CMD check' started to fail recently on the Linux builder(s) over a missing dependency, add the missing dependency to 'Suggests:' in your DESCRIPTION file. See Renviron.bioc for more information. - See Martin Grigorov's blog post for how to debug Linux ARM64 related issues on a x86_64 host. | 
| Package: blase | 
| Version: 0.99.5 | 
| Command: /home/biocbuild/R/R/bin/R CMD check --install=check:blase.install-out.txt --library=/home/biocbuild/R/R/site-library --no-vignettes --timings blase_0.99.5.tar.gz | 
| StartedAt: 2025-10-21 06:02:19 -0000 (Tue, 21 Oct 2025) | 
| EndedAt: 2025-10-21 06:13:20 -0000 (Tue, 21 Oct 2025) | 
| EllapsedTime: 660.5 seconds | 
| RetCode: 0 | 
| Status: OK | 
| CheckDir: blase.Rcheck | 
| Warnings: 0 | 
##############################################################################
##############################################################################
###
### Running command:
###
###   /home/biocbuild/R/R/bin/R CMD check --install=check:blase.install-out.txt --library=/home/biocbuild/R/R/site-library --no-vignettes --timings blase_0.99.5.tar.gz
###
##############################################################################
##############################################################################
* using log directory ‘/home/biocbuild/bbs-3.22-bioc/meat/blase.Rcheck’
* using R version 4.5.0 (2025-04-11)
* using platform: aarch64-unknown-linux-gnu
* R was compiled by
    aarch64-unknown-linux-gnu-gcc (GCC) 14.2.0
    GNU Fortran (GCC) 14.2.0
* running under: openEuler 24.03 (LTS)
* using session charset: UTF-8
* using option ‘--no-vignettes’
* checking for file ‘blase/DESCRIPTION’ ... OK
* this is package ‘blase’ version ‘0.99.5’
* package encoding: UTF-8
* checking package namespace information ... OK
* checking package dependencies ... OK
* checking if this is a source package ... OK
* checking if there is a namespace ... OK
* checking for hidden files and directories ... OK
* checking for portable file names ... OK
* checking for sufficient/correct file permissions ... OK
* checking whether package ‘blase’ can be installed ... OK
* checking installed package size ... INFO
  installed size is  5.2Mb
  sub-directories of 1Mb or more:
    data   4.6Mb
* checking package directory ... OK
* checking ‘build’ directory ... OK
* checking DESCRIPTION meta-information ... OK
* checking top-level files ... OK
* checking for left-over files ... OK
* checking index information ... OK
* checking package subdirectories ... OK
* checking code files for non-ASCII characters ... OK
* checking R files for syntax errors ... OK
* checking whether the package can be loaded ... OK
* checking whether the package can be loaded with stated dependencies ... OK
* checking whether the package can be unloaded cleanly ... OK
* checking whether the namespace can be loaded with stated dependencies ... OK
* checking whether the namespace can be unloaded cleanly ... OK
* checking loading without being on the library search path ... OK
* checking dependencies in R code ... OK
* checking S3 generic/method consistency ... OK
* checking replacement functions ... OK
* checking foreign function calls ... OK
* checking R code for possible problems ... OK
* checking Rd files ... OK
* checking Rd metadata ... OK
* checking Rd cross-references ... NOTE
Non-topic package-anchored link(s) in Rd file 'plot_mapping_result.Rd':
  ‘[scater:plot_reddim]{scater::plotUMAP()}’
See section 'Cross-references' in the 'Writing R Extensions' manual.
* checking for missing documentation entries ... OK
* checking for code/documentation mismatches ... OK
* checking Rd \usage sections ... OK
* checking Rd contents ... OK
* checking for unstated dependencies in examples ... OK
* checking contents of ‘data’ directory ... OK
* checking data for non-ASCII characters ... OK
* checking data for ASCII and uncompressed saves ... OK
* checking files in ‘vignettes’ ... OK
* checking examples ... OK
Examples with CPU (user + system) or elapsed time > 5s
                                   user system elapsed
plot_gene_peakedness             25.539  0.247  25.879
smooth_gene                      25.360  0.231  25.687
calculate_gene_peakedness        25.013  0.415  25.520
gene_peakedness_spread_selection 24.809  0.343  25.241
evaluate_parameters              16.388  0.115  16.562
plot_mapping_result               6.841  0.060   6.951
plot_find_best_params_results     6.082  0.020   6.123
find_best_params                  5.946  0.043   6.011
* checking for unstated dependencies in ‘tests’ ... OK
* checking tests ...
  Running ‘testthat.R’
 OK
* checking for unstated dependencies in vignettes ... OK
* checking package vignettes ... OK
* checking running R code from vignettes ... SKIPPED
* checking re-building of vignette outputs ... SKIPPED
* checking PDF version of manual ... OK
* DONE
Status: 1 NOTE
See
  ‘/home/biocbuild/bbs-3.22-bioc/meat/blase.Rcheck/00check.log’
for details.
blase.Rcheck/00install.out
############################################################################## ############################################################################## ### ### Running command: ### ### /home/biocbuild/R/R/bin/R CMD INSTALL blase ### ############################################################################## ############################################################################## * installing to library ‘/home/biocbuild/R/R-4.5.0/site-library’ * installing *source* package ‘blase’ ... ** this is package ‘blase’ version ‘0.99.5’ ** using staged installation ** R ** data ** inst ** byte-compile and prepare package for lazy loading ** help *** installing help indices *** copying figures ** building package indices ** installing vignettes ** testing if installed package can be loaded from temporary location ** testing if installed package can be loaded from final location ** testing if installed package keeps a record of temporary installation path * DONE (blase)
blase.Rcheck/tests/testthat.Rout
R version 4.5.0 (2025-04-11) -- "How About a Twenty-Six"
Copyright (C) 2025 The R Foundation for Statistical Computing
Platform: aarch64-unknown-linux-gnu
R is free software and comes with ABSOLUTELY NO WARRANTY.
You are welcome to redistribute it under certain conditions.
Type 'license()' or 'licence()' for distribution details.
R is a collaborative project with many contributors.
Type 'contributors()' for more information and
'citation()' on how to cite R or R packages in publications.
Type 'demo()' for some demos, 'help()' for on-line help, or
'help.start()' for an HTML browser interface to help.
Type 'q()' to quit R.
> # This file is part of the standard setup for testthat.
> # It is recommended that you do not modify it.
> #
> # Where should you do additional test configuration?
> # Learn more about the roles of various files in:
> # * https://r-pkgs.org/testing-design.html#sec-tests-files-overview
> # * https://testthat.r-lib.org/articles/special-files.html
> 
> library(testthat)
> library(blase)
> 
> test_check("blase")
[ FAIL 0 | WARN 4 | SKIP 0 | PASS 124 ]
[ FAIL 0 | WARN 4 | SKIP 0 | PASS 124 ]
> 
> proc.time()
   user  system elapsed 
 89.411   1.762  91.452 
blase.Rcheck/blase-Ex.timings
| name | user | system | elapsed | |
| BlaseData-class | 1.218 | 0.028 | 1.251 | |
| MappingResult | 3.753 | 0.120 | 3.887 | |
| annotate_sce | 2.128 | 0.035 | 2.175 | |
| as.BlaseData | 0.266 | 0.000 | 0.268 | |
| assign_pseudotime_bins | 3.666 | 0.072 | 3.751 | |
| bins-getter | 0.282 | 0.004 | 0.287 | |
| calculate_gene_peakedness | 25.013 | 0.415 | 25.520 | |
| evaluate_parameters | 16.388 | 0.115 | 16.562 | |
| evaluate_top_n_genes | 4.141 | 0.048 | 4.205 | |
| find_best_params | 5.946 | 0.043 | 6.011 | |
| gene_peakedness_spread_selection | 24.809 | 0.343 | 25.241 | |
| genes-getter | 0.250 | 0.004 | 0.255 | |
| genes-setter | 0.255 | 0.000 | 0.256 | |
| get_bins_as_bulk | 1.816 | 0.024 | 1.846 | |
| get_top_n_genes | 0.001 | 0.000 | 0.002 | |
| map_all_best_bins | 3.336 | 0.020 | 3.368 | |
| map_best_bin | 3.405 | 0.012 | 3.428 | |
| mapping-result-best-bin-getter | 3.267 | 0.011 | 3.290 | |
| mapping-result-best-correlation-getter | 3.342 | 0.035 | 3.389 | |
| mapping-result-bootstrap-iterations-getter | 3.384 | 0.016 | 3.412 | |
| mapping-result-bulk-name-getter | 3.319 | 0.000 | 3.331 | |
| mapping-result-confident-mapping-getter | 3.428 | 0.036 | 3.476 | |
| mapping-result-history-getter | 3.364 | 0.012 | 3.386 | |
| mapping-result-top-2-distance-getter | 3.357 | 0.000 | 3.368 | |
| plot_bin_population | 3.398 | 0.012 | 3.422 | |
| plot_find_best_params_results | 6.082 | 0.020 | 6.123 | |
| plot_gene_peakedness | 25.539 | 0.247 | 25.879 | |
| plot_mapping_result | 6.841 | 0.060 | 6.951 | |
| plot_mapping_result_corr | 3.343 | 0.000 | 3.355 | |
| plot_mapping_result_heatmap | 3.395 | 0.000 | 3.408 | |
| pseudobulk-bins-getter | 0.260 | 0.000 | 0.262 | |
| show-MappingResult-method | 3.402 | 0.004 | 3.418 | |
| show_blase_object | 0.259 | 0.000 | 0.260 | |
| smooth_gene | 25.360 | 0.231 | 25.687 | |