Back to Multiple platform build/check report for BioC 3.22:   simplified   long
A[B]CDEFGHIJKLMNOPQRSTUVWXYZ

This page was generated on 2025-11-20 12:04 -0500 (Thu, 20 Nov 2025).

HostnameOSArch (*)R versionInstalled pkgs
nebbiolo2Linux (Ubuntu 24.04.3 LTS)x86_644.5.2 (2025-10-31) -- "[Not] Part in a Rumble" 4615
merida1macOS 12.7.6 Montereyx86_644.5.2 Patched (2025-11-05 r88990) -- "[Not] Part in a Rumble" 4610
kjohnson1macOS 13.7.5 Venturaarm644.5.2 Patched (2025-11-04 r88984) -- "[Not] Part in a Rumble" 4598
taishanLinux (openEuler 24.03 LTS)aarch644.5.0 (2025-04-11) -- "How About a Twenty-Six" 4668
Click on any hostname to see more info about the system (e.g. compilers)      (*) as reported by 'uname -p', except on Windows and Mac OS X

Package 234/2361HostnameOS / ArchINSTALLBUILDCHECKBUILD BIN
blase 1.0.0  (landing page)
Andrew McCluskey
Snapshot Date: 2025-11-17 13:45 -0500 (Mon, 17 Nov 2025)
git_url: https://git.bioconductor.org/packages/blase
git_branch: RELEASE_3_22
git_last_commit: 874f31b
git_last_commit_date: 2025-10-29 11:38:12 -0500 (Wed, 29 Oct 2025)
nebbiolo2Linux (Ubuntu 24.04.3 LTS) / x86_64  OK    OK    OK  UNNEEDED, same version is already published
merida1macOS 12.7.6 Monterey / x86_64  OK    OK    OK    OK  UNNEEDED, same version is already published
kjohnson1macOS 13.7.5 Ventura / arm64  OK    ERROR  skippedskipped
taishanLinux (openEuler 24.03 LTS) / aarch64  OK    OK    OK  


CHECK results for blase on merida1

To the developers/maintainers of the blase package:
- Allow up to 24 hours (and sometimes 48 hours) for your latest push to git@git.bioconductor.org:packages/blase.git to reflect on this report. See Troubleshooting Build Report for more information.
- Use the following Renviron settings to reproduce errors and warnings.
- If 'R CMD check' started to fail recently on the Linux builder(s) over a missing dependency, add the missing dependency to 'Suggests:' in your DESCRIPTION file. See Renviron.bioc for more information.

raw results


Summary

Package: blase
Version: 1.0.0
Command: /Library/Frameworks/R.framework/Resources/bin/R CMD check --install=check:blase.install-out.txt --library=/Library/Frameworks/R.framework/Resources/library --no-vignettes --timings blase_1.0.0.tar.gz
StartedAt: 2025-11-18 04:31:44 -0500 (Tue, 18 Nov 2025)
EndedAt: 2025-11-18 04:49:56 -0500 (Tue, 18 Nov 2025)
EllapsedTime: 1091.6 seconds
RetCode: 0
Status:   OK  
CheckDir: blase.Rcheck
Warnings: 0

Command output

##############################################################################
##############################################################################
###
### Running command:
###
###   /Library/Frameworks/R.framework/Resources/bin/R CMD check --install=check:blase.install-out.txt --library=/Library/Frameworks/R.framework/Resources/library --no-vignettes --timings blase_1.0.0.tar.gz
###
##############################################################################
##############################################################################


* using log directory ‘/Users/biocbuild/bbs-3.22-bioc/meat/blase.Rcheck’
* using R version 4.5.2 Patched (2025-11-05 r88990)
* using platform: x86_64-apple-darwin20
* R was compiled by
    Apple clang version 14.0.0 (clang-1400.0.29.202)
    GNU Fortran (GCC) 14.2.0
* running under: macOS Monterey 12.7.6
* using session charset: UTF-8
* using option ‘--no-vignettes’
* checking for file ‘blase/DESCRIPTION’ ... OK
* this is package ‘blase’ version ‘1.0.0’
* package encoding: UTF-8
* checking package namespace information ... OK
* checking package dependencies ... OK
* checking if this is a source package ... OK
* checking if there is a namespace ... OK
* checking for hidden files and directories ... OK
* checking for portable file names ... OK
* checking for sufficient/correct file permissions ... OK
* checking whether package ‘blase’ can be installed ... OK
* checking installed package size ... INFO
  installed size is  5.2Mb
  sub-directories of 1Mb or more:
    data   4.6Mb
* checking package directory ... OK
* checking ‘build’ directory ... OK
* checking DESCRIPTION meta-information ... OK
* checking top-level files ... OK
* checking for left-over files ... OK
* checking index information ... OK
* checking package subdirectories ... OK
* checking code files for non-ASCII characters ... OK
* checking R files for syntax errors ... OK
* checking whether the package can be loaded ... OK
* checking whether the package can be loaded with stated dependencies ... OK
* checking whether the package can be unloaded cleanly ... OK
* checking whether the namespace can be loaded with stated dependencies ... OK
* checking whether the namespace can be unloaded cleanly ... OK
* checking dependencies in R code ... OK
* checking S3 generic/method consistency ... OK
* checking replacement functions ... OK
* checking foreign function calls ... OK
* checking R code for possible problems ... OK
* checking Rd files ... OK
* checking Rd metadata ... OK
* checking Rd cross-references ... NOTE
Non-topic package-anchored link(s) in Rd file 'plot_mapping_result.Rd':
  ‘[scater:plot_reddim]{scater::plotUMAP()}’

See section 'Cross-references' in the 'Writing R Extensions' manual.
* checking for missing documentation entries ... OK
* checking for code/documentation mismatches ... OK
* checking Rd \usage sections ... OK
* checking Rd contents ... OK
* checking for unstated dependencies in examples ... OK
* checking contents of ‘data’ directory ... OK
* checking data for non-ASCII characters ... OK
* checking data for ASCII and uncompressed saves ... OK
* checking files in ‘vignettes’ ... OK
* checking examples ... OK
Examples with CPU (user + system) or elapsed time > 5s
                                             user system elapsed
smooth_gene                                39.023  1.207  41.149
plot_gene_peakedness                       38.353  0.819  39.574
calculate_gene_peakedness                  38.234  0.775  41.082
gene_peakedness_spread_selection           37.813  0.954  39.597
evaluate_parameters                        27.148  0.180  29.053
find_best_params                           10.477  0.077  10.611
plot_mapping_result                         9.859  0.062  10.379
plot_find_best_params_results               9.532  0.051   9.862
evaluate_top_n_genes                        7.073  0.022   7.136
MappingResult                               6.359  0.234   7.068
assign_pseudotime_bins                      5.883  0.025   6.053
show-MappingResult-method                   5.562  0.030   6.053
plot_mapping_result_heatmap                 5.479  0.026   5.772
plot_mapping_result_corr                    5.476  0.027   5.766
mapping-result-bulk-name-getter             5.478  0.024   5.571
mapping-result-history-getter               5.470  0.022   5.573
plot_bin_population                         5.430  0.022   5.489
mapping-result-confident-mapping-getter     5.417  0.025   5.552
mapping-result-best-correlation-getter      5.419  0.020   5.472
mapping-result-bootstrap-iterations-getter  5.413  0.021   5.489
map_all_best_bins                           5.388  0.024   5.533
mapping-result-top-2-distance-getter        5.370  0.023   5.514
map_best_bin                                5.366  0.023   5.454
mapping-result-best-bin-getter              5.307  0.018   5.338
* checking for unstated dependencies in ‘tests’ ... OK
* checking tests ...
  Running ‘testthat.R’
 OK
* checking for unstated dependencies in vignettes ... OK
* checking package vignettes ... OK
* checking running R code from vignettes ... SKIPPED
* checking re-building of vignette outputs ... SKIPPED
* checking PDF version of manual ... OK
* DONE

Status: 1 NOTE
See
  ‘/Users/biocbuild/bbs-3.22-bioc/meat/blase.Rcheck/00check.log’
for details.


Installation output

blase.Rcheck/00install.out

##############################################################################
##############################################################################
###
### Running command:
###
###   /Library/Frameworks/R.framework/Resources/bin/R CMD INSTALL blase
###
##############################################################################
##############################################################################


* installing to library ‘/Library/Frameworks/R.framework/Versions/4.5-x86_64/Resources/library’
* installing *source* package ‘blase’ ...
** this is package ‘blase’ version ‘1.0.0’
** using staged installation
** R
** data
** inst
** byte-compile and prepare package for lazy loading
** help
*** installing help indices
*** copying figures
** building package indices
** installing vignettes
** testing if installed package can be loaded from temporary location
** testing if installed package can be loaded from final location
** testing if installed package keeps a record of temporary installation path
* DONE (blase)

Tests output

blase.Rcheck/tests/testthat.Rout


R version 4.5.2 Patched (2025-11-05 r88990) -- "[Not] Part in a Rumble"
Copyright (C) 2025 The R Foundation for Statistical Computing
Platform: x86_64-apple-darwin20

R is free software and comes with ABSOLUTELY NO WARRANTY.
You are welcome to redistribute it under certain conditions.
Type 'license()' or 'licence()' for distribution details.

R is a collaborative project with many contributors.
Type 'contributors()' for more information and
'citation()' on how to cite R or R packages in publications.

Type 'demo()' for some demos, 'help()' for on-line help, or
'help.start()' for an HTML browser interface to help.
Type 'q()' to quit R.

> # This file is part of the standard setup for testthat.
> # It is recommended that you do not modify it.
> #
> # Where should you do additional test configuration?
> # Learn more about the roles of various files in:
> # * https://r-pkgs.org/testing-design.html#sec-tests-files-overview
> # * https://testthat.r-lib.org/articles/special-files.html
> 
> library(testthat)
> library(blase)
> 
> test_check("blase")
[ FAIL 0 | WARN 1 | SKIP 0 | PASS 124 ]

[ FAIL 0 | WARN 1 | SKIP 0 | PASS 124 ]
> 
> proc.time()
   user  system elapsed 
138.316   3.683 147.540 

Example timings

blase.Rcheck/blase-Ex.timings

nameusersystemelapsed
BlaseData-class0.8770.0200.961
MappingResult6.3590.2347.068
annotate_sce3.5490.0303.946
as.BlaseData0.4160.0050.446
assign_pseudotime_bins5.8830.0256.053
bins-getter0.4280.0040.436
calculate_gene_peakedness38.234 0.77541.082
evaluate_parameters27.148 0.18029.053
evaluate_top_n_genes7.0730.0227.136
find_best_params10.477 0.07710.611
gene_peakedness_spread_selection37.813 0.95439.597
genes-getter0.4180.0030.423
genes-setter0.4110.0040.420
get_bins_as_bulk2.9940.0433.046
get_top_n_genes0.0020.0000.002
map_all_best_bins5.3880.0245.533
map_best_bin5.3660.0235.454
mapping-result-best-bin-getter5.3070.0185.338
mapping-result-best-correlation-getter5.4190.0205.472
mapping-result-bootstrap-iterations-getter5.4130.0215.489
mapping-result-bulk-name-getter5.4780.0245.571
mapping-result-confident-mapping-getter5.4170.0255.552
mapping-result-history-getter5.4700.0225.573
mapping-result-top-2-distance-getter5.3700.0235.514
plot_bin_population5.4300.0225.489
plot_find_best_params_results9.5320.0519.862
plot_gene_peakedness38.353 0.81939.574
plot_mapping_result 9.859 0.06210.379
plot_mapping_result_corr5.4760.0275.766
plot_mapping_result_heatmap5.4790.0265.772
pseudobulk-bins-getter0.4300.0040.459
show-MappingResult-method5.5620.0306.053
show_blase_object0.4570.0050.464
smooth_gene39.023 1.20741.149