| Back to Multiple platform build/check report for BioC 3.22: simplified long |
|
This page was generated on 2025-10-24 12:07 -0400 (Fri, 24 Oct 2025).
| Hostname | OS | Arch (*) | R version | Installed pkgs |
|---|---|---|---|---|
| nebbiolo2 | Linux (Ubuntu 24.04.3 LTS) | x86_64 | 4.5.1 Patched (2025-08-23 r88802) -- "Great Square Root" | 4898 |
| lconway | macOS 12.7.6 Monterey | x86_64 | 4.5.1 Patched (2025-09-10 r88807) -- "Great Square Root" | 4688 |
| kjohnson3 | macOS 13.7.7 Ventura | arm64 | 4.5.1 Patched (2025-09-10 r88807) -- "Great Square Root" | 4634 |
| taishan | Linux (openEuler 24.03 LTS) | aarch64 | 4.5.0 (2025-04-11) -- "How About a Twenty-Six" | 4658 |
| Click on any hostname to see more info about the system (e.g. compilers) (*) as reported by 'uname -p', except on Windows and Mac OS X | ||||
| Package 285/2359 | Hostname | OS / Arch | INSTALL | BUILD | CHECK | BUILD BIN | ||||||||
| casper 2.43.1 (landing page) David Rossell
| nebbiolo2 | Linux (Ubuntu 24.04.3 LTS) / x86_64 | OK | OK | WARNINGS | |||||||||
| lconway | macOS 12.7.6 Monterey / x86_64 | OK | ERROR | skipped | skipped | |||||||||
| kjohnson3 | macOS 13.7.7 Ventura / arm64 | OK | ERROR | skipped | skipped | |||||||||
| taishan | Linux (openEuler 24.03 LTS) / aarch64 | OK | OK | WARNINGS | ||||||||||
|
To the developers/maintainers of the casper package: - Allow up to 24 hours (and sometimes 48 hours) for your latest push to git@git.bioconductor.org:packages/casper.git to reflect on this report. See Troubleshooting Build Report for more information. - Use the following Renviron settings to reproduce errors and warnings. - If 'R CMD check' started to fail recently on the Linux builder(s) over a missing dependency, add the missing dependency to 'Suggests:' in your DESCRIPTION file. See Renviron.bioc for more information. - See Martin Grigorov's blog post for how to debug Linux ARM64 related issues on a x86_64 host. |
| Package: casper |
| Version: 2.43.1 |
| Command: /home/biocbuild/R/R/bin/R CMD INSTALL casper |
| StartedAt: 2025-10-23 21:05:04 -0000 (Thu, 23 Oct 2025) |
| EndedAt: 2025-10-23 21:06:31 -0000 (Thu, 23 Oct 2025) |
| EllapsedTime: 87.2 seconds |
| RetCode: 0 |
| Status: OK |
##############################################################################
##############################################################################
###
### Running command:
###
### /home/biocbuild/R/R/bin/R CMD INSTALL casper
###
##############################################################################
##############################################################################
* installing to library ‘/home/biocbuild/R/R-4.5.0/site-library’
* installing *source* package ‘casper’ ...
** this is package ‘casper’ version ‘2.43.1’
** using staged installation
** libs
using C compiler: ‘aarch64-unknown-linux-gnu-gcc (GCC) 14.2.0’
using C++ compiler: ‘aarch64-unknown-linux-gnu-g++ (GCC) 14.2.0’
/opt/ohpc/pub/compiler/gcc/14.2.0/bin/aarch64-unknown-linux-gnu-g++ -std=gnu++17 -I"/home/biocbuild/R/R-4.5.0/include" -DNDEBUG -I/usr/local/include -fPIC -g -O2 -Wall -Werror=format-security -c casper.cpp -o casper.o
/opt/ohpc/pub/compiler/gcc/14.2.0/bin/aarch64-unknown-linux-gnu-g++ -std=gnu++17 -I"/home/biocbuild/R/R-4.5.0/include" -DNDEBUG -I/usr/local/include -fPIC -g -O2 -Wall -Werror=format-security -c cstat.cpp -o cstat.o
cstat.cpp: In function ‘void free_vector(float*, int, int)’:
cstat.cpp:1111:20: warning: comparing the result of pointer addition ‘(v + ((sizetype)(((long unsigned int)nl) * 4)))’ and NULL [-Waddress]
1111 | if( (v+nl) != NULL ) free((char *) (v+nl));
| ^
cstat.cpp: In function ‘void free_dvector(double*, int, int)’:
cstat.cpp:1117:20: warning: comparing the result of pointer addition ‘(v + ((sizetype)(((long unsigned int)nl) * 8)))’ and NULL [-Waddress]
1117 | if( (v+nl) != NULL ) free((char *) (v+nl));
| ^
cstat.cpp: In function ‘void free_ivector(int*, int, int)’:
cstat.cpp:1123:20: warning: comparing the result of pointer addition ‘(v + ((sizetype)(((long unsigned int)nl) * 4)))’ and NULL [-Waddress]
1123 | if( (v+nl) != NULL ) free((char *) (v+nl));
| ^
cstat.cpp: In function ‘void free_dmatrix(double**, int, int, int, int)’:
cstat.cpp:1131:47: warning: comparing the result of pointer addition ‘((*(m + ((sizetype)(((long unsigned int)i) * 8)))) + ((sizetype)(((long unsigned int)ncl) * 8)))’ and NULL [-Waddress]
1131 | for(i=nrh;i>=nrl;i--) {if( (m[i]+ncl) != NULL )
| ^
cstat.cpp:1133:21: warning: comparing the result of pointer addition ‘(m + ((sizetype)(((long unsigned int)nrl) * 8)))’ and NULL [-Waddress]
1133 | if( (m+nrl) != NULL ) free((char *) (m+nrl));
| ^
cstat.cpp: In function ‘void free_imatrix(int**, int, int, int, int)’:
cstat.cpp:1141:47: warning: comparing the result of pointer addition ‘((*(m + ((sizetype)(((long unsigned int)i) * 8)))) + ((sizetype)(((long unsigned int)ncl) * 4)))’ and NULL [-Waddress]
1141 | for(i=nrh;i>=nrl;i--) {if( (m[i]+ncl) != NULL )
| ^
cstat.cpp:1143:21: warning: comparing the result of pointer addition ‘(m + ((sizetype)(((long unsigned int)nrl) * 8)))’ and NULL [-Waddress]
1143 | if( (m+nrl) != NULL ) free((char *) (m+nrl));
| ^
/opt/ohpc/pub/compiler/gcc/14.2.0/bin/aarch64-unknown-linux-gnu-g++ -std=gnu++17 -I"/home/biocbuild/R/R-4.5.0/include" -DNDEBUG -I/usr/local/include -fPIC -g -O2 -Wall -Werror=format-security -c dataframe.cpp -o dataframe.o
In file included from /opt/ohpc/pub/compiler/gcc/14.2.0/include/c++/14.2.0/map:62,
from variant.h:3,
from variant_cmp.h:1,
from model.h:1,
from model_cmp.h:1,
from dataframe.h:1,
from dataframe.cpp:2:
In member function ‘std::pair<std::_Rb_tree_node_base*, std::_Rb_tree_node_base*> std::_Rb_tree<_Key, _Val, _KeyOfValue, _Compare, _Alloc>::_M_get_insert_unique_pos(const key_type&) [with _Key = Variant*; _Val = Variant*; _KeyOfValue = std::_Identity<Variant*>; _Compare = VariantCmp; _Alloc = std::allocator<Variant*>]’,
inlined from ‘std::pair<std::_Rb_tree_iterator<_Val>, bool> std::_Rb_tree<_Key, _Val, _KeyOfValue, _Compare, _Alloc>::_M_insert_unique(_Arg&&) [with _Arg = Variant* const&; _Key = Variant*; _Val = Variant*; _KeyOfValue = std::_Identity<Variant*>; _Compare = VariantCmp; _Alloc = std::allocator<Variant*>]’ at /opt/ohpc/pub/compiler/gcc/14.2.0/include/c++/14.2.0/bits/stl_tree.h:2167:28,
inlined from ‘std::pair<typename std::_Rb_tree<_Key, _Key, std::_Identity<_Tp>, _Compare, typename __gnu_cxx::__alloc_traits<_Alloc>::rebind<_Key>::other>::const_iterator, bool> std::set<_Key, _Compare, _Alloc>::insert(const value_type&) [with _Key = Variant*; _Compare = VariantCmp; _Alloc = std::allocator<Variant*>]’ at /opt/ohpc/pub/compiler/gcc/14.2.0/include/c++/14.2.0/bits/stl_set.h:514:25,
inlined from ‘void DataFrame::path2Variants(std::set<Variant*, VariantCmp>*, std::set<Variant*, VariantCmp>*, std::set<std::__cxx11::basic_string<char> >*, bool*, std::set<Variant*, VariantCmp>*, Fragment*)’ at dataframe.cpp:598:36:
/opt/ohpc/pub/compiler/gcc/14.2.0/include/c++/14.2.0/bits/stl_tree.h:2114:42: warning: ‘bestvar’ may be used uninitialized [-Wmaybe-uninitialized]
2114 | __comp = _M_impl._M_key_compare(__k, _S_key(__x));
| ~~~~~~~~~~~~~~~~~~~~~~^~~~~~~~~~~~~~~~~~
dataframe.cpp: In member function ‘void DataFrame::path2Variants(std::set<Variant*, VariantCmp>*, std::set<Variant*, VariantCmp>*, std::set<std::__cxx11::basic_string<char> >*, bool*, std::set<Variant*, VariantCmp>*, Fragment*)’:
dataframe.cpp:481:12: note: ‘bestvar’ was declared here
481 | Variant *bestvar;
| ^~~~~~~
/opt/ohpc/pub/compiler/gcc/14.2.0/bin/aarch64-unknown-linux-gnu-g++ -std=gnu++17 -I"/home/biocbuild/R/R-4.5.0/include" -DNDEBUG -I/usr/local/include -fPIC -g -O2 -Wall -Werror=format-security -c discretedf.cpp -o discretedf.o
/opt/ohpc/pub/compiler/gcc/14.2.0/bin/aarch64-unknown-linux-gnu-g++ -std=gnu++17 -I"/home/biocbuild/R/R-4.5.0/include" -DNDEBUG -I/usr/local/include -fPIC -g -O2 -Wall -Werror=format-security -c dropVariant.cpp -o dropVariant.o
/opt/ohpc/pub/compiler/gcc/14.2.0/bin/aarch64-unknown-linux-gnu-g++ -std=gnu++17 -I"/home/biocbuild/R/R-4.5.0/include" -DNDEBUG -I/usr/local/include -fPIC -g -O2 -Wall -Werror=format-security -c exon.cpp -o exon.o
/opt/ohpc/pub/compiler/gcc/14.2.0/bin/aarch64-unknown-linux-gnu-gcc -std=gnu23 -I"/home/biocbuild/R/R-4.5.0/include" -DNDEBUG -I/usr/local/include -fPIC -g -O2 -Wall -Werror=format-security -c fragFunc.c -o fragFunc.o
/opt/ohpc/pub/compiler/gcc/14.2.0/bin/aarch64-unknown-linux-gnu-g++ -std=gnu++17 -I"/home/biocbuild/R/R-4.5.0/include" -DNDEBUG -I/usr/local/include -fPIC -g -O2 -Wall -Werror=format-security -c fragment.cpp -o fragment.o
/opt/ohpc/pub/compiler/gcc/14.2.0/bin/aarch64-unknown-linux-gnu-gcc -std=gnu23 -I"/home/biocbuild/R/R-4.5.0/include" -DNDEBUG -I/usr/local/include -fPIC -g -O2 -Wall -Werror=format-security -c functions.c -o functions.o
/opt/ohpc/pub/compiler/gcc/14.2.0/bin/aarch64-unknown-linux-gnu-gcc -std=gnu23 -I"/home/biocbuild/R/R-4.5.0/include" -DNDEBUG -I/usr/local/include -fPIC -g -O2 -Wall -Werror=format-security -c hash.c -o hash.o
/opt/ohpc/pub/compiler/gcc/14.2.0/bin/aarch64-unknown-linux-gnu-gcc -std=gnu23 -I"/home/biocbuild/R/R-4.5.0/include" -DNDEBUG -I/usr/local/include -fPIC -g -O2 -Wall -Werror=format-security -c join_exons.c -o join_exons.o
/opt/ohpc/pub/compiler/gcc/14.2.0/bin/aarch64-unknown-linux-gnu-gcc -std=gnu23 -I"/home/biocbuild/R/R-4.5.0/include" -DNDEBUG -I/usr/local/include -fPIC -g -O2 -Wall -Werror=format-security -c makeIslands.c -o makeIslands.o
/opt/ohpc/pub/compiler/gcc/14.2.0/bin/aarch64-unknown-linux-gnu-g++ -std=gnu++17 -I"/home/biocbuild/R/R-4.5.0/include" -DNDEBUG -I/usr/local/include -fPIC -g -O2 -Wall -Werror=format-security -c model.cpp -o model.o
model.cpp: In member function ‘char* Model::toString()’:
model.cpp:147:24: warning: ‘sprintf’ argument 3 overlaps destination object ‘<unknown>’ [-Wrestrict]
147 | sprintf(str, "%s {%s}", str, vstr);
| ~~~~~~~^~~~~~~~~~~~~~~~~~~~~~~~~~~
/opt/ohpc/pub/compiler/gcc/14.2.0/bin/aarch64-unknown-linux-gnu-g++ -std=gnu++17 -I"/home/biocbuild/R/R-4.5.0/include" -DNDEBUG -I/usr/local/include -fPIC -g -O2 -Wall -Werror=format-security -c model_cmp.cpp -o model_cmp.o
/opt/ohpc/pub/compiler/gcc/14.2.0/bin/aarch64-unknown-linux-gnu-gcc -std=gnu23 -I"/home/biocbuild/R/R-4.5.0/include" -DNDEBUG -I/usr/local/include -fPIC -g -O2 -Wall -Werror=format-security -c pathCounts.c -o pathCounts.o
/opt/ohpc/pub/compiler/gcc/14.2.0/bin/aarch64-unknown-linux-gnu-gcc -std=gnu23 -I"/home/biocbuild/R/R-4.5.0/include" -DNDEBUG -I/usr/local/include -fPIC -g -O2 -Wall -Werror=format-security -c procBam.c -o procBam.o
/opt/ohpc/pub/compiler/gcc/14.2.0/bin/aarch64-unknown-linux-gnu-g++ -std=gnu++17 -I"/home/biocbuild/R/R-4.5.0/include" -DNDEBUG -I/usr/local/include -fPIC -g -O2 -Wall -Werror=format-security -c rcasper.cpp -o rcasper.o
/opt/ohpc/pub/compiler/gcc/14.2.0/bin/aarch64-unknown-linux-gnu-g++ -std=gnu++17 -I"/home/biocbuild/R/R-4.5.0/include" -DNDEBUG -I/usr/local/include -fPIC -g -O2 -Wall -Werror=format-security -c seppel.cpp -o seppel.o
seppel.cpp: In member function ‘void Seppel::exploreUnif(int, std::set<Variant*, VariantCmp>*)’:
seppel.cpp:484:9: warning: array subscript -1 is outside array bounds of ‘void [24]’ [-Warray-bounds=]
484 | delete [] possiblemodels;
| ^~~~~~~~~~~~~~~~~~~~~~~~
seppel.cpp:402:55: note: at offset -8 into object of size 24 allocated by ‘operator new’
402 | vector<Model*>* possiblemodels = new vector<Model*>();
| ^
seppel.cpp:484:19: warning: ‘void operator delete [](void*, std::size_t)’ called on pointer returned from a mismatched allocation function [-Wmismatched-new-delete]
484 | delete [] possiblemodels;
| ^~~~~~~~~~~~~~
seppel.cpp:402:55: note: returned from ‘void* operator new(std::size_t)’
402 | vector<Model*>* possiblemodels = new vector<Model*>();
| ^
/opt/ohpc/pub/compiler/gcc/14.2.0/bin/aarch64-unknown-linux-gnu-gcc -std=gnu23 -I"/home/biocbuild/R/R-4.5.0/include" -DNDEBUG -I/usr/local/include -fPIC -g -O2 -Wall -Werror=format-security -c simReads.c -o simReads.o
/opt/ohpc/pub/compiler/gcc/14.2.0/bin/aarch64-unknown-linux-gnu-gcc -std=gnu23 -I"/home/biocbuild/R/R-4.5.0/include" -DNDEBUG -I/usr/local/include -fPIC -g -O2 -Wall -Werror=format-security -c simReadsfunc.c -o simReadsfunc.o
/opt/ohpc/pub/compiler/gcc/14.2.0/bin/aarch64-unknown-linux-gnu-g++ -std=gnu++17 -I"/home/biocbuild/R/R-4.5.0/include" -DNDEBUG -I/usr/local/include -fPIC -g -O2 -Wall -Werror=format-security -c smartmodeldist.cpp -o smartmodeldist.o
/opt/ohpc/pub/compiler/gcc/14.2.0/bin/aarch64-unknown-linux-gnu-gcc -std=gnu23 -I"/home/biocbuild/R/R-4.5.0/include" -DNDEBUG -I/usr/local/include -fPIC -g -O2 -Wall -Werror=format-security -c uniqQname.c -o uniqQname.o
/opt/ohpc/pub/compiler/gcc/14.2.0/bin/aarch64-unknown-linux-gnu-g++ -std=gnu++17 -I"/home/biocbuild/R/R-4.5.0/include" -DNDEBUG -I/usr/local/include -fPIC -g -O2 -Wall -Werror=format-security -c variant.cpp -o variant.o
variant.cpp: In member function ‘void Variant::toString(char*)’:
variant.cpp:164:52: warning: ‘sprintf’ argument 3 overlaps destination object ‘str’ [-Wrestrict]
164 | for (int e = 0; e < exonCount; e++) sprintf(str, "%s,%i", str, exons[e]->id);
| ~~~~~~~^~~~~~~~~~~~~~~~~~~~~~~~~~~~~~~~~
variant.cpp:156:30: note: destination object referenced by ‘restrict’-qualified argument 1 was declared here
156 | void Variant::toString(char *str)
| ~~~~~~^~~
/opt/ohpc/pub/compiler/gcc/14.2.0/bin/aarch64-unknown-linux-gnu-g++ -std=gnu++17 -I"/home/biocbuild/R/R-4.5.0/include" -DNDEBUG -I/usr/local/include -fPIC -g -O2 -Wall -Werror=format-security -c variant_cmp.cpp -o variant_cmp.o
/opt/ohpc/pub/compiler/gcc/14.2.0/bin/aarch64-unknown-linux-gnu-g++ -std=gnu++17 -shared -L/home/biocbuild/R/R-4.5.0/lib -L/usr/local/lib -o casper.so casper.o cstat.o dataframe.o discretedf.o dropVariant.o exon.o fragFunc.o fragment.o functions.o hash.o join_exons.o makeIslands.o model.o model_cmp.o pathCounts.o procBam.o rcasper.o seppel.o simReads.o simReadsfunc.o smartmodeldist.o uniqQname.o variant.o variant_cmp.o -L/home/biocbuild/R/R-4.5.0/lib -lR
installing to /home/biocbuild/R/R-4.5.0/site-library/00LOCK-casper/00new/casper/libs
** R
** data
** inst
** byte-compile and prepare package for lazy loading
Creating a new generic function for ‘transcripts’ in package ‘casper’
** help
*** installing help indices
** building package indices
** installing vignettes
** testing if installed package can be loaded from temporary location
** checking absolute paths in shared objects and dynamic libraries
** testing if installed package can be loaded from final location
** testing if installed package keeps a record of temporary installation path
* DONE (casper)