| Back to Multiple platform build/check report for BioC 3.22: simplified long |
|
This page was generated on 2025-11-15 11:58 -0500 (Sat, 15 Nov 2025).
| Hostname | OS | Arch (*) | R version | Installed pkgs |
|---|---|---|---|---|
| nebbiolo2 | Linux (Ubuntu 24.04.3 LTS) | x86_64 | 4.5.1 Patched (2025-08-23 r88802) -- "Great Square Root" | 4903 |
| taishan | Linux (openEuler 24.03 LTS) | aarch64 | 4.5.0 (2025-04-11) -- "How About a Twenty-Six" | 4668 |
| Click on any hostname to see more info about the system (e.g. compilers) (*) as reported by 'uname -p', except on Windows and Mac OS X | ||||
| Package 289/2361 | Hostname | OS / Arch | INSTALL | BUILD | CHECK | BUILD BIN | ||||||||
| CatsCradle 1.4.1 (landing page) Michael Shapiro
| nebbiolo2 | Linux (Ubuntu 24.04.3 LTS) / x86_64 | OK | OK | OK | |||||||||
| taishan | Linux (openEuler 24.03 LTS) / aarch64 | OK | OK | OK | ||||||||||
|
To the developers/maintainers of the CatsCradle package: - Allow up to 24 hours (and sometimes 48 hours) for your latest push to git@git.bioconductor.org:packages/CatsCradle.git to reflect on this report. See Troubleshooting Build Report for more information. - Use the following Renviron settings to reproduce errors and warnings. - If 'R CMD check' started to fail recently on the Linux builder(s) over a missing dependency, add the missing dependency to 'Suggests:' in your DESCRIPTION file. See Renviron.bioc for more information. - See Martin Grigorov's blog post for how to debug Linux ARM64 related issues on a x86_64 host. |
| Package: CatsCradle |
| Version: 1.4.1 |
| Command: /home/biocbuild/R/R/bin/R CMD check --install=check:CatsCradle.install-out.txt --library=/home/biocbuild/R/R/site-library --no-vignettes --timings CatsCradle_1.4.1.tar.gz |
| StartedAt: 2025-11-14 07:35:20 -0000 (Fri, 14 Nov 2025) |
| EndedAt: 2025-11-14 07:46:21 -0000 (Fri, 14 Nov 2025) |
| EllapsedTime: 660.6 seconds |
| RetCode: 0 |
| Status: OK |
| CheckDir: CatsCradle.Rcheck |
| Warnings: 0 |
##############################################################################
##############################################################################
###
### Running command:
###
### /home/biocbuild/R/R/bin/R CMD check --install=check:CatsCradle.install-out.txt --library=/home/biocbuild/R/R/site-library --no-vignettes --timings CatsCradle_1.4.1.tar.gz
###
##############################################################################
##############################################################################
* using log directory ‘/home/biocbuild/bbs-3.22-bioc/meat/CatsCradle.Rcheck’
* using R version 4.5.0 (2025-04-11)
* using platform: aarch64-unknown-linux-gnu
* R was compiled by
aarch64-unknown-linux-gnu-gcc (GCC) 14.2.0
GNU Fortran (GCC) 14.2.0
* running under: openEuler 24.03 (LTS)
* using session charset: UTF-8
* using option ‘--no-vignettes’
* checking for file ‘CatsCradle/DESCRIPTION’ ... OK
* this is package ‘CatsCradle’ version ‘1.4.1’
* package encoding: UTF-8
* checking package namespace information ... OK
* checking package dependencies ... INFO
Imports includes 21 non-default packages.
Importing from so many packages makes the package vulnerable to any of
them becoming unavailable. Move as many as possible to Suggests and
use conditionally.
* checking if this is a source package ... OK
* checking if there is a namespace ... OK
* checking for hidden files and directories ... OK
* checking for portable file names ... OK
* checking for sufficient/correct file permissions ... OK
* checking whether package ‘CatsCradle’ can be installed ... OK
* checking installed package size ... OK
* checking package directory ... OK
* checking ‘build’ directory ... OK
* checking DESCRIPTION meta-information ... OK
* checking top-level files ... OK
* checking for left-over files ... OK
* checking index information ... OK
* checking package subdirectories ... OK
* checking code files for non-ASCII characters ... OK
* checking R files for syntax errors ... OK
* checking whether the package can be loaded ... OK
* checking whether the package can be loaded with stated dependencies ... OK
* checking whether the package can be unloaded cleanly ... OK
* checking whether the namespace can be loaded with stated dependencies ... OK
* checking whether the namespace can be unloaded cleanly ... OK
* checking loading without being on the library search path ... OK
* checking dependencies in R code ... OK
* checking S3 generic/method consistency ... OK
* checking replacement functions ... OK
* checking foreign function calls ... OK
* checking R code for possible problems ... NOTE
edgeLengthPlot: no visible binding for global variable ‘cellTypePair’
edgeLengthPlot: no visible binding for global variable ‘cutoff’
make.getExample : getExample: no visible binding for global variable
‘seuratGenes’
make.getExample : getExample: no visible binding for global variable
‘seuratCells’
make.getExample : getExample: no visible binding for global variable
‘xeniumCells’
make.getExample : getExample: no visible binding for global variable
‘moransI’
make.getExample : getExample: no visible binding for global variable
‘moransILigandReceptor’
make.getExample : getExample: no visible binding for global variable
‘humanLRN’
make.getExample : getExample: no visible binding for global variable
‘mouseLRN’
meanGeneClusterOnCellUMAP: no visible binding for global variable
‘UMAP_1’
meanGeneClusterOnCellUMAP: no visible binding for global variable
‘UMAP_2’
plotLRDotplot: no visible binding for global variable ‘sender’
plotLRDotplot: no visible binding for global variable ‘negLog10PValue’
plotLRDotplot: no visible binding for global variable ‘receiver’
Undefined global functions or variables:
UMAP_1 UMAP_2 cellTypePair cutoff humanLRN moransI
moransILigandReceptor mouseLRN negLog10PValue receiver sender
seuratCells seuratGenes xeniumCells
* checking Rd files ... OK
* checking Rd metadata ... OK
* checking Rd cross-references ... OK
* checking for missing documentation entries ... OK
* checking for code/documentation mismatches ... OK
* checking Rd \usage sections ... OK
* checking Rd contents ... OK
* checking for unstated dependencies in examples ... OK
* checking contents of ‘data’ directory ... OK
* checking data for non-ASCII characters ... OK
* checking data for ASCII and uncompressed saves ... OK
* checking files in ‘vignettes’ ... OK
* checking examples ... OK
Examples with CPU (user + system) or elapsed time > 5s
user system elapsed
annotateGeneAsVector 50.458 0.578 51.173
computeNBHDVsCTObject 22.851 0.805 23.724
randomiseNodeIndices 20.548 0.004 20.618
getObjectSubsetClusteringPValue 16.375 0.256 16.673
aggregateGeneExpression 12.892 0.331 13.245
transposeObject 12.763 0.000 12.803
computeGraphEmbedding 11.487 0.076 11.584
predictAnnotation 10.449 0.079 10.555
predictAnnotationAllGenes 9.647 0.012 9.683
predictGeneAnnotationImpl 8.322 0.040 8.382
medianComplementPValue 7.243 0.028 7.291
runGeometricClusteringTrials 7.171 0.028 7.218
combinatorialSpheres 7.064 0.072 7.157
getNearbyGenes 6.788 0.135 6.941
tagRowAndColNames 6.902 0.000 6.923
geneSetsVsGeneClustersPValueMatrix 6.701 0.195 6.915
getObjectSubsetClusteringStatistics 6.792 0.035 6.848
getGeneClusterAveragesPerCell 6.551 0.060 6.630
meanZPerClusterOnUMAP 6.556 0.040 6.614
getAverageExpressionMatrix 6.409 0.103 6.530
meanGeneClusterOnCellUMAP 6.460 0.052 6.533
getAverageExpressionDF 6.337 0.116 6.470
getGeneNeighbors 6.390 0.048 6.459
meanZPerCluster 6.351 0.076 6.446
symmetriseNN 6.371 0.008 6.395
getClusterOrder 6.283 0.092 6.394
desymmetriseNN 6.066 0.240 6.323
symmetryCheckNN 6.206 0.000 6.224
getNearestNeighbourLists 6.139 0.048 6.203
* checking for unstated dependencies in vignettes ... OK
* checking package vignettes ... OK
* checking running R code from vignettes ... SKIPPED
* checking re-building of vignette outputs ... SKIPPED
* checking PDF version of manual ... OK
* DONE
Status: 1 NOTE
See
‘/home/biocbuild/bbs-3.22-bioc/meat/CatsCradle.Rcheck/00check.log’
for details.
CatsCradle.Rcheck/00install.out
############################################################################## ############################################################################## ### ### Running command: ### ### /home/biocbuild/R/R/bin/R CMD INSTALL CatsCradle ### ############################################################################## ############################################################################## * installing to library ‘/home/biocbuild/R/R-4.5.0/site-library’ * installing *source* package ‘CatsCradle’ ... ** this is package ‘CatsCradle’ version ‘1.4.1’ ** using staged installation ** R ** data ** inst ** byte-compile and prepare package for lazy loading ** help *** installing help indices ** building package indices ** installing vignettes ** testing if installed package can be loaded from temporary location ** testing if installed package can be loaded from final location ** testing if installed package keeps a record of temporary installation path * DONE (CatsCradle)
CatsCradle.Rcheck/CatsCradle-Ex.timings
| name | user | system | elapsed | |
| aggregateGeneExpression | 12.892 | 0.331 | 13.245 | |
| annotateGeneAsVector | 50.458 | 0.578 | 51.173 | |
| annotateGenesByGeneSet | 2.168 | 0.132 | 2.306 | |
| cellTypesPerCellTypeGraphFromCellMatrix | 0.242 | 0.008 | 0.251 | |
| collapseExtendedNBHDs | 3.878 | 0.008 | 3.869 | |
| combinatorialSpheres | 7.064 | 0.072 | 7.157 | |
| computeCellTypesPerCellTypeMatrix | 0.136 | 0.008 | 0.144 | |
| computeEdgeGraph | 0.164 | 0.012 | 0.167 | |
| computeEdgeObject | 1.253 | 0.004 | 1.260 | |
| computeGraphEmbedding | 11.487 | 0.076 | 11.584 | |
| computeNBHDByCTMatrix | 0.118 | 0.000 | 0.117 | |
| computeNBHDVsCTObject | 22.851 | 0.805 | 23.724 | |
| computeNeighbourEnrichment | 0.148 | 0.004 | 0.152 | |
| computeNeighboursDelaunay | 0.107 | 0.000 | 0.107 | |
| computeNeighboursEuclidean | 0.879 | 0.064 | 0.909 | |
| cullEdges | 0.751 | 0.051 | 0.805 | |
| desymmetriseNN | 6.066 | 0.240 | 6.323 | |
| directedHausdorfDistance | 0.001 | 0.000 | 0.001 | |
| edgeCutoffsByClustering | 0.533 | 0.028 | 0.563 | |
| edgeCutoffsByPercentile | 0.398 | 0.004 | 0.402 | |
| edgeCutoffsByWatershed | 0.455 | 0.004 | 0.460 | |
| edgeCutoffsByZScore | 0.507 | 0.012 | 0.521 | |
| edgeLengthPlot | 0.481 | 0.004 | 0.486 | |
| edgeLengthsAndCellTypePairs | 0.490 | 0.016 | 0.507 | |
| exampleObjects | 0 | 0 | 0 | |
| geneSetsVsGeneClustersPValueMatrix | 6.701 | 0.195 | 6.915 | |
| getAverageExpressionDF | 6.337 | 0.116 | 6.470 | |
| getAverageExpressionMatrix | 6.409 | 0.103 | 6.530 | |
| getClusterOrder | 6.283 | 0.092 | 6.394 | |
| getExtendedNBHDs | 0.936 | 0.012 | 0.842 | |
| getFeatureZScores | 0.301 | 0.000 | 0.302 | |
| getGeneClusterAveragesPerCell | 6.551 | 0.060 | 6.630 | |
| getGeneNeighbors | 6.390 | 0.048 | 6.459 | |
| getLigandReceptorNetwork | 0.020 | 0.000 | 0.019 | |
| getLigandReceptorPairsInPanel | 0.09 | 0.00 | 0.09 | |
| getNearbyGenes | 6.788 | 0.135 | 6.941 | |
| getNearestNeighbourLists | 6.139 | 0.048 | 6.203 | |
| getObjectSubsetClusteringPValue | 16.375 | 0.256 | 16.673 | |
| getObjectSubsetClusteringStatistics | 6.792 | 0.035 | 6.848 | |
| make.getExample | 0.113 | 0.000 | 0.114 | |
| makeLRInteractionHeatmap | 0.242 | 0.000 | 0.243 | |
| makeSummedLRInteractionHeatmap | 0.222 | 0.004 | 0.227 | |
| meanGeneClusterOnCellUMAP | 6.460 | 0.052 | 6.533 | |
| meanZPerCluster | 6.351 | 0.076 | 6.446 | |
| meanZPerClusterOnUMAP | 6.556 | 0.040 | 6.614 | |
| medianComplementDistance | 0.001 | 0.000 | 0.001 | |
| medianComplementPValue | 7.243 | 0.028 | 7.291 | |
| nbhdsAsEdgesToNbhdsAsList | 1.125 | 0.051 | 1.180 | |
| neighbourhoodDiameter | 1.127 | 0.024 | 1.153 | |
| performLigandReceptorAnalysis | 1.330 | 0.192 | 1.527 | |
| performLigandReceptorAnalysisPermutation | 1.226 | 0.176 | 1.405 | |
| plotLRDotplot | 2.503 | 0.008 | 2.516 | |
| predictAnnotation | 10.449 | 0.079 | 10.555 | |
| predictAnnotationAllGenes | 9.647 | 0.012 | 9.683 | |
| predictGeneAnnotationImpl | 8.322 | 0.040 | 8.382 | |
| randomiseNodeIndices | 20.548 | 0.004 | 20.618 | |
| runGeometricClusteringTrials | 7.171 | 0.028 | 7.218 | |
| runMoransI | 1.919 | 0.008 | 1.932 | |
| sankeyFromMatrix | 0.005 | 0.000 | 0.005 | |
| symmetriseNN | 6.371 | 0.008 | 6.395 | |
| symmetryCheckNN | 6.206 | 0.000 | 6.224 | |
| tagRowAndColNames | 6.902 | 0.000 | 6.923 | |
| transposeObject | 12.763 | 0.000 | 12.803 | |