Back to Multiple platform build/check report for BioC 3.22:   simplified   long
ABCDE[F]GHIJKLMNOPQRSTUVWXYZ

This page was generated on 2025-11-17 11:58 -0500 (Mon, 17 Nov 2025).

HostnameOSArch (*)R versionInstalled pkgs
nebbiolo2Linux (Ubuntu 24.04.3 LTS)x86_644.5.1 Patched (2025-08-23 r88802) -- "Great Square Root" 4903
taishanLinux (openEuler 24.03 LTS)aarch644.5.0 (2025-04-11) -- "How About a Twenty-Six" 4668
Click on any hostname to see more info about the system (e.g. compilers)      (*) as reported by 'uname -p', except on Windows and Mac OS X

Package 776/2361HostnameOS / ArchINSTALLBUILDCHECKBUILD BIN
FRASER 2.6.0  (landing page)
Christian Mertes
Snapshot Date: 2025-11-16 13:45 -0500 (Sun, 16 Nov 2025)
git_url: https://git.bioconductor.org/packages/FRASER
git_branch: RELEASE_3_22
git_last_commit: b8faec2
git_last_commit_date: 2025-10-29 10:58:54 -0500 (Wed, 29 Oct 2025)
nebbiolo2Linux (Ubuntu 24.04.3 LTS) / x86_64  OK    OK    OK  UNNEEDED, same version is already published
taishanLinux (openEuler 24.03 LTS) / aarch64  OK    OK    TIMEOUT  


CHECK results for FRASER on taishan

To the developers/maintainers of the FRASER package:
- Allow up to 24 hours (and sometimes 48 hours) for your latest push to git@git.bioconductor.org:packages/FRASER.git to reflect on this report. See Troubleshooting Build Report for more information.
- Use the following Renviron settings to reproduce errors and warnings.
- If 'R CMD check' started to fail recently on the Linux builder(s) over a missing dependency, add the missing dependency to 'Suggests:' in your DESCRIPTION file. See Renviron.bioc for more information.
- See Martin Grigorov's blog post for how to debug Linux ARM64 related issues on a x86_64 host.

raw results


Summary

Package: FRASER
Version: 2.6.0
Command: /home/biocbuild/R/R/bin/R CMD check --install=check:FRASER.install-out.txt --library=/home/biocbuild/R/R/site-library --no-vignettes --timings FRASER_2.6.0.tar.gz
StartedAt: 2025-11-14 09:36:45 -0000 (Fri, 14 Nov 2025)
EndedAt: 2025-11-14 10:16:46 -0000 (Fri, 14 Nov 2025)
EllapsedTime: 2400.6 seconds
RetCode: None
Status:   TIMEOUT  
CheckDir: FRASER.Rcheck
Warnings: NA

Command output

##############################################################################
##############################################################################
###
### Running command:
###
###   /home/biocbuild/R/R/bin/R CMD check --install=check:FRASER.install-out.txt --library=/home/biocbuild/R/R/site-library --no-vignettes --timings FRASER_2.6.0.tar.gz
###
##############################################################################
##############################################################################


* using log directory ‘/home/biocbuild/bbs-3.22-bioc/meat/FRASER.Rcheck’
* using R version 4.5.0 (2025-04-11)
* using platform: aarch64-unknown-linux-gnu
* R was compiled by
    aarch64-unknown-linux-gnu-gcc (GCC) 14.2.0
    GNU Fortran (GCC) 14.2.0
* running under: openEuler 24.03 (LTS)
* using session charset: UTF-8
* using option ‘--no-vignettes’
* checking for file ‘FRASER/DESCRIPTION’ ... OK
* checking extension type ... Package
* this is package ‘FRASER’ version ‘2.6.0’
* package encoding: UTF-8
* checking package namespace information ... OK
* checking package dependencies ... INFO
Imports includes 35 non-default packages.
Importing from so many packages makes the package vulnerable to any of
them becoming unavailable.  Move as many as possible to Suggests and
use conditionally.
* checking if this is a source package ... OK
* checking if there is a namespace ... OK
* checking for hidden files and directories ... OK
* checking for portable file names ... OK
* checking for sufficient/correct file permissions ... OK
* checking whether package ‘FRASER’ can be installed ... OK
* used C++ compiler: ‘aarch64-unknown-linux-gnu-g++ (GCC) 14.2.0’
* checking installed package size ... INFO
  installed size is  7.8Mb
  sub-directories of 1Mb or more:
    R      1.4Mb
    libs   5.4Mb
* checking package directory ... OK
* checking ‘build’ directory ... OK
* checking DESCRIPTION meta-information ... OK
* checking top-level files ... OK
* checking for left-over files ... OK
* checking index information ... OK
* checking package subdirectories ... OK
* checking code files for non-ASCII characters ... OK
* checking R files for syntax errors ... OK
* checking whether the package can be loaded ... OK
* checking whether the package can be loaded with stated dependencies ... OK
* checking whether the package can be unloaded cleanly ... OK
* checking whether the namespace can be loaded with stated dependencies ... OK
* checking whether the namespace can be unloaded cleanly ... OK
* checking loading without being on the library search path ... OK
* checking whether startup messages can be suppressed ... OK
* checking dependencies in R code ... NOTE
Unexported objects imported by ':::' calls:
  'S4Vectors:::selectSome' 'ggbio:::.buildFacetsFromArgs'
  See the note in ?`:::` about the use of this operator.
* checking S3 generic/method consistency ... OK
* checking replacement functions ... OK
* checking foreign function calls ... OK
* checking R code for possible problems ... NOTE
annotateRangesWithTxDb: no visible binding for global variable
  ‘include’
calculatePadjValuesOnSubset : <anonymous>: no visible binding for
  global variable ‘gene_rowIdx’
estimateBestQ: no visible binding for global variable ‘oht’
hyperParams: no visible binding for global variable ‘oht’
loadFraserDataSet: no visible global function definition for
  ‘slotNames’
plotEncDimSearch.FRASER: no visible binding for global variable ‘oht’
plotEncDimSearch.FRASER: no visible binding for global variable
  ‘singular_values’
plotVolcano.FRASER: no visible binding for global variable
  ‘aberrantLabel’
updateSeqlevelsStyle: no visible binding for global variable
  ‘NCBI_Genome_Name’
updateSeqlevelsStyle: no visible global function definition for
  ‘setNames’
updateSeqlevelsStyle: no visible global function definition for
  ‘seqnames<-’
updateSeqlevelsStyle: no visible binding for global variable
  ‘UCSC_Genome_Name’
plotEncDimSearch,FraserDataSet: no visible binding for global variable
  ‘oht’
plotEncDimSearch,FraserDataSet: no visible binding for global variable
  ‘singular_values’
plotVolcano,FraserDataSet: no visible binding for global variable
  ‘aberrantLabel’
results,FraserDataSet: no visible binding for global variable ‘padjust’
results,FraserDataSet: no visible binding for global variable
  ‘pValueGene’
results,FraserDataSet: no visible binding for global variable
  ‘padjustGene’
Undefined global functions or variables:
  NCBI_Genome_Name UCSC_Genome_Name aberrantLabel gene_rowIdx include
  oht pValueGene padjust padjustGene seqnames<- setNames
  singular_values slotNames
Consider adding
  importFrom("methods", "slotNames")
  importFrom("stats", "setNames")
to your NAMESPACE file (and ensure that your DESCRIPTION Imports field
contains 'methods').
* checking Rd files ... OK
* checking Rd metadata ... OK
* checking Rd cross-references ... NOTE
Found the following Rd file(s) with Rd \link{} targets missing package
anchors:
  plotFunctions.Rd: aberrant
Please provide package anchors for all Rd \link{} targets not in the
package itself and the base packages.
* checking for missing documentation entries ... OK
* checking for code/documentation mismatches ... OK
* checking Rd \usage sections ... OK
* checking Rd contents ... OK
* checking for unstated dependencies in examples ... OK
* checking line endings in C/C++/Fortran sources/headers ... OK
* checking line endings in Makefiles ... OK
* checking compilation flags in Makevars ... OK
* checking for GNU extensions in Makefiles ... OK
* checking for portable use of $(BLAS_LIBS) and $(LAPACK_LIBS) ... OK
* checking use of PKG_*FLAGS in Makefiles ... OK
* checking compiled code ... NOTE
Note: information on .o files is not available
* checking files in ‘vignettes’ ... OK
* checking examples ... OK
Examples with CPU (user + system) or elapsed time > 5s
                              user system elapsed
plotFunctions              225.255  6.876 232.854
potentialImpactAnnotations 111.294  0.738 112.293
FRASER                      56.603  0.614  57.476
injectOutliers              39.703  0.207  40.001
results                     35.479  0.239  35.820
annotateRanges              32.830  0.773  39.996
estimateBestQ               31.008  0.542  31.658
mergeExternalData           28.463  0.231  28.786
calculatePSIValues          26.906  0.925  27.902
getter_setter_functions     25.639  0.288  26.003
filtering                   25.597  0.250  25.922
createTestFraserDataSet     24.657  1.068  25.801
fds-methods                 25.301  0.291  25.666
counts                      24.045  0.447  24.556
subset                      24.053  0.100  24.227
makeSimulatedFraserDataSet   6.014  0.024   6.059
* checking for unstated dependencies in ‘tests’ ... OK
* checking tests ...
  Running ‘testthat.R’

Installation output

FRASER.Rcheck/00install.out

##############################################################################
##############################################################################
###
### Running command:
###
###   /home/biocbuild/R/R/bin/R CMD INSTALL FRASER
###
##############################################################################
##############################################################################


* installing to library ‘/home/biocbuild/R/R-4.5.0/site-library’
* installing *source* package ‘FRASER’ ...
** this is package ‘FRASER’ version ‘2.6.0’
** using staged installation
** libs
using C++ compiler: ‘aarch64-unknown-linux-gnu-g++ (GCC) 14.2.0’
/opt/ohpc/pub/compiler/gcc/14.2.0/bin/aarch64-unknown-linux-gnu-g++ -std=gnu++17 -I"/home/biocbuild/R/R-4.5.0/include" -DNDEBUG  -I'/home/biocbuild/R/R-4.5.0/site-library/RcppArmadillo/include' -I'/home/biocbuild/R/R-4.5.0/site-library/Rcpp/include' -I/usr/local/include   -fopenmp -DARMA_DONT_USE_OPENMP -fPIC  -g -O2  -Wall -Werror=format-security  -c RcppExports.cpp -o RcppExports.o
/opt/ohpc/pub/compiler/gcc/14.2.0/bin/aarch64-unknown-linux-gnu-g++ -std=gnu++17 -I"/home/biocbuild/R/R-4.5.0/include" -DNDEBUG  -I'/home/biocbuild/R/R-4.5.0/site-library/RcppArmadillo/include' -I'/home/biocbuild/R/R-4.5.0/site-library/Rcpp/include' -I/usr/local/include   -fopenmp -DARMA_DONT_USE_OPENMP -fPIC  -g -O2  -Wall -Werror=format-security  -c loss_n_gradient_functions.cpp -o loss_n_gradient_functions.o
/opt/ohpc/pub/compiler/gcc/14.2.0/bin/aarch64-unknown-linux-gnu-g++ -std=gnu++17 -shared -L/home/biocbuild/R/R-4.5.0/lib -L/usr/local/lib -o FRASER.so RcppExports.o loss_n_gradient_functions.o -fopenmp -lopenblas -lgfortran -lm -L/home/biocbuild/R/R-4.5.0/lib -lR
installing to /home/biocbuild/R/R-4.5.0/site-library/00LOCK-FRASER/00new/FRASER/libs
** R
** inst
** byte-compile and prepare package for lazy loading
** help
*** installing help indices
** building package indices
** installing vignettes
** testing if installed package can be loaded from temporary location
** checking absolute paths in shared objects and dynamic libraries
** testing if installed package can be loaded from final location
** testing if installed package keeps a record of temporary installation path
* DONE (FRASER)

Tests output

FRASER.Rcheck/tests/testthat.Rout


R version 4.5.0 (2025-04-11) -- "How About a Twenty-Six"
Copyright (C) 2025 The R Foundation for Statistical Computing
Platform: aarch64-unknown-linux-gnu

R is free software and comes with ABSOLUTELY NO WARRANTY.
You are welcome to redistribute it under certain conditions.
Type 'license()' or 'licence()' for distribution details.

R is a collaborative project with many contributors.
Type 'contributors()' for more information and
'citation()' on how to cite R or R packages in publications.

Type 'demo()' for some demos, 'help()' for on-line help, or
'help.start()' for an HTML browser interface to help.
Type 'q()' to quit R.

> library(testthat)
> library(FRASER)
Loading required package: BiocParallel
Loading required package: Rsamtools
Loading required package: Seqinfo
Loading required package: BiocGenerics
Loading required package: generics

Attaching package: 'generics'

The following objects are masked from 'package:base':

    as.difftime, as.factor, as.ordered, intersect, is.element, setdiff,
    setequal, union


Attaching package: 'BiocGenerics'

The following objects are masked from 'package:stats':

    IQR, mad, sd, var, xtabs

The following objects are masked from 'package:base':

    Filter, Find, Map, Position, Reduce, anyDuplicated, aperm, append,
    as.data.frame, basename, cbind, colnames, dirname, do.call,
    duplicated, eval, evalq, get, grep, grepl, is.unsorted, lapply,
    mapply, match, mget, order, paste, pmax, pmax.int, pmin, pmin.int,
    rank, rbind, rownames, sapply, saveRDS, table, tapply, unique,
    unsplit, which.max, which.min

Loading required package: GenomicRanges
Loading required package: stats4
Loading required package: S4Vectors

Attaching package: 'S4Vectors'

The following object is masked from 'package:utils':

    findMatches

The following objects are masked from 'package:base':

    I, expand.grid, unname

Loading required package: IRanges
Loading required package: Biostrings
Loading required package: XVector

Attaching package: 'Biostrings'

The following object is masked from 'package:base':

    strsplit

Loading required package: SummarizedExperiment
Loading required package: MatrixGenerics
Loading required package: matrixStats

Attaching package: 'MatrixGenerics'

The following objects are masked from 'package:matrixStats':

    colAlls, colAnyNAs, colAnys, colAvgsPerRowSet, colCollapse,
    colCounts, colCummaxs, colCummins, colCumprods, colCumsums,
    colDiffs, colIQRDiffs, colIQRs, colLogSumExps, colMadDiffs,
    colMads, colMaxs, colMeans2, colMedians, colMins, colOrderStats,
    colProds, colQuantiles, colRanges, colRanks, colSdDiffs, colSds,
    colSums2, colTabulates, colVarDiffs, colVars, colWeightedMads,
    colWeightedMeans, colWeightedMedians, colWeightedSds,
    colWeightedVars, rowAlls, rowAnyNAs, rowAnys, rowAvgsPerColSet,
    rowCollapse, rowCounts, rowCummaxs, rowCummins, rowCumprods,
    rowCumsums, rowDiffs, rowIQRDiffs, rowIQRs, rowLogSumExps,
    rowMadDiffs, rowMads, rowMaxs, rowMeans2, rowMedians, rowMins,
    rowOrderStats, rowProds, rowQuantiles, rowRanges, rowRanks,
    rowSdDiffs, rowSds, rowSums2, rowTabulates, rowVarDiffs, rowVars,
    rowWeightedMads, rowWeightedMeans, rowWeightedMedians,
    rowWeightedSds, rowWeightedVars

Loading required package: Biobase
Welcome to Bioconductor

    Vignettes contain introductory material; view with
    'browseVignettes()'. To cite Bioconductor, see
    'citation("Biobase")', and for packages 'citation("pkgname")'.


Attaching package: 'Biobase'

The following object is masked from 'package:MatrixGenerics':

    rowMedians

The following objects are masked from 'package:matrixStats':

    anyMissing, rowMedians


Attaching package: 'FRASER'

The following object is masked from 'package:Biobase':

    samples

> library(TxDb.Hsapiens.UCSC.hg19.knownGene)
Loading required package: GenomicFeatures
Loading required package: AnnotationDbi
> library(org.Hs.eg.db)

> 
> # to speed up the testing on windows do it in serial mode
> if(.Platform$OS.type != "unix") {
+     register(SerialParam())
+ }
> 
> set.seed(42)
> test_check("FRASER")

Example timings

FRASER.Rcheck/FRASER-Ex.timings

nameusersystemelapsed
FRASER56.603 0.61457.476
FraserDataSet0.5510.0080.563
annotateRanges32.830 0.77339.996
calculatePSIValues26.906 0.92527.902
countRNA1.3840.0561.444
counts24.045 0.44724.556
createTestFraserDataSet24.657 1.06825.801
estimateBestQ31.008 0.54231.658
fds-methods25.301 0.29125.666
filtering25.597 0.25025.922
getter_setter_functions25.639 0.28826.003
injectOutliers39.703 0.20740.001
loadFraserDataSet0.5460.0120.561
makeSimulatedFraserDataSet6.0140.0246.059
mergeExternalData28.463 0.23128.786
plotFunctions225.255 6.876232.854
potentialImpactAnnotations111.294 0.738112.293
psiTypes000
results35.479 0.23935.820
subset24.053 0.10024.227