| Back to Multiple platform build/check report for BioC 3.22: simplified long |
|
This page was generated on 2025-10-24 12:03 -0400 (Fri, 24 Oct 2025).
| Hostname | OS | Arch (*) | R version | Installed pkgs |
|---|---|---|---|---|
| nebbiolo2 | Linux (Ubuntu 24.04.3 LTS) | x86_64 | 4.5.1 Patched (2025-08-23 r88802) -- "Great Square Root" | 4898 |
| lconway | macOS 12.7.6 Monterey | x86_64 | 4.5.1 Patched (2025-09-10 r88807) -- "Great Square Root" | 4688 |
| kjohnson3 | macOS 13.7.7 Ventura | arm64 | 4.5.1 Patched (2025-09-10 r88807) -- "Great Square Root" | 4634 |
| taishan | Linux (openEuler 24.03 LTS) | aarch64 | 4.5.0 (2025-04-11) -- "How About a Twenty-Six" | 4658 |
| Click on any hostname to see more info about the system (e.g. compilers) (*) as reported by 'uname -p', except on Windows and Mac OS X | ||||
| Package 775/2359 | Hostname | OS / Arch | INSTALL | BUILD | CHECK | BUILD BIN | ||||||||
| FRASER 2.5.2 (landing page) Christian Mertes
| nebbiolo2 | Linux (Ubuntu 24.04.3 LTS) / x86_64 | OK | OK | OK | |||||||||
| lconway | macOS 12.7.6 Monterey / x86_64 | OK | OK | OK | OK | |||||||||
| kjohnson3 | macOS 13.7.7 Ventura / arm64 | OK | OK | OK | OK | |||||||||
| taishan | Linux (openEuler 24.03 LTS) / aarch64 | OK | OK | NA | ||||||||||
|
To the developers/maintainers of the FRASER package: - Allow up to 24 hours (and sometimes 48 hours) for your latest push to git@git.bioconductor.org:packages/FRASER.git to reflect on this report. See Troubleshooting Build Report for more information. - Use the following Renviron settings to reproduce errors and warnings. - If 'R CMD check' started to fail recently on the Linux builder(s) over a missing dependency, add the missing dependency to 'Suggests:' in your DESCRIPTION file. See Renviron.bioc for more information. |
| Package: FRASER |
| Version: 2.5.2 |
| Command: /home/biocbuild/bbs-3.22-bioc/R/bin/R CMD check --install=check:FRASER.install-out.txt --library=/home/biocbuild/bbs-3.22-bioc/R/site-library --timings FRASER_2.5.2.tar.gz |
| StartedAt: 2025-10-23 23:40:18 -0400 (Thu, 23 Oct 2025) |
| EndedAt: 2025-10-24 00:01:33 -0400 (Fri, 24 Oct 2025) |
| EllapsedTime: 1275.2 seconds |
| RetCode: 0 |
| Status: OK |
| CheckDir: FRASER.Rcheck |
| Warnings: 0 |
##############################################################################
##############################################################################
###
### Running command:
###
### /home/biocbuild/bbs-3.22-bioc/R/bin/R CMD check --install=check:FRASER.install-out.txt --library=/home/biocbuild/bbs-3.22-bioc/R/site-library --timings FRASER_2.5.2.tar.gz
###
##############################################################################
##############################################################################
* using log directory ‘/home/biocbuild/bbs-3.22-bioc/meat/FRASER.Rcheck’
* using R version 4.5.1 Patched (2025-08-23 r88802)
* using platform: x86_64-pc-linux-gnu
* R was compiled by
gcc (Ubuntu 13.3.0-6ubuntu2~24.04) 13.3.0
GNU Fortran (Ubuntu 13.3.0-6ubuntu2~24.04) 13.3.0
* running under: Ubuntu 24.04.3 LTS
* using session charset: UTF-8
* checking for file ‘FRASER/DESCRIPTION’ ... OK
* checking extension type ... Package
* this is package ‘FRASER’ version ‘2.5.2’
* package encoding: UTF-8
* checking package namespace information ... OK
* checking package dependencies ... INFO
Imports includes 34 non-default packages.
Importing from so many packages makes the package vulnerable to any of
them becoming unavailable. Move as many as possible to Suggests and
use conditionally.
* checking if this is a source package ... OK
* checking if there is a namespace ... OK
* checking for hidden files and directories ... OK
* checking for portable file names ... OK
* checking for sufficient/correct file permissions ... OK
* checking whether package ‘FRASER’ can be installed ... OK
* used C++ compiler: ‘g++ (Ubuntu 13.3.0-6ubuntu2~24.04) 13.3.0’
* checking installed package size ... INFO
installed size is 7.9Mb
sub-directories of 1Mb or more:
R 1.4Mb
libs 5.5Mb
* checking package directory ... OK
* checking ‘build’ directory ... OK
* checking DESCRIPTION meta-information ... OK
* checking top-level files ... OK
* checking for left-over files ... OK
* checking index information ... OK
* checking package subdirectories ... OK
* checking code files for non-ASCII characters ... OK
* checking R files for syntax errors ... OK
* checking whether the package can be loaded ... OK
* checking whether the package can be loaded with stated dependencies ... OK
* checking whether the package can be unloaded cleanly ... OK
* checking whether the namespace can be loaded with stated dependencies ... OK
* checking whether the namespace can be unloaded cleanly ... OK
* checking loading without being on the library search path ... OK
* checking whether startup messages can be suppressed ... OK
* checking dependencies in R code ... NOTE
Unexported objects imported by ':::' calls:
'S4Vectors:::selectSome' 'ggbio:::.buildFacetsFromArgs'
See the note in ?`:::` about the use of this operator.
* checking S3 generic/method consistency ... OK
* checking replacement functions ... OK
* checking foreign function calls ... OK
* checking R code for possible problems ... NOTE
annotateRangesWithTxDb: no visible binding for global variable
‘include’
calculatePadjValuesOnSubset : <anonymous>: no visible binding for
global variable ‘gene_rowIdx’
estimateBestQ: no visible binding for global variable ‘oht’
hyperParams: no visible binding for global variable ‘oht’
loadFraserDataSet: no visible global function definition for
‘slotNames’
plotEncDimSearch.FRASER: no visible binding for global variable ‘oht’
plotEncDimSearch.FRASER: no visible binding for global variable
‘singular_values’
plotVolcano.FRASER: no visible binding for global variable
‘aberrantLabel’
updateSeqlevelsStyle: no visible binding for global variable
‘NCBI_Genome_Name’
updateSeqlevelsStyle: no visible global function definition for
‘setNames’
updateSeqlevelsStyle: no visible global function definition for
‘seqnames<-’
updateSeqlevelsStyle: no visible binding for global variable
‘UCSC_Genome_Name’
plotEncDimSearch,FraserDataSet: no visible binding for global variable
‘oht’
plotEncDimSearch,FraserDataSet: no visible binding for global variable
‘singular_values’
plotVolcano,FraserDataSet: no visible binding for global variable
‘aberrantLabel’
results,FraserDataSet: no visible binding for global variable ‘padjust’
results,FraserDataSet: no visible binding for global variable
‘pValueGene’
results,FraserDataSet: no visible binding for global variable
‘padjustGene’
Undefined global functions or variables:
NCBI_Genome_Name UCSC_Genome_Name aberrantLabel gene_rowIdx include
oht pValueGene padjust padjustGene seqnames<- setNames
singular_values slotNames
Consider adding
importFrom("methods", "slotNames")
importFrom("stats", "setNames")
to your NAMESPACE file (and ensure that your DESCRIPTION Imports field
contains 'methods').
* checking Rd files ... OK
* checking Rd metadata ... OK
* checking Rd cross-references ... NOTE
Found the following Rd file(s) with Rd \link{} targets missing package
anchors:
plotFunctions.Rd: aberrant
Please provide package anchors for all Rd \link{} targets not in the
package itself and the base packages.
* checking for missing documentation entries ... OK
* checking for code/documentation mismatches ... OK
* checking Rd \usage sections ... OK
* checking Rd contents ... OK
* checking for unstated dependencies in examples ... OK
* checking line endings in C/C++/Fortran sources/headers ... OK
* checking line endings in Makefiles ... OK
* checking compilation flags in Makevars ... OK
* checking for GNU extensions in Makefiles ... OK
* checking for portable use of $(BLAS_LIBS) and $(LAPACK_LIBS) ... OK
* checking use of PKG_*FLAGS in Makefiles ... OK
* checking compiled code ... NOTE
Note: information on .o files is not available
* checking files in ‘vignettes’ ... OK
* checking examples ... OK
Examples with CPU (user + system) or elapsed time > 5s
user system elapsed
plotFunctions 148.004 3.910 151.909
potentialImpactAnnotations 86.880 0.911 87.760
FRASER 39.010 0.619 39.668
injectOutliers 26.490 0.064 24.985
results 23.532 0.059 23.542
annotateRanges 21.821 0.378 26.619
mergeExternalData 19.581 0.108 19.664
estimateBestQ 19.446 0.145 19.593
calculatePSIValues 18.149 0.208 18.330
fds-methods 16.730 0.113 16.811
filtering 16.587 0.102 16.671
getter_setter_functions 16.356 0.235 16.574
createTestFraserDataSet 15.753 0.140 15.861
subset 15.849 0.043 15.874
counts 15.182 0.061 15.224
* checking for unstated dependencies in ‘tests’ ... OK
* checking tests ...
Running ‘testthat.R’
OK
* checking for unstated dependencies in vignettes ... OK
* checking package vignettes ... OK
* checking re-building of vignette outputs ... OK
* checking PDF version of manual ... OK
* DONE
Status: 4 NOTEs
See
‘/home/biocbuild/bbs-3.22-bioc/meat/FRASER.Rcheck/00check.log’
for details.
FRASER.Rcheck/00install.out
############################################################################## ############################################################################## ### ### Running command: ### ### /home/biocbuild/bbs-3.22-bioc/R/bin/R CMD INSTALL FRASER ### ############################################################################## ############################################################################## * installing to library ‘/home/biocbuild/bbs-3.22-bioc/R/site-library’ * installing *source* package ‘FRASER’ ... ** this is package ‘FRASER’ version ‘2.5.2’ ** using staged installation ** libs using C++ compiler: ‘g++ (Ubuntu 13.3.0-6ubuntu2~24.04) 13.3.0’ g++ -std=gnu++17 -I"/home/biocbuild/bbs-3.22-bioc/R/include" -DNDEBUG -I'/home/biocbuild/bbs-3.22-bioc/R/site-library/RcppArmadillo/include' -I'/home/biocbuild/bbs-3.22-bioc/R/site-library/Rcpp/include' -I/usr/local/include -fopenmp -DARMA_DONT_USE_OPENMP -fpic -g -O2 -Wall -Werror=format-security -c RcppExports.cpp -o RcppExports.o g++ -std=gnu++17 -I"/home/biocbuild/bbs-3.22-bioc/R/include" -DNDEBUG -I'/home/biocbuild/bbs-3.22-bioc/R/site-library/RcppArmadillo/include' -I'/home/biocbuild/bbs-3.22-bioc/R/site-library/Rcpp/include' -I/usr/local/include -fopenmp -DARMA_DONT_USE_OPENMP -fpic -g -O2 -Wall -Werror=format-security -c loss_n_gradient_functions.cpp -o loss_n_gradient_functions.o g++ -std=gnu++17 -shared -L/home/biocbuild/bbs-3.22-bioc/R/lib -L/usr/local/lib -o FRASER.so RcppExports.o loss_n_gradient_functions.o -fopenmp -llapack -L/home/biocbuild/bbs-3.22-bioc/R/lib -lRblas -lgfortran -lm -lquadmath -L/home/biocbuild/bbs-3.22-bioc/R/lib -lR installing to /home/biocbuild/bbs-3.22-bioc/R/site-library/00LOCK-FRASER/00new/FRASER/libs ** R ** inst ** byte-compile and prepare package for lazy loading ** help *** installing help indices ** building package indices ** installing vignettes ** testing if installed package can be loaded from temporary location ** checking absolute paths in shared objects and dynamic libraries ** testing if installed package can be loaded from final location ** testing if installed package keeps a record of temporary installation path * DONE (FRASER)
FRASER.Rcheck/tests/testthat.Rout
R version 4.5.1 Patched (2025-08-23 r88802) -- "Great Square Root"
Copyright (C) 2025 The R Foundation for Statistical Computing
Platform: x86_64-pc-linux-gnu
R is free software and comes with ABSOLUTELY NO WARRANTY.
You are welcome to redistribute it under certain conditions.
Type 'license()' or 'licence()' for distribution details.
R is a collaborative project with many contributors.
Type 'contributors()' for more information and
'citation()' on how to cite R or R packages in publications.
Type 'demo()' for some demos, 'help()' for on-line help, or
'help.start()' for an HTML browser interface to help.
Type 'q()' to quit R.
> library(testthat)
> library(FRASER)
Loading required package: BiocParallel
Loading required package: data.table
Loading required package: Rsamtools
Loading required package: Seqinfo
Loading required package: BiocGenerics
Loading required package: generics
Attaching package: 'generics'
The following objects are masked from 'package:base':
as.difftime, as.factor, as.ordered, intersect, is.element, setdiff,
setequal, union
Attaching package: 'BiocGenerics'
The following objects are masked from 'package:stats':
IQR, mad, sd, var, xtabs
The following objects are masked from 'package:base':
Filter, Find, Map, Position, Reduce, anyDuplicated, aperm, append,
as.data.frame, basename, cbind, colnames, dirname, do.call,
duplicated, eval, evalq, get, grep, grepl, is.unsorted, lapply,
mapply, match, mget, order, paste, pmax, pmax.int, pmin, pmin.int,
rank, rbind, rownames, sapply, saveRDS, table, tapply, unique,
unsplit, which.max, which.min
Loading required package: GenomicRanges
Loading required package: stats4
Loading required package: S4Vectors
Attaching package: 'S4Vectors'
The following objects are masked from 'package:data.table':
first, second
The following object is masked from 'package:utils':
findMatches
The following objects are masked from 'package:base':
I, expand.grid, unname
Loading required package: IRanges
Attaching package: 'IRanges'
The following object is masked from 'package:data.table':
shift
Loading required package: Biostrings
Loading required package: XVector
Attaching package: 'Biostrings'
The following object is masked from 'package:base':
strsplit
Loading required package: SummarizedExperiment
Loading required package: MatrixGenerics
Loading required package: matrixStats
Attaching package: 'MatrixGenerics'
The following objects are masked from 'package:matrixStats':
colAlls, colAnyNAs, colAnys, colAvgsPerRowSet, colCollapse,
colCounts, colCummaxs, colCummins, colCumprods, colCumsums,
colDiffs, colIQRDiffs, colIQRs, colLogSumExps, colMadDiffs,
colMads, colMaxs, colMeans2, colMedians, colMins, colOrderStats,
colProds, colQuantiles, colRanges, colRanks, colSdDiffs, colSds,
colSums2, colTabulates, colVarDiffs, colVars, colWeightedMads,
colWeightedMeans, colWeightedMedians, colWeightedSds,
colWeightedVars, rowAlls, rowAnyNAs, rowAnys, rowAvgsPerColSet,
rowCollapse, rowCounts, rowCummaxs, rowCummins, rowCumprods,
rowCumsums, rowDiffs, rowIQRDiffs, rowIQRs, rowLogSumExps,
rowMadDiffs, rowMads, rowMaxs, rowMeans2, rowMedians, rowMins,
rowOrderStats, rowProds, rowQuantiles, rowRanges, rowRanks,
rowSdDiffs, rowSds, rowSums2, rowTabulates, rowVarDiffs, rowVars,
rowWeightedMads, rowWeightedMeans, rowWeightedMedians,
rowWeightedSds, rowWeightedVars
Loading required package: Biobase
Welcome to Bioconductor
Vignettes contain introductory material; view with
'browseVignettes()'. To cite Bioconductor, see
'citation("Biobase")', and for packages 'citation("pkgname")'.
Attaching package: 'Biobase'
The following object is masked from 'package:MatrixGenerics':
rowMedians
The following objects are masked from 'package:matrixStats':
anyMissing, rowMedians
Attaching package: 'FRASER'
The following object is masked from 'package:Biobase':
samples
>
> # to speed up the testing on windows do it in serial mode
> if(.Platform$OS.type != "unix") {
+ register(SerialParam())
+ }
>
> test_check("FRASER")
Optimal encoding dimension: 2
Optimal encoding dimension: 1
[ FAIL 0 | WARN 248 | SKIP 0 | PASS 106 ]
[ FAIL 0 | WARN 248 | SKIP 0 | PASS 106 ]
>
> proc.time()
user system elapsed
180.376 44.071 171.006
FRASER.Rcheck/FRASER-Ex.timings
| name | user | system | elapsed | |
| FRASER | 39.010 | 0.619 | 39.668 | |
| FraserDataSet | 0.338 | 0.008 | 0.346 | |
| annotateRanges | 21.821 | 0.378 | 26.619 | |
| calculatePSIValues | 18.149 | 0.208 | 18.330 | |
| countRNA | 0.864 | 0.025 | 0.890 | |
| counts | 15.182 | 0.061 | 15.224 | |
| createTestFraserDataSet | 15.753 | 0.140 | 15.861 | |
| estimateBestQ | 19.446 | 0.145 | 19.593 | |
| fds-methods | 16.730 | 0.113 | 16.811 | |
| filtering | 16.587 | 0.102 | 16.671 | |
| getter_setter_functions | 16.356 | 0.235 | 16.574 | |
| injectOutliers | 26.490 | 0.064 | 24.985 | |
| loadFraserDataSet | 0.347 | 0.003 | 0.352 | |
| makeSimulatedFraserDataSet | 3.603 | 0.038 | 3.641 | |
| mergeExternalData | 19.581 | 0.108 | 19.664 | |
| plotFunctions | 148.004 | 3.910 | 151.909 | |
| potentialImpactAnnotations | 86.880 | 0.911 | 87.760 | |
| psiTypes | 0.001 | 0.000 | 0.001 | |
| results | 23.532 | 0.059 | 23.542 | |
| subset | 15.849 | 0.043 | 15.874 | |