| Back to Multiple platform build/check report for BioC 3.22: simplified long |
|
This page was generated on 2025-10-21 12:07 -0400 (Tue, 21 Oct 2025).
| Hostname | OS | Arch (*) | R version | Installed pkgs |
|---|---|---|---|---|
| nebbiolo2 | Linux (Ubuntu 24.04.3 LTS) | x86_64 | 4.5.1 Patched (2025-08-23 r88802) -- "Great Square Root" | 4887 |
| lconway | macOS 12.7.6 Monterey | x86_64 | 4.5.1 Patched (2025-09-10 r88807) -- "Great Square Root" | 4677 |
| kjohnson3 | macOS 13.7.7 Ventura | arm64 | 4.5.1 Patched (2025-09-10 r88807) -- "Great Square Root" | 4622 |
| taishan | Linux (openEuler 24.03 LTS) | aarch64 | 4.5.0 (2025-04-11) -- "How About a Twenty-Six" | 4642 |
| Click on any hostname to see more info about the system (e.g. compilers) (*) as reported by 'uname -p', except on Windows and Mac OS X | ||||
| Package 1897/2353 | Hostname | OS / Arch | INSTALL | BUILD | CHECK | BUILD BIN | ||||||||
| scater 1.37.0 (landing page) Alan O'Callaghan
| nebbiolo2 | Linux (Ubuntu 24.04.3 LTS) / x86_64 | OK | OK | OK | |||||||||
| lconway | macOS 12.7.6 Monterey / x86_64 | OK | OK | OK | OK | |||||||||
| kjohnson3 | macOS 13.7.7 Ventura / arm64 | OK | OK | ERROR | OK | |||||||||
| taishan | Linux (openEuler 24.03 LTS) / aarch64 | OK | OK | OK | ||||||||||
|
To the developers/maintainers of the scater package: - Allow up to 24 hours (and sometimes 48 hours) for your latest push to git@git.bioconductor.org:packages/scater.git to reflect on this report. See Troubleshooting Build Report for more information. - Use the following Renviron settings to reproduce errors and warnings. - If 'R CMD check' started to fail recently on the Linux builder(s) over a missing dependency, add the missing dependency to 'Suggests:' in your DESCRIPTION file. See Renviron.bioc for more information. - See Martin Grigorov's blog post for how to debug Linux ARM64 related issues on a x86_64 host. |
| Package: scater |
| Version: 1.37.0 |
| Command: /home/biocbuild/R/R/bin/R CMD check --install=check:scater.install-out.txt --library=/home/biocbuild/R/R/site-library --no-vignettes --timings scater_1.37.0.tar.gz |
| StartedAt: 2025-10-17 13:12:08 -0000 (Fri, 17 Oct 2025) |
| EndedAt: 2025-10-17 13:22:51 -0000 (Fri, 17 Oct 2025) |
| EllapsedTime: 643.7 seconds |
| RetCode: 0 |
| Status: OK |
| CheckDir: scater.Rcheck |
| Warnings: 0 |
##############################################################################
##############################################################################
###
### Running command:
###
### /home/biocbuild/R/R/bin/R CMD check --install=check:scater.install-out.txt --library=/home/biocbuild/R/R/site-library --no-vignettes --timings scater_1.37.0.tar.gz
###
##############################################################################
##############################################################################
* using log directory ‘/home/biocbuild/bbs-3.22-bioc/meat/scater.Rcheck’
* using R version 4.5.0 (2025-04-11)
* using platform: aarch64-unknown-linux-gnu
* R was compiled by
aarch64-unknown-linux-gnu-gcc (GCC) 14.2.0
GNU Fortran (GCC) 14.2.0
* running under: openEuler 24.03 (LTS)
* using session charset: UTF-8
* using option ‘--no-vignettes’
* checking for file ‘scater/DESCRIPTION’ ... OK
* checking extension type ... Package
* this is package ‘scater’ version ‘1.37.0’
* package encoding: UTF-8
* checking package namespace information ... OK
* checking package dependencies ... INFO
Imports includes 21 non-default packages.
Importing from so many packages makes the package vulnerable to any of
them becoming unavailable. Move as many as possible to Suggests and
use conditionally.
* checking if this is a source package ... OK
* checking if there is a namespace ... OK
* checking for hidden files and directories ... OK
* checking for portable file names ... OK
* checking for sufficient/correct file permissions ... OK
* checking whether package ‘scater’ can be installed ... OK
* checking installed package size ... OK
* checking package directory ... OK
* checking ‘build’ directory ... OK
* checking DESCRIPTION meta-information ... OK
* checking top-level files ... OK
* checking for left-over files ... OK
* checking index information ... OK
* checking package subdirectories ... OK
* checking code files for non-ASCII characters ... OK
* checking R files for syntax errors ... OK
* checking whether the package can be loaded ... OK
* checking whether the package can be loaded with stated dependencies ... OK
* checking whether the package can be unloaded cleanly ... OK
* checking whether the namespace can be loaded with stated dependencies ... OK
* checking whether the namespace can be unloaded cleanly ... OK
* checking loading without being on the library search path ... OK
* checking dependencies in R code ... OK
* checking S3 generic/method consistency ... OK
* checking replacement functions ... OK
* checking foreign function calls ... OK
* checking R code for possible problems ... NOTE
.handle_truncval: no visible global function definition for ‘quantile’
Undefined global functions or variables:
quantile
Consider adding
importFrom("stats", "quantile")
to your NAMESPACE file.
* checking Rd files ... OK
* checking Rd metadata ... OK
* checking Rd cross-references ... NOTE
Found the following Rd file(s) with Rd \link{} targets missing package
anchors:
accessors.Rd: SingleCellExperiment
annotateBMFeatures.Rd: SingleCellExperiment,
SingleCellExperiment-class, DataFrame-class, rowData
bootstraps.Rd: SingleCellExperiment
getExplanatoryPCs.Rd: SingleCellExperiment-class
getVarianceExplained.Rd: SummarizedExperiment-class, DataFrame-class,
BiocParallelParam-class
ggsce.Rd: ggplot, SingleCellExperiment-class, aes
nexprs.Rd: SummarizedExperiment-class, BiocParallelParam-class,
DelayedMatrix-class
plotColData.Rd: SingleCellExperiment-class, geom_hex, ggplot
plotDots.Rd: SingleCellExperiment-class, colData,
correctGroupSummary, ggplot
plotExpression.Rd: geom_hex
plotGroupedHeatmap.Rd: SingleCellExperiment-class, colData,
correctGroupSummary
plotHeatmap.Rd: SingleCellExperiment-class
plotHighestExprs.Rd: ggplot
plotRLE.Rd: BiocParallelParam-class, DelayedArray
plotReducedDim.Rd: geom_hex
plotRowData.Rd: ggplot
plotScater.Rd: SingleCellExperiment-class, facet_wrap, ggplot
plot_reddim.Rd: reducedDims, ggplot
projectReducedDim.Rd: SummarizedExperiment-class,
SingleCellExperiment-class
retrieveCellInfo.Rd: SingleCellExperiment-class, DataFrame-class,
colData, assay, altExps
retrieveFeatureInfo.Rd: SingleCellExperiment-class, DataFrame-class,
rowData, assay
runColDataPCA.Rd: SingleCellExperiment-class,
BiocSingularParam-class, BiocParallelParam-class
runMDS.Rd: SummarizedExperiment-class, SingleCellExperiment-class,
reducedDims, reducedDim, altExp
runMultiUMAP.Rd: SummarizedExperiment-class,
SingleCellExperiment-class, reducedDims, altExps
runNMF.Rd: SummarizedExperiment-class, SingleCellExperiment-class,
reducedDims, reducedDim, altExp
runPCA.Rd: SummarizedExperiment-class, SingleCellExperiment-class,
BiocSingularParam-class, BiocParallelParam-class, reducedDims,
bsparam, reducedDim, altExp
runTSNE.Rd: SummarizedExperiment-class, SingleCellExperiment-class,
MulticoreParam-class, findKNN, BiocNeighborParam-class,
BiocParallelParam-class, reducedDims, reducedDim, altExp
runUMAP.Rd: SummarizedExperiment-class, SingleCellExperiment-class,
MulticoreParam-class, findKNN, BiocNeighborParam-class,
BiocParallelParam-class, reducedDims, reducedDim, altExp
scater-plot-args.Rd: ggplot, DataFrame-class
toSingleCellExperiment.Rd: SingleCellExperiment
Please provide package anchors for all Rd \link{} targets not in the
package itself and the base packages.
* checking for missing documentation entries ... OK
* checking for code/documentation mismatches ... OK
* checking Rd \usage sections ... OK
* checking Rd contents ... OK
* checking for unstated dependencies in examples ... OK
* checking files in ‘vignettes’ ... OK
* checking examples ... OK
Examples with CPU (user + system) or elapsed time > 5s
user system elapsed
plotReducedDim 13.304 0.326 14.421
plotRLE 9.856 0.236 10.243
plotExpression 8.515 0.267 9.181
plotColData 5.444 0.163 5.606
runMultiUMAP 5.571 0.012 6.003
plot_reddim 5.219 0.025 5.258
* checking for unstated dependencies in ‘tests’ ... OK
* checking tests ...
Running ‘testthat.R’
OK
* checking for unstated dependencies in vignettes ... OK
* checking package vignettes ... OK
* checking running R code from vignettes ... SKIPPED
* checking re-building of vignette outputs ... SKIPPED
* checking PDF version of manual ... OK
* DONE
Status: 2 NOTEs
See
‘/home/biocbuild/bbs-3.22-bioc/meat/scater.Rcheck/00check.log’
for details.
scater.Rcheck/00install.out
############################################################################## ############################################################################## ### ### Running command: ### ### /home/biocbuild/R/R/bin/R CMD INSTALL scater ### ############################################################################## ############################################################################## * installing to library ‘/home/biocbuild/R/R-4.5.0/site-library’ * installing *source* package ‘scater’ ... ** this is package ‘scater’ version ‘1.37.0’ ** using staged installation ** R ** inst ** byte-compile and prepare package for lazy loading ** help *** installing help indices ** building package indices ** installing vignettes ** testing if installed package can be loaded from temporary location ** testing if installed package can be loaded from final location ** testing if installed package keeps a record of temporary installation path * DONE (scater)
scater.Rcheck/tests/testthat.Rout
R version 4.5.0 (2025-04-11) -- "How About a Twenty-Six"
Copyright (C) 2025 The R Foundation for Statistical Computing
Platform: aarch64-unknown-linux-gnu
R is free software and comes with ABSOLUTELY NO WARRANTY.
You are welcome to redistribute it under certain conditions.
Type 'license()' or 'licence()' for distribution details.
R is a collaborative project with many contributors.
Type 'contributors()' for more information and
'citation()' on how to cite R or R packages in publications.
Type 'demo()' for some demos, 'help()' for on-line help, or
'help.start()' for an HTML browser interface to help.
Type 'q()' to quit R.
> Sys.setenv("R_TESTS" = "")
> library(testthat)
> library(scater)
Loading required package: SingleCellExperiment
Loading required package: SummarizedExperiment
Loading required package: MatrixGenerics
Loading required package: matrixStats
Attaching package: 'MatrixGenerics'
The following objects are masked from 'package:matrixStats':
colAlls, colAnyNAs, colAnys, colAvgsPerRowSet, colCollapse,
colCounts, colCummaxs, colCummins, colCumprods, colCumsums,
colDiffs, colIQRDiffs, colIQRs, colLogSumExps, colMadDiffs,
colMads, colMaxs, colMeans2, colMedians, colMins, colOrderStats,
colProds, colQuantiles, colRanges, colRanks, colSdDiffs, colSds,
colSums2, colTabulates, colVarDiffs, colVars, colWeightedMads,
colWeightedMeans, colWeightedMedians, colWeightedSds,
colWeightedVars, rowAlls, rowAnyNAs, rowAnys, rowAvgsPerColSet,
rowCollapse, rowCounts, rowCummaxs, rowCummins, rowCumprods,
rowCumsums, rowDiffs, rowIQRDiffs, rowIQRs, rowLogSumExps,
rowMadDiffs, rowMads, rowMaxs, rowMeans2, rowMedians, rowMins,
rowOrderStats, rowProds, rowQuantiles, rowRanges, rowRanks,
rowSdDiffs, rowSds, rowSums2, rowTabulates, rowVarDiffs, rowVars,
rowWeightedMads, rowWeightedMeans, rowWeightedMedians,
rowWeightedSds, rowWeightedVars
Loading required package: GenomicRanges
Loading required package: stats4
Loading required package: BiocGenerics
Loading required package: generics
Attaching package: 'generics'
The following objects are masked from 'package:base':
as.difftime, as.factor, as.ordered, intersect, is.element, setdiff,
setequal, union
Attaching package: 'BiocGenerics'
The following objects are masked from 'package:stats':
IQR, mad, sd, var, xtabs
The following objects are masked from 'package:base':
Filter, Find, Map, Position, Reduce, anyDuplicated, aperm, append,
as.data.frame, basename, cbind, colnames, dirname, do.call,
duplicated, eval, evalq, get, grep, grepl, is.unsorted, lapply,
mapply, match, mget, order, paste, pmax, pmax.int, pmin, pmin.int,
rank, rbind, rownames, sapply, saveRDS, table, tapply, unique,
unsplit, which.max, which.min
Loading required package: S4Vectors
Attaching package: 'S4Vectors'
The following object is masked from 'package:utils':
findMatches
The following objects are masked from 'package:base':
I, expand.grid, unname
Loading required package: IRanges
Loading required package: Seqinfo
Loading required package: Biobase
Welcome to Bioconductor
Vignettes contain introductory material; view with
'browseVignettes()'. To cite Bioconductor, see
'citation("Biobase")', and for packages 'citation("pkgname")'.
Attaching package: 'Biobase'
The following object is masked from 'package:MatrixGenerics':
rowMedians
The following objects are masked from 'package:matrixStats':
anyMissing, rowMedians
Loading required package: scuttle
Loading required package: ggplot2
>
> test_check("scater")
Loading required package: Matrix
Attaching package: 'Matrix'
The following object is masked from 'package:S4Vectors':
expand
Loading required package: S4Arrays
Loading required package: abind
Attaching package: 'S4Arrays'
The following object is masked from 'package:abind':
abind
The following object is masked from 'package:base':
rowsum
Loading required package: SparseArray
Attaching package: 'DelayedArray'
The following objects are masked from 'package:base':
apply, scale, sweep
[ FAIL 0 | WARN 31 | SKIP 0 | PASS 822 ]
[ FAIL 0 | WARN 31 | SKIP 0 | PASS 822 ]
>
> proc.time()
user system elapsed
270.006 1.890 294.586
scater.Rcheck/scater-Ex.timings
| name | user | system | elapsed | |
| accessors | 1.607 | 0.068 | 1.681 | |
| annotateBMFeatures | 0.001 | 0.000 | 0.000 | |
| bootstraps | 0.304 | 0.000 | 0.304 | |
| defunct | 0.000 | 0.000 | 0.001 | |
| getExplanatoryPCs | 0.804 | 0.064 | 0.871 | |
| getVarianceExplained | 0.506 | 0.004 | 0.512 | |
| ggsce | 3.417 | 0.108 | 3.537 | |
| nexprs | 0.325 | 0.015 | 0.343 | |
| plotColData | 5.444 | 0.163 | 5.606 | |
| plotDots | 3.046 | 0.108 | 3.163 | |
| plotExplanatoryPCs | 1.284 | 0.084 | 1.371 | |
| plotExplanatoryVariables | 0.978 | 0.012 | 0.992 | |
| plotExpression | 8.515 | 0.267 | 9.181 | |
| plotGroupedHeatmap | 0.760 | 0.024 | 0.786 | |
| plotHeatmap | 0.724 | 0.043 | 0.770 | |
| plotHighestExprs | 1.601 | 0.028 | 1.634 | |
| plotPlatePosition | 1.802 | 0.039 | 1.847 | |
| plotRLE | 9.856 | 0.236 | 10.243 | |
| plotReducedDim | 13.304 | 0.326 | 14.421 | |
| plotRowData | 0.844 | 0.020 | 0.866 | |
| plotScater | 3.571 | 0.020 | 3.601 | |
| plot_reddim | 5.219 | 0.025 | 5.258 | |
| projectReducedDim | 4.497 | 0.119 | 4.737 | |
| retrieveCellInfo | 0.413 | 0.000 | 0.414 | |
| retrieveFeatureInfo | 0.464 | 0.004 | 0.469 | |
| runColDataPCA | 0.755 | 0.012 | 0.769 | |
| runMDS | 0.554 | 0.000 | 0.555 | |
| runMultiUMAP | 5.571 | 0.012 | 6.003 | |
| runNMF | 0.525 | 0.005 | 0.635 | |
| runPCA | 0.627 | 0.008 | 1.093 | |
| runTSNE | 1.320 | 0.004 | 1.326 | |
| runUMAP | 3.664 | 0.052 | 3.724 | |
| toSingleCellExperiment | 0 | 0 | 0 | |