| Back to Multiple platform build/check report for BioC 3.22: simplified long |
|
This page was generated on 2025-10-24 12:07 -0400 (Fri, 24 Oct 2025).
| Hostname | OS | Arch (*) | R version | Installed pkgs |
|---|---|---|---|---|
| nebbiolo2 | Linux (Ubuntu 24.04.3 LTS) | x86_64 | 4.5.1 Patched (2025-08-23 r88802) -- "Great Square Root" | 4898 |
| lconway | macOS 12.7.6 Monterey | x86_64 | 4.5.1 Patched (2025-09-10 r88807) -- "Great Square Root" | 4688 |
| kjohnson3 | macOS 13.7.7 Ventura | arm64 | 4.5.1 Patched (2025-09-10 r88807) -- "Great Square Root" | 4634 |
| taishan | Linux (openEuler 24.03 LTS) | aarch64 | 4.5.0 (2025-04-11) -- "How About a Twenty-Six" | 4658 |
| Click on any hostname to see more info about the system (e.g. compilers) (*) as reported by 'uname -p', except on Windows and Mac OS X | ||||
| Package 610/2359 | Hostname | OS / Arch | INSTALL | BUILD | CHECK | BUILD BIN | ||||||||
| DNABarcodes 1.39.0 (landing page) Tilo Buschmann
| nebbiolo2 | Linux (Ubuntu 24.04.3 LTS) / x86_64 | OK | OK | OK | |||||||||
| lconway | macOS 12.7.6 Monterey / x86_64 | OK | OK | OK | OK | |||||||||
| kjohnson3 | macOS 13.7.7 Ventura / arm64 | OK | OK | OK | OK | |||||||||
| taishan | Linux (openEuler 24.03 LTS) / aarch64 | OK | OK | OK | ||||||||||
|
To the developers/maintainers of the DNABarcodes package: - Allow up to 24 hours (and sometimes 48 hours) for your latest push to git@git.bioconductor.org:packages/DNABarcodes.git to reflect on this report. See Troubleshooting Build Report for more information. - Use the following Renviron settings to reproduce errors and warnings. - If 'R CMD check' started to fail recently on the Linux builder(s) over a missing dependency, add the missing dependency to 'Suggests:' in your DESCRIPTION file. See Renviron.bioc for more information. - See Martin Grigorov's blog post for how to debug Linux ARM64 related issues on a x86_64 host. |
| Package: DNABarcodes |
| Version: 1.39.0 |
| Command: /home/biocbuild/R/R/bin/R CMD INSTALL DNABarcodes |
| StartedAt: 2025-10-23 20:20:41 -0000 (Thu, 23 Oct 2025) |
| EndedAt: 2025-10-23 20:22:55 -0000 (Thu, 23 Oct 2025) |
| EllapsedTime: 134.2 seconds |
| RetCode: 0 |
| Status: OK |
##############################################################################
##############################################################################
###
### Running command:
###
### /home/biocbuild/R/R/bin/R CMD INSTALL DNABarcodes
###
##############################################################################
##############################################################################
* installing to library ‘/home/biocbuild/R/R-4.5.0/site-library’
* installing *source* package ‘DNABarcodes’ ...
** this is package ‘DNABarcodes’ version ‘1.39.0’
** using staged installation
** libs
using C compiler: ‘aarch64-unknown-linux-gnu-gcc (GCC) 14.2.0’
using C++ compiler: ‘aarch64-unknown-linux-gnu-g++ (GCC) 14.2.0’
using C++17
/opt/ohpc/pub/compiler/gcc/14.2.0/bin/aarch64-unknown-linux-gnu-gcc -std=gnu23 -I"/home/biocbuild/R/R-4.5.0/include" -DNDEBUG -I'/home/biocbuild/R/R-4.5.0/site-library/Rcpp/include' -I'/home/biocbuild/R/R-4.5.0/site-library/BH/include' -I/usr/local/include -fopenmp -fPIC -g -O2 -Wall -Werror=format-security -c DNABarcodes_init.c -o DNABarcodes_init.o
/opt/ohpc/pub/compiler/gcc/14.2.0/bin/aarch64-unknown-linux-gnu-g++ -std=gnu++17 -I"/home/biocbuild/R/R-4.5.0/include" -DNDEBUG -I'/home/biocbuild/R/R-4.5.0/site-library/Rcpp/include' -I'/home/biocbuild/R/R-4.5.0/site-library/BH/include' -I/usr/local/include -fopenmp -fPIC -g -O2 -Wall -Werror=format-security -c RcppExports.cpp -o RcppExports.o
/opt/ohpc/pub/compiler/gcc/14.2.0/bin/aarch64-unknown-linux-gnu-g++ -std=gnu++17 -I"/home/biocbuild/R/R-4.5.0/include" -DNDEBUG -I'/home/biocbuild/R/R-4.5.0/site-library/Rcpp/include' -I'/home/biocbuild/R/R-4.5.0/site-library/BH/include' -I/usr/local/include -fopenmp -fPIC -g -O2 -Wall -Werror=format-security -c analyse_barcodes.cpp -o analyse_barcodes.o
In file included from /home/biocbuild/R/R-4.5.0/site-library/BH/include/boost/smart_ptr/shared_ptr.hpp:17,
from /home/biocbuild/R/R-4.5.0/site-library/BH/include/boost/shared_ptr.hpp:17,
from sequence.h:19,
from distance.h:14,
from analyse_barcodes.cpp:10:
/home/biocbuild/R/R-4.5.0/site-library/BH/include/boost/smart_ptr/detail/shared_count.hpp:326:33: warning: ‘template<class> class std::auto_ptr’ is deprecated: use 'std::unique_ptr' instead [-Wdeprecated-declarations]
326 | explicit shared_count( std::auto_ptr<Y> & r ): pi_( new sp_counted_impl_p<Y>( r.get() ) )
| ^~~~~~~~
In file included from /opt/ohpc/pub/compiler/gcc/14.2.0/include/c++/14.2.0/memory:78,
from distance.h:11:
/opt/ohpc/pub/compiler/gcc/14.2.0/include/c++/14.2.0/bits/unique_ptr.h:59:28: note: declared here
59 | template<typename> class auto_ptr;
| ^~~~~~~~
/home/biocbuild/R/R-4.5.0/site-library/BH/include/boost/smart_ptr/shared_ptr.hpp:354:31: warning: ‘template<class> class std::auto_ptr’ is deprecated: use 'std::unique_ptr' instead [-Wdeprecated-declarations]
354 | explicit shared_ptr( std::auto_ptr<Y> & r ): px(r.get()), pn()
| ^~~~~~~~
/opt/ohpc/pub/compiler/gcc/14.2.0/include/c++/14.2.0/bits/unique_ptr.h:59:28: note: declared here
59 | template<typename> class auto_ptr;
| ^~~~~~~~
/home/biocbuild/R/R-4.5.0/site-library/BH/include/boost/smart_ptr/shared_ptr.hpp:365:22: warning: ‘template<class> class std::auto_ptr’ is deprecated: use 'std::unique_ptr' instead [-Wdeprecated-declarations]
365 | shared_ptr( std::auto_ptr<Y> && r ): px(r.get()), pn()
| ^~~~~~~~
/opt/ohpc/pub/compiler/gcc/14.2.0/include/c++/14.2.0/bits/unique_ptr.h:59:28: note: declared here
59 | template<typename> class auto_ptr;
| ^~~~~~~~
/home/biocbuild/R/R-4.5.0/site-library/BH/include/boost/smart_ptr/shared_ptr.hpp:423:34: warning: ‘template<class> class std::auto_ptr’ is deprecated: use 'std::unique_ptr' instead [-Wdeprecated-declarations]
423 | shared_ptr & operator=( std::auto_ptr<Y> & r )
| ^~~~~~~~
/opt/ohpc/pub/compiler/gcc/14.2.0/include/c++/14.2.0/bits/unique_ptr.h:59:28: note: declared here
59 | template<typename> class auto_ptr;
| ^~~~~~~~
/home/biocbuild/R/R-4.5.0/site-library/BH/include/boost/smart_ptr/shared_ptr.hpp:430:34: warning: ‘template<class> class std::auto_ptr’ is deprecated: use 'std::unique_ptr' instead [-Wdeprecated-declarations]
430 | shared_ptr & operator=( std::auto_ptr<Y> && r )
| ^~~~~~~~
/opt/ohpc/pub/compiler/gcc/14.2.0/include/c++/14.2.0/bits/unique_ptr.h:59:28: note: declared here
59 | template<typename> class auto_ptr;
| ^~~~~~~~
/home/biocbuild/R/R-4.5.0/site-library/BH/include/boost/smart_ptr/shared_ptr.hpp: In member function ‘boost::shared_ptr<T>& boost::shared_ptr<T>::operator=(std::auto_ptr<_Up>&&)’:
/home/biocbuild/R/R-4.5.0/site-library/BH/include/boost/smart_ptr/shared_ptr.hpp:432:38: warning: ‘template<class> class std::auto_ptr’ is deprecated: use 'std::unique_ptr' instead [-Wdeprecated-declarations]
432 | this_type( static_cast< std::auto_ptr<Y> && >( r ) ).swap( *this );
| ^~~~~~~~
/opt/ohpc/pub/compiler/gcc/14.2.0/include/c++/14.2.0/bits/unique_ptr.h:59:28: note: declared here
59 | template<typename> class auto_ptr;
| ^~~~~~~~
/opt/ohpc/pub/compiler/gcc/14.2.0/bin/aarch64-unknown-linux-gnu-g++ -std=gnu++17 -I"/home/biocbuild/R/R-4.5.0/include" -DNDEBUG -I'/home/biocbuild/R/R-4.5.0/site-library/Rcpp/include' -I'/home/biocbuild/R/R-4.5.0/site-library/BH/include' -I/usr/local/include -fopenmp -fPIC -g -O2 -Wall -Werror=format-security -c barcode_set_distances.cpp -o barcode_set_distances.o
In file included from /home/biocbuild/R/R-4.5.0/site-library/BH/include/boost/smart_ptr/shared_ptr.hpp:17,
from /home/biocbuild/R/R-4.5.0/site-library/BH/include/boost/shared_ptr.hpp:17,
from sequence.h:19,
from distance.h:14,
from barcode_set_distances.cpp:10:
/home/biocbuild/R/R-4.5.0/site-library/BH/include/boost/smart_ptr/detail/shared_count.hpp:326:33: warning: ‘template<class> class std::auto_ptr’ is deprecated: use 'std::unique_ptr' instead [-Wdeprecated-declarations]
326 | explicit shared_count( std::auto_ptr<Y> & r ): pi_( new sp_counted_impl_p<Y>( r.get() ) )
| ^~~~~~~~
In file included from /opt/ohpc/pub/compiler/gcc/14.2.0/include/c++/14.2.0/memory:78,
from distance.h:11:
/opt/ohpc/pub/compiler/gcc/14.2.0/include/c++/14.2.0/bits/unique_ptr.h:59:28: note: declared here
59 | template<typename> class auto_ptr;
| ^~~~~~~~
/home/biocbuild/R/R-4.5.0/site-library/BH/include/boost/smart_ptr/shared_ptr.hpp:354:31: warning: ‘template<class> class std::auto_ptr’ is deprecated: use 'std::unique_ptr' instead [-Wdeprecated-declarations]
354 | explicit shared_ptr( std::auto_ptr<Y> & r ): px(r.get()), pn()
| ^~~~~~~~
/opt/ohpc/pub/compiler/gcc/14.2.0/include/c++/14.2.0/bits/unique_ptr.h:59:28: note: declared here
59 | template<typename> class auto_ptr;
| ^~~~~~~~
/home/biocbuild/R/R-4.5.0/site-library/BH/include/boost/smart_ptr/shared_ptr.hpp:365:22: warning: ‘template<class> class std::auto_ptr’ is deprecated: use 'std::unique_ptr' instead [-Wdeprecated-declarations]
365 | shared_ptr( std::auto_ptr<Y> && r ): px(r.get()), pn()
| ^~~~~~~~
/opt/ohpc/pub/compiler/gcc/14.2.0/include/c++/14.2.0/bits/unique_ptr.h:59:28: note: declared here
59 | template<typename> class auto_ptr;
| ^~~~~~~~
/home/biocbuild/R/R-4.5.0/site-library/BH/include/boost/smart_ptr/shared_ptr.hpp:423:34: warning: ‘template<class> class std::auto_ptr’ is deprecated: use 'std::unique_ptr' instead [-Wdeprecated-declarations]
423 | shared_ptr & operator=( std::auto_ptr<Y> & r )
| ^~~~~~~~
/opt/ohpc/pub/compiler/gcc/14.2.0/include/c++/14.2.0/bits/unique_ptr.h:59:28: note: declared here
59 | template<typename> class auto_ptr;
| ^~~~~~~~
/home/biocbuild/R/R-4.5.0/site-library/BH/include/boost/smart_ptr/shared_ptr.hpp:430:34: warning: ‘template<class> class std::auto_ptr’ is deprecated: use 'std::unique_ptr' instead [-Wdeprecated-declarations]
430 | shared_ptr & operator=( std::auto_ptr<Y> && r )
| ^~~~~~~~
/opt/ohpc/pub/compiler/gcc/14.2.0/include/c++/14.2.0/bits/unique_ptr.h:59:28: note: declared here
59 | template<typename> class auto_ptr;
| ^~~~~~~~
/home/biocbuild/R/R-4.5.0/site-library/BH/include/boost/smart_ptr/shared_ptr.hpp: In member function ‘boost::shared_ptr<T>& boost::shared_ptr<T>::operator=(std::auto_ptr<_Up>&&)’:
/home/biocbuild/R/R-4.5.0/site-library/BH/include/boost/smart_ptr/shared_ptr.hpp:432:38: warning: ‘template<class> class std::auto_ptr’ is deprecated: use 'std::unique_ptr' instead [-Wdeprecated-declarations]
432 | this_type( static_cast< std::auto_ptr<Y> && >( r ) ).swap( *this );
| ^~~~~~~~
/opt/ohpc/pub/compiler/gcc/14.2.0/include/c++/14.2.0/bits/unique_ptr.h:59:28: note: declared here
59 | template<typename> class auto_ptr;
| ^~~~~~~~
/opt/ohpc/pub/compiler/gcc/14.2.0/bin/aarch64-unknown-linux-gnu-g++ -std=gnu++17 -I"/home/biocbuild/R/R-4.5.0/include" -DNDEBUG -I'/home/biocbuild/R/R-4.5.0/site-library/Rcpp/include' -I'/home/biocbuild/R/R-4.5.0/site-library/BH/include' -I/usr/local/include -fopenmp -fPIC -g -O2 -Wall -Werror=format-security -c cachedistance.cpp -o cachedistance.o
In file included from /home/biocbuild/R/R-4.5.0/site-library/BH/include/boost/smart_ptr/shared_ptr.hpp:17,
from /home/biocbuild/R/R-4.5.0/site-library/BH/include/boost/shared_ptr.hpp:17,
from sequence.h:19,
from cachedistance.cpp:7:
/home/biocbuild/R/R-4.5.0/site-library/BH/include/boost/smart_ptr/detail/shared_count.hpp:326:33: warning: ‘template<class> class std::auto_ptr’ is deprecated: use 'std::unique_ptr' instead [-Wdeprecated-declarations]
326 | explicit shared_count( std::auto_ptr<Y> & r ): pi_( new sp_counted_impl_p<Y>( r.get() ) )
| ^~~~~~~~
In file included from /opt/ohpc/pub/compiler/gcc/14.2.0/include/c++/14.2.0/memory:78,
from sequence.h:13:
/opt/ohpc/pub/compiler/gcc/14.2.0/include/c++/14.2.0/bits/unique_ptr.h:59:28: note: declared here
59 | template<typename> class auto_ptr;
| ^~~~~~~~
/home/biocbuild/R/R-4.5.0/site-library/BH/include/boost/smart_ptr/shared_ptr.hpp:354:31: warning: ‘template<class> class std::auto_ptr’ is deprecated: use 'std::unique_ptr' instead [-Wdeprecated-declarations]
354 | explicit shared_ptr( std::auto_ptr<Y> & r ): px(r.get()), pn()
| ^~~~~~~~
/opt/ohpc/pub/compiler/gcc/14.2.0/include/c++/14.2.0/bits/unique_ptr.h:59:28: note: declared here
59 | template<typename> class auto_ptr;
| ^~~~~~~~
/home/biocbuild/R/R-4.5.0/site-library/BH/include/boost/smart_ptr/shared_ptr.hpp:365:22: warning: ‘template<class> class std::auto_ptr’ is deprecated: use 'std::unique_ptr' instead [-Wdeprecated-declarations]
365 | shared_ptr( std::auto_ptr<Y> && r ): px(r.get()), pn()
| ^~~~~~~~
/opt/ohpc/pub/compiler/gcc/14.2.0/include/c++/14.2.0/bits/unique_ptr.h:59:28: note: declared here
59 | template<typename> class auto_ptr;
| ^~~~~~~~
/home/biocbuild/R/R-4.5.0/site-library/BH/include/boost/smart_ptr/shared_ptr.hpp:423:34: warning: ‘template<class> class std::auto_ptr’ is deprecated: use 'std::unique_ptr' instead [-Wdeprecated-declarations]
423 | shared_ptr & operator=( std::auto_ptr<Y> & r )
| ^~~~~~~~
/opt/ohpc/pub/compiler/gcc/14.2.0/include/c++/14.2.0/bits/unique_ptr.h:59:28: note: declared here
59 | template<typename> class auto_ptr;
| ^~~~~~~~
/home/biocbuild/R/R-4.5.0/site-library/BH/include/boost/smart_ptr/shared_ptr.hpp:430:34: warning: ‘template<class> class std::auto_ptr’ is deprecated: use 'std::unique_ptr' instead [-Wdeprecated-declarations]
430 | shared_ptr & operator=( std::auto_ptr<Y> && r )
| ^~~~~~~~
/opt/ohpc/pub/compiler/gcc/14.2.0/include/c++/14.2.0/bits/unique_ptr.h:59:28: note: declared here
59 | template<typename> class auto_ptr;
| ^~~~~~~~
/home/biocbuild/R/R-4.5.0/site-library/BH/include/boost/smart_ptr/shared_ptr.hpp: In member function ‘boost::shared_ptr<T>& boost::shared_ptr<T>::operator=(std::auto_ptr<_Up>&&)’:
/home/biocbuild/R/R-4.5.0/site-library/BH/include/boost/smart_ptr/shared_ptr.hpp:432:38: warning: ‘template<class> class std::auto_ptr’ is deprecated: use 'std::unique_ptr' instead [-Wdeprecated-declarations]
432 | this_type( static_cast< std::auto_ptr<Y> && >( r ) ).swap( *this );
| ^~~~~~~~
/opt/ohpc/pub/compiler/gcc/14.2.0/include/c++/14.2.0/bits/unique_ptr.h:59:28: note: declared here
59 | template<typename> class auto_ptr;
| ^~~~~~~~
In file included from /home/biocbuild/R/R-4.5.0/site-library/BH/include/boost/mpl/aux_/na_assert.hpp:23,
from /home/biocbuild/R/R-4.5.0/site-library/BH/include/boost/mpl/arg.hpp:25,
from /home/biocbuild/R/R-4.5.0/site-library/BH/include/boost/mpl/placeholders.hpp:24,
from /home/biocbuild/R/R-4.5.0/site-library/BH/include/boost/mpl/apply.hpp:24,
from /home/biocbuild/R/R-4.5.0/site-library/BH/include/boost/serialization/array_optimization.hpp:18,
from /home/biocbuild/R/R-4.5.0/site-library/BH/include/boost/serialization/array_wrapper.hpp:21,
from /home/biocbuild/R/R-4.5.0/site-library/BH/include/boost/serialization/array.hpp:26,
from /home/biocbuild/R/R-4.5.0/site-library/BH/include/boost/numeric/ublas/storage.hpp:22,
from /home/biocbuild/R/R-4.5.0/site-library/BH/include/boost/numeric/ublas/vector.hpp:21,
from /home/biocbuild/R/R-4.5.0/site-library/BH/include/boost/numeric/ublas/matrix.hpp:18,
from /home/biocbuild/R/R-4.5.0/site-library/BH/include/boost/numeric/ublas/symmetric.hpp:16,
from cachedistance.h:16,
from cachedistance.cpp:8:
/home/biocbuild/R/R-4.5.0/site-library/BH/include/boost/mpl/assert.hpp: At global scope:
/home/biocbuild/R/R-4.5.0/site-library/BH/include/boost/mpl/assert.hpp:194:21: warning: unnecessary parentheses in declaration of ‘assert_arg’ [-Wparentheses]
194 | failed ************ (Pred::************
| ^~~~~~~~~~~~~~~~~~~
195 | assert_arg( void (*)(Pred), typename assert_arg_pred<Pred>::type )
| ~~~~~~~~~~~~~~~~~~~~~~~~~~~~~~~~~~~~~~~~~~~~~~~~~~~~~~~~~~~~~~~~~~
196 | );
| ~
/home/biocbuild/R/R-4.5.0/site-library/BH/include/boost/mpl/assert.hpp:194:21: note: remove parentheses
194 | failed ************ (Pred::************
| ^~~~~~~~~~~~~~~~~~~
| -
195 | assert_arg( void (*)(Pred), typename assert_arg_pred<Pred>::type )
| ~~~~~~~~~~~~~~~~~~~~~~~~~~~~~~~~~~~~~~~~~~~~~~~~~~~~~~~~~~~~~~~~~~
196 | );
| ~
| -
/home/biocbuild/R/R-4.5.0/site-library/BH/include/boost/mpl/assert.hpp:199:21: warning: unnecessary parentheses in declaration of ‘assert_not_arg’ [-Wparentheses]
199 | failed ************ (boost::mpl::not_<Pred>::************
| ^~~~~~~~~~~~~~~~~~~~~~~~~~~~~~~~~~~~~
200 | assert_not_arg( void (*)(Pred), typename assert_arg_pred_not<Pred>::type )
| ~~~~~~~~~~~~~~~~~~~~~~~~~~~~~~~~~~~~~~~~~~~~~~~~~~~~~~~~~~~~~~~~~~~~~~~~~~
201 | );
| ~
/home/biocbuild/R/R-4.5.0/site-library/BH/include/boost/mpl/assert.hpp:199:21: note: remove parentheses
199 | failed ************ (boost::mpl::not_<Pred>::************
| ^~~~~~~~~~~~~~~~~~~~~~~~~~~~~~~~~~~~~
| -
200 | assert_not_arg( void (*)(Pred), typename assert_arg_pred_not<Pred>::type )
| ~~~~~~~~~~~~~~~~~~~~~~~~~~~~~~~~~~~~~~~~~~~~~~~~~~~~~~~~~~~~~~~~~~~~~~~~~~
201 | );
| ~
| -
/opt/ohpc/pub/compiler/gcc/14.2.0/bin/aarch64-unknown-linux-gnu-g++ -std=gnu++17 -I"/home/biocbuild/R/R-4.5.0/include" -DNDEBUG -I'/home/biocbuild/R/R-4.5.0/site-library/Rcpp/include' -I'/home/biocbuild/R/R-4.5.0/site-library/BH/include' -I/usr/local/include -fopenmp -fPIC -g -O2 -Wall -Werror=format-security -c chromosome.cpp -o chromosome.o
In file included from /home/biocbuild/R/R-4.5.0/site-library/BH/include/boost/smart_ptr/shared_ptr.hpp:17,
from /home/biocbuild/R/R-4.5.0/site-library/BH/include/boost/shared_ptr.hpp:17,
from sequence.h:19,
from distance.h:14,
from chromosome.h:6,
from chromosome.cpp:3:
/home/biocbuild/R/R-4.5.0/site-library/BH/include/boost/smart_ptr/detail/shared_count.hpp:326:33: warning: ‘template<class> class std::auto_ptr’ is deprecated: use 'std::unique_ptr' instead [-Wdeprecated-declarations]
326 | explicit shared_count( std::auto_ptr<Y> & r ): pi_( new sp_counted_impl_p<Y>( r.get() ) )
| ^~~~~~~~
In file included from /opt/ohpc/pub/compiler/gcc/14.2.0/include/c++/14.2.0/memory:78,
from distance.h:11:
/opt/ohpc/pub/compiler/gcc/14.2.0/include/c++/14.2.0/bits/unique_ptr.h:59:28: note: declared here
59 | template<typename> class auto_ptr;
| ^~~~~~~~
/home/biocbuild/R/R-4.5.0/site-library/BH/include/boost/smart_ptr/shared_ptr.hpp:354:31: warning: ‘template<class> class std::auto_ptr’ is deprecated: use 'std::unique_ptr' instead [-Wdeprecated-declarations]
354 | explicit shared_ptr( std::auto_ptr<Y> & r ): px(r.get()), pn()
| ^~~~~~~~
/opt/ohpc/pub/compiler/gcc/14.2.0/include/c++/14.2.0/bits/unique_ptr.h:59:28: note: declared here
59 | template<typename> class auto_ptr;
| ^~~~~~~~
/home/biocbuild/R/R-4.5.0/site-library/BH/include/boost/smart_ptr/shared_ptr.hpp:365:22: warning: ‘template<class> class std::auto_ptr’ is deprecated: use 'std::unique_ptr' instead [-Wdeprecated-declarations]
365 | shared_ptr( std::auto_ptr<Y> && r ): px(r.get()), pn()
| ^~~~~~~~
/opt/ohpc/pub/compiler/gcc/14.2.0/include/c++/14.2.0/bits/unique_ptr.h:59:28: note: declared here
59 | template<typename> class auto_ptr;
| ^~~~~~~~
/home/biocbuild/R/R-4.5.0/site-library/BH/include/boost/smart_ptr/shared_ptr.hpp:423:34: warning: ‘template<class> class std::auto_ptr’ is deprecated: use 'std::unique_ptr' instead [-Wdeprecated-declarations]
423 | shared_ptr & operator=( std::auto_ptr<Y> & r )
| ^~~~~~~~
/opt/ohpc/pub/compiler/gcc/14.2.0/include/c++/14.2.0/bits/unique_ptr.h:59:28: note: declared here
59 | template<typename> class auto_ptr;
| ^~~~~~~~
/home/biocbuild/R/R-4.5.0/site-library/BH/include/boost/smart_ptr/shared_ptr.hpp:430:34: warning: ‘template<class> class std::auto_ptr’ is deprecated: use 'std::unique_ptr' instead [-Wdeprecated-declarations]
430 | shared_ptr & operator=( std::auto_ptr<Y> && r )
| ^~~~~~~~
/opt/ohpc/pub/compiler/gcc/14.2.0/include/c++/14.2.0/bits/unique_ptr.h:59:28: note: declared here
59 | template<typename> class auto_ptr;
| ^~~~~~~~
/home/biocbuild/R/R-4.5.0/site-library/BH/include/boost/smart_ptr/shared_ptr.hpp: In member function ‘boost::shared_ptr<T>& boost::shared_ptr<T>::operator=(std::auto_ptr<_Up>&&)’:
/home/biocbuild/R/R-4.5.0/site-library/BH/include/boost/smart_ptr/shared_ptr.hpp:432:38: warning: ‘template<class> class std::auto_ptr’ is deprecated: use 'std::unique_ptr' instead [-Wdeprecated-declarations]
432 | this_type( static_cast< std::auto_ptr<Y> && >( r ) ).swap( *this );
| ^~~~~~~~
/opt/ohpc/pub/compiler/gcc/14.2.0/include/c++/14.2.0/bits/unique_ptr.h:59:28: note: declared here
59 | template<typename> class auto_ptr;
| ^~~~~~~~
In file included from chromosome.h:17:
genericchromosome.h: At global scope:
genericchromosome.h:16:27: warning: ‘virtual bool GenericChromosome::operator<(const GenericChromosome&) const’ was hidden [-Woverloaded-virtual=]
16 | virtual bool operator<(const GenericChromosome&) const;
| ^~~~~~~~
chromosome.h:49:27: note: by ‘virtual bool Chromosome::operator<(const Chromosome&) const’
49 | virtual bool operator<(const Chromosome&) const;
| ^~~~~~~~
In file included from /home/biocbuild/R/R-4.5.0/site-library/BH/include/boost/foreach.hpp:76,
from chromosome.cpp:15:
/home/biocbuild/R/R-4.5.0/site-library/BH/include/boost/mpl/assert.hpp:194:21: warning: unnecessary parentheses in declaration of ‘assert_arg’ [-Wparentheses]
194 | failed ************ (Pred::************
| ^~~~~~~~~~~~~~~~~~~
195 | assert_arg( void (*)(Pred), typename assert_arg_pred<Pred>::type )
| ~~~~~~~~~~~~~~~~~~~~~~~~~~~~~~~~~~~~~~~~~~~~~~~~~~~~~~~~~~~~~~~~~~
196 | );
| ~
/home/biocbuild/R/R-4.5.0/site-library/BH/include/boost/mpl/assert.hpp:194:21: note: remove parentheses
194 | failed ************ (Pred::************
| ^~~~~~~~~~~~~~~~~~~
| -
195 | assert_arg( void (*)(Pred), typename assert_arg_pred<Pred>::type )
| ~~~~~~~~~~~~~~~~~~~~~~~~~~~~~~~~~~~~~~~~~~~~~~~~~~~~~~~~~~~~~~~~~~
196 | );
| ~
| -
/home/biocbuild/R/R-4.5.0/site-library/BH/include/boost/mpl/assert.hpp:199:21: warning: unnecessary parentheses in declaration of ‘assert_not_arg’ [-Wparentheses]
199 | failed ************ (boost::mpl::not_<Pred>::************
| ^~~~~~~~~~~~~~~~~~~~~~~~~~~~~~~~~~~~~
200 | assert_not_arg( void (*)(Pred), typename assert_arg_pred_not<Pred>::type )
| ~~~~~~~~~~~~~~~~~~~~~~~~~~~~~~~~~~~~~~~~~~~~~~~~~~~~~~~~~~~~~~~~~~~~~~~~~~
201 | );
| ~
/home/biocbuild/R/R-4.5.0/site-library/BH/include/boost/mpl/assert.hpp:199:21: note: remove parentheses
199 | failed ************ (boost::mpl::not_<Pred>::************
| ^~~~~~~~~~~~~~~~~~~~~~~~~~~~~~~~~~~~~
| -
200 | assert_not_arg( void (*)(Pred), typename assert_arg_pred_not<Pred>::type )
| ~~~~~~~~~~~~~~~~~~~~~~~~~~~~~~~~~~~~~~~~~~~~~~~~~~~~~~~~~~~~~~~~~~~~~~~~~~
201 | );
| ~
| -
/opt/ohpc/pub/compiler/gcc/14.2.0/bin/aarch64-unknown-linux-gnu-g++ -std=gnu++17 -I"/home/biocbuild/R/R-4.5.0/include" -DNDEBUG -I'/home/biocbuild/R/R-4.5.0/site-library/Rcpp/include' -I'/home/biocbuild/R/R-4.5.0/site-library/BH/include' -I/usr/local/include -fopenmp -fPIC -g -O2 -Wall -Werror=format-security -c code_falsification.cpp -o code_falsification.o
In file included from /home/biocbuild/R/R-4.5.0/site-library/BH/include/boost/smart_ptr/shared_ptr.hpp:17,
from /home/biocbuild/R/R-4.5.0/site-library/BH/include/boost/shared_ptr.hpp:17,
from sequence.h:19,
from distance.h:14,
from chromosome.h:6,
from code_falsification.cpp:11:
/home/biocbuild/R/R-4.5.0/site-library/BH/include/boost/smart_ptr/detail/shared_count.hpp:326:33: warning: ‘template<class> class std::auto_ptr’ is deprecated: use 'std::unique_ptr' instead [-Wdeprecated-declarations]
326 | explicit shared_count( std::auto_ptr<Y> & r ): pi_( new sp_counted_impl_p<Y>( r.get() ) )
| ^~~~~~~~
In file included from /opt/ohpc/pub/compiler/gcc/14.2.0/include/c++/14.2.0/memory:78,
from distance.h:11:
/opt/ohpc/pub/compiler/gcc/14.2.0/include/c++/14.2.0/bits/unique_ptr.h:59:28: note: declared here
59 | template<typename> class auto_ptr;
| ^~~~~~~~
/home/biocbuild/R/R-4.5.0/site-library/BH/include/boost/smart_ptr/shared_ptr.hpp:354:31: warning: ‘template<class> class std::auto_ptr’ is deprecated: use 'std::unique_ptr' instead [-Wdeprecated-declarations]
354 | explicit shared_ptr( std::auto_ptr<Y> & r ): px(r.get()), pn()
| ^~~~~~~~
/opt/ohpc/pub/compiler/gcc/14.2.0/include/c++/14.2.0/bits/unique_ptr.h:59:28: note: declared here
59 | template<typename> class auto_ptr;
| ^~~~~~~~
/home/biocbuild/R/R-4.5.0/site-library/BH/include/boost/smart_ptr/shared_ptr.hpp:365:22: warning: ‘template<class> class std::auto_ptr’ is deprecated: use 'std::unique_ptr' instead [-Wdeprecated-declarations]
365 | shared_ptr( std::auto_ptr<Y> && r ): px(r.get()), pn()
| ^~~~~~~~
/opt/ohpc/pub/compiler/gcc/14.2.0/include/c++/14.2.0/bits/unique_ptr.h:59:28: note: declared here
59 | template<typename> class auto_ptr;
| ^~~~~~~~
/home/biocbuild/R/R-4.5.0/site-library/BH/include/boost/smart_ptr/shared_ptr.hpp:423:34: warning: ‘template<class> class std::auto_ptr’ is deprecated: use 'std::unique_ptr' instead [-Wdeprecated-declarations]
423 | shared_ptr & operator=( std::auto_ptr<Y> & r )
| ^~~~~~~~
/opt/ohpc/pub/compiler/gcc/14.2.0/include/c++/14.2.0/bits/unique_ptr.h:59:28: note: declared here
59 | template<typename> class auto_ptr;
| ^~~~~~~~
/home/biocbuild/R/R-4.5.0/site-library/BH/include/boost/smart_ptr/shared_ptr.hpp:430:34: warning: ‘template<class> class std::auto_ptr’ is deprecated: use 'std::unique_ptr' instead [-Wdeprecated-declarations]
430 | shared_ptr & operator=( std::auto_ptr<Y> && r )
| ^~~~~~~~
/opt/ohpc/pub/compiler/gcc/14.2.0/include/c++/14.2.0/bits/unique_ptr.h:59:28: note: declared here
59 | template<typename> class auto_ptr;
| ^~~~~~~~
/home/biocbuild/R/R-4.5.0/site-library/BH/include/boost/smart_ptr/shared_ptr.hpp: In member function ‘boost::shared_ptr<T>& boost::shared_ptr<T>::operator=(std::auto_ptr<_Up>&&)’:
/home/biocbuild/R/R-4.5.0/site-library/BH/include/boost/smart_ptr/shared_ptr.hpp:432:38: warning: ‘template<class> class std::auto_ptr’ is deprecated: use 'std::unique_ptr' instead [-Wdeprecated-declarations]
432 | this_type( static_cast< std::auto_ptr<Y> && >( r ) ).swap( *this );
| ^~~~~~~~
/opt/ohpc/pub/compiler/gcc/14.2.0/include/c++/14.2.0/bits/unique_ptr.h:59:28: note: declared here
59 | template<typename> class auto_ptr;
| ^~~~~~~~
In file included from chromosome.h:17:
genericchromosome.h: At global scope:
genericchromosome.h:16:27: warning: ‘virtual bool GenericChromosome::operator<(const GenericChromosome&) const’ was hidden [-Woverloaded-virtual=]
16 | virtual bool operator<(const GenericChromosome&) const;
| ^~~~~~~~
chromosome.h:49:27: note: by ‘virtual bool Chromosome::operator<(const Chromosome&) const’
49 | virtual bool operator<(const Chromosome&) const;
| ^~~~~~~~
In file included from /home/biocbuild/R/R-4.5.0/site-library/BH/include/boost/foreach.hpp:76,
from code_falsification.cpp:26:
/home/biocbuild/R/R-4.5.0/site-library/BH/include/boost/mpl/assert.hpp:194:21: warning: unnecessary parentheses in declaration of ‘assert_arg’ [-Wparentheses]
194 | failed ************ (Pred::************
| ^~~~~~~~~~~~~~~~~~~
195 | assert_arg( void (*)(Pred), typename assert_arg_pred<Pred>::type )
| ~~~~~~~~~~~~~~~~~~~~~~~~~~~~~~~~~~~~~~~~~~~~~~~~~~~~~~~~~~~~~~~~~~
196 | );
| ~
/home/biocbuild/R/R-4.5.0/site-library/BH/include/boost/mpl/assert.hpp:194:21: note: remove parentheses
194 | failed ************ (Pred::************
| ^~~~~~~~~~~~~~~~~~~
| -
195 | assert_arg( void (*)(Pred), typename assert_arg_pred<Pred>::type )
| ~~~~~~~~~~~~~~~~~~~~~~~~~~~~~~~~~~~~~~~~~~~~~~~~~~~~~~~~~~~~~~~~~~
196 | );
| ~
| -
/home/biocbuild/R/R-4.5.0/site-library/BH/include/boost/mpl/assert.hpp:199:21: warning: unnecessary parentheses in declaration of ‘assert_not_arg’ [-Wparentheses]
199 | failed ************ (boost::mpl::not_<Pred>::************
| ^~~~~~~~~~~~~~~~~~~~~~~~~~~~~~~~~~~~~
200 | assert_not_arg( void (*)(Pred), typename assert_arg_pred_not<Pred>::type )
| ~~~~~~~~~~~~~~~~~~~~~~~~~~~~~~~~~~~~~~~~~~~~~~~~~~~~~~~~~~~~~~~~~~~~~~~~~~
201 | );
| ~
/home/biocbuild/R/R-4.5.0/site-library/BH/include/boost/mpl/assert.hpp:199:21: note: remove parentheses
199 | failed ************ (boost::mpl::not_<Pred>::************
| ^~~~~~~~~~~~~~~~~~~~~~~~~~~~~~~~~~~~~
| -
200 | assert_not_arg( void (*)(Pred), typename assert_arg_pred_not<Pred>::type )
| ~~~~~~~~~~~~~~~~~~~~~~~~~~~~~~~~~~~~~~~~~~~~~~~~~~~~~~~~~~~~~~~~~~~~~~~~~~
201 | );
| ~
| -
/opt/ohpc/pub/compiler/gcc/14.2.0/bin/aarch64-unknown-linux-gnu-g++ -std=gnu++17 -I"/home/biocbuild/R/R-4.5.0/include" -DNDEBUG -I'/home/biocbuild/R/R-4.5.0/site-library/Rcpp/include' -I'/home/biocbuild/R/R-4.5.0/site-library/BH/include' -I/usr/local/include -fopenmp -fPIC -g -O2 -Wall -Werror=format-security -c conway.cpp -o conway.o
In file included from /home/biocbuild/R/R-4.5.0/site-library/BH/include/boost/smart_ptr/shared_ptr.hpp:17,
from /home/biocbuild/R/R-4.5.0/site-library/BH/include/boost/shared_ptr.hpp:17,
from sequence.h:19,
from distance.h:14,
from conway.h:8,
from conway.cpp:3:
/home/biocbuild/R/R-4.5.0/site-library/BH/include/boost/smart_ptr/detail/shared_count.hpp:326:33: warning: ‘template<class> class std::auto_ptr’ is deprecated: use 'std::unique_ptr' instead [-Wdeprecated-declarations]
326 | explicit shared_count( std::auto_ptr<Y> & r ): pi_( new sp_counted_impl_p<Y>( r.get() ) )
| ^~~~~~~~
In file included from /opt/ohpc/pub/compiler/gcc/14.2.0/include/c++/14.2.0/memory:78,
from distance.h:11:
/opt/ohpc/pub/compiler/gcc/14.2.0/include/c++/14.2.0/bits/unique_ptr.h:59:28: note: declared here
59 | template<typename> class auto_ptr;
| ^~~~~~~~
/home/biocbuild/R/R-4.5.0/site-library/BH/include/boost/smart_ptr/shared_ptr.hpp:354:31: warning: ‘template<class> class std::auto_ptr’ is deprecated: use 'std::unique_ptr' instead [-Wdeprecated-declarations]
354 | explicit shared_ptr( std::auto_ptr<Y> & r ): px(r.get()), pn()
| ^~~~~~~~
/opt/ohpc/pub/compiler/gcc/14.2.0/include/c++/14.2.0/bits/unique_ptr.h:59:28: note: declared here
59 | template<typename> class auto_ptr;
| ^~~~~~~~
/home/biocbuild/R/R-4.5.0/site-library/BH/include/boost/smart_ptr/shared_ptr.hpp:365:22: warning: ‘template<class> class std::auto_ptr’ is deprecated: use 'std::unique_ptr' instead [-Wdeprecated-declarations]
365 | shared_ptr( std::auto_ptr<Y> && r ): px(r.get()), pn()
| ^~~~~~~~
/opt/ohpc/pub/compiler/gcc/14.2.0/include/c++/14.2.0/bits/unique_ptr.h:59:28: note: declared here
59 | template<typename> class auto_ptr;
| ^~~~~~~~
/home/biocbuild/R/R-4.5.0/site-library/BH/include/boost/smart_ptr/shared_ptr.hpp:423:34: warning: ‘template<class> class std::auto_ptr’ is deprecated: use 'std::unique_ptr' instead [-Wdeprecated-declarations]
423 | shared_ptr & operator=( std::auto_ptr<Y> & r )
| ^~~~~~~~
/opt/ohpc/pub/compiler/gcc/14.2.0/include/c++/14.2.0/bits/unique_ptr.h:59:28: note: declared here
59 | template<typename> class auto_ptr;
| ^~~~~~~~
/home/biocbuild/R/R-4.5.0/site-library/BH/include/boost/smart_ptr/shared_ptr.hpp:430:34: warning: ‘template<class> class std::auto_ptr’ is deprecated: use 'std::unique_ptr' instead [-Wdeprecated-declarations]
430 | shared_ptr & operator=( std::auto_ptr<Y> && r )
| ^~~~~~~~
/opt/ohpc/pub/compiler/gcc/14.2.0/include/c++/14.2.0/bits/unique_ptr.h:59:28: note: declared here
59 | template<typename> class auto_ptr;
| ^~~~~~~~
/home/biocbuild/R/R-4.5.0/site-library/BH/include/boost/smart_ptr/shared_ptr.hpp: In member function ‘boost::shared_ptr<T>& boost::shared_ptr<T>::operator=(std::auto_ptr<_Up>&&)’:
/home/biocbuild/R/R-4.5.0/site-library/BH/include/boost/smart_ptr/shared_ptr.hpp:432:38: warning: ‘template<class> class std::auto_ptr’ is deprecated: use 'std::unique_ptr' instead [-Wdeprecated-declarations]
432 | this_type( static_cast< std::auto_ptr<Y> && >( r ) ).swap( *this );
| ^~~~~~~~
/opt/ohpc/pub/compiler/gcc/14.2.0/include/c++/14.2.0/bits/unique_ptr.h:59:28: note: declared here
59 | template<typename> class auto_ptr;
| ^~~~~~~~
In file included from /home/biocbuild/R/R-4.5.0/site-library/BH/include/boost/foreach.hpp:76,
from conway.cpp:11:
/home/biocbuild/R/R-4.5.0/site-library/BH/include/boost/mpl/assert.hpp: At global scope:
/home/biocbuild/R/R-4.5.0/site-library/BH/include/boost/mpl/assert.hpp:194:21: warning: unnecessary parentheses in declaration of ‘assert_arg’ [-Wparentheses]
194 | failed ************ (Pred::************
| ^~~~~~~~~~~~~~~~~~~
195 | assert_arg( void (*)(Pred), typename assert_arg_pred<Pred>::type )
| ~~~~~~~~~~~~~~~~~~~~~~~~~~~~~~~~~~~~~~~~~~~~~~~~~~~~~~~~~~~~~~~~~~
196 | );
| ~
/home/biocbuild/R/R-4.5.0/site-library/BH/include/boost/mpl/assert.hpp:194:21: note: remove parentheses
194 | failed ************ (Pred::************
| ^~~~~~~~~~~~~~~~~~~
| -
195 | assert_arg( void (*)(Pred), typename assert_arg_pred<Pred>::type )
| ~~~~~~~~~~~~~~~~~~~~~~~~~~~~~~~~~~~~~~~~~~~~~~~~~~~~~~~~~~~~~~~~~~
196 | );
| ~
| -
/home/biocbuild/R/R-4.5.0/site-library/BH/include/boost/mpl/assert.hpp:199:21: warning: unnecessary parentheses in declaration of ‘assert_not_arg’ [-Wparentheses]
199 | failed ************ (boost::mpl::not_<Pred>::************
| ^~~~~~~~~~~~~~~~~~~~~~~~~~~~~~~~~~~~~
200 | assert_not_arg( void (*)(Pred), typename assert_arg_pred_not<Pred>::type )
| ~~~~~~~~~~~~~~~~~~~~~~~~~~~~~~~~~~~~~~~~~~~~~~~~~~~~~~~~~~~~~~~~~~~~~~~~~~
201 | );
| ~
/home/biocbuild/R/R-4.5.0/site-library/BH/include/boost/mpl/assert.hpp:199:21: note: remove parentheses
199 | failed ************ (boost::mpl::not_<Pred>::************
| ^~~~~~~~~~~~~~~~~~~~~~~~~~~~~~~~~~~~~
| -
200 | assert_not_arg( void (*)(Pred), typename assert_arg_pred_not<Pred>::type )
| ~~~~~~~~~~~~~~~~~~~~~~~~~~~~~~~~~~~~~~~~~~~~~~~~~~~~~~~~~~~~~~~~~~~~~~~~~~
201 | );
| ~
| -
/opt/ohpc/pub/compiler/gcc/14.2.0/bin/aarch64-unknown-linux-gnu-g++ -std=gnu++17 -I"/home/biocbuild/R/R-4.5.0/include" -DNDEBUG -I'/home/biocbuild/R/R-4.5.0/site-library/Rcpp/include' -I'/home/biocbuild/R/R-4.5.0/site-library/BH/include' -I/usr/local/include -fopenmp -fPIC -g -O2 -Wall -Werror=format-security -c create_distance_func.cpp -o create_distance_func.o
In file included from /home/biocbuild/R/R-4.5.0/site-library/BH/include/boost/smart_ptr/shared_ptr.hpp:17,
from /home/biocbuild/R/R-4.5.0/site-library/BH/include/boost/shared_ptr.hpp:17,
from sequence.h:19,
from distance.h:14,
from create_distance_func.cpp:5:
/home/biocbuild/R/R-4.5.0/site-library/BH/include/boost/smart_ptr/detail/shared_count.hpp:326:33: warning: ‘template<class> class std::auto_ptr’ is deprecated: use 'std::unique_ptr' instead [-Wdeprecated-declarations]
326 | explicit shared_count( std::auto_ptr<Y> & r ): pi_( new sp_counted_impl_p<Y>( r.get() ) )
| ^~~~~~~~
In file included from /opt/ohpc/pub/compiler/gcc/14.2.0/include/c++/14.2.0/memory:78,
from distance.h:11:
/opt/ohpc/pub/compiler/gcc/14.2.0/include/c++/14.2.0/bits/unique_ptr.h:59:28: note: declared here
59 | template<typename> class auto_ptr;
| ^~~~~~~~
/home/biocbuild/R/R-4.5.0/site-library/BH/include/boost/smart_ptr/shared_ptr.hpp:354:31: warning: ‘template<class> class std::auto_ptr’ is deprecated: use 'std::unique_ptr' instead [-Wdeprecated-declarations]
354 | explicit shared_ptr( std::auto_ptr<Y> & r ): px(r.get()), pn()
| ^~~~~~~~
/opt/ohpc/pub/compiler/gcc/14.2.0/include/c++/14.2.0/bits/unique_ptr.h:59:28: note: declared here
59 | template<typename> class auto_ptr;
| ^~~~~~~~
/home/biocbuild/R/R-4.5.0/site-library/BH/include/boost/smart_ptr/shared_ptr.hpp:365:22: warning: ‘template<class> class std::auto_ptr’ is deprecated: use 'std::unique_ptr' instead [-Wdeprecated-declarations]
365 | shared_ptr( std::auto_ptr<Y> && r ): px(r.get()), pn()
| ^~~~~~~~
/opt/ohpc/pub/compiler/gcc/14.2.0/include/c++/14.2.0/bits/unique_ptr.h:59:28: note: declared here
59 | template<typename> class auto_ptr;
| ^~~~~~~~
/home/biocbuild/R/R-4.5.0/site-library/BH/include/boost/smart_ptr/shared_ptr.hpp:423:34: warning: ‘template<class> class std::auto_ptr’ is deprecated: use 'std::unique_ptr' instead [-Wdeprecated-declarations]
423 | shared_ptr & operator=( std::auto_ptr<Y> & r )
| ^~~~~~~~
/opt/ohpc/pub/compiler/gcc/14.2.0/include/c++/14.2.0/bits/unique_ptr.h:59:28: note: declared here
59 | template<typename> class auto_ptr;
| ^~~~~~~~
/home/biocbuild/R/R-4.5.0/site-library/BH/include/boost/smart_ptr/shared_ptr.hpp:430:34: warning: ‘template<class> class std::auto_ptr’ is deprecated: use 'std::unique_ptr' instead [-Wdeprecated-declarations]
430 | shared_ptr & operator=( std::auto_ptr<Y> && r )
| ^~~~~~~~
/opt/ohpc/pub/compiler/gcc/14.2.0/include/c++/14.2.0/bits/unique_ptr.h:59:28: note: declared here
59 | template<typename> class auto_ptr;
| ^~~~~~~~
/home/biocbuild/R/R-4.5.0/site-library/BH/include/boost/smart_ptr/shared_ptr.hpp: In member function ‘boost::shared_ptr<T>& boost::shared_ptr<T>::operator=(std::auto_ptr<_Up>&&)’:
/home/biocbuild/R/R-4.5.0/site-library/BH/include/boost/smart_ptr/shared_ptr.hpp:432:38: warning: ‘template<class> class std::auto_ptr’ is deprecated: use 'std::unique_ptr' instead [-Wdeprecated-declarations]
432 | this_type( static_cast< std::auto_ptr<Y> && >( r ) ).swap( *this );
| ^~~~~~~~
/opt/ohpc/pub/compiler/gcc/14.2.0/include/c++/14.2.0/bits/unique_ptr.h:59:28: note: declared here
59 | template<typename> class auto_ptr;
| ^~~~~~~~
In file included from /home/biocbuild/R/R-4.5.0/site-library/BH/include/boost/mpl/aux_/na_assert.hpp:23,
from /home/biocbuild/R/R-4.5.0/site-library/BH/include/boost/mpl/arg.hpp:25,
from /home/biocbuild/R/R-4.5.0/site-library/BH/include/boost/mpl/placeholders.hpp:24,
from /home/biocbuild/R/R-4.5.0/site-library/BH/include/boost/mpl/apply.hpp:24,
from /home/biocbuild/R/R-4.5.0/site-library/BH/include/boost/serialization/array_optimization.hpp:18,
from /home/biocbuild/R/R-4.5.0/site-library/BH/include/boost/serialization/array_wrapper.hpp:21,
from /home/biocbuild/R/R-4.5.0/site-library/BH/include/boost/serialization/array.hpp:26,
from /home/biocbuild/R/R-4.5.0/site-library/BH/include/boost/numeric/ublas/storage.hpp:22,
from /home/biocbuild/R/R-4.5.0/site-library/BH/include/boost/numeric/ublas/vector.hpp:21,
from /home/biocbuild/R/R-4.5.0/site-library/BH/include/boost/numeric/ublas/matrix.hpp:18,
from /home/biocbuild/R/R-4.5.0/site-library/BH/include/boost/numeric/ublas/symmetric.hpp:16,
from cachedistance.h:16,
from create_distance_func.cpp:9:
/home/biocbuild/R/R-4.5.0/site-library/BH/include/boost/mpl/assert.hpp: At global scope:
/home/biocbuild/R/R-4.5.0/site-library/BH/include/boost/mpl/assert.hpp:194:21: warning: unnecessary parentheses in declaration of ‘assert_arg’ [-Wparentheses]
194 | failed ************ (Pred::************
| ^~~~~~~~~~~~~~~~~~~
195 | assert_arg( void (*)(Pred), typename assert_arg_pred<Pred>::type )
| ~~~~~~~~~~~~~~~~~~~~~~~~~~~~~~~~~~~~~~~~~~~~~~~~~~~~~~~~~~~~~~~~~~
196 | );
| ~
/home/biocbuild/R/R-4.5.0/site-library/BH/include/boost/mpl/assert.hpp:194:21: note: remove parentheses
194 | failed ************ (Pred::************
| ^~~~~~~~~~~~~~~~~~~
| -
195 | assert_arg( void (*)(Pred), typename assert_arg_pred<Pred>::type )
| ~~~~~~~~~~~~~~~~~~~~~~~~~~~~~~~~~~~~~~~~~~~~~~~~~~~~~~~~~~~~~~~~~~
196 | );
| ~
| -
/home/biocbuild/R/R-4.5.0/site-library/BH/include/boost/mpl/assert.hpp:199:21: warning: unnecessary parentheses in declaration of ‘assert_not_arg’ [-Wparentheses]
199 | failed ************ (boost::mpl::not_<Pred>::************
| ^~~~~~~~~~~~~~~~~~~~~~~~~~~~~~~~~~~~~
200 | assert_not_arg( void (*)(Pred), typename assert_arg_pred_not<Pred>::type )
| ~~~~~~~~~~~~~~~~~~~~~~~~~~~~~~~~~~~~~~~~~~~~~~~~~~~~~~~~~~~~~~~~~~~~~~~~~~
201 | );
| ~
/home/biocbuild/R/R-4.5.0/site-library/BH/include/boost/mpl/assert.hpp:199:21: note: remove parentheses
199 | failed ************ (boost::mpl::not_<Pred>::************
| ^~~~~~~~~~~~~~~~~~~~~~~~~~~~~~~~~~~~~
| -
200 | assert_not_arg( void (*)(Pred), typename assert_arg_pred_not<Pred>::type )
| ~~~~~~~~~~~~~~~~~~~~~~~~~~~~~~~~~~~~~~~~~~~~~~~~~~~~~~~~~~~~~~~~~~~~~~~~~~
201 | );
| ~
| -
/opt/ohpc/pub/compiler/gcc/14.2.0/bin/aarch64-unknown-linux-gnu-g++ -std=gnu++17 -I"/home/biocbuild/R/R-4.5.0/include" -DNDEBUG -I'/home/biocbuild/R/R-4.5.0/site-library/Rcpp/include' -I'/home/biocbuild/R/R-4.5.0/site-library/BH/include' -I/usr/local/include -fopenmp -fPIC -g -O2 -Wall -Werror=format-security -c create_dnabarcodes.cpp -o create_dnabarcodes.o
In file included from /home/biocbuild/R/R-4.5.0/site-library/BH/include/boost/foreach.hpp:76,
from create_dnabarcodes.cpp:13:
/home/biocbuild/R/R-4.5.0/site-library/BH/include/boost/mpl/assert.hpp:194:21: warning: unnecessary parentheses in declaration of ‘assert_arg’ [-Wparentheses]
194 | failed ************ (Pred::************
| ^~~~~~~~~~~~~~~~~~~
195 | assert_arg( void (*)(Pred), typename assert_arg_pred<Pred>::type )
| ~~~~~~~~~~~~~~~~~~~~~~~~~~~~~~~~~~~~~~~~~~~~~~~~~~~~~~~~~~~~~~~~~~
196 | );
| ~
/home/biocbuild/R/R-4.5.0/site-library/BH/include/boost/mpl/assert.hpp:194:21: note: remove parentheses
194 | failed ************ (Pred::************
| ^~~~~~~~~~~~~~~~~~~
| -
195 | assert_arg( void (*)(Pred), typename assert_arg_pred<Pred>::type )
| ~~~~~~~~~~~~~~~~~~~~~~~~~~~~~~~~~~~~~~~~~~~~~~~~~~~~~~~~~~~~~~~~~~
196 | );
| ~
| -
/home/biocbuild/R/R-4.5.0/site-library/BH/include/boost/mpl/assert.hpp:199:21: warning: unnecessary parentheses in declaration of ‘assert_not_arg’ [-Wparentheses]
199 | failed ************ (boost::mpl::not_<Pred>::************
| ^~~~~~~~~~~~~~~~~~~~~~~~~~~~~~~~~~~~~
200 | assert_not_arg( void (*)(Pred), typename assert_arg_pred_not<Pred>::type )
| ~~~~~~~~~~~~~~~~~~~~~~~~~~~~~~~~~~~~~~~~~~~~~~~~~~~~~~~~~~~~~~~~~~~~~~~~~~
201 | );
| ~
/home/biocbuild/R/R-4.5.0/site-library/BH/include/boost/mpl/assert.hpp:199:21: note: remove parentheses
199 | failed ************ (boost::mpl::not_<Pred>::************
| ^~~~~~~~~~~~~~~~~~~~~~~~~~~~~~~~~~~~~
| -
200 | assert_not_arg( void (*)(Pred), typename assert_arg_pred_not<Pred>::type )
| ~~~~~~~~~~~~~~~~~~~~~~~~~~~~~~~~~~~~~~~~~~~~~~~~~~~~~~~~~~~~~~~~~~~~~~~~~~
201 | );
| ~
| -
In file included from /home/biocbuild/R/R-4.5.0/site-library/BH/include/boost/smart_ptr/shared_ptr.hpp:17,
from /home/biocbuild/R/R-4.5.0/site-library/BH/include/boost/shared_ptr.hpp:17,
from sequence.h:19,
from create_dnabarcodes.cpp:17:
/home/biocbuild/R/R-4.5.0/site-library/BH/include/boost/smart_ptr/detail/shared_count.hpp:326:33: warning: ‘template<class> class std::auto_ptr’ is deprecated: use 'std::unique_ptr' instead [-Wdeprecated-declarations]
326 | explicit shared_count( std::auto_ptr<Y> & r ): pi_( new sp_counted_impl_p<Y>( r.get() ) )
| ^~~~~~~~
In file included from /opt/ohpc/pub/compiler/gcc/14.2.0/include/c++/14.2.0/memory:78,
from /home/biocbuild/R/R-4.5.0/site-library/BH/include/boost/pointer_cast.hpp:13,
from create_dnabarcodes.cpp:14:
/opt/ohpc/pub/compiler/gcc/14.2.0/include/c++/14.2.0/bits/unique_ptr.h:59:28: note: declared here
59 | template<typename> class auto_ptr;
| ^~~~~~~~
/home/biocbuild/R/R-4.5.0/site-library/BH/include/boost/smart_ptr/shared_ptr.hpp:354:31: warning: ‘template<class> class std::auto_ptr’ is deprecated: use 'std::unique_ptr' instead [-Wdeprecated-declarations]
354 | explicit shared_ptr( std::auto_ptr<Y> & r ): px(r.get()), pn()
| ^~~~~~~~
/opt/ohpc/pub/compiler/gcc/14.2.0/include/c++/14.2.0/bits/unique_ptr.h:59:28: note: declared here
59 | template<typename> class auto_ptr;
| ^~~~~~~~
/home/biocbuild/R/R-4.5.0/site-library/BH/include/boost/smart_ptr/shared_ptr.hpp:365:22: warning: ‘template<class> class std::auto_ptr’ is deprecated: use 'std::unique_ptr' instead [-Wdeprecated-declarations]
365 | shared_ptr( std::auto_ptr<Y> && r ): px(r.get()), pn()
| ^~~~~~~~
/opt/ohpc/pub/compiler/gcc/14.2.0/include/c++/14.2.0/bits/unique_ptr.h:59:28: note: declared here
59 | template<typename> class auto_ptr;
| ^~~~~~~~
/home/biocbuild/R/R-4.5.0/site-library/BH/include/boost/smart_ptr/shared_ptr.hpp:423:34: warning: ‘template<class> class std::auto_ptr’ is deprecated: use 'std::unique_ptr' instead [-Wdeprecated-declarations]
423 | shared_ptr & operator=( std::auto_ptr<Y> & r )
| ^~~~~~~~
/opt/ohpc/pub/compiler/gcc/14.2.0/include/c++/14.2.0/bits/unique_ptr.h:59:28: note: declared here
59 | template<typename> class auto_ptr;
| ^~~~~~~~
/home/biocbuild/R/R-4.5.0/site-library/BH/include/boost/smart_ptr/shared_ptr.hpp:430:34: warning: ‘template<class> class std::auto_ptr’ is deprecated: use 'std::unique_ptr' instead [-Wdeprecated-declarations]
430 | shared_ptr & operator=( std::auto_ptr<Y> && r )
| ^~~~~~~~
/opt/ohpc/pub/compiler/gcc/14.2.0/include/c++/14.2.0/bits/unique_ptr.h:59:28: note: declared here
59 | template<typename> class auto_ptr;
| ^~~~~~~~
/home/biocbuild/R/R-4.5.0/site-library/BH/include/boost/smart_ptr/shared_ptr.hpp: In member function ‘boost::shared_ptr<T>& boost::shared_ptr<T>::operator=(std::auto_ptr<_Up>&&)’:
/home/biocbuild/R/R-4.5.0/site-library/BH/include/boost/smart_ptr/shared_ptr.hpp:432:38: warning: ‘template<class> class std::auto_ptr’ is deprecated: use 'std::unique_ptr' instead [-Wdeprecated-declarations]
432 | this_type( static_cast< std::auto_ptr<Y> && >( r ) ).swap( *this );
| ^~~~~~~~
/opt/ohpc/pub/compiler/gcc/14.2.0/include/c++/14.2.0/bits/unique_ptr.h:59:28: note: declared here
59 | template<typename> class auto_ptr;
| ^~~~~~~~
In file included from greedyevolution.h:9,
from create_dnabarcodes.cpp:23:
genericchromosome.h: At global scope:
genericchromosome.h:16:27: warning: ‘virtual bool GenericChromosome::operator<(const GenericChromosome&) const’ was hidden [-Woverloaded-virtual=]
16 | virtual bool operator<(const GenericChromosome&) const;
| ^~~~~~~~
In file included from create_dnabarcodes.cpp:25:
chromosome.h:49:27: note: by ‘virtual bool Chromosome::operator<(const Chromosome&) const’
49 | virtual bool operator<(const Chromosome&) const;
| ^~~~~~~~
In file included from /home/biocbuild/R/R-4.5.0/site-library/BH/include/boost/scoped_ptr.hpp:13,
from /home/biocbuild/R/R-4.5.0/site-library/BH/include/boost/graph/adjacency_list.hpp:22,
from maxclique.h:12,
from maxclique_pattabiraman_heuristic.h:10,
from create_dnabarcodes.cpp:26:
/home/biocbuild/R/R-4.5.0/site-library/BH/include/boost/smart_ptr/scoped_ptr.hpp:75:31: warning: ‘template<class> class std::auto_ptr’ is deprecated: use 'std::unique_ptr' instead [-Wdeprecated-declarations]
75 | explicit scoped_ptr( std::auto_ptr<T> p ) noexcept : px( p.release() )
| ^~~~~~~~
/opt/ohpc/pub/compiler/gcc/14.2.0/include/c++/14.2.0/bits/unique_ptr.h:59:28: note: declared here
59 | template<typename> class auto_ptr;
| ^~~~~~~~
/opt/ohpc/pub/compiler/gcc/14.2.0/bin/aarch64-unknown-linux-gnu-g++ -std=gnu++17 -I"/home/biocbuild/R/R-4.5.0/include" -DNDEBUG -I'/home/biocbuild/R/R-4.5.0/site-library/Rcpp/include' -I'/home/biocbuild/R/R-4.5.0/site-library/BH/include' -I/usr/local/include -fopenmp -fPIC -g -O2 -Wall -Werror=format-security -c create_pool.cpp -o create_pool.o
In file included from /home/biocbuild/R/R-4.5.0/site-library/BH/include/boost/foreach.hpp:76,
from create_pool.cpp:6:
/home/biocbuild/R/R-4.5.0/site-library/BH/include/boost/mpl/assert.hpp:194:21: warning: unnecessary parentheses in declaration of ‘assert_arg’ [-Wparentheses]
194 | failed ************ (Pred::************
| ^~~~~~~~~~~~~~~~~~~
195 | assert_arg( void (*)(Pred), typename assert_arg_pred<Pred>::type )
| ~~~~~~~~~~~~~~~~~~~~~~~~~~~~~~~~~~~~~~~~~~~~~~~~~~~~~~~~~~~~~~~~~~
196 | );
| ~
/home/biocbuild/R/R-4.5.0/site-library/BH/include/boost/mpl/assert.hpp:194:21: note: remove parentheses
194 | failed ************ (Pred::************
| ^~~~~~~~~~~~~~~~~~~
| -
195 | assert_arg( void (*)(Pred), typename assert_arg_pred<Pred>::type )
| ~~~~~~~~~~~~~~~~~~~~~~~~~~~~~~~~~~~~~~~~~~~~~~~~~~~~~~~~~~~~~~~~~~
196 | );
| ~
| -
/home/biocbuild/R/R-4.5.0/site-library/BH/include/boost/mpl/assert.hpp:199:21: warning: unnecessary parentheses in declaration of ‘assert_not_arg’ [-Wparentheses]
199 | failed ************ (boost::mpl::not_<Pred>::************
| ^~~~~~~~~~~~~~~~~~~~~~~~~~~~~~~~~~~~~
200 | assert_not_arg( void (*)(Pred), typename assert_arg_pred_not<Pred>::type )
| ~~~~~~~~~~~~~~~~~~~~~~~~~~~~~~~~~~~~~~~~~~~~~~~~~~~~~~~~~~~~~~~~~~~~~~~~~~
201 | );
| ~
/home/biocbuild/R/R-4.5.0/site-library/BH/include/boost/mpl/assert.hpp:199:21: note: remove parentheses
199 | failed ************ (boost::mpl::not_<Pred>::************
| ^~~~~~~~~~~~~~~~~~~~~~~~~~~~~~~~~~~~~
| -
200 | assert_not_arg( void (*)(Pred), typename assert_arg_pred_not<Pred>::type )
| ~~~~~~~~~~~~~~~~~~~~~~~~~~~~~~~~~~~~~~~~~~~~~~~~~~~~~~~~~~~~~~~~~~~~~~~~~~
201 | );
| ~
| -
In file included from /home/biocbuild/R/R-4.5.0/site-library/BH/include/boost/smart_ptr/shared_ptr.hpp:17,
from /home/biocbuild/R/R-4.5.0/site-library/BH/include/boost/shared_ptr.hpp:17,
from sequence.h:19,
from create_pool.cpp:12:
/home/biocbuild/R/R-4.5.0/site-library/BH/include/boost/smart_ptr/detail/shared_count.hpp:326:33: warning: ‘template<class> class std::auto_ptr’ is deprecated: use 'std::unique_ptr' instead [-Wdeprecated-declarations]
326 | explicit shared_count( std::auto_ptr<Y> & r ): pi_( new sp_counted_impl_p<Y>( r.get() ) )
| ^~~~~~~~
In file included from /opt/ohpc/pub/compiler/gcc/14.2.0/include/c++/14.2.0/memory:78,
from sequence.h:13:
/opt/ohpc/pub/compiler/gcc/14.2.0/include/c++/14.2.0/bits/unique_ptr.h:59:28: note: declared here
59 | template<typename> class auto_ptr;
| ^~~~~~~~
/home/biocbuild/R/R-4.5.0/site-library/BH/include/boost/smart_ptr/shared_ptr.hpp:354:31: warning: ‘template<class> class std::auto_ptr’ is deprecated: use 'std::unique_ptr' instead [-Wdeprecated-declarations]
354 | explicit shared_ptr( std::auto_ptr<Y> & r ): px(r.get()), pn()
| ^~~~~~~~
/opt/ohpc/pub/compiler/gcc/14.2.0/include/c++/14.2.0/bits/unique_ptr.h:59:28: note: declared here
59 | template<typename> class auto_ptr;
| ^~~~~~~~
/home/biocbuild/R/R-4.5.0/site-library/BH/include/boost/smart_ptr/shared_ptr.hpp:365:22: warning: ‘template<class> class std::auto_ptr’ is deprecated: use 'std::unique_ptr' instead [-Wdeprecated-declarations]
365 | shared_ptr( std::auto_ptr<Y> && r ): px(r.get()), pn()
| ^~~~~~~~
/opt/ohpc/pub/compiler/gcc/14.2.0/include/c++/14.2.0/bits/unique_ptr.h:59:28: note: declared here
59 | template<typename> class auto_ptr;
| ^~~~~~~~
/home/biocbuild/R/R-4.5.0/site-library/BH/include/boost/smart_ptr/shared_ptr.hpp:423:34: warning: ‘template<class> class std::auto_ptr’ is deprecated: use 'std::unique_ptr' instead [-Wdeprecated-declarations]
423 | shared_ptr & operator=( std::auto_ptr<Y> & r )
| ^~~~~~~~
/opt/ohpc/pub/compiler/gcc/14.2.0/include/c++/14.2.0/bits/unique_ptr.h:59:28: note: declared here
59 | template<typename> class auto_ptr;
| ^~~~~~~~
/home/biocbuild/R/R-4.5.0/site-library/BH/include/boost/smart_ptr/shared_ptr.hpp:430:34: warning: ‘template<class> class std::auto_ptr’ is deprecated: use 'std::unique_ptr' instead [-Wdeprecated-declarations]
430 | shared_ptr & operator=( std::auto_ptr<Y> && r )
| ^~~~~~~~
/opt/ohpc/pub/compiler/gcc/14.2.0/include/c++/14.2.0/bits/unique_ptr.h:59:28: note: declared here
59 | template<typename> class auto_ptr;
| ^~~~~~~~
/home/biocbuild/R/R-4.5.0/site-library/BH/include/boost/smart_ptr/shared_ptr.hpp: In member function ‘boost::shared_ptr<T>& boost::shared_ptr<T>::operator=(std::auto_ptr<_Up>&&)’:
/home/biocbuild/R/R-4.5.0/site-library/BH/include/boost/smart_ptr/shared_ptr.hpp:432:38: warning: ‘template<class> class std::auto_ptr’ is deprecated: use 'std::unique_ptr' instead [-Wdeprecated-declarations]
432 | this_type( static_cast< std::auto_ptr<Y> && >( r ) ).swap( *this );
| ^~~~~~~~
/opt/ohpc/pub/compiler/gcc/14.2.0/include/c++/14.2.0/bits/unique_ptr.h:59:28: note: declared here
59 | template<typename> class auto_ptr;
| ^~~~~~~~
/opt/ohpc/pub/compiler/gcc/14.2.0/bin/aarch64-unknown-linux-gnu-g++ -std=gnu++17 -I"/home/biocbuild/R/R-4.5.0/include" -DNDEBUG -I'/home/biocbuild/R/R-4.5.0/site-library/Rcpp/include' -I'/home/biocbuild/R/R-4.5.0/site-library/BH/include' -I/usr/local/include -fopenmp -fPIC -g -O2 -Wall -Werror=format-security -c demultiplex.cpp -o demultiplex.o
In file included from /home/biocbuild/R/R-4.5.0/site-library/BH/include/boost/smart_ptr/shared_ptr.hpp:17,
from /home/biocbuild/R/R-4.5.0/site-library/BH/include/boost/shared_ptr.hpp:17,
from sequence.h:19,
from distance.h:14,
from demultiplex.cpp:9:
/home/biocbuild/R/R-4.5.0/site-library/BH/include/boost/smart_ptr/detail/shared_count.hpp:326:33: warning: ‘template<class> class std::auto_ptr’ is deprecated: use 'std::unique_ptr' instead [-Wdeprecated-declarations]
326 | explicit shared_count( std::auto_ptr<Y> & r ): pi_( new sp_counted_impl_p<Y>( r.get() ) )
| ^~~~~~~~
In file included from /opt/ohpc/pub/compiler/gcc/14.2.0/include/c++/14.2.0/memory:78,
from distance.h:11:
/opt/ohpc/pub/compiler/gcc/14.2.0/include/c++/14.2.0/bits/unique_ptr.h:59:28: note: declared here
59 | template<typename> class auto_ptr;
| ^~~~~~~~
/home/biocbuild/R/R-4.5.0/site-library/BH/include/boost/smart_ptr/shared_ptr.hpp:354:31: warning: ‘template<class> class std::auto_ptr’ is deprecated: use 'std::unique_ptr' instead [-Wdeprecated-declarations]
354 | explicit shared_ptr( std::auto_ptr<Y> & r ): px(r.get()), pn()
| ^~~~~~~~
/opt/ohpc/pub/compiler/gcc/14.2.0/include/c++/14.2.0/bits/unique_ptr.h:59:28: note: declared here
59 | template<typename> class auto_ptr;
| ^~~~~~~~
/home/biocbuild/R/R-4.5.0/site-library/BH/include/boost/smart_ptr/shared_ptr.hpp:365:22: warning: ‘template<class> class std::auto_ptr’ is deprecated: use 'std::unique_ptr' instead [-Wdeprecated-declarations]
365 | shared_ptr( std::auto_ptr<Y> && r ): px(r.get()), pn()
| ^~~~~~~~
/opt/ohpc/pub/compiler/gcc/14.2.0/include/c++/14.2.0/bits/unique_ptr.h:59:28: note: declared here
59 | template<typename> class auto_ptr;
| ^~~~~~~~
/home/biocbuild/R/R-4.5.0/site-library/BH/include/boost/smart_ptr/shared_ptr.hpp:423:34: warning: ‘template<class> class std::auto_ptr’ is deprecated: use 'std::unique_ptr' instead [-Wdeprecated-declarations]
423 | shared_ptr & operator=( std::auto_ptr<Y> & r )
| ^~~~~~~~
/opt/ohpc/pub/compiler/gcc/14.2.0/include/c++/14.2.0/bits/unique_ptr.h:59:28: note: declared here
59 | template<typename> class auto_ptr;
| ^~~~~~~~
/home/biocbuild/R/R-4.5.0/site-library/BH/include/boost/smart_ptr/shared_ptr.hpp:430:34: warning: ‘template<class> class std::auto_ptr’ is deprecated: use 'std::unique_ptr' instead [-Wdeprecated-declarations]
430 | shared_ptr & operator=( std::auto_ptr<Y> && r )
| ^~~~~~~~
/opt/ohpc/pub/compiler/gcc/14.2.0/include/c++/14.2.0/bits/unique_ptr.h:59:28: note: declared here
59 | template<typename> class auto_ptr;
| ^~~~~~~~
/home/biocbuild/R/R-4.5.0/site-library/BH/include/boost/smart_ptr/shared_ptr.hpp: In member function ‘boost::shared_ptr<T>& boost::shared_ptr<T>::operator=(std::auto_ptr<_Up>&&)’:
/home/biocbuild/R/R-4.5.0/site-library/BH/include/boost/smart_ptr/shared_ptr.hpp:432:38: warning: ‘template<class> class std::auto_ptr’ is deprecated: use 'std::unique_ptr' instead [-Wdeprecated-declarations]
432 | this_type( static_cast< std::auto_ptr<Y> && >( r ) ).swap( *this );
| ^~~~~~~~
/opt/ohpc/pub/compiler/gcc/14.2.0/include/c++/14.2.0/bits/unique_ptr.h:59:28: note: declared here
59 | template<typename> class auto_ptr;
| ^~~~~~~~
/opt/ohpc/pub/compiler/gcc/14.2.0/bin/aarch64-unknown-linux-gnu-g++ -std=gnu++17 -I"/home/biocbuild/R/R-4.5.0/include" -DNDEBUG -I'/home/biocbuild/R/R-4.5.0/site-library/Rcpp/include' -I'/home/biocbuild/R/R-4.5.0/site-library/BH/include' -I/usr/local/include -fopenmp -fPIC -g -O2 -Wall -Werror=format-security -c distance_for_R.cpp -o distance_for_R.o
In file included from /home/biocbuild/R/R-4.5.0/site-library/BH/include/boost/smart_ptr/shared_ptr.hpp:17,
from /home/biocbuild/R/R-4.5.0/site-library/BH/include/boost/shared_ptr.hpp:17,
from sequence.h:19,
from distance.h:14,
from distance_for_R.cpp:9:
/home/biocbuild/R/R-4.5.0/site-library/BH/include/boost/smart_ptr/detail/shared_count.hpp:326:33: warning: ‘template<class> class std::auto_ptr’ is deprecated: use 'std::unique_ptr' instead [-Wdeprecated-declarations]
326 | explicit shared_count( std::auto_ptr<Y> & r ): pi_( new sp_counted_impl_p<Y>( r.get() ) )
| ^~~~~~~~
In file included from /opt/ohpc/pub/compiler/gcc/14.2.0/include/c++/14.2.0/memory:78,
from distance.h:11:
/opt/ohpc/pub/compiler/gcc/14.2.0/include/c++/14.2.0/bits/unique_ptr.h:59:28: note: declared here
59 | template<typename> class auto_ptr;
| ^~~~~~~~
/home/biocbuild/R/R-4.5.0/site-library/BH/include/boost/smart_ptr/shared_ptr.hpp:354:31: warning: ‘template<class> class std::auto_ptr’ is deprecated: use 'std::unique_ptr' instead [-Wdeprecated-declarations]
354 | explicit shared_ptr( std::auto_ptr<Y> & r ): px(r.get()), pn()
| ^~~~~~~~
/opt/ohpc/pub/compiler/gcc/14.2.0/include/c++/14.2.0/bits/unique_ptr.h:59:28: note: declared here
59 | template<typename> class auto_ptr;
| ^~~~~~~~
/home/biocbuild/R/R-4.5.0/site-library/BH/include/boost/smart_ptr/shared_ptr.hpp:365:22: warning: ‘template<class> class std::auto_ptr’ is deprecated: use 'std::unique_ptr' instead [-Wdeprecated-declarations]
365 | shared_ptr( std::auto_ptr<Y> && r ): px(r.get()), pn()
| ^~~~~~~~
/opt/ohpc/pub/compiler/gcc/14.2.0/include/c++/14.2.0/bits/unique_ptr.h:59:28: note: declared here
59 | template<typename> class auto_ptr;
| ^~~~~~~~
/home/biocbuild/R/R-4.5.0/site-library/BH/include/boost/smart_ptr/shared_ptr.hpp:423:34: warning: ‘template<class> class std::auto_ptr’ is deprecated: use 'std::unique_ptr' instead [-Wdeprecated-declarations]
423 | shared_ptr & operator=( std::auto_ptr<Y> & r )
| ^~~~~~~~
/opt/ohpc/pub/compiler/gcc/14.2.0/include/c++/14.2.0/bits/unique_ptr.h:59:28: note: declared here
59 | template<typename> class auto_ptr;
| ^~~~~~~~
/home/biocbuild/R/R-4.5.0/site-library/BH/include/boost/smart_ptr/shared_ptr.hpp:430:34: warning: ‘template<class> class std::auto_ptr’ is deprecated: use 'std::unique_ptr' instead [-Wdeprecated-declarations]
430 | shared_ptr & operator=( std::auto_ptr<Y> && r )
| ^~~~~~~~
/opt/ohpc/pub/compiler/gcc/14.2.0/include/c++/14.2.0/bits/unique_ptr.h:59:28: note: declared here
59 | template<typename> class auto_ptr;
| ^~~~~~~~
/home/biocbuild/R/R-4.5.0/site-library/BH/include/boost/smart_ptr/shared_ptr.hpp: In member function ‘boost::shared_ptr<T>& boost::shared_ptr<T>::operator=(std::auto_ptr<_Up>&&)’:
/home/biocbuild/R/R-4.5.0/site-library/BH/include/boost/smart_ptr/shared_ptr.hpp:432:38: warning: ‘template<class> class std::auto_ptr’ is deprecated: use 'std::unique_ptr' instead [-Wdeprecated-declarations]
432 | this_type( static_cast< std::auto_ptr<Y> && >( r ) ).swap( *this );
| ^~~~~~~~
/opt/ohpc/pub/compiler/gcc/14.2.0/include/c++/14.2.0/bits/unique_ptr.h:59:28: note: declared here
59 | template<typename> class auto_ptr;
| ^~~~~~~~
/opt/ohpc/pub/compiler/gcc/14.2.0/bin/aarch64-unknown-linux-gnu-g++ -std=gnu++17 -I"/home/biocbuild/R/R-4.5.0/include" -DNDEBUG -I'/home/biocbuild/R/R-4.5.0/site-library/Rcpp/include' -I'/home/biocbuild/R/R-4.5.0/site-library/BH/include' -I/usr/local/include -fopenmp -fPIC -g -O2 -Wall -Werror=format-security -c genericchromosome.cpp -o genericchromosome.o
/opt/ohpc/pub/compiler/gcc/14.2.0/bin/aarch64-unknown-linux-gnu-g++ -std=gnu++17 -I"/home/biocbuild/R/R-4.5.0/include" -DNDEBUG -I'/home/biocbuild/R/R-4.5.0/site-library/Rcpp/include' -I'/home/biocbuild/R/R-4.5.0/site-library/BH/include' -I/usr/local/include -fopenmp -fPIC -g -O2 -Wall -Werror=format-security -c greedyevolution.cpp -o greedyevolution.o
In file included from /home/biocbuild/R/R-4.5.0/site-library/BH/include/boost/smart_ptr/shared_ptr.hpp:17,
from /home/biocbuild/R/R-4.5.0/site-library/BH/include/boost/shared_ptr.hpp:17,
from sequence.h:19,
from greedyevolution.h:8,
from greedyevolution.cpp:5:
/home/biocbuild/R/R-4.5.0/site-library/BH/include/boost/smart_ptr/detail/shared_count.hpp:326:33: warning: ‘template<class> class std::auto_ptr’ is deprecated: use 'std::unique_ptr' instead [-Wdeprecated-declarations]
326 | explicit shared_count( std::auto_ptr<Y> & r ): pi_( new sp_counted_impl_p<Y>( r.get() ) )
| ^~~~~~~~
In file included from /opt/ohpc/pub/compiler/gcc/14.2.0/include/c++/14.2.0/memory:78,
from sequence.h:13:
/opt/ohpc/pub/compiler/gcc/14.2.0/include/c++/14.2.0/bits/unique_ptr.h:59:28: note: declared here
59 | template<typename> class auto_ptr;
| ^~~~~~~~
/home/biocbuild/R/R-4.5.0/site-library/BH/include/boost/smart_ptr/shared_ptr.hpp:354:31: warning: ‘template<class> class std::auto_ptr’ is deprecated: use 'std::unique_ptr' instead [-Wdeprecated-declarations]
354 | explicit shared_ptr( std::auto_ptr<Y> & r ): px(r.get()), pn()
| ^~~~~~~~
/opt/ohpc/pub/compiler/gcc/14.2.0/include/c++/14.2.0/bits/unique_ptr.h:59:28: note: declared here
59 | template<typename> class auto_ptr;
| ^~~~~~~~
/home/biocbuild/R/R-4.5.0/site-library/BH/include/boost/smart_ptr/shared_ptr.hpp:365:22: warning: ‘template<class> class std::auto_ptr’ is deprecated: use 'std::unique_ptr' instead [-Wdeprecated-declarations]
365 | shared_ptr( std::auto_ptr<Y> && r ): px(r.get()), pn()
| ^~~~~~~~
/opt/ohpc/pub/compiler/gcc/14.2.0/include/c++/14.2.0/bits/unique_ptr.h:59:28: note: declared here
59 | template<typename> class auto_ptr;
| ^~~~~~~~
/home/biocbuild/R/R-4.5.0/site-library/BH/include/boost/smart_ptr/shared_ptr.hpp:423:34: warning: ‘template<class> class std::auto_ptr’ is deprecated: use 'std::unique_ptr' instead [-Wdeprecated-declarations]
423 | shared_ptr & operator=( std::auto_ptr<Y> & r )
| ^~~~~~~~
/opt/ohpc/pub/compiler/gcc/14.2.0/include/c++/14.2.0/bits/unique_ptr.h:59:28: note: declared here
59 | template<typename> class auto_ptr;
| ^~~~~~~~
/home/biocbuild/R/R-4.5.0/site-library/BH/include/boost/smart_ptr/shared_ptr.hpp:430:34: warning: ‘template<class> class std::auto_ptr’ is deprecated: use 'std::unique_ptr' instead [-Wdeprecated-declarations]
430 | shared_ptr & operator=( std::auto_ptr<Y> && r )
| ^~~~~~~~
/opt/ohpc/pub/compiler/gcc/14.2.0/include/c++/14.2.0/bits/unique_ptr.h:59:28: note: declared here
59 | template<typename> class auto_ptr;
| ^~~~~~~~
/home/biocbuild/R/R-4.5.0/site-library/BH/include/boost/smart_ptr/shared_ptr.hpp: In member function ‘boost::shared_ptr<T>& boost::shared_ptr<T>::operator=(std::auto_ptr<_Up>&&)’:
/home/biocbuild/R/R-4.5.0/site-library/BH/include/boost/smart_ptr/shared_ptr.hpp:432:38: warning: ‘template<class> class std::auto_ptr’ is deprecated: use 'std::unique_ptr' instead [-Wdeprecated-declarations]
432 | this_type( static_cast< std::auto_ptr<Y> && >( r ) ).swap( *this );
| ^~~~~~~~
/opt/ohpc/pub/compiler/gcc/14.2.0/include/c++/14.2.0/bits/unique_ptr.h:59:28: note: declared here
59 | template<typename> class auto_ptr;
| ^~~~~~~~
In file included from /home/biocbuild/R/R-4.5.0/site-library/BH/include/boost/foreach.hpp:76,
from greedyevolution.cpp:12:
/home/biocbuild/R/R-4.5.0/site-library/BH/include/boost/mpl/assert.hpp: At global scope:
/home/biocbuild/R/R-4.5.0/site-library/BH/include/boost/mpl/assert.hpp:194:21: warning: unnecessary parentheses in declaration of ‘assert_arg’ [-Wparentheses]
194 | failed ************ (Pred::************
| ^~~~~~~~~~~~~~~~~~~
195 | assert_arg( void (*)(Pred), typename assert_arg_pred<Pred>::type )
| ~~~~~~~~~~~~~~~~~~~~~~~~~~~~~~~~~~~~~~~~~~~~~~~~~~~~~~~~~~~~~~~~~~
196 | );
| ~
/home/biocbuild/R/R-4.5.0/site-library/BH/include/boost/mpl/assert.hpp:194:21: note: remove parentheses
194 | failed ************ (Pred::************
| ^~~~~~~~~~~~~~~~~~~
| -
195 | assert_arg( void (*)(Pred), typename assert_arg_pred<Pred>::type )
| ~~~~~~~~~~~~~~~~~~~~~~~~~~~~~~~~~~~~~~~~~~~~~~~~~~~~~~~~~~~~~~~~~~
196 | );
| ~
| -
/home/biocbuild/R/R-4.5.0/site-library/BH/include/boost/mpl/assert.hpp:199:21: warning: unnecessary parentheses in declaration of ‘assert_not_arg’ [-Wparentheses]
199 | failed ************ (boost::mpl::not_<Pred>::************
| ^~~~~~~~~~~~~~~~~~~~~~~~~~~~~~~~~~~~~
200 | assert_not_arg( void (*)(Pred), typename assert_arg_pred_not<Pred>::type )
| ~~~~~~~~~~~~~~~~~~~~~~~~~~~~~~~~~~~~~~~~~~~~~~~~~~~~~~~~~~~~~~~~~~~~~~~~~~
201 | );
| ~
/home/biocbuild/R/R-4.5.0/site-library/BH/include/boost/mpl/assert.hpp:199:21: note: remove parentheses
199 | failed ************ (boost::mpl::not_<Pred>::************
| ^~~~~~~~~~~~~~~~~~~~~~~~~~~~~~~~~~~~~
| -
200 | assert_not_arg( void (*)(Pred), typename assert_arg_pred_not<Pred>::type )
| ~~~~~~~~~~~~~~~~~~~~~~~~~~~~~~~~~~~~~~~~~~~~~~~~~~~~~~~~~~~~~~~~~~~~~~~~~~
201 | );
| ~
| -
/opt/ohpc/pub/compiler/gcc/14.2.0/bin/aarch64-unknown-linux-gnu-g++ -std=gnu++17 -I"/home/biocbuild/R/R-4.5.0/include" -DNDEBUG -I'/home/biocbuild/R/R-4.5.0/site-library/Rcpp/include' -I'/home/biocbuild/R/R-4.5.0/site-library/BH/include' -I/usr/local/include -fopenmp -fPIC -g -O2 -Wall -Werror=format-security -c hammingdistance.cpp -o hammingdistance.o
In file included from /home/biocbuild/R/R-4.5.0/site-library/BH/include/boost/smart_ptr/shared_ptr.hpp:17,
from /home/biocbuild/R/R-4.5.0/site-library/BH/include/boost/shared_ptr.hpp:17,
from sequence.h:19,
from hammingdistance.cpp:7:
/home/biocbuild/R/R-4.5.0/site-library/BH/include/boost/smart_ptr/detail/shared_count.hpp:326:33: warning: ‘template<class> class std::auto_ptr’ is deprecated: use 'std::unique_ptr' instead [-Wdeprecated-declarations]
326 | explicit shared_count( std::auto_ptr<Y> & r ): pi_( new sp_counted_impl_p<Y>( r.get() ) )
| ^~~~~~~~
In file included from /opt/ohpc/pub/compiler/gcc/14.2.0/include/c++/14.2.0/memory:78,
from sequence.h:13:
/opt/ohpc/pub/compiler/gcc/14.2.0/include/c++/14.2.0/bits/unique_ptr.h:59:28: note: declared here
59 | template<typename> class auto_ptr;
| ^~~~~~~~
/home/biocbuild/R/R-4.5.0/site-library/BH/include/boost/smart_ptr/shared_ptr.hpp:354:31: warning: ‘template<class> class std::auto_ptr’ is deprecated: use 'std::unique_ptr' instead [-Wdeprecated-declarations]
354 | explicit shared_ptr( std::auto_ptr<Y> & r ): px(r.get()), pn()
| ^~~~~~~~
/opt/ohpc/pub/compiler/gcc/14.2.0/include/c++/14.2.0/bits/unique_ptr.h:59:28: note: declared here
59 | template<typename> class auto_ptr;
| ^~~~~~~~
/home/biocbuild/R/R-4.5.0/site-library/BH/include/boost/smart_ptr/shared_ptr.hpp:365:22: warning: ‘template<class> class std::auto_ptr’ is deprecated: use 'std::unique_ptr' instead [-Wdeprecated-declarations]
365 | shared_ptr( std::auto_ptr<Y> && r ): px(r.get()), pn()
| ^~~~~~~~
/opt/ohpc/pub/compiler/gcc/14.2.0/include/c++/14.2.0/bits/unique_ptr.h:59:28: note: declared here
59 | template<typename> class auto_ptr;
| ^~~~~~~~
/home/biocbuild/R/R-4.5.0/site-library/BH/include/boost/smart_ptr/shared_ptr.hpp:423:34: warning: ‘template<class> class std::auto_ptr’ is deprecated: use 'std::unique_ptr' instead [-Wdeprecated-declarations]
423 | shared_ptr & operator=( std::auto_ptr<Y> & r )
| ^~~~~~~~
/opt/ohpc/pub/compiler/gcc/14.2.0/include/c++/14.2.0/bits/unique_ptr.h:59:28: note: declared here
59 | template<typename> class auto_ptr;
| ^~~~~~~~
/home/biocbuild/R/R-4.5.0/site-library/BH/include/boost/smart_ptr/shared_ptr.hpp:430:34: warning: ‘template<class> class std::auto_ptr’ is deprecated: use 'std::unique_ptr' instead [-Wdeprecated-declarations]
430 | shared_ptr & operator=( std::auto_ptr<Y> && r )
| ^~~~~~~~
/opt/ohpc/pub/compiler/gcc/14.2.0/include/c++/14.2.0/bits/unique_ptr.h:59:28: note: declared here
59 | template<typename> class auto_ptr;
| ^~~~~~~~
/home/biocbuild/R/R-4.5.0/site-library/BH/include/boost/smart_ptr/shared_ptr.hpp: In member function ‘boost::shared_ptr<T>& boost::shared_ptr<T>::operator=(std::auto_ptr<_Up>&&)’:
/home/biocbuild/R/R-4.5.0/site-library/BH/include/boost/smart_ptr/shared_ptr.hpp:432:38: warning: ‘template<class> class std::auto_ptr’ is deprecated: use 'std::unique_ptr' instead [-Wdeprecated-declarations]
432 | this_type( static_cast< std::auto_ptr<Y> && >( r ) ).swap( *this );
| ^~~~~~~~
/opt/ohpc/pub/compiler/gcc/14.2.0/include/c++/14.2.0/bits/unique_ptr.h:59:28: note: declared here
59 | template<typename> class auto_ptr;
| ^~~~~~~~
/opt/ohpc/pub/compiler/gcc/14.2.0/bin/aarch64-unknown-linux-gnu-g++ -std=gnu++17 -I"/home/biocbuild/R/R-4.5.0/include" -DNDEBUG -I'/home/biocbuild/R/R-4.5.0/site-library/Rcpp/include' -I'/home/biocbuild/R/R-4.5.0/site-library/BH/include' -I/usr/local/include -fopenmp -fPIC -g -O2 -Wall -Werror=format-security -c helpers.cpp -o helpers.o
/opt/ohpc/pub/compiler/gcc/14.2.0/bin/aarch64-unknown-linux-gnu-g++ -std=gnu++17 -I"/home/biocbuild/R/R-4.5.0/include" -DNDEBUG -I'/home/biocbuild/R/R-4.5.0/site-library/Rcpp/include' -I'/home/biocbuild/R/R-4.5.0/site-library/BH/include' -I/usr/local/include -fopenmp -fPIC -g -O2 -Wall -Werror=format-security -c levenshteindistance.cpp -o levenshteindistance.o
In file included from /home/biocbuild/R/R-4.5.0/site-library/BH/include/boost/smart_ptr/shared_ptr.hpp:17,
from /home/biocbuild/R/R-4.5.0/site-library/BH/include/boost/shared_ptr.hpp:17,
from sequence.h:19,
from levenshteindistance.cpp:7:
/home/biocbuild/R/R-4.5.0/site-library/BH/include/boost/smart_ptr/detail/shared_count.hpp:326:33: warning: ‘template<class> class std::auto_ptr’ is deprecated: use 'std::unique_ptr' instead [-Wdeprecated-declarations]
326 | explicit shared_count( std::auto_ptr<Y> & r ): pi_( new sp_counted_impl_p<Y>( r.get() ) )
| ^~~~~~~~
In file included from /opt/ohpc/pub/compiler/gcc/14.2.0/include/c++/14.2.0/memory:78,
from sequence.h:13:
/opt/ohpc/pub/compiler/gcc/14.2.0/include/c++/14.2.0/bits/unique_ptr.h:59:28: note: declared here
59 | template<typename> class auto_ptr;
| ^~~~~~~~
/home/biocbuild/R/R-4.5.0/site-library/BH/include/boost/smart_ptr/shared_ptr.hpp:354:31: warning: ‘template<class> class std::auto_ptr’ is deprecated: use 'std::unique_ptr' instead [-Wdeprecated-declarations]
354 | explicit shared_ptr( std::auto_ptr<Y> & r ): px(r.get()), pn()
| ^~~~~~~~
/opt/ohpc/pub/compiler/gcc/14.2.0/include/c++/14.2.0/bits/unique_ptr.h:59:28: note: declared here
59 | template<typename> class auto_ptr;
| ^~~~~~~~
/home/biocbuild/R/R-4.5.0/site-library/BH/include/boost/smart_ptr/shared_ptr.hpp:365:22: warning: ‘template<class> class std::auto_ptr’ is deprecated: use 'std::unique_ptr' instead [-Wdeprecated-declarations]
365 | shared_ptr( std::auto_ptr<Y> && r ): px(r.get()), pn()
| ^~~~~~~~
/opt/ohpc/pub/compiler/gcc/14.2.0/include/c++/14.2.0/bits/unique_ptr.h:59:28: note: declared here
59 | template<typename> class auto_ptr;
| ^~~~~~~~
/home/biocbuild/R/R-4.5.0/site-library/BH/include/boost/smart_ptr/shared_ptr.hpp:423:34: warning: ‘template<class> class std::auto_ptr’ is deprecated: use 'std::unique_ptr' instead [-Wdeprecated-declarations]
423 | shared_ptr & operator=( std::auto_ptr<Y> & r )
| ^~~~~~~~
/opt/ohpc/pub/compiler/gcc/14.2.0/include/c++/14.2.0/bits/unique_ptr.h:59:28: note: declared here
59 | template<typename> class auto_ptr;
| ^~~~~~~~
/home/biocbuild/R/R-4.5.0/site-library/BH/include/boost/smart_ptr/shared_ptr.hpp:430:34: warning: ‘template<class> class std::auto_ptr’ is deprecated: use 'std::unique_ptr' instead [-Wdeprecated-declarations]
430 | shared_ptr & operator=( std::auto_ptr<Y> && r )
| ^~~~~~~~
/opt/ohpc/pub/compiler/gcc/14.2.0/include/c++/14.2.0/bits/unique_ptr.h:59:28: note: declared here
59 | template<typename> class auto_ptr;
| ^~~~~~~~
/home/biocbuild/R/R-4.5.0/site-library/BH/include/boost/smart_ptr/shared_ptr.hpp: In member function ‘boost::shared_ptr<T>& boost::shared_ptr<T>::operator=(std::auto_ptr<_Up>&&)’:
/home/biocbuild/R/R-4.5.0/site-library/BH/include/boost/smart_ptr/shared_ptr.hpp:432:38: warning: ‘template<class> class std::auto_ptr’ is deprecated: use 'std::unique_ptr' instead [-Wdeprecated-declarations]
432 | this_type( static_cast< std::auto_ptr<Y> && >( r ) ).swap( *this );
| ^~~~~~~~
/opt/ohpc/pub/compiler/gcc/14.2.0/include/c++/14.2.0/bits/unique_ptr.h:59:28: note: declared here
59 | template<typename> class auto_ptr;
| ^~~~~~~~
/opt/ohpc/pub/compiler/gcc/14.2.0/bin/aarch64-unknown-linux-gnu-g++ -std=gnu++17 -I"/home/biocbuild/R/R-4.5.0/include" -DNDEBUG -I'/home/biocbuild/R/R-4.5.0/site-library/Rcpp/include' -I'/home/biocbuild/R/R-4.5.0/site-library/BH/include' -I/usr/local/include -fopenmp -fPIC -g -O2 -Wall -Werror=format-security -c maxclique_pattabiraman_heuristic.cpp -o maxclique_pattabiraman_heuristic.o
In file included from /home/biocbuild/R/R-4.5.0/site-library/BH/include/boost/scoped_ptr.hpp:13,
from /home/biocbuild/R/R-4.5.0/site-library/BH/include/boost/graph/adjacency_list.hpp:22,
from maxclique.h:12,
from maxclique_pattabiraman_heuristic.h:10,
from maxclique_pattabiraman_heuristic.cpp:6:
/home/biocbuild/R/R-4.5.0/site-library/BH/include/boost/smart_ptr/scoped_ptr.hpp:75:31: warning: ‘template<class> class std::auto_ptr’ is deprecated: use 'std::unique_ptr' instead [-Wdeprecated-declarations]
75 | explicit scoped_ptr( std::auto_ptr<T> p ) noexcept : px( p.release() )
| ^~~~~~~~
In file included from /opt/ohpc/pub/compiler/gcc/14.2.0/include/c++/14.2.0/memory:78,
from /home/biocbuild/R/R-4.5.0/site-library/BH/include/boost/unordered/detail/opt_storage.hpp:11,
from /home/biocbuild/R/R-4.5.0/site-library/BH/include/boost/unordered/detail/archive_constructed.hpp:12,
from /home/biocbuild/R/R-4.5.0/site-library/BH/include/boost/unordered/detail/serialize_container.hpp:14,
from /home/biocbuild/R/R-4.5.0/site-library/BH/include/boost/unordered/detail/serialize_fca_container.hpp:12,
from /home/biocbuild/R/R-4.5.0/site-library/BH/include/boost/unordered/unordered_set.hpp:18,
from /home/biocbuild/R/R-4.5.0/site-library/BH/include/boost/unordered_set.hpp:17,
from /home/biocbuild/R/R-4.5.0/site-library/BH/include/boost/graph/adjacency_list.hpp:20:
/opt/ohpc/pub/compiler/gcc/14.2.0/include/c++/14.2.0/bits/unique_ptr.h:59:28: note: declared here
59 | template<typename> class auto_ptr;
| ^~~~~~~~
In file included from /home/biocbuild/R/R-4.5.0/site-library/BH/include/boost/mpl/aux_/na_assert.hpp:23,
from /home/biocbuild/R/R-4.5.0/site-library/BH/include/boost/mpl/arg.hpp:25,
from /home/biocbuild/R/R-4.5.0/site-library/BH/include/boost/mpl/placeholders.hpp:24,
from /home/biocbuild/R/R-4.5.0/site-library/BH/include/boost/iterator/iterator_categories.hpp:16,
from /home/biocbuild/R/R-4.5.0/site-library/BH/include/boost/graph/graph_traits.hpp:25,
from /home/biocbuild/R/R-4.5.0/site-library/BH/include/boost/graph/adjacency_list.hpp:24:
/home/biocbuild/R/R-4.5.0/site-library/BH/include/boost/mpl/assert.hpp:194:21: warning: unnecessary parentheses in declaration of ‘assert_arg’ [-Wparentheses]
194 | failed ************ (Pred::************
| ^~~~~~~~~~~~~~~~~~~
195 | assert_arg( void (*)(Pred), typename assert_arg_pred<Pred>::type )
| ~~~~~~~~~~~~~~~~~~~~~~~~~~~~~~~~~~~~~~~~~~~~~~~~~~~~~~~~~~~~~~~~~~
196 | );
| ~
/home/biocbuild/R/R-4.5.0/site-library/BH/include/boost/mpl/assert.hpp:194:21: note: remove parentheses
194 | failed ************ (Pred::************
| ^~~~~~~~~~~~~~~~~~~
| -
195 | assert_arg( void (*)(Pred), typename assert_arg_pred<Pred>::type )
| ~~~~~~~~~~~~~~~~~~~~~~~~~~~~~~~~~~~~~~~~~~~~~~~~~~~~~~~~~~~~~~~~~~
196 | );
| ~
| -
/home/biocbuild/R/R-4.5.0/site-library/BH/include/boost/mpl/assert.hpp:199:21: warning: unnecessary parentheses in declaration of ‘assert_not_arg’ [-Wparentheses]
199 | failed ************ (boost::mpl::not_<Pred>::************
| ^~~~~~~~~~~~~~~~~~~~~~~~~~~~~~~~~~~~~
200 | assert_not_arg( void (*)(Pred), typename assert_arg_pred_not<Pred>::type )
| ~~~~~~~~~~~~~~~~~~~~~~~~~~~~~~~~~~~~~~~~~~~~~~~~~~~~~~~~~~~~~~~~~~~~~~~~~~
201 | );
| ~
/home/biocbuild/R/R-4.5.0/site-library/BH/include/boost/mpl/assert.hpp:199:21: note: remove parentheses
199 | failed ************ (boost::mpl::not_<Pred>::************
| ^~~~~~~~~~~~~~~~~~~~~~~~~~~~~~~~~~~~~
| -
200 | assert_not_arg( void (*)(Pred), typename assert_arg_pred_not<Pred>::type )
| ~~~~~~~~~~~~~~~~~~~~~~~~~~~~~~~~~~~~~~~~~~~~~~~~~~~~~~~~~~~~~~~~~~~~~~~~~~
201 | );
| ~
| -
In file included from /home/biocbuild/R/R-4.5.0/site-library/BH/include/boost/smart_ptr/shared_ptr.hpp:17,
from /home/biocbuild/R/R-4.5.0/site-library/BH/include/boost/property_map/vector_property_map.hpp:14,
from /home/biocbuild/R/R-4.5.0/site-library/BH/include/boost/property_map/property_map.hpp:598,
from /home/biocbuild/R/R-4.5.0/site-library/BH/include/boost/graph/adjacency_list.hpp:27:
/home/biocbuild/R/R-4.5.0/site-library/BH/include/boost/smart_ptr/detail/shared_count.hpp:326:33: warning: ‘template<class> class std::auto_ptr’ is deprecated: use 'std::unique_ptr' instead [-Wdeprecated-declarations]
326 | explicit shared_count( std::auto_ptr<Y> & r ): pi_( new sp_counted_impl_p<Y>( r.get() ) )
| ^~~~~~~~
/opt/ohpc/pub/compiler/gcc/14.2.0/include/c++/14.2.0/bits/unique_ptr.h:59:28: note: declared here
59 | template<typename> class auto_ptr;
| ^~~~~~~~
/home/biocbuild/R/R-4.5.0/site-library/BH/include/boost/smart_ptr/shared_ptr.hpp:354:31: warning: ‘template<class> class std::auto_ptr’ is deprecated: use 'std::unique_ptr' instead [-Wdeprecated-declarations]
354 | explicit shared_ptr( std::auto_ptr<Y> & r ): px(r.get()), pn()
| ^~~~~~~~
/opt/ohpc/pub/compiler/gcc/14.2.0/include/c++/14.2.0/bits/unique_ptr.h:59:28: note: declared here
59 | template<typename> class auto_ptr;
| ^~~~~~~~
/home/biocbuild/R/R-4.5.0/site-library/BH/include/boost/smart_ptr/shared_ptr.hpp:365:22: warning: ‘template<class> class std::auto_ptr’ is deprecated: use 'std::unique_ptr' instead [-Wdeprecated-declarations]
365 | shared_ptr( std::auto_ptr<Y> && r ): px(r.get()), pn()
| ^~~~~~~~
/opt/ohpc/pub/compiler/gcc/14.2.0/include/c++/14.2.0/bits/unique_ptr.h:59:28: note: declared here
59 | template<typename> class auto_ptr;
| ^~~~~~~~
/home/biocbuild/R/R-4.5.0/site-library/BH/include/boost/smart_ptr/shared_ptr.hpp:423:34: warning: ‘template<class> class std::auto_ptr’ is deprecated: use 'std::unique_ptr' instead [-Wdeprecated-declarations]
423 | shared_ptr & operator=( std::auto_ptr<Y> & r )
| ^~~~~~~~
/opt/ohpc/pub/compiler/gcc/14.2.0/include/c++/14.2.0/bits/unique_ptr.h:59:28: note: declared here
59 | template<typename> class auto_ptr;
| ^~~~~~~~
/home/biocbuild/R/R-4.5.0/site-library/BH/include/boost/smart_ptr/shared_ptr.hpp:430:34: warning: ‘template<class> class std::auto_ptr’ is deprecated: use 'std::unique_ptr' instead [-Wdeprecated-declarations]
430 | shared_ptr & operator=( std::auto_ptr<Y> && r )
| ^~~~~~~~
/opt/ohpc/pub/compiler/gcc/14.2.0/include/c++/14.2.0/bits/unique_ptr.h:59:28: note: declared here
59 | template<typename> class auto_ptr;
| ^~~~~~~~
/home/biocbuild/R/R-4.5.0/site-library/BH/include/boost/smart_ptr/shared_ptr.hpp: In member function ‘boost::shared_ptr<T>& boost::shared_ptr<T>::operator=(std::auto_ptr<_Up>&&)’:
/home/biocbuild/R/R-4.5.0/site-library/BH/include/boost/smart_ptr/shared_ptr.hpp:432:38: warning: ‘template<class> class std::auto_ptr’ is deprecated: use 'std::unique_ptr' instead [-Wdeprecated-declarations]
432 | this_type( static_cast< std::auto_ptr<Y> && >( r ) ).swap( *this );
| ^~~~~~~~
/opt/ohpc/pub/compiler/gcc/14.2.0/include/c++/14.2.0/bits/unique_ptr.h:59:28: note: declared here
59 | template<typename> class auto_ptr;
| ^~~~~~~~
/opt/ohpc/pub/compiler/gcc/14.2.0/bin/aarch64-unknown-linux-gnu-g++ -std=gnu++17 -I"/home/biocbuild/R/R-4.5.0/include" -DNDEBUG -I'/home/biocbuild/R/R-4.5.0/site-library/Rcpp/include' -I'/home/biocbuild/R/R-4.5.0/site-library/BH/include' -I/usr/local/include -fopenmp -fPIC -g -O2 -Wall -Werror=format-security -c phaseshiftdist.cpp -o phaseshiftdist.o
In file included from /home/biocbuild/R/R-4.5.0/site-library/BH/include/boost/smart_ptr/shared_ptr.hpp:17,
from /home/biocbuild/R/R-4.5.0/site-library/BH/include/boost/shared_ptr.hpp:17,
from sequence.h:19,
from phaseshiftdist.cpp:10:
/home/biocbuild/R/R-4.5.0/site-library/BH/include/boost/smart_ptr/detail/shared_count.hpp:326:33: warning: ‘template<class> class std::auto_ptr’ is deprecated: use 'std::unique_ptr' instead [-Wdeprecated-declarations]
326 | explicit shared_count( std::auto_ptr<Y> & r ): pi_( new sp_counted_impl_p<Y>( r.get() ) )
| ^~~~~~~~
In file included from /opt/ohpc/pub/compiler/gcc/14.2.0/include/c++/14.2.0/memory:78,
from sequence.h:13:
/opt/ohpc/pub/compiler/gcc/14.2.0/include/c++/14.2.0/bits/unique_ptr.h:59:28: note: declared here
59 | template<typename> class auto_ptr;
| ^~~~~~~~
/home/biocbuild/R/R-4.5.0/site-library/BH/include/boost/smart_ptr/shared_ptr.hpp:354:31: warning: ‘template<class> class std::auto_ptr’ is deprecated: use 'std::unique_ptr' instead [-Wdeprecated-declarations]
354 | explicit shared_ptr( std::auto_ptr<Y> & r ): px(r.get()), pn()
| ^~~~~~~~
/opt/ohpc/pub/compiler/gcc/14.2.0/include/c++/14.2.0/bits/unique_ptr.h:59:28: note: declared here
59 | template<typename> class auto_ptr;
| ^~~~~~~~
/home/biocbuild/R/R-4.5.0/site-library/BH/include/boost/smart_ptr/shared_ptr.hpp:365:22: warning: ‘template<class> class std::auto_ptr’ is deprecated: use 'std::unique_ptr' instead [-Wdeprecated-declarations]
365 | shared_ptr( std::auto_ptr<Y> && r ): px(r.get()), pn()
| ^~~~~~~~
/opt/ohpc/pub/compiler/gcc/14.2.0/include/c++/14.2.0/bits/unique_ptr.h:59:28: note: declared here
59 | template<typename> class auto_ptr;
| ^~~~~~~~
/home/biocbuild/R/R-4.5.0/site-library/BH/include/boost/smart_ptr/shared_ptr.hpp:423:34: warning: ‘template<class> class std::auto_ptr’ is deprecated: use 'std::unique_ptr' instead [-Wdeprecated-declarations]
423 | shared_ptr & operator=( std::auto_ptr<Y> & r )
| ^~~~~~~~
/opt/ohpc/pub/compiler/gcc/14.2.0/include/c++/14.2.0/bits/unique_ptr.h:59:28: note: declared here
59 | template<typename> class auto_ptr;
| ^~~~~~~~
/home/biocbuild/R/R-4.5.0/site-library/BH/include/boost/smart_ptr/shared_ptr.hpp:430:34: warning: ‘template<class> class std::auto_ptr’ is deprecated: use 'std::unique_ptr' instead [-Wdeprecated-declarations]
430 | shared_ptr & operator=( std::auto_ptr<Y> && r )
| ^~~~~~~~
/opt/ohpc/pub/compiler/gcc/14.2.0/include/c++/14.2.0/bits/unique_ptr.h:59:28: note: declared here
59 | template<typename> class auto_ptr;
| ^~~~~~~~
/home/biocbuild/R/R-4.5.0/site-library/BH/include/boost/smart_ptr/shared_ptr.hpp: In member function ‘boost::shared_ptr<T>& boost::shared_ptr<T>::operator=(std::auto_ptr<_Up>&&)’:
/home/biocbuild/R/R-4.5.0/site-library/BH/include/boost/smart_ptr/shared_ptr.hpp:432:38: warning: ‘template<class> class std::auto_ptr’ is deprecated: use 'std::unique_ptr' instead [-Wdeprecated-declarations]
432 | this_type( static_cast< std::auto_ptr<Y> && >( r ) ).swap( *this );
| ^~~~~~~~
/opt/ohpc/pub/compiler/gcc/14.2.0/include/c++/14.2.0/bits/unique_ptr.h:59:28: note: declared here
59 | template<typename> class auto_ptr;
| ^~~~~~~~
In file included from /home/biocbuild/R/R-4.5.0/site-library/BH/include/boost/foreach.hpp:76,
from phaseshiftdist.cpp:23:
/home/biocbuild/R/R-4.5.0/site-library/BH/include/boost/mpl/assert.hpp: At global scope:
/home/biocbuild/R/R-4.5.0/site-library/BH/include/boost/mpl/assert.hpp:194:21: warning: unnecessary parentheses in declaration of ‘assert_arg’ [-Wparentheses]
194 | failed ************ (Pred::************
| ^~~~~~~~~~~~~~~~~~~
195 | assert_arg( void (*)(Pred), typename assert_arg_pred<Pred>::type )
| ~~~~~~~~~~~~~~~~~~~~~~~~~~~~~~~~~~~~~~~~~~~~~~~~~~~~~~~~~~~~~~~~~~
196 | );
| ~
/home/biocbuild/R/R-4.5.0/site-library/BH/include/boost/mpl/assert.hpp:194:21: note: remove parentheses
194 | failed ************ (Pred::************
| ^~~~~~~~~~~~~~~~~~~
| -
195 | assert_arg( void (*)(Pred), typename assert_arg_pred<Pred>::type )
| ~~~~~~~~~~~~~~~~~~~~~~~~~~~~~~~~~~~~~~~~~~~~~~~~~~~~~~~~~~~~~~~~~~
196 | );
| ~
| -
/home/biocbuild/R/R-4.5.0/site-library/BH/include/boost/mpl/assert.hpp:199:21: warning: unnecessary parentheses in declaration of ‘assert_not_arg’ [-Wparentheses]
199 | failed ************ (boost::mpl::not_<Pred>::************
| ^~~~~~~~~~~~~~~~~~~~~~~~~~~~~~~~~~~~~
200 | assert_not_arg( void (*)(Pred), typename assert_arg_pred_not<Pred>::type )
| ~~~~~~~~~~~~~~~~~~~~~~~~~~~~~~~~~~~~~~~~~~~~~~~~~~~~~~~~~~~~~~~~~~~~~~~~~~
201 | );
| ~
/home/biocbuild/R/R-4.5.0/site-library/BH/include/boost/mpl/assert.hpp:199:21: note: remove parentheses
199 | failed ************ (boost::mpl::not_<Pred>::************
| ^~~~~~~~~~~~~~~~~~~~~~~~~~~~~~~~~~~~~
| -
200 | assert_not_arg( void (*)(Pred), typename assert_arg_pred_not<Pred>::type )
| ~~~~~~~~~~~~~~~~~~~~~~~~~~~~~~~~~~~~~~~~~~~~~~~~~~~~~~~~~~~~~~~~~~~~~~~~~~
201 | );
| ~
| -
/opt/ohpc/pub/compiler/gcc/14.2.0/bin/aarch64-unknown-linux-gnu-g++ -std=gnu++17 -I"/home/biocbuild/R/R-4.5.0/include" -DNDEBUG -I'/home/biocbuild/R/R-4.5.0/site-library/Rcpp/include' -I'/home/biocbuild/R/R-4.5.0/site-library/BH/include' -I/usr/local/include -fopenmp -fPIC -g -O2 -Wall -Werror=format-security -c sequence.cpp -o sequence.o
In file included from /home/biocbuild/R/R-4.5.0/site-library/BH/include/boost/foreach.hpp:76,
from sequence.cpp:3:
/home/biocbuild/R/R-4.5.0/site-library/BH/include/boost/mpl/assert.hpp:194:21: warning: unnecessary parentheses in declaration of ‘assert_arg’ [-Wparentheses]
194 | failed ************ (Pred::************
| ^~~~~~~~~~~~~~~~~~~
195 | assert_arg( void (*)(Pred), typename assert_arg_pred<Pred>::type )
| ~~~~~~~~~~~~~~~~~~~~~~~~~~~~~~~~~~~~~~~~~~~~~~~~~~~~~~~~~~~~~~~~~~
196 | );
| ~
/home/biocbuild/R/R-4.5.0/site-library/BH/include/boost/mpl/assert.hpp:194:21: note: remove parentheses
194 | failed ************ (Pred::************
| ^~~~~~~~~~~~~~~~~~~
| -
195 | assert_arg( void (*)(Pred), typename assert_arg_pred<Pred>::type )
| ~~~~~~~~~~~~~~~~~~~~~~~~~~~~~~~~~~~~~~~~~~~~~~~~~~~~~~~~~~~~~~~~~~
196 | );
| ~
| -
/home/biocbuild/R/R-4.5.0/site-library/BH/include/boost/mpl/assert.hpp:199:21: warning: unnecessary parentheses in declaration of ‘assert_not_arg’ [-Wparentheses]
199 | failed ************ (boost::mpl::not_<Pred>::************
| ^~~~~~~~~~~~~~~~~~~~~~~~~~~~~~~~~~~~~
200 | assert_not_arg( void (*)(Pred), typename assert_arg_pred_not<Pred>::type )
| ~~~~~~~~~~~~~~~~~~~~~~~~~~~~~~~~~~~~~~~~~~~~~~~~~~~~~~~~~~~~~~~~~~~~~~~~~~
201 | );
| ~
/home/biocbuild/R/R-4.5.0/site-library/BH/include/boost/mpl/assert.hpp:199:21: note: remove parentheses
199 | failed ************ (boost::mpl::not_<Pred>::************
| ^~~~~~~~~~~~~~~~~~~~~~~~~~~~~~~~~~~~~
| -
200 | assert_not_arg( void (*)(Pred), typename assert_arg_pred_not<Pred>::type )
| ~~~~~~~~~~~~~~~~~~~~~~~~~~~~~~~~~~~~~~~~~~~~~~~~~~~~~~~~~~~~~~~~~~~~~~~~~~
201 | );
| ~
| -
In file included from /home/biocbuild/R/R-4.5.0/site-library/BH/include/boost/smart_ptr/shared_ptr.hpp:17,
from /home/biocbuild/R/R-4.5.0/site-library/BH/include/boost/shared_ptr.hpp:17,
from sequence.h:19,
from sequence.cpp:13:
/home/biocbuild/R/R-4.5.0/site-library/BH/include/boost/smart_ptr/detail/shared_count.hpp:326:33: warning: ‘template<class> class std::auto_ptr’ is deprecated: use 'std::unique_ptr' instead [-Wdeprecated-declarations]
326 | explicit shared_count( std::auto_ptr<Y> & r ): pi_( new sp_counted_impl_p<Y>( r.get() ) )
| ^~~~~~~~
In file included from /opt/ohpc/pub/compiler/gcc/14.2.0/include/c++/14.2.0/memory:78,
from sequence.cpp:10:
/opt/ohpc/pub/compiler/gcc/14.2.0/include/c++/14.2.0/bits/unique_ptr.h:59:28: note: declared here
59 | template<typename> class auto_ptr;
| ^~~~~~~~
/home/biocbuild/R/R-4.5.0/site-library/BH/include/boost/smart_ptr/shared_ptr.hpp:354:31: warning: ‘template<class> class std::auto_ptr’ is deprecated: use 'std::unique_ptr' instead [-Wdeprecated-declarations]
354 | explicit shared_ptr( std::auto_ptr<Y> & r ): px(r.get()), pn()
| ^~~~~~~~
/opt/ohpc/pub/compiler/gcc/14.2.0/include/c++/14.2.0/bits/unique_ptr.h:59:28: note: declared here
59 | template<typename> class auto_ptr;
| ^~~~~~~~
/home/biocbuild/R/R-4.5.0/site-library/BH/include/boost/smart_ptr/shared_ptr.hpp:365:22: warning: ‘template<class> class std::auto_ptr’ is deprecated: use 'std::unique_ptr' instead [-Wdeprecated-declarations]
365 | shared_ptr( std::auto_ptr<Y> && r ): px(r.get()), pn()
| ^~~~~~~~
/opt/ohpc/pub/compiler/gcc/14.2.0/include/c++/14.2.0/bits/unique_ptr.h:59:28: note: declared here
59 | template<typename> class auto_ptr;
| ^~~~~~~~
/home/biocbuild/R/R-4.5.0/site-library/BH/include/boost/smart_ptr/shared_ptr.hpp:423:34: warning: ‘template<class> class std::auto_ptr’ is deprecated: use 'std::unique_ptr' instead [-Wdeprecated-declarations]
423 | shared_ptr & operator=( std::auto_ptr<Y> & r )
| ^~~~~~~~
/opt/ohpc/pub/compiler/gcc/14.2.0/include/c++/14.2.0/bits/unique_ptr.h:59:28: note: declared here
59 | template<typename> class auto_ptr;
| ^~~~~~~~
/home/biocbuild/R/R-4.5.0/site-library/BH/include/boost/smart_ptr/shared_ptr.hpp:430:34: warning: ‘template<class> class std::auto_ptr’ is deprecated: use 'std::unique_ptr' instead [-Wdeprecated-declarations]
430 | shared_ptr & operator=( std::auto_ptr<Y> && r )
| ^~~~~~~~
/opt/ohpc/pub/compiler/gcc/14.2.0/include/c++/14.2.0/bits/unique_ptr.h:59:28: note: declared here
59 | template<typename> class auto_ptr;
| ^~~~~~~~
/home/biocbuild/R/R-4.5.0/site-library/BH/include/boost/smart_ptr/shared_ptr.hpp: In member function ‘boost::shared_ptr<T>& boost::shared_ptr<T>::operator=(std::auto_ptr<_Up>&&)’:
/home/biocbuild/R/R-4.5.0/site-library/BH/include/boost/smart_ptr/shared_ptr.hpp:432:38: warning: ‘template<class> class std::auto_ptr’ is deprecated: use 'std::unique_ptr' instead [-Wdeprecated-declarations]
432 | this_type( static_cast< std::auto_ptr<Y> && >( r ) ).swap( *this );
| ^~~~~~~~
/opt/ohpc/pub/compiler/gcc/14.2.0/include/c++/14.2.0/bits/unique_ptr.h:59:28: note: declared here
59 | template<typename> class auto_ptr;
| ^~~~~~~~
/opt/ohpc/pub/compiler/gcc/14.2.0/bin/aarch64-unknown-linux-gnu-g++ -std=gnu++17 -I"/home/biocbuild/R/R-4.5.0/include" -DNDEBUG -I'/home/biocbuild/R/R-4.5.0/site-library/Rcpp/include' -I'/home/biocbuild/R/R-4.5.0/site-library/BH/include' -I/usr/local/include -fopenmp -fPIC -g -O2 -Wall -Werror=format-security -c sequencelevenshteindistance.cpp -o sequencelevenshteindistance.o
In file included from /home/biocbuild/R/R-4.5.0/site-library/BH/include/boost/smart_ptr/shared_ptr.hpp:17,
from /home/biocbuild/R/R-4.5.0/site-library/BH/include/boost/shared_ptr.hpp:17,
from sequence.h:19,
from sequencelevenshteindistance.cpp:3:
/home/biocbuild/R/R-4.5.0/site-library/BH/include/boost/smart_ptr/detail/shared_count.hpp:326:33: warning: ‘template<class> class std::auto_ptr’ is deprecated: use 'std::unique_ptr' instead [-Wdeprecated-declarations]
326 | explicit shared_count( std::auto_ptr<Y> & r ): pi_( new sp_counted_impl_p<Y>( r.get() ) )
| ^~~~~~~~
In file included from /opt/ohpc/pub/compiler/gcc/14.2.0/include/c++/14.2.0/memory:78,
from sequence.h:13:
/opt/ohpc/pub/compiler/gcc/14.2.0/include/c++/14.2.0/bits/unique_ptr.h:59:28: note: declared here
59 | template<typename> class auto_ptr;
| ^~~~~~~~
/home/biocbuild/R/R-4.5.0/site-library/BH/include/boost/smart_ptr/shared_ptr.hpp:354:31: warning: ‘template<class> class std::auto_ptr’ is deprecated: use 'std::unique_ptr' instead [-Wdeprecated-declarations]
354 | explicit shared_ptr( std::auto_ptr<Y> & r ): px(r.get()), pn()
| ^~~~~~~~
/opt/ohpc/pub/compiler/gcc/14.2.0/include/c++/14.2.0/bits/unique_ptr.h:59:28: note: declared here
59 | template<typename> class auto_ptr;
| ^~~~~~~~
/home/biocbuild/R/R-4.5.0/site-library/BH/include/boost/smart_ptr/shared_ptr.hpp:365:22: warning: ‘template<class> class std::auto_ptr’ is deprecated: use 'std::unique_ptr' instead [-Wdeprecated-declarations]
365 | shared_ptr( std::auto_ptr<Y> && r ): px(r.get()), pn()
| ^~~~~~~~
/opt/ohpc/pub/compiler/gcc/14.2.0/include/c++/14.2.0/bits/unique_ptr.h:59:28: note: declared here
59 | template<typename> class auto_ptr;
| ^~~~~~~~
/home/biocbuild/R/R-4.5.0/site-library/BH/include/boost/smart_ptr/shared_ptr.hpp:423:34: warning: ‘template<class> class std::auto_ptr’ is deprecated: use 'std::unique_ptr' instead [-Wdeprecated-declarations]
423 | shared_ptr & operator=( std::auto_ptr<Y> & r )
| ^~~~~~~~
/opt/ohpc/pub/compiler/gcc/14.2.0/include/c++/14.2.0/bits/unique_ptr.h:59:28: note: declared here
59 | template<typename> class auto_ptr;
| ^~~~~~~~
/home/biocbuild/R/R-4.5.0/site-library/BH/include/boost/smart_ptr/shared_ptr.hpp:430:34: warning: ‘template<class> class std::auto_ptr’ is deprecated: use 'std::unique_ptr' instead [-Wdeprecated-declarations]
430 | shared_ptr & operator=( std::auto_ptr<Y> && r )
| ^~~~~~~~
/opt/ohpc/pub/compiler/gcc/14.2.0/include/c++/14.2.0/bits/unique_ptr.h:59:28: note: declared here
59 | template<typename> class auto_ptr;
| ^~~~~~~~
/home/biocbuild/R/R-4.5.0/site-library/BH/include/boost/smart_ptr/shared_ptr.hpp: In member function ‘boost::shared_ptr<T>& boost::shared_ptr<T>::operator=(std::auto_ptr<_Up>&&)’:
/home/biocbuild/R/R-4.5.0/site-library/BH/include/boost/smart_ptr/shared_ptr.hpp:432:38: warning: ‘template<class> class std::auto_ptr’ is deprecated: use 'std::unique_ptr' instead [-Wdeprecated-declarations]
432 | this_type( static_cast< std::auto_ptr<Y> && >( r ) ).swap( *this );
| ^~~~~~~~
/opt/ohpc/pub/compiler/gcc/14.2.0/include/c++/14.2.0/bits/unique_ptr.h:59:28: note: declared here
59 | template<typename> class auto_ptr;
| ^~~~~~~~
/opt/ohpc/pub/compiler/gcc/14.2.0/bin/aarch64-unknown-linux-gnu-g++ -std=gnu++17 -I"/home/biocbuild/R/R-4.5.0/include" -DNDEBUG -I'/home/biocbuild/R/R-4.5.0/site-library/Rcpp/include' -I'/home/biocbuild/R/R-4.5.0/site-library/BH/include' -I/usr/local/include -fopenmp -fPIC -g -O2 -Wall -Werror=format-security -c sequencepool.cpp -o sequencepool.o
In file included from /home/biocbuild/R/R-4.5.0/site-library/BH/include/boost/smart_ptr/shared_ptr.hpp:17,
from /home/biocbuild/R/R-4.5.0/site-library/BH/include/boost/shared_ptr.hpp:17,
from sequence.h:19,
from distance.h:14,
from sequencepool.cpp:11:
/home/biocbuild/R/R-4.5.0/site-library/BH/include/boost/smart_ptr/detail/shared_count.hpp:326:33: warning: ‘template<class> class std::auto_ptr’ is deprecated: use 'std::unique_ptr' instead [-Wdeprecated-declarations]
326 | explicit shared_count( std::auto_ptr<Y> & r ): pi_( new sp_counted_impl_p<Y>( r.get() ) )
| ^~~~~~~~
In file included from /opt/ohpc/pub/compiler/gcc/14.2.0/include/c++/14.2.0/memory:78,
from sequencepool.cpp:9:
/opt/ohpc/pub/compiler/gcc/14.2.0/include/c++/14.2.0/bits/unique_ptr.h:59:28: note: declared here
59 | template<typename> class auto_ptr;
| ^~~~~~~~
/home/biocbuild/R/R-4.5.0/site-library/BH/include/boost/smart_ptr/shared_ptr.hpp:354:31: warning: ‘template<class> class std::auto_ptr’ is deprecated: use 'std::unique_ptr' instead [-Wdeprecated-declarations]
354 | explicit shared_ptr( std::auto_ptr<Y> & r ): px(r.get()), pn()
| ^~~~~~~~
/opt/ohpc/pub/compiler/gcc/14.2.0/include/c++/14.2.0/bits/unique_ptr.h:59:28: note: declared here
59 | template<typename> class auto_ptr;
| ^~~~~~~~
/home/biocbuild/R/R-4.5.0/site-library/BH/include/boost/smart_ptr/shared_ptr.hpp:365:22: warning: ‘template<class> class std::auto_ptr’ is deprecated: use 'std::unique_ptr' instead [-Wdeprecated-declarations]
365 | shared_ptr( std::auto_ptr<Y> && r ): px(r.get()), pn()
| ^~~~~~~~
/opt/ohpc/pub/compiler/gcc/14.2.0/include/c++/14.2.0/bits/unique_ptr.h:59:28: note: declared here
59 | template<typename> class auto_ptr;
| ^~~~~~~~
/home/biocbuild/R/R-4.5.0/site-library/BH/include/boost/smart_ptr/shared_ptr.hpp:423:34: warning: ‘template<class> class std::auto_ptr’ is deprecated: use 'std::unique_ptr' instead [-Wdeprecated-declarations]
423 | shared_ptr & operator=( std::auto_ptr<Y> & r )
| ^~~~~~~~
/opt/ohpc/pub/compiler/gcc/14.2.0/include/c++/14.2.0/bits/unique_ptr.h:59:28: note: declared here
59 | template<typename> class auto_ptr;
| ^~~~~~~~
/home/biocbuild/R/R-4.5.0/site-library/BH/include/boost/smart_ptr/shared_ptr.hpp:430:34: warning: ‘template<class> class std::auto_ptr’ is deprecated: use 'std::unique_ptr' instead [-Wdeprecated-declarations]
430 | shared_ptr & operator=( std::auto_ptr<Y> && r )
| ^~~~~~~~
/opt/ohpc/pub/compiler/gcc/14.2.0/include/c++/14.2.0/bits/unique_ptr.h:59:28: note: declared here
59 | template<typename> class auto_ptr;
| ^~~~~~~~
/home/biocbuild/R/R-4.5.0/site-library/BH/include/boost/smart_ptr/shared_ptr.hpp: In member function ‘boost::shared_ptr<T>& boost::shared_ptr<T>::operator=(std::auto_ptr<_Up>&&)’:
/home/biocbuild/R/R-4.5.0/site-library/BH/include/boost/smart_ptr/shared_ptr.hpp:432:38: warning: ‘template<class> class std::auto_ptr’ is deprecated: use 'std::unique_ptr' instead [-Wdeprecated-declarations]
432 | this_type( static_cast< std::auto_ptr<Y> && >( r ) ).swap( *this );
| ^~~~~~~~
/opt/ohpc/pub/compiler/gcc/14.2.0/include/c++/14.2.0/bits/unique_ptr.h:59:28: note: declared here
59 | template<typename> class auto_ptr;
| ^~~~~~~~
In file included from /home/biocbuild/R/R-4.5.0/site-library/BH/include/boost/foreach.hpp:76,
from sequencepool.cpp:16:
/home/biocbuild/R/R-4.5.0/site-library/BH/include/boost/mpl/assert.hpp: At global scope:
/home/biocbuild/R/R-4.5.0/site-library/BH/include/boost/mpl/assert.hpp:194:21: warning: unnecessary parentheses in declaration of ‘assert_arg’ [-Wparentheses]
194 | failed ************ (Pred::************
| ^~~~~~~~~~~~~~~~~~~
195 | assert_arg( void (*)(Pred), typename assert_arg_pred<Pred>::type )
| ~~~~~~~~~~~~~~~~~~~~~~~~~~~~~~~~~~~~~~~~~~~~~~~~~~~~~~~~~~~~~~~~~~
196 | );
| ~
/home/biocbuild/R/R-4.5.0/site-library/BH/include/boost/mpl/assert.hpp:194:21: note: remove parentheses
194 | failed ************ (Pred::************
| ^~~~~~~~~~~~~~~~~~~
| -
195 | assert_arg( void (*)(Pred), typename assert_arg_pred<Pred>::type )
| ~~~~~~~~~~~~~~~~~~~~~~~~~~~~~~~~~~~~~~~~~~~~~~~~~~~~~~~~~~~~~~~~~~
196 | );
| ~
| -
/home/biocbuild/R/R-4.5.0/site-library/BH/include/boost/mpl/assert.hpp:199:21: warning: unnecessary parentheses in declaration of ‘assert_not_arg’ [-Wparentheses]
199 | failed ************ (boost::mpl::not_<Pred>::************
| ^~~~~~~~~~~~~~~~~~~~~~~~~~~~~~~~~~~~~
200 | assert_not_arg( void (*)(Pred), typename assert_arg_pred_not<Pred>::type )
| ~~~~~~~~~~~~~~~~~~~~~~~~~~~~~~~~~~~~~~~~~~~~~~~~~~~~~~~~~~~~~~~~~~~~~~~~~~
201 | );
| ~
/home/biocbuild/R/R-4.5.0/site-library/BH/include/boost/mpl/assert.hpp:199:21: note: remove parentheses
199 | failed ************ (boost::mpl::not_<Pred>::************
| ^~~~~~~~~~~~~~~~~~~~~~~~~~~~~~~~~~~~~
| -
200 | assert_not_arg( void (*)(Pred), typename assert_arg_pred_not<Pred>::type )
| ~~~~~~~~~~~~~~~~~~~~~~~~~~~~~~~~~~~~~~~~~~~~~~~~~~~~~~~~~~~~~~~~~~~~~~~~~~
201 | );
| ~
| -
/opt/ohpc/pub/compiler/gcc/14.2.0/bin/aarch64-unknown-linux-gnu-g++ -std=gnu++17 -shared -L/home/biocbuild/R/R-4.5.0/lib -L/usr/local/lib -o DNABarcodes.so DNABarcodes_init.o RcppExports.o analyse_barcodes.o barcode_set_distances.o cachedistance.o chromosome.o code_falsification.o conway.o create_distance_func.o create_dnabarcodes.o create_pool.o demultiplex.o distance_for_R.o genericchromosome.o greedyevolution.o hammingdistance.o helpers.o levenshteindistance.o maxclique_pattabiraman_heuristic.o phaseshiftdist.o sequence.o sequencelevenshteindistance.o sequencepool.o -fopenmp -L/home/biocbuild/R/R-4.5.0/lib -lR
installing to /home/biocbuild/R/R-4.5.0/site-library/00LOCK-DNABarcodes/00new/DNABarcodes/libs
** R
** data
** inst
** byte-compile and prepare package for lazy loading
** help
*** installing help indices
** building package indices
** installing vignettes
** testing if installed package can be loaded from temporary location
** checking absolute paths in shared objects and dynamic libraries
** testing if installed package can be loaded from final location
** testing if installed package keeps a record of temporary installation path
* DONE (DNABarcodes)