| Back to Multiple platform build/check report for BioC 3.22: simplified long |
|
This page was generated on 2025-10-21 12:07 -0400 (Tue, 21 Oct 2025).
| Hostname | OS | Arch (*) | R version | Installed pkgs |
|---|---|---|---|---|
| nebbiolo2 | Linux (Ubuntu 24.04.3 LTS) | x86_64 | 4.5.1 Patched (2025-08-23 r88802) -- "Great Square Root" | 4887 |
| lconway | macOS 12.7.6 Monterey | x86_64 | 4.5.1 Patched (2025-09-10 r88807) -- "Great Square Root" | 4677 |
| kjohnson3 | macOS 13.7.7 Ventura | arm64 | 4.5.1 Patched (2025-09-10 r88807) -- "Great Square Root" | 4622 |
| taishan | Linux (openEuler 24.03 LTS) | aarch64 | 4.5.0 (2025-04-11) -- "How About a Twenty-Six" | 4642 |
| Click on any hostname to see more info about the system (e.g. compilers) (*) as reported by 'uname -p', except on Windows and Mac OS X | ||||
| Package 754/2353 | Hostname | OS / Arch | INSTALL | BUILD | CHECK | BUILD BIN | ||||||||
| flowGraph 1.17.0 (landing page) Alice Yue
| nebbiolo2 | Linux (Ubuntu 24.04.3 LTS) / x86_64 | OK | OK | OK | |||||||||
| lconway | macOS 12.7.6 Monterey / x86_64 | OK | OK | OK | OK | |||||||||
| kjohnson3 | macOS 13.7.7 Ventura / arm64 | OK | OK | OK | OK | |||||||||
| taishan | Linux (openEuler 24.03 LTS) / aarch64 | OK | OK | OK | ||||||||||
|
To the developers/maintainers of the flowGraph package: - Allow up to 24 hours (and sometimes 48 hours) for your latest push to git@git.bioconductor.org:packages/flowGraph.git to reflect on this report. See Troubleshooting Build Report for more information. - Use the following Renviron settings to reproduce errors and warnings. - If 'R CMD check' started to fail recently on the Linux builder(s) over a missing dependency, add the missing dependency to 'Suggests:' in your DESCRIPTION file. See Renviron.bioc for more information. - See Martin Grigorov's blog post for how to debug Linux ARM64 related issues on a x86_64 host. |
| Package: flowGraph |
| Version: 1.17.0 |
| Command: /home/biocbuild/R/R/bin/R CMD check --install=check:flowGraph.install-out.txt --library=/home/biocbuild/R/R/site-library --no-vignettes --timings flowGraph_1.17.0.tar.gz |
| StartedAt: 2025-10-17 09:04:20 -0000 (Fri, 17 Oct 2025) |
| EndedAt: 2025-10-17 09:09:43 -0000 (Fri, 17 Oct 2025) |
| EllapsedTime: 323.2 seconds |
| RetCode: 0 |
| Status: OK |
| CheckDir: flowGraph.Rcheck |
| Warnings: 0 |
##############################################################################
##############################################################################
###
### Running command:
###
### /home/biocbuild/R/R/bin/R CMD check --install=check:flowGraph.install-out.txt --library=/home/biocbuild/R/R/site-library --no-vignettes --timings flowGraph_1.17.0.tar.gz
###
##############################################################################
##############################################################################
* using log directory ‘/home/biocbuild/bbs-3.22-bioc/meat/flowGraph.Rcheck’
* using R version 4.5.0 (2025-04-11)
* using platform: aarch64-unknown-linux-gnu
* R was compiled by
aarch64-unknown-linux-gnu-gcc (GCC) 14.2.0
GNU Fortran (GCC) 14.2.0
* running under: openEuler 24.03 (LTS)
* using session charset: UTF-8
* using option ‘--no-vignettes’
* checking for file ‘flowGraph/DESCRIPTION’ ... OK
* checking extension type ... Package
* this is package ‘flowGraph’ version ‘1.17.0’
* checking package namespace information ... OK
* checking package dependencies ... OK
* checking if this is a source package ... OK
* checking if there is a namespace ... OK
* checking for hidden files and directories ... OK
* checking for portable file names ... OK
* checking for sufficient/correct file permissions ... OK
* checking whether package ‘flowGraph’ can be installed ... OK
* checking installed package size ... OK
* checking package directory ... OK
* checking ‘build’ directory ... OK
* checking DESCRIPTION meta-information ... OK
* checking top-level files ... OK
* checking for left-over files ... OK
* checking index information ... OK
* checking package subdirectories ... OK
* checking code files for non-ASCII characters ... OK
* checking R files for syntax errors ... OK
* checking whether the package can be loaded ... OK
* checking whether the package can be loaded with stated dependencies ... OK
* checking whether the package can be unloaded cleanly ... OK
* checking whether the namespace can be loaded with stated dependencies ... OK
* checking whether the namespace can be unloaded cleanly ... OK
* checking loading without being on the library search path ... OK
* checking dependencies in R code ... OK
* checking S3 generic/method consistency ... OK
* checking replacement functions ... OK
* checking foreign function calls ... OK
* checking R code for possible problems ... NOTE
get_child: no visible binding for global variable ‘no_cores’
get_paren: no visible binding for global variable ‘no_cores’
ms_psig: no visible binding for global variable ‘meta’
Undefined global functions or variables:
meta no_cores
* checking Rd files ... NOTE
checkRd: (-1) fg_get_graph.Rd:13: Lost braces
13 | A list containing two data frames (\code{v} and ]code{e})
| ^
checkRd: (-1) ggdf.Rd:22: Lost braces
22 | code{ggdf} adds to the data frames \code{v} and \code{e} in slot
| ^
* checking Rd metadata ... OK
* checking Rd cross-references ... OK
* checking for missing documentation entries ... OK
* checking for code/documentation mismatches ... OK
* checking Rd \usage sections ... OK
* checking Rd contents ... OK
* checking for unstated dependencies in examples ... OK
* checking contents of ‘data’ directory ... OK
* checking data for non-ASCII characters ... OK
* checking data for ASCII and uncompressed saves ... OK
* checking files in ‘vignettes’ ... OK
* checking examples ... OK
Examples with CPU (user + system) or elapsed time > 5s
user system elapsed
fg_save_plots 63.028 0.331 63.554
fg_save 62.038 0.340 62.568
fg_load 61.331 0.523 62.020
* checking for unstated dependencies in ‘tests’ ... OK
* checking tests ...
Running ‘testthat.R’
OK
* checking for unstated dependencies in vignettes ... OK
* checking package vignettes ... OK
* checking running R code from vignettes ... SKIPPED
* checking re-building of vignette outputs ... SKIPPED
* checking PDF version of manual ... OK
* DONE
Status: 2 NOTEs
See
‘/home/biocbuild/bbs-3.22-bioc/meat/flowGraph.Rcheck/00check.log’
for details.
flowGraph.Rcheck/00install.out
############################################################################## ############################################################################## ### ### Running command: ### ### /home/biocbuild/R/R/bin/R CMD INSTALL flowGraph ### ############################################################################## ############################################################################## * installing to library ‘/home/biocbuild/R/R-4.5.0/site-library’ * installing *source* package ‘flowGraph’ ... ** this is package ‘flowGraph’ version ‘1.17.0’ ** using staged installation ** R ** data ** inst ** byte-compile and prepare package for lazy loading ** help Loading required namespace: flowGraph *** installing help indices ** building package indices ** installing vignettes ** testing if installed package can be loaded from temporary location ** testing if installed package can be loaded from final location ** testing if installed package keeps a record of temporary installation path * DONE (flowGraph)
flowGraph.Rcheck/tests/testthat.Rout
R version 4.5.0 (2025-04-11) -- "How About a Twenty-Six"
Copyright (C) 2025 The R Foundation for Statistical Computing
Platform: aarch64-unknown-linux-gnu
R is free software and comes with ABSOLUTELY NO WARRANTY.
You are welcome to redistribute it under certain conditions.
Type 'license()' or 'licence()' for distribution details.
R is a collaborative project with many contributors.
Type 'contributors()' for more information and
'citation()' on how to cite R or R packages in publications.
Type 'demo()' for some demos, 'help()' for on-line help, or
'help.start()' for an HTML browser interface to help.
Type 'q()' to quit R.
> library(testthat)
> library(flowGraph)
>
> test_check("flowGraph")
[ FAIL 0 | WARN 1 | SKIP 0 | PASS 34 ]
[ FAIL 0 | WARN 1 | SKIP 0 | PASS 34 ]
>
> proc.time()
user system elapsed
7.354 0.298 7.662
flowGraph.Rcheck/flowGraph-Ex.timings
| name | user | system | elapsed | |
| cell_type_layers | 0.004 | 0.000 | 0.003 | |
| fg_add_feature | 0.522 | 0.004 | 0.528 | |
| fg_add_summary | 1.366 | 0.000 | 1.370 | |
| fg_clean_phen | 0 | 0 | 0 | |
| fg_clear_features | 1.215 | 0.024 | 1.241 | |
| fg_clear_summary | 0.532 | 0.000 | 0.533 | |
| fg_extract_phenotypes | 0.400 | 0.004 | 0.405 | |
| fg_extract_raw | 1.193 | 0.000 | 1.195 | |
| fg_extract_samples | 0.405 | 0.028 | 0.433 | |
| fg_feat_cumsum | 0.416 | 0.004 | 0.421 | |
| fg_feat_edge_specenr | 0.578 | 0.000 | 0.580 | |
| fg_feat_mean_class | 0.406 | 0.000 | 0.407 | |
| fg_feat_node_prop | 0.408 | 0.004 | 0.413 | |
| fg_feat_node_specenr | 0.579 | 0.004 | 0.584 | |
| fg_feat_prop_edge | 0.425 | 0.000 | 0.426 | |
| fg_get_feature | 0.404 | 0.000 | 0.405 | |
| fg_get_feature_desc | 1.231 | 0.036 | 1.270 | |
| fg_get_feature_means | 1.867 | 0.000 | 1.872 | |
| fg_get_graph | 0.418 | 0.000 | 0.419 | |
| fg_get_markers | 0.562 | 0.024 | 0.587 | |
| fg_get_meta | 0.353 | 0.048 | 0.402 | |
| fg_get_summary | 2.427 | 0.047 | 2.482 | |
| fg_get_summary_desc | 1.106 | 0.000 | 1.109 | |
| fg_get_summary_index | 2.449 | 0.004 | 2.460 | |
| fg_get_summary_tables | 1.729 | 0.000 | 1.733 | |
| fg_gsub_ids | 0.378 | 0.000 | 0.378 | |
| fg_gsub_markers | 0.458 | 0.000 | 0.459 | |
| fg_load | 61.331 | 0.523 | 62.020 | |
| fg_merge | 0.438 | 0.003 | 0.442 | |
| fg_merge_samples | 0.437 | 0.000 | 0.438 | |
| fg_plot | 0.649 | 0.008 | 0.658 | |
| fg_plot_box | 1.073 | 0.004 | 1.080 | |
| fg_plot_pVSdiff | 0.577 | 0.004 | 0.583 | |
| fg_plot_qq | 1.786 | 0.004 | 1.807 | |
| fg_replace_meta | 0.419 | 0.008 | 0.428 | |
| fg_rm_feature | 1.234 | 0.035 | 1.273 | |
| fg_rm_summary | 0.550 | 0.000 | 0.552 | |
| fg_save | 62.038 | 0.340 | 62.568 | |
| fg_save_plots | 63.028 | 0.331 | 63.554 | |
| fg_set_layout | 0.432 | 0.000 | 0.434 | |
| fg_summary | 0.536 | 0.000 | 0.537 | |
| flowGraph-class | 0.001 | 0.000 | 0.001 | |
| flowGraph | 1.724 | 0.004 | 1.734 | |
| flowGraphSubset | 0 | 0 | 0 | |
| flowGraphSubset_summary_adjust | 0 | 0 | 0 | |
| flowGraphSubset_summary_pars | 0.000 | 0.000 | 0.001 | |
| get_phen_list | 0.017 | 0.000 | 0.017 | |
| get_phen_meta | 0.002 | 0.000 | 0.002 | |
| ggdf | 0.398 | 0.002 | 0.403 | |
| loop_ind_f | 0.000 | 0.000 | 0.001 | |
| meandiff | 0.000 | 0.000 | 0.001 | |
| plot_gr | 2.136 | 0.019 | 2.183 | |
| set_layout_graph | 0.412 | 0.004 | 0.417 | |
| summary_table | 0.003 | 0.000 | 0.004 | |
| time_output | 0.001 | 0.000 | 0.001 | |
| tstr | 0.000 | 0.000 | 0.001 | |