| Back to Multiple platform build/check report for BioC 3.22: simplified long |
|
This page was generated on 2025-10-21 12:07 -0400 (Tue, 21 Oct 2025).
| Hostname | OS | Arch (*) | R version | Installed pkgs |
|---|---|---|---|---|
| nebbiolo2 | Linux (Ubuntu 24.04.3 LTS) | x86_64 | 4.5.1 Patched (2025-08-23 r88802) -- "Great Square Root" | 4887 |
| lconway | macOS 12.7.6 Monterey | x86_64 | 4.5.1 Patched (2025-09-10 r88807) -- "Great Square Root" | 4677 |
| kjohnson3 | macOS 13.7.7 Ventura | arm64 | 4.5.1 Patched (2025-09-10 r88807) -- "Great Square Root" | 4622 |
| taishan | Linux (openEuler 24.03 LTS) | aarch64 | 4.5.0 (2025-04-11) -- "How About a Twenty-Six" | 4642 |
| Click on any hostname to see more info about the system (e.g. compilers) (*) as reported by 'uname -p', except on Windows and Mac OS X | ||||
| Package 1158/2353 | Hostname | OS / Arch | INSTALL | BUILD | CHECK | BUILD BIN | ||||||||
Sean K Maden
| nebbiolo2 | Linux (Ubuntu 24.04.3 LTS) / x86_64 | OK | OK | ERROR | |||||||||
| lconway | macOS 12.7.6 Monterey / x86_64 | OK | OK | ERROR | OK | |||||||||
| kjohnson3 | macOS 13.7.7 Ventura / arm64 | OK | OK | ERROR | OK | |||||||||
| taishan | Linux (openEuler 24.03 LTS) / aarch64 | OK | OK | OK | ||||||||||
|
To the developers/maintainers of the lute package: - Allow up to 24 hours (and sometimes 48 hours) for your latest push to git@git.bioconductor.org:packages/lute.git to reflect on this report. See Troubleshooting Build Report for more information. - Use the following Renviron settings to reproduce errors and warnings. - If 'R CMD check' started to fail recently on the Linux builder(s) over a missing dependency, add the missing dependency to 'Suggests:' in your DESCRIPTION file. See Renviron.bioc for more information. - See Martin Grigorov's blog post for how to debug Linux ARM64 related issues on a x86_64 host. |
| Package: lute |
| Version: 1.5.1 |
| Command: /home/biocbuild/R/R/bin/R CMD check --install=check:lute.install-out.txt --library=/home/biocbuild/R/R/site-library --no-vignettes --timings lute_1.5.1.tar.gz |
| StartedAt: 2025-10-17 10:37:11 -0000 (Fri, 17 Oct 2025) |
| EndedAt: 2025-10-17 10:41:30 -0000 (Fri, 17 Oct 2025) |
| EllapsedTime: 259.3 seconds |
| RetCode: 0 |
| Status: OK |
| CheckDir: lute.Rcheck |
| Warnings: 0 |
##############################################################################
##############################################################################
###
### Running command:
###
### /home/biocbuild/R/R/bin/R CMD check --install=check:lute.install-out.txt --library=/home/biocbuild/R/R/site-library --no-vignettes --timings lute_1.5.1.tar.gz
###
##############################################################################
##############################################################################
* using log directory ‘/home/biocbuild/bbs-3.22-bioc/meat/lute.Rcheck’
* using R version 4.5.0 (2025-04-11)
* using platform: aarch64-unknown-linux-gnu
* R was compiled by
aarch64-unknown-linux-gnu-gcc (GCC) 14.2.0
GNU Fortran (GCC) 14.2.0
* running under: openEuler 24.03 (LTS)
* using session charset: UTF-8
* using option ‘--no-vignettes’
* checking for file ‘lute/DESCRIPTION’ ... OK
* this is package ‘lute’ version ‘1.5.1’
* package encoding: UTF-8
* checking package namespace information ... OK
* checking package dependencies ... OK
* checking if this is a source package ... OK
* checking if there is a namespace ... OK
* checking for hidden files and directories ... OK
* checking for portable file names ... OK
* checking for sufficient/correct file permissions ... OK
* checking whether package ‘lute’ can be installed ... OK
* checking installed package size ... OK
* checking package directory ... OK
* checking ‘build’ directory ... OK
* checking DESCRIPTION meta-information ... OK
* checking top-level files ... OK
* checking for left-over files ... NOTE
The following files look like leftovers:
‘lute/NEWS.Rd’
Please remove them from your package.
* checking index information ... OK
* checking package subdirectories ... OK
* checking code files for non-ASCII characters ... OK
* checking R files for syntax errors ... OK
* checking whether the package can be loaded ... OK
* checking whether the package can be loaded with stated dependencies ... OK
* checking whether the package can be unloaded cleanly ... OK
* checking whether the namespace can be loaded with stated dependencies ... OK
* checking whether the namespace can be unloaded cleanly ... OK
* checking loading without being on the library search path ... OK
* checking whether startup messages can be suppressed ... OK
* checking dependencies in R code ... NOTE
Namespace in Imports field not imported from: ‘ggplot2’
All declared Imports should be used.
* checking S3 generic/method consistency ... OK
* checking replacement functions ... OK
* checking foreign function calls ... OK
* checking R code for possible problems ... OK
* checking Rd files ... OK
* checking Rd metadata ... OK
* checking Rd cross-references ... NOTE
Found the following Rd file(s) with Rd \link{} targets missing package
anchors:
lute.Rd: SummarizedExperiment-class
nnlsParam.Rd: ExpressionSet-class
ypb_from_sce.Rd: SingleCellExperiment-class
z_matrix_from_sce.Rd: SingleCellExperiment-class
Please provide package anchors for all Rd \link{} targets not in the
package itself and the base packages.
* checking for missing documentation entries ... OK
* checking for code/documentation mismatches ... OK
* checking Rd \usage sections ... OK
* checking Rd contents ... OK
* checking for unstated dependencies in examples ... OK
* checking files in ‘vignettes’ ... OK
* checking examples ... OK
* checking for unstated dependencies in vignettes ... OK
* checking package vignettes ... OK
* checking running R code from vignettes ... SKIPPED
* checking re-building of vignette outputs ... SKIPPED
* checking PDF version of manual ... OK
* DONE
Status: 3 NOTEs
See
‘/home/biocbuild/bbs-3.22-bioc/meat/lute.Rcheck/00check.log’
for details.
lute.Rcheck/00install.out
############################################################################## ############################################################################## ### ### Running command: ### ### /home/biocbuild/R/R/bin/R CMD INSTALL lute ### ############################################################################## ############################################################################## * installing to library ‘/home/biocbuild/R/R-4.5.0/site-library’ * installing *source* package ‘lute’ ... ** this is package ‘lute’ version ‘1.5.1’ ** using staged installation ** R ** inst ** byte-compile and prepare package for lazy loading ** help *** installing help indices ** building package indices ** installing vignettes ** testing if installed package can be loaded from temporary location Warning in fun(libname, pkgname) : Package 'lute' is deprecated and will be removed from Bioconductor version 3.23 ** testing if installed package can be loaded from final location Warning in fun(libname, pkgname) : Package 'lute' is deprecated and will be removed from Bioconductor version 3.23 ** testing if installed package keeps a record of temporary installation path * DONE (lute)
lute.Rcheck/lute-Ex.timings
| name | user | system | elapsed | |
| bisqueParam-class | 3.525 | 0.036 | 3.572 | |
| bisqueParam | 2.461 | 0.095 | 2.564 | |
| cellProportionsPredictions-class | 0.016 | 0.000 | 0.015 | |
| cellProportionsPredictions | 0.001 | 0.000 | 0.000 | |
| deconvolution-bisqueParam-method | 2.454 | 0.036 | 2.496 | |
| deconvolution-deconvolutionParam-method | 0.001 | 0.000 | 0.001 | |
| deconvolution-independentbulkParam-method | 0.002 | 0.000 | 0.003 | |
| deconvolution-nnlsParam-method | 0.015 | 0.000 | 0.015 | |
| deconvolution-referencebasedParam-method | 0.003 | 0.000 | 0.004 | |
| deconvolution | 0.004 | 0.000 | 0.005 | |
| deconvolutionParam-class | 0.000 | 0.000 | 0.001 | |
| eset_to_sce | 0.501 | 0.000 | 0.502 | |
| eset_to_se | 0.375 | 0.000 | 0.375 | |
| findmarkersParam-class | 0.890 | 0.016 | 0.907 | |
| findmarkersParam | 0.734 | 0.000 | 0.736 | |
| getDeconvolutionExampleData | 0.001 | 0.000 | 0.001 | |
| getDeconvolutionExampleDataBisque | 0.385 | 0.000 | 0.385 | |
| getDeconvolutionExampleDataSCDC | 0.158 | 0.000 | 0.158 | |
| get_celltypes_from_sce | 0.001 | 0.000 | 0.000 | |
| get_csf_reference | 0.001 | 0.000 | 0.000 | |
| get_eset_from_matrix | 0.000 | 0.001 | 0.000 | |
| independentbulkParam-class | 0.000 | 0.001 | 0.000 | |
| independentbulkParam | 0.000 | 0.001 | 0.001 | |
| lute | 0.154 | 0.004 | 0.159 | |
| luteSupportedDeconvolutionAlgorithms | 0.007 | 0.000 | 0.008 | |
| new_workflow_table | 0.001 | 0.000 | 0.001 | |
| nnlsParam-class | 0.002 | 0.004 | 0.006 | |
| nnlsParam | 0.004 | 0.003 | 0.006 | |
| parseDeconvolutionPredictionsResults | 0.001 | 0.000 | 0.000 | |
| proportionsVectorsList | 0.001 | 0.000 | 0.001 | |
| randomMarkersVectorsList | 0.001 | 0.000 | 0.001 | |
| randomSingleCellExperiment | 0.077 | 0.000 | 0.077 | |
| referenceFromSingleCellExperiment | 0 | 0 | 0 | |
| referencebasedParam-class | 0.001 | 0.000 | 0.002 | |
| referencebasedParam | 0.002 | 0.000 | 0.002 | |
| rmse | 0.001 | 0.000 | 0.001 | |
| rmseTest | 0 | 0 | 0 | |
| sce_to_eset | 0.124 | 0.000 | 0.124 | |
| sce_to_se | 0.111 | 0.008 | 0.119 | |
| se_to_eset | 0.152 | 0.000 | 0.153 | |
| se_to_sce | 0.123 | 0.004 | 0.128 | |
| show-bisqueParam-method | 0.522 | 0.004 | 0.528 | |
| show-cellProportionsPredictions-method | 0.000 | 0.000 | 0.001 | |
| show-deconvolutionParam-method | 0 | 0 | 0 | |
| show-findmarkersParam-method | 0.729 | 0.004 | 0.735 | |
| show-independentbulkParam-method | 0.001 | 0.000 | 0.001 | |
| show-nnlsParam-method | 0.002 | 0.000 | 0.002 | |
| show-referencebasedParam-method | 0.002 | 0.000 | 0.002 | |
| show-typemarkersParam-method | 0.000 | 0.000 | 0.001 | |
| sub-sub-deconvolutionParam-ANY-ANY-method | 0 | 0 | 0 | |
| sub-sub-typemarkersParam-ANY-ANY-method | 0.001 | 0.000 | 0.000 | |
| typemarkers-findmarkersParam-method | 0.730 | 0.000 | 0.732 | |
| typemarkers-typemarkersParam-method | 0 | 0 | 0 | |
| typemarkers | 0 | 0 | 0 | |
| typemarkersParam-class | 0 | 0 | 0 | |
| typemarkersParam | 0 | 0 | 0 | |
| ypb_from_sce | 0.102 | 0.000 | 0.102 | |
| z_matrix_from_sce | 0.096 | 0.000 | 0.097 | |