| Back to Multiple platform build/check report for BioC 3.22: simplified long |
|
This page was generated on 2025-10-21 12:07 -0400 (Tue, 21 Oct 2025).
| Hostname | OS | Arch (*) | R version | Installed pkgs |
|---|---|---|---|---|
| nebbiolo2 | Linux (Ubuntu 24.04.3 LTS) | x86_64 | 4.5.1 Patched (2025-08-23 r88802) -- "Great Square Root" | 4887 |
| lconway | macOS 12.7.6 Monterey | x86_64 | 4.5.1 Patched (2025-09-10 r88807) -- "Great Square Root" | 4677 |
| kjohnson3 | macOS 13.7.7 Ventura | arm64 | 4.5.1 Patched (2025-09-10 r88807) -- "Great Square Root" | 4622 |
| taishan | Linux (openEuler 24.03 LTS) | aarch64 | 4.5.0 (2025-04-11) -- "How About a Twenty-Six" | 4642 |
| Click on any hostname to see more info about the system (e.g. compilers) (*) as reported by 'uname -p', except on Windows and Mac OS X | ||||
| Package 1486/2353 | Hostname | OS / Arch | INSTALL | BUILD | CHECK | BUILD BIN | ||||||||
| omada 1.11.0 (landing page) Sokratis Kariotis
| nebbiolo2 | Linux (Ubuntu 24.04.3 LTS) / x86_64 | OK | OK | OK | |||||||||
| lconway | macOS 12.7.6 Monterey / x86_64 | OK | OK | OK | OK | |||||||||
| kjohnson3 | macOS 13.7.7 Ventura / arm64 | OK | OK | OK | OK | |||||||||
| taishan | Linux (openEuler 24.03 LTS) / aarch64 | OK | OK | OK | ||||||||||
|
To the developers/maintainers of the omada package: - Allow up to 24 hours (and sometimes 48 hours) for your latest push to git@git.bioconductor.org:packages/omada.git to reflect on this report. See Troubleshooting Build Report for more information. - Use the following Renviron settings to reproduce errors and warnings. - If 'R CMD check' started to fail recently on the Linux builder(s) over a missing dependency, add the missing dependency to 'Suggests:' in your DESCRIPTION file. See Renviron.bioc for more information. - See Martin Grigorov's blog post for how to debug Linux ARM64 related issues on a x86_64 host. |
| Package: omada |
| Version: 1.11.0 |
| Command: /home/biocbuild/R/R/bin/R CMD check --install=check:omada.install-out.txt --library=/home/biocbuild/R/R/site-library --no-vignettes --timings omada_1.11.0.tar.gz |
| StartedAt: 2025-10-17 11:48:48 -0000 (Fri, 17 Oct 2025) |
| EndedAt: 2025-10-17 12:02:24 -0000 (Fri, 17 Oct 2025) |
| EllapsedTime: 816.2 seconds |
| RetCode: 0 |
| Status: OK |
| CheckDir: omada.Rcheck |
| Warnings: 0 |
##############################################################################
##############################################################################
###
### Running command:
###
### /home/biocbuild/R/R/bin/R CMD check --install=check:omada.install-out.txt --library=/home/biocbuild/R/R/site-library --no-vignettes --timings omada_1.11.0.tar.gz
###
##############################################################################
##############################################################################
* using log directory ‘/home/biocbuild/bbs-3.22-bioc/meat/omada.Rcheck’
* using R version 4.5.0 (2025-04-11)
* using platform: aarch64-unknown-linux-gnu
* R was compiled by
aarch64-unknown-linux-gnu-gcc (GCC) 14.2.0
GNU Fortran (GCC) 14.2.0
* running under: openEuler 24.03 (LTS)
* using session charset: UTF-8
* using option ‘--no-vignettes’
* checking for file ‘omada/DESCRIPTION’ ... OK
* checking extension type ... Package
* this is package ‘omada’ version ‘1.11.0’
* package encoding: UTF-8
* checking package namespace information ... OK
* checking package dependencies ... INFO
Depends: includes the non-default packages:
'pdfCluster', 'kernlab', 'fpc', 'Rcpp', 'diceR', 'ggplot2',
'reshape', 'genieclust', 'clValid', 'glmnet', 'dplyr'
Adding so many packages to the search path is excessive and importing
selectively is preferable.
* checking if this is a source package ... OK
* checking if there is a namespace ... OK
* checking for hidden files and directories ... OK
* checking for portable file names ... OK
* checking for sufficient/correct file permissions ... OK
* checking whether package ‘omada’ can be installed ... OK
* checking installed package size ... OK
* checking package directory ... OK
* checking ‘build’ directory ... OK
* checking DESCRIPTION meta-information ... OK
* checking top-level files ... NOTE
File
LICENSE
is not mentioned in the DESCRIPTION file.
* checking for left-over files ... OK
* checking index information ... OK
* checking package subdirectories ... OK
* checking code files for non-ASCII characters ... OK
* checking R files for syntax errors ... OK
* checking whether the package can be loaded ... OK
* checking whether the package can be loaded with stated dependencies ... OK
* checking whether the package can be unloaded cleanly ... OK
* checking whether the namespace can be loaded with stated dependencies ... OK
* checking whether the namespace can be unloaded cleanly ... OK
* checking loading without being on the library search path ... OK
* checking dependencies in R code ... NOTE
Packages in Depends field not imported from:
‘Rcpp’ ‘dplyr’ ‘genieclust’ ‘glmnet’ ‘kernlab’ ‘reshape’
These packages need to be imported from (in the NAMESPACE file)
for when this namespace is loaded but not attached.
* checking S3 generic/method consistency ... OK
* checking replacement functions ... OK
* checking foreign function calls ... OK
* checking R code for possible problems ... NOTE
Index.15and28: no visible global function definition for ‘dist’
Index.15and28: no visible global function definition for ‘as.dist’
Index.sPlussMoins: no visible global function definition for ‘dist’
Index.sPlussMoins: no visible global function definition for ‘as.dist’
Index.sPlussMoins: no visible global function definition for ‘median’
Indice.cindex: no visible global function definition for ‘dist’
clusterVoting: no visible global function definition for ‘calinhara’
clusterVoting: no visible global function definition for
‘generalised_dunn_index’
clusterVoting: no visible global function definition for
‘silhouette_index’
clusterVoting: no visible global function definition for
‘negated_davies_bouldin_index’
clusterVoting: no visible binding for global variable ‘k’
clusterVoting: no visible binding for global variable ‘Frequency’
clusteringMethodSelection: no visible binding for global variable
‘value’
clusteringMethodSelection: no visible binding for global variable
‘methods’
featureSelection: no visible binding for global variable ‘featureSet’
featureSelection: no visible binding for global variable ‘means’
Undefined global functions or variables:
Frequency as.dist calinhara dist featureSet generalised_dunn_index k
means median methods negated_davies_bouldin_index silhouette_index
value
Consider adding
importFrom("stats", "as.dist", "dist", "median")
importFrom("utils", "methods")
to your NAMESPACE file.
* checking Rd files ... OK
* checking Rd metadata ... OK
* checking Rd cross-references ... OK
* checking for missing documentation entries ... OK
* checking for code/documentation mismatches ... OK
* checking Rd \usage sections ... OK
* checking Rd contents ... OK
* checking for unstated dependencies in examples ... OK
* checking contents of ‘data’ directory ... OK
* checking data for non-ASCII characters ... OK
* checking LazyData ... OK
* checking data for ASCII and uncompressed saves ... OK
* checking files in ‘vignettes’ ... OK
* checking examples ... OK
Examples with CPU (user + system) or elapsed time > 5s
user system elapsed
get_feature_selection_optimal_number_of_features 47.555 0.151 47.820
get_feature_selection_scores 47.422 0.164 47.682
plot_partition_agreement 38.971 0.079 62.674
get_partition_agreement_scores 36.417 0.095 36.603
plot_feature_selection 35.206 0.044 38.584
get_cluster_voting_scores 33.551 0.106 33.742
get_feature_selection_optimal_features 33.134 0.124 33.343
get_cluster_voting_metric_votes 33.146 0.093 33.325
get_cluster_voting_k_votes 32.853 0.184 33.127
get_sample_memberships 32.425 0.096 32.605
get_cluster_voting_memberships 32.349 0.143 32.583
plot_cluster_voting 26.247 0.040 26.356
omada 26.106 0.068 26.240
get_optimal_number_of_features 11.613 0.008 11.651
plot_average_stabilities 11.317 0.020 11.368
get_optimal_features 10.799 0.004 10.829
get_optimal_stability_score 9.844 0.004 9.873
get_optimal_parameter_used 9.253 0.016 9.293
get_optimal_memberships 9.041 0.020 9.082
featureSelection 8.435 0.019 8.481
get_average_feature_k_stabilities 5.644 0.064 5.723
clusterVoting 5.303 0.128 5.447
* checking for unstated dependencies in ‘tests’ ... OK
* checking tests ...
Running ‘testthat.R’
OK
* checking for unstated dependencies in vignettes ... OK
* checking package vignettes ... OK
* checking running R code from vignettes ... SKIPPED
* checking re-building of vignette outputs ... SKIPPED
* checking PDF version of manual ... OK
* DONE
Status: 3 NOTEs
See
‘/home/biocbuild/bbs-3.22-bioc/meat/omada.Rcheck/00check.log’
for details.
omada.Rcheck/00install.out
############################################################################## ############################################################################## ### ### Running command: ### ### /home/biocbuild/R/R/bin/R CMD INSTALL omada ### ############################################################################## ############################################################################## * installing to library ‘/home/biocbuild/R/R-4.5.0/site-library’ * installing *source* package ‘omada’ ... ** this is package ‘omada’ version ‘1.11.0’ ** using staged installation ** R ** data *** moving datasets to lazyload DB ** inst ** byte-compile and prepare package for lazy loading ** help *** installing help indices ** building package indices ** installing vignettes ** testing if installed package can be loaded from temporary location ** testing if installed package can be loaded from final location ** testing if installed package keeps a record of temporary installation path * DONE (omada)
omada.Rcheck/tests/testthat.Rout
R version 4.5.0 (2025-04-11) -- "How About a Twenty-Six"
Copyright (C) 2025 The R Foundation for Statistical Computing
Platform: aarch64-unknown-linux-gnu
R is free software and comes with ABSOLUTELY NO WARRANTY.
You are welcome to redistribute it under certain conditions.
Type 'license()' or 'licence()' for distribution details.
R is a collaborative project with many contributors.
Type 'contributors()' for more information and
'citation()' on how to cite R or R packages in publications.
Type 'demo()' for some demos, 'help()' for on-line help, or
'help.start()' for an HTML browser interface to help.
Type 'q()' to quit R.
> library(testthat)
> library(omada)
Loading required package: pdfCluster
pdfCluster 1.0-4
Loading required package: kernlab
Loading required package: fpc
Loading required package: Rcpp
Loading required package: diceR
Loading required package: ggplot2
Attaching package: 'ggplot2'
The following object is masked from 'package:kernlab':
alpha
Loading required package: reshape
Loading required package: genieclust
Loading required package: clValid
Loading required package: cluster
Loading required package: glmnet
Loading required package: Matrix
Attaching package: 'Matrix'
The following object is masked from 'package:reshape':
expand
Loaded glmnet 4.1-10
Loading required package: dplyr
Attaching package: 'dplyr'
The following object is masked from 'package:reshape':
rename
The following object is masked from 'package:pdfCluster':
groups
The following object is masked from 'package:testthat':
matches
The following objects are masked from 'package:stats':
filter, lag
The following objects are masked from 'package:base':
intersect, setdiff, setequal, union
>
> test_check("omada")
[ FAIL 0 | WARN 1 | SKIP 0 | PASS 38 ]
[ FAIL 0 | WARN 1 | SKIP 0 | PASS 38 ]
>
> proc.time()
user system elapsed
102.883 0.681 134.987
omada.Rcheck/omada-Ex.timings
| name | user | system | elapsed | |
| clusterVoting | 5.303 | 0.128 | 5.447 | |
| clusteringMethodSelection | 1.860 | 0.008 | 1.874 | |
| feasibilityAnalysis | 1.716 | 0.048 | 1.769 | |
| feasibilityAnalysisDataBased | 3.343 | 0.076 | 3.429 | |
| featureSelection | 8.435 | 0.019 | 8.481 | |
| get_agreement_scores | 0.166 | 0.004 | 0.170 | |
| get_average_feature_k_stabilities | 5.644 | 0.064 | 5.723 | |
| get_average_stabilities_per_k | 1.164 | 0.008 | 1.175 | |
| get_average_stability | 1.216 | 0.032 | 1.251 | |
| get_cluster_memberships_k | 1.320 | 0.003 | 1.327 | |
| get_cluster_voting_k_votes | 32.853 | 0.184 | 33.127 | |
| get_cluster_voting_memberships | 32.349 | 0.143 | 32.583 | |
| get_cluster_voting_metric_votes | 33.146 | 0.093 | 33.325 | |
| get_cluster_voting_scores | 33.551 | 0.106 | 33.742 | |
| get_feature_selection_optimal_features | 33.134 | 0.124 | 33.343 | |
| get_feature_selection_optimal_number_of_features | 47.555 | 0.151 | 47.820 | |
| get_feature_selection_scores | 47.422 | 0.164 | 47.682 | |
| get_generated_dataset | 3.579 | 0.008 | 3.595 | |
| get_internal_metric_scores | 1.305 | 0.000 | 1.308 | |
| get_max_stability | 1.156 | 0.008 | 1.167 | |
| get_metric_votes_k | 1.315 | 0.019 | 1.337 | |
| get_optimal_features | 10.799 | 0.004 | 10.829 | |
| get_optimal_memberships | 9.041 | 0.020 | 9.082 | |
| get_optimal_number_of_features | 11.613 | 0.008 | 11.651 | |
| get_optimal_parameter_used | 9.253 | 0.016 | 9.293 | |
| get_optimal_stability_score | 9.844 | 0.004 | 9.873 | |
| get_partition_agreement_scores | 36.417 | 0.095 | 36.603 | |
| get_sample_memberships | 32.425 | 0.096 | 32.605 | |
| get_vote_frequencies_k | 1.633 | 0.000 | 1.637 | |
| omada | 26.106 | 0.068 | 26.240 | |
| optimalClustering | 0.483 | 0.000 | 0.485 | |
| partitionAgreement | 0.623 | 0.008 | 0.633 | |
| plot_average_stabilities | 11.317 | 0.020 | 11.368 | |
| plot_cluster_voting | 26.247 | 0.040 | 26.356 | |
| plot_feature_selection | 35.206 | 0.044 | 38.584 | |
| plot_partition_agreement | 38.971 | 0.079 | 62.674 | |
| plot_vote_frequencies | 1.730 | 0.012 | 3.523 | |
| toy_gene_memberships | 0.020 | 0.000 | 0.058 | |
| toy_genes | 0.002 | 0.000 | 0.010 | |