| Back to Multiple platform build/check report for BioC 3.22: simplified long |
|
This page was generated on 2025-10-24 12:07 -0400 (Fri, 24 Oct 2025).
| Hostname | OS | Arch (*) | R version | Installed pkgs |
|---|---|---|---|---|
| nebbiolo2 | Linux (Ubuntu 24.04.3 LTS) | x86_64 | 4.5.1 Patched (2025-08-23 r88802) -- "Great Square Root" | 4898 |
| lconway | macOS 12.7.6 Monterey | x86_64 | 4.5.1 Patched (2025-09-10 r88807) -- "Great Square Root" | 4688 |
| kjohnson3 | macOS 13.7.7 Ventura | arm64 | 4.5.1 Patched (2025-09-10 r88807) -- "Great Square Root" | 4634 |
| taishan | Linux (openEuler 24.03 LTS) | aarch64 | 4.5.0 (2025-04-11) -- "How About a Twenty-Six" | 4658 |
| Click on any hostname to see more info about the system (e.g. compilers) (*) as reported by 'uname -p', except on Windows and Mac OS X | ||||
| Package 362/2359 | Hostname | OS / Arch | INSTALL | BUILD | CHECK | BUILD BIN | ||||||||
| ChromSCape 1.19.1 (landing page) Pacome Prompsy
| nebbiolo2 | Linux (Ubuntu 24.04.3 LTS) / x86_64 | OK | OK | WARNINGS | |||||||||
| lconway | macOS 12.7.6 Monterey / x86_64 | OK | OK | WARNINGS | OK | |||||||||
| kjohnson3 | macOS 13.7.7 Ventura / arm64 | OK | OK | WARNINGS | OK | |||||||||
| taishan | Linux (openEuler 24.03 LTS) / aarch64 | OK | OK | WARNINGS | ||||||||||
|
To the developers/maintainers of the ChromSCape package: - Allow up to 24 hours (and sometimes 48 hours) for your latest push to git@git.bioconductor.org:packages/ChromSCape.git to reflect on this report. See Troubleshooting Build Report for more information. - Use the following Renviron settings to reproduce errors and warnings. - If 'R CMD check' started to fail recently on the Linux builder(s) over a missing dependency, add the missing dependency to 'Suggests:' in your DESCRIPTION file. See Renviron.bioc for more information. - See Martin Grigorov's blog post for how to debug Linux ARM64 related issues on a x86_64 host. |
| Package: ChromSCape |
| Version: 1.19.1 |
| Command: /home/biocbuild/R/R/bin/R CMD check --install=check:ChromSCape.install-out.txt --library=/home/biocbuild/R/R/site-library --no-vignettes --timings ChromSCape_1.19.1.tar.gz |
| StartedAt: 2025-10-21 06:30:38 -0000 (Tue, 21 Oct 2025) |
| EndedAt: 2025-10-21 06:47:34 -0000 (Tue, 21 Oct 2025) |
| EllapsedTime: 1015.8 seconds |
| RetCode: 0 |
| Status: WARNINGS |
| CheckDir: ChromSCape.Rcheck |
| Warnings: 1 |
##############################################################################
##############################################################################
###
### Running command:
###
### /home/biocbuild/R/R/bin/R CMD check --install=check:ChromSCape.install-out.txt --library=/home/biocbuild/R/R/site-library --no-vignettes --timings ChromSCape_1.19.1.tar.gz
###
##############################################################################
##############################################################################
* using log directory ‘/home/biocbuild/bbs-3.22-bioc/meat/ChromSCape.Rcheck’
* using R version 4.5.0 (2025-04-11)
* using platform: aarch64-unknown-linux-gnu
* R was compiled by
aarch64-unknown-linux-gnu-gcc (GCC) 14.2.0
GNU Fortran (GCC) 14.2.0
* running under: openEuler 24.03 (LTS)
* using session charset: UTF-8
* using option ‘--no-vignettes’
* checking for file ‘ChromSCape/DESCRIPTION’ ... OK
* this is package ‘ChromSCape’ version ‘1.19.1’
* package encoding: UTF-8
* checking package namespace information ... OK
* checking package dependencies ... INFO
Imports includes 51 non-default packages.
Importing from so many packages makes the package vulnerable to any of
them becoming unavailable. Move as many as possible to Suggests and
use conditionally.
* checking if this is a source package ... OK
* checking if there is a namespace ... OK
* checking for hidden files and directories ... NOTE
Found the following hidden files and directories:
.BBSoptions
These were most likely included in error. See section ‘Package
structure’ in the ‘Writing R Extensions’ manual.
* checking for portable file names ... OK
* checking for sufficient/correct file permissions ... OK
* checking whether package ‘ChromSCape’ can be installed ... OK
* used C++ compiler: ‘aarch64-unknown-linux-gnu-g++ (GCC) 14.2.0’
* checking installed package size ... INFO
installed size is 5.8Mb
sub-directories of 1Mb or more:
data 1.7Mb
www 2.1Mb
* checking package directory ... OK
* checking ‘build’ directory ... OK
* checking DESCRIPTION meta-information ... OK
* checking top-level files ... OK
* checking for left-over files ... OK
* checking index information ... OK
* checking package subdirectories ... OK
* checking code files for non-ASCII characters ... OK
* checking R files for syntax errors ... OK
* checking whether the package can be loaded ... OK
* checking whether the package can be loaded with stated dependencies ... OK
* checking whether the package can be unloaded cleanly ... OK
* checking whether the namespace can be loaded with stated dependencies ... OK
* checking whether the namespace can be unloaded cleanly ... OK
* checking loading without being on the library search path ... OK
* checking whether startup messages can be suppressed ... OK
* checking dependencies in R code ... WARNING
'loadNamespace' or 'requireNamespace' call not declared from: ‘flexdashboard’
* checking S3 generic/method consistency ... OK
* checking replacement functions ... OK
* checking foreign function calls ... OK
* checking R code for possible problems ... NOTE
bams_to_matrix_indexes: no visible binding for global variable
‘files_dir_list’
enrich_TF_ChEA3_genes: no visible binding for global variable
‘CheA3_TF_nTargets’
filter_correlated_cell_scExp: no visible binding for global variable
‘run_tsne’
generate_analysis: no visible global function definition for ‘head’
generate_analysis: no visible binding for global variable ‘k’
generate_analysis: no visible binding for global variable
‘clusterConsensus’
get_most_variable_cyto: no visible binding for global variable
‘cytoBand’
get_most_variable_cyto: no visible binding for global variable
‘Fri_cyto’
num_cell_after_QC_filt_scExp: no visible binding for global variable
‘sample_id’
num_cell_after_QC_filt_scExp: no visible binding for global variable
‘total_counts’
num_cell_scExp: no visible binding for global variable ‘sample_id’
num_cell_scExp: no visible binding for global variable ‘total_counts’
plot_correlation_PCA_scExp: no visible binding for global variable
‘Component’
plot_coverage_BigWig: no visible binding for global variable ‘molecule’
plot_coverage_BigWig: no visible binding for global variable
‘orientation’
plot_coverage_BigWig: no visible binding for global variable ‘Gene’
plot_gain_or_loss_barplots: no visible binding for global variable
‘Gain_or_Loss’
plot_gain_or_loss_barplots: no visible binding for global variable
‘ncells’
plot_gain_or_loss_barplots: no visible binding for global variable
‘cytoBand’
plot_most_contributing_features: no visible binding for global variable
‘genes’
plot_percent_active_feature_scExp: no visible binding for global
variable ‘group’
plot_percent_active_feature_scExp: no visible binding for global
variable ‘percent_active’
plot_pie_most_contributing_chr: no visible binding for global variable
‘absolute_value’
plot_reduced_dim_scExp: no visible binding for global variable ‘V1’
plot_reduced_dim_scExp: no visible binding for global variable ‘V2’
plot_reduced_dim_scExp: no visible binding for global variable
‘cluster’
plot_top_TF_scExp: no visible binding for global variable ‘TF’
rebin_helper: no visible binding for global variable ‘new_row’
rebin_helper: no visible binding for global variable ‘origin_value’
rebin_matrix: no visible binding for global variable ‘group’
subset_bam_call_peaks: no visible binding for global variable
‘merged_bam’
Undefined global functions or variables:
CheA3_TF_nTargets Component Fri_cyto Gain_or_Loss Gene TF V1 V2
absolute_value cluster clusterConsensus cytoBand files_dir_list genes
group head k merged_bam molecule ncells new_row orientation
origin_value percent_active run_tsne sample_id total_counts
Consider adding
importFrom("utils", "head")
to your NAMESPACE file.
* checking Rd files ... OK
* checking Rd metadata ... OK
* checking Rd cross-references ... OK
* checking for missing documentation entries ... OK
* checking for code/documentation mismatches ... OK
* checking Rd \usage sections ... OK
* checking Rd contents ... OK
* checking for unstated dependencies in examples ... OK
* checking contents of ‘data’ directory ... OK
* checking data for non-ASCII characters ... OK
* checking data for ASCII and uncompressed saves ... OK
* checking line endings in C/C++/Fortran sources/headers ... OK
* checking compiled code ... NOTE
Note: information on .o files is not available
* checking files in ‘vignettes’ ... OK
* checking examples ... OK
Examples with CPU (user + system) or elapsed time > 5s
user system elapsed
get_pathway_mat_scExp 94.133 1.646 96.088
plot_gain_or_loss_barplots 71.970 0.494 72.746
calculate_CNA 33.825 1.555 35.489
plot_reduced_dim_scExp_CNA 34.776 0.219 35.120
calculate_logRatio_CNA 32.754 0.359 33.215
calculate_cyto_mat 32.137 0.619 32.859
calculate_gain_or_loss 32.054 0.446 32.605
get_most_variable_cyto 31.629 0.048 31.783
get_cyto_features 29.123 0.144 29.368
num_cell_after_cor_filt_scExp 12.713 0.076 12.829
preprocessing_filtering_and_reduction 10.470 0.004 10.506
filter_correlated_cell_scExp 9.681 0.079 9.787
rebin_matrix 8.112 0.544 27.245
import_scExp 7.863 0.131 8.021
create_scDataset_raw 7.683 0.080 7.785
differential_activation 7.466 0.040 7.531
CompareWilcox 6.585 0.404 6.693
CompareedgeRGLM 6.166 0.232 6.413
enrich_TF_ChEA3_scExp 1.135 0.024 7.243
* checking for unstated dependencies in ‘tests’ ... OK
* checking tests ...
Running ‘testthat.R’
OK
* checking for unstated dependencies in vignettes ... OK
* checking package vignettes ... OK
* checking running R code from vignettes ... SKIPPED
* checking re-building of vignette outputs ... SKIPPED
* checking PDF version of manual ... OK
* DONE
Status: 1 WARNING, 3 NOTEs
See
‘/home/biocbuild/bbs-3.22-bioc/meat/ChromSCape.Rcheck/00check.log’
for details.
ChromSCape.Rcheck/00install.out
############################################################################## ############################################################################## ### ### Running command: ### ### /home/biocbuild/R/R/bin/R CMD INSTALL ChromSCape ### ############################################################################## ############################################################################## * installing to library ‘/home/biocbuild/R/R-4.5.0/site-library’ * installing *source* package ‘ChromSCape’ ... ** this is package ‘ChromSCape’ version ‘1.19.1’ ** using staged installation ** libs using C++ compiler: ‘aarch64-unknown-linux-gnu-g++ (GCC) 14.2.0’ /opt/ohpc/pub/compiler/gcc/14.2.0/bin/aarch64-unknown-linux-gnu-g++ -std=gnu++17 -I"/home/biocbuild/R/R-4.5.0/include" -DNDEBUG -I'/home/biocbuild/R/R-4.5.0/site-library/Rcpp/include' -I/usr/local/include -fPIC -g -O2 -Wall -Werror=format-security -c RcppExports.cpp -o RcppExports.o /opt/ohpc/pub/compiler/gcc/14.2.0/bin/aarch64-unknown-linux-gnu-g++ -std=gnu++17 -I"/home/biocbuild/R/R-4.5.0/include" -DNDEBUG -I'/home/biocbuild/R/R-4.5.0/site-library/Rcpp/include' -I/usr/local/include -fPIC -g -O2 -Wall -Werror=format-security -c as_dist.cpp -o as_dist.o /opt/ohpc/pub/compiler/gcc/14.2.0/bin/aarch64-unknown-linux-gnu-g++ -std=gnu++17 -shared -L/home/biocbuild/R/R-4.5.0/lib -L/usr/local/lib -o ChromSCape.so RcppExports.o as_dist.o -L/home/biocbuild/R/R-4.5.0/lib -lR installing to /home/biocbuild/R/R-4.5.0/site-library/00LOCK-ChromSCape/00new/ChromSCape/libs ** R ** data ** inst ** byte-compile and prepare package for lazy loading ** help *** installing help indices ** building package indices ** installing vignettes ** testing if installed package can be loaded from temporary location ** checking absolute paths in shared objects and dynamic libraries ** testing if installed package can be loaded from final location ** testing if installed package keeps a record of temporary installation path * DONE (ChromSCape)
ChromSCape.Rcheck/tests/testthat.Rout
R version 4.5.0 (2025-04-11) -- "How About a Twenty-Six"
Copyright (C) 2025 The R Foundation for Statistical Computing
Platform: aarch64-unknown-linux-gnu
R is free software and comes with ABSOLUTELY NO WARRANTY.
You are welcome to redistribute it under certain conditions.
Type 'license()' or 'licence()' for distribution details.
R is a collaborative project with many contributors.
Type 'contributors()' for more information and
'citation()' on how to cite R or R packages in publications.
Type 'demo()' for some demos, 'help()' for on-line help, or
'help.start()' for an HTML browser interface to help.
Type 'q()' to quit R.
> library(testthat)
> library(ChromSCape)
>
> test_check("ChromSCape")
[ FAIL 0 | WARN 2 | SKIP 0 | PASS 11 ]
[ FAIL 0 | WARN 2 | SKIP 0 | PASS 11 ]
>
> proc.time()
user system elapsed
44.280 3.007 47.211
ChromSCape.Rcheck/ChromSCape-Ex.timings
| name | user | system | elapsed | |
| CheA3_TF_nTargets | 0.008 | 0.000 | 0.008 | |
| CompareWilcox | 6.585 | 0.404 | 6.693 | |
| CompareedgeRGLM | 6.166 | 0.232 | 6.413 | |
| annotToCol2 | 1.121 | 0.103 | 1.228 | |
| calculate_CNA | 33.825 | 1.555 | 35.489 | |
| calculate_cyto_mat | 32.137 | 0.619 | 32.859 | |
| calculate_gain_or_loss | 32.054 | 0.446 | 32.605 | |
| calculate_logRatio_CNA | 32.754 | 0.359 | 33.215 | |
| choose_cluster_scExp | 4.329 | 0.088 | 4.430 | |
| colors_scExp | 0.332 | 0.004 | 0.338 | |
| consensus_clustering_scExp | 4.043 | 0.048 | 4.102 | |
| correlation_and_hierarchical_clust_scExp | 0.392 | 0.004 | 0.397 | |
| create_project_folder | 0.002 | 0.000 | 0.002 | |
| create_scDataset_raw | 7.683 | 0.080 | 7.785 | |
| create_scExp | 0.625 | 0.000 | 0.626 | |
| define_feature | 0.167 | 0.000 | 0.167 | |
| detect_samples | 1.919 | 0.011 | 1.824 | |
| differential_activation | 7.466 | 0.040 | 7.531 | |
| differential_analysis_scExp | 3.849 | 0.028 | 3.890 | |
| enrich_TF_ChEA3_genes | 0.503 | 0.020 | 3.684 | |
| enrich_TF_ChEA3_scExp | 1.135 | 0.024 | 7.243 | |
| exclude_features_scExp | 0.607 | 0.028 | 0.637 | |
| feature_annotation_scExp | 1.872 | 0.084 | 1.964 | |
| filter_correlated_cell_scExp | 9.681 | 0.079 | 9.787 | |
| filter_scExp | 0.777 | 0.000 | 0.781 | |
| find_clusters_louvain_scExp | 0.392 | 0.000 | 0.394 | |
| find_top_features | 0.428 | 0.000 | 0.429 | |
| gene_set_enrichment_analysis_scExp | 0.229 | 0.000 | 0.229 | |
| generate_analysis | 0 | 0 | 0 | |
| generate_coverage_tracks | 0 | 0 | 0 | |
| generate_report | 0 | 0 | 0 | |
| getExperimentNames | 0.270 | 0.000 | 0.271 | |
| getMainExperiment | 0.318 | 0.004 | 0.323 | |
| get_cyto_features | 29.123 | 0.144 | 29.368 | |
| get_genomic_coordinates | 0.578 | 0.012 | 0.592 | |
| get_most_variable_cyto | 31.629 | 0.048 | 31.783 | |
| get_pathway_mat_scExp | 94.133 | 1.646 | 96.088 | |
| has_genomic_coordinates | 0.887 | 0.020 | 0.911 | |
| import_scExp | 7.863 | 0.131 | 8.021 | |
| inter_correlation_scExp | 0.424 | 0.004 | 0.429 | |
| intra_correlation_scExp | 0.453 | 0.004 | 0.459 | |
| launchApp | 0 | 0 | 0 | |
| normalize_scExp | 0.582 | 0.004 | 0.588 | |
| num_cell_after_QC_filt_scExp | 0.581 | 0.000 | 0.583 | |
| num_cell_after_cor_filt_scExp | 12.713 | 0.076 | 12.829 | |
| num_cell_before_cor_filt_scExp | 0.235 | 0.000 | 0.236 | |
| num_cell_in_cluster_scExp | 0.501 | 0.000 | 0.503 | |
| num_cell_scExp | 0.504 | 0.012 | 0.519 | |
| plot_cluster_consensus_scExp | 1.456 | 0.036 | 1.498 | |
| plot_correlation_PCA_scExp | 1.739 | 0.004 | 1.749 | |
| plot_coverage_BigWig | 0.253 | 0.000 | 0.254 | |
| plot_differential_summary_scExp | 0.255 | 0.015 | 0.271 | |
| plot_differential_volcano_scExp | 0.358 | 0.004 | 0.363 | |
| plot_distribution_scExp | 0.550 | 0.008 | 0.560 | |
| plot_gain_or_loss_barplots | 71.970 | 0.494 | 72.746 | |
| plot_heatmap_scExp | 0.379 | 0.004 | 0.385 | |
| plot_inter_correlation_scExp | 0.911 | 0.000 | 0.914 | |
| plot_intra_correlation_scExp | 0.901 | 0.000 | 0.905 | |
| plot_most_contributing_features | 0.644 | 0.000 | 0.646 | |
| plot_percent_active_feature_scExp | 0.727 | 0.004 | 0.733 | |
| plot_pie_most_contributing_chr | 0.390 | 0.000 | 0.392 | |
| plot_reduced_dim_scExp | 2.396 | 0.004 | 2.409 | |
| plot_reduced_dim_scExp_CNA | 34.776 | 0.219 | 35.120 | |
| plot_top_TF_scExp | 0.824 | 0.012 | 0.839 | |
| plot_violin_feature_scExp | 0.896 | 0.004 | 0.908 | |
| preprocess_CPM | 0.571 | 0.004 | 0.577 | |
| preprocess_RPKM | 0.603 | 0.012 | 0.617 | |
| preprocess_TFIDF | 0.610 | 0.000 | 0.611 | |
| preprocess_TPM | 0.672 | 0.008 | 0.682 | |
| preprocess_feature_size_only | 0.553 | 0.004 | 0.558 | |
| preprocessing_filtering_and_reduction | 10.470 | 0.004 | 10.506 | |
| read_sparse_matrix | 0 | 0 | 0 | |
| rebin_matrix | 8.112 | 0.544 | 27.245 | |
| reduce_dims_scExp | 2.141 | 0.060 | 2.209 | |
| scExp | 1.532 | 0.068 | 1.606 | |
| subsample_scExp | 0.877 | 0.067 | 0.949 | |
| subset_bam_call_peaks | 0.000 | 0.000 | 0.001 | |
| summary_DA | 0.287 | 0.016 | 0.305 | |
| swapAltExp_sameColData | 0.420 | 0.016 | 0.438 | |
| table_enriched_genes_scExp | 0.275 | 0.004 | 0.280 | |
| wrapper_Signac_FeatureMatrix | 0 | 0 | 0 | |