| Back to Multiple platform build/check report for BioC 3.22: simplified long |
|
This page was generated on 2025-11-15 11:58 -0500 (Sat, 15 Nov 2025).
| Hostname | OS | Arch (*) | R version | Installed pkgs |
|---|---|---|---|---|
| nebbiolo2 | Linux (Ubuntu 24.04.3 LTS) | x86_64 | 4.5.1 Patched (2025-08-23 r88802) -- "Great Square Root" | 4903 |
| taishan | Linux (openEuler 24.03 LTS) | aarch64 | 4.5.0 (2025-04-11) -- "How About a Twenty-Six" | 4668 |
| Click on any hostname to see more info about the system (e.g. compilers) (*) as reported by 'uname -p', except on Windows and Mac OS X | ||||
| Package 674/2361 | Hostname | OS / Arch | INSTALL | BUILD | CHECK | BUILD BIN | ||||||||
| ensembldb 2.34.0 (landing page) Johannes Rainer
| nebbiolo2 | Linux (Ubuntu 24.04.3 LTS) / x86_64 | OK | OK | OK | |||||||||
| taishan | Linux (openEuler 24.03 LTS) / aarch64 | OK | OK | OK | ||||||||||
|
To the developers/maintainers of the ensembldb package: - Allow up to 24 hours (and sometimes 48 hours) for your latest push to git@git.bioconductor.org:packages/ensembldb.git to reflect on this report. See Troubleshooting Build Report for more information. - Use the following Renviron settings to reproduce errors and warnings. - If 'R CMD check' started to fail recently on the Linux builder(s) over a missing dependency, add the missing dependency to 'Suggests:' in your DESCRIPTION file. See Renviron.bioc for more information. - See Martin Grigorov's blog post for how to debug Linux ARM64 related issues on a x86_64 host. |
| Package: ensembldb |
| Version: 2.34.0 |
| Command: /home/biocbuild/R/R/bin/R CMD check --install=check:ensembldb.install-out.txt --library=/home/biocbuild/R/R/site-library --no-vignettes --timings ensembldb_2.34.0.tar.gz |
| StartedAt: 2025-11-14 09:13:01 -0000 (Fri, 14 Nov 2025) |
| EndedAt: 2025-11-14 09:31:43 -0000 (Fri, 14 Nov 2025) |
| EllapsedTime: 1121.7 seconds |
| RetCode: 0 |
| Status: OK |
| CheckDir: ensembldb.Rcheck |
| Warnings: 0 |
##############################################################################
##############################################################################
###
### Running command:
###
### /home/biocbuild/R/R/bin/R CMD check --install=check:ensembldb.install-out.txt --library=/home/biocbuild/R/R/site-library --no-vignettes --timings ensembldb_2.34.0.tar.gz
###
##############################################################################
##############################################################################
* using log directory ‘/home/biocbuild/bbs-3.22-bioc/meat/ensembldb.Rcheck’
* using R version 4.5.0 (2025-04-11)
* using platform: aarch64-unknown-linux-gnu
* R was compiled by
aarch64-unknown-linux-gnu-gcc (GCC) 14.2.0
GNU Fortran (GCC) 14.2.0
* running under: openEuler 24.03 (LTS)
* using session charset: UTF-8
* using option ‘--no-vignettes’
* checking for file ‘ensembldb/DESCRIPTION’ ... OK
* checking extension type ... Package
* this is package ‘ensembldb’ version ‘2.34.0’
* checking package namespace information ... OK
* checking package dependencies ... OK
* checking if this is a source package ... OK
* checking if there is a namespace ... OK
* checking for hidden files and directories ... OK
* checking for portable file names ... OK
* checking for sufficient/correct file permissions ... OK
* checking whether package ‘ensembldb’ can be installed ... OK
* checking installed package size ... OK
* checking package directory ... OK
* checking ‘build’ directory ... OK
* checking DESCRIPTION meta-information ... OK
* checking top-level files ... OK
* checking for left-over files ... OK
* checking index information ... OK
* checking package subdirectories ... OK
* checking code files for non-ASCII characters ... OK
* checking R files for syntax errors ... OK
* checking whether the package can be loaded ... OK
* checking whether the package can be loaded with stated dependencies ... OK
* checking whether the package can be unloaded cleanly ... OK
* checking whether the namespace can be loaded with stated dependencies ... OK
* checking whether the namespace can be unloaded cleanly ... OK
* checking loading without being on the library search path ... OK
* checking whether startup messages can be suppressed ... OK
* checking dependencies in R code ... OK
* checking S3 generic/method consistency ... OK
* checking replacement functions ... OK
* checking foreign function calls ... OK
* checking R code for possible problems ... OK
* checking Rd files ... OK
* checking Rd metadata ... OK
* checking Rd cross-references ... NOTE
Found the following Rd file(s) with Rd \link{} targets missing package
anchors:
EnsDb-exonsBy.Rd: supportedFilters, GRangesFilter
EnsDb-sequences.Rd: TwoBitFile-class
Filter-classes.Rd: AnnotationFilter, supportedFilters, GeneIdFilter
ProteinFunctionality.Rd: supportedFilters
proteinToTranscript.Rd: fiveUTRsByTranscript
Please provide package anchors for all Rd \link{} targets not in the
package itself and the base packages.
* checking for missing documentation entries ... OK
* checking for code/documentation mismatches ... OK
* checking Rd \usage sections ... OK
* checking Rd contents ... OK
* checking for unstated dependencies in examples ... OK
* checking files in ‘vignettes’ ... OK
* checking examples ... OK
Examples with CPU (user + system) or elapsed time > 5s
user system elapsed
transcriptToGenome 21.304 6.724 101.563
cdsToTranscript 20.297 6.865 27.498
transcriptToCds 15.227 6.329 22.287
genomeToTranscript 14.369 5.116 55.075
proteinToGenome 7.070 0.706 10.605
genomeToProtein 5.284 0.203 5.501
transcriptToProtein 4.137 0.581 7.373
Filter-classes 2.371 1.328 7.025
EnsDb-AnnotationDbi 3.374 0.289 5.174
* checking for unstated dependencies in ‘tests’ ... OK
* checking tests ...
Running ‘testthat.R’
OK
* checking for unstated dependencies in vignettes ... OK
* checking package vignettes ... OK
* checking running R code from vignettes ... SKIPPED
* checking re-building of vignette outputs ... SKIPPED
* checking PDF version of manual ... OK
* DONE
Status: 1 NOTE
See
‘/home/biocbuild/bbs-3.22-bioc/meat/ensembldb.Rcheck/00check.log’
for details.
ensembldb.Rcheck/00install.out
############################################################################## ############################################################################## ### ### Running command: ### ### /home/biocbuild/R/R/bin/R CMD INSTALL ensembldb ### ############################################################################## ############################################################################## * installing to library ‘/home/biocbuild/R/R-4.5.0/site-library’ * installing *source* package ‘ensembldb’ ... ** this is package ‘ensembldb’ version ‘2.34.0’ ** using staged installation ** R ** inst ** byte-compile and prepare package for lazy loading Creating a generic function from function ‘.cds_for_id2’ in package ‘ensembldb’ ** help *** installing help indices ** building package indices ** installing vignettes ** testing if installed package can be loaded from temporary location ** testing if installed package can be loaded from final location ** testing if installed package keeps a record of temporary installation path * DONE (ensembldb)
ensembldb.Rcheck/tests/testthat.Rout
R version 4.5.0 (2025-04-11) -- "How About a Twenty-Six"
Copyright (C) 2025 The R Foundation for Statistical Computing
Platform: aarch64-unknown-linux-gnu
R is free software and comes with ABSOLUTELY NO WARRANTY.
You are welcome to redistribute it under certain conditions.
Type 'license()' or 'licence()' for distribution details.
R is a collaborative project with many contributors.
Type 'contributors()' for more information and
'citation()' on how to cite R or R packages in publications.
Type 'demo()' for some demos, 'help()' for on-line help, or
'help.start()' for an HTML browser interface to help.
Type 'q()' to quit R.
> library(testthat)
> library(ensembldb)
Loading required package: BiocGenerics
Loading required package: generics
Attaching package: 'generics'
The following objects are masked from 'package:base':
as.difftime, as.factor, as.ordered, intersect, is.element, setdiff,
setequal, union
Attaching package: 'BiocGenerics'
The following objects are masked from 'package:stats':
IQR, mad, sd, var, xtabs
The following objects are masked from 'package:base':
Filter, Find, Map, Position, Reduce, anyDuplicated, aperm, append,
as.data.frame, basename, cbind, colnames, dirname, do.call,
duplicated, eval, evalq, get, grep, grepl, is.unsorted, lapply,
mapply, match, mget, order, paste, pmax, pmax.int, pmin, pmin.int,
rank, rbind, rownames, sapply, saveRDS, table, tapply, unique,
unsplit, which.max, which.min
Loading required package: GenomicRanges
Loading required package: stats4
Loading required package: S4Vectors
Attaching package: 'S4Vectors'
The following object is masked from 'package:utils':
findMatches
The following objects are masked from 'package:base':
I, expand.grid, unname
Loading required package: IRanges
Loading required package: Seqinfo
Loading required package: GenomicFeatures
Loading required package: AnnotationDbi
Loading required package: Biobase
Welcome to Bioconductor
Vignettes contain introductory material; view with
'browseVignettes()'. To cite Bioconductor, see
'citation("Biobase")', and for packages 'citation("pkgname")'.
Loading required package: AnnotationFilter
Attaching package: 'AnnotationFilter'
The following object is masked from 'package:testthat':
not
Attaching package: 'ensembldb'
The following object is masked from 'package:stats':
filter
> library(EnsDb.Hsapiens.v86)
> edb <- EnsDb.Hsapiens.v86
>
> test_check("ensembldb")
Creating package in /home/biocbuild/tmp/RtmpNGbWvg/EnsDb.Hsapiens.v75
Error in readLines(curl(my_url)) : cannot open the connection
In addition: Warning message:
call dbDisconnect() when finished working with a connection
Comparing chromosome data:
Sequence names: (180) common, (0) only in x, (0) only in y.
Sequence lengths: (180) identical, (0) different.
Done. Result: OK
Comparing gene data:
gene IDs: (4045) common, (0) only in x, (0) only in y.
Sequence names: (4045) identical, (0) different.
Gene start coordinates: (4045) identical, (0) different.
Gene end coordinates: (4045) identical, (0) different.
Gene strand: (4045) identical, (0) different.
Gene names: (132) identical, (3913) different.
Entrezgene IDs: (4045) identical, (0) different.
Gene biotypes: (4045) identical, (0) different.
Done. Result: WARN
Comparing transcript data:
transcript IDs: (4045) common, (0) only in x, (0) only in y.
Transcript start coordinates: (4045) identical, (0) different.
Transcript end coordinates: (4045) identical, (0) different.
Transcript biotypes: (4045) identical, (0) different.
Common transcripts with defined CDS: (3996) common, (0) only in x, (0) only in y.
CDS start coordinates: (3996) identical, (0) different.
CDS end coordinates: (3996) identical, (0) different.
Associated gene IDs: (4045) identical, (0) different.
Done. Result: OK
Comparing exon data:
exon IDs: (4045) common, (0) only in x, (0) only in y.
Exon start coordinates: (4045) identical, (0) different.
Exon end coordinates: (4045) identical, (0) different.
Exon index in transcript models: (4045) identical, (0) different.
Done. Result: OK
Comparing metadata:
Ensembl versions match.
Genome builds match.
All differences: <name>: <value x> != <value y>
- Creation time : Fri Nov 14 09:24:41 2025 != Fri Nov 14 09:24:20 2025
- source_file : Devosia_geojensis.ASM96941v1.32.gtf.gz != Devosia_geojensis.ASM96941v1.32.gff3.gz
Done. Result: NOTE
Comparing chromosome data:
Sequence names: (180) common, (0) only in x, (0) only in y.
Sequence lengths: (180) identical, (0) different.
Done. Result: OK
Comparing gene data:
gene IDs: (4045) common, (0) only in x, (0) only in y.
Sequence names: (4045) identical, (0) different.
Gene start coordinates: (4045) identical, (0) different.
Gene end coordinates: (4045) identical, (0) different.
Gene strand: (4045) identical, (0) different.
Gene names: (132) identical, (3913) different.
Entrezgene IDs: (4045) identical, (0) different.
Gene biotypes: (4045) identical, (0) different.
Done. Result: WARN
Comparing transcript data:
transcript IDs: (4045) common, (0) only in x, (0) only in y.
Transcript start coordinates: (4045) identical, (0) different.
Transcript end coordinates: (4045) identical, (0) different.
Transcript biotypes: (4045) identical, (0) different.
Common transcripts with defined CDS: (3996) common, (0) only in x, (0) only in y.
CDS start coordinates: (3996) identical, (0) different.
CDS end coordinates: (3996) identical, (0) different.
Associated gene IDs: (4045) identical, (0) different.
Done. Result: OK
Comparing exon data:
exon IDs: (4045) common, (0) only in x, (0) only in y.
Exon start coordinates: (4045) identical, (0) different.
Exon end coordinates: (4045) identical, (0) different.
Exon index in transcript models: (4045) identical, (0) different.
Done. Result: OK
Error in readLines(curl::curl(paste0(ensembldb:::.ENSEMBLGENOMES_URL, :
cannot open the connection
Comparing protein data:
protein IDs: (103725) common, (0) only in x, (0) only in y.
Transcript IDs: (103725) identical, (0) different.
Protein sequence: (103725) identical, (0) different.
Done. Result: OK
[ FAIL 0 | WARN 76 | SKIP 3 | PASS 1628 ]
══ Skipped tests (3) ═══════════════════════════════════════════════════════════
• empty test (3): 'test_Methods.R:129:1', 'test_Methods.R:273:1',
'test_seqLevelStyle.R:40:1'
[ FAIL 0 | WARN 76 | SKIP 3 | PASS 1628 ]
>
> proc.time()
user system elapsed
375.583 58.432 537.833
ensembldb.Rcheck/ensembldb-Ex.timings
| name | user | system | elapsed | |
| EnsDb-AnnotationDbi | 3.374 | 0.289 | 5.174 | |
| EnsDb-class | 0.870 | 0.104 | 0.976 | |
| EnsDb-exonsBy | 2.374 | 0.385 | 4.204 | |
| EnsDb-lengths | 1.147 | 0.139 | 1.293 | |
| EnsDb-seqlevels | 0.068 | 0.000 | 0.069 | |
| EnsDb-sequences | 0.016 | 0.000 | 0.016 | |
| EnsDb-utils | 0.321 | 0.028 | 0.350 | |
| EnsDb | 1.073 | 0.088 | 1.165 | |
| Filter-classes | 2.371 | 1.328 | 7.025 | |
| ProteinFunctionality | 0.078 | 0.031 | 0.108 | |
| cdsToTranscript | 20.297 | 6.865 | 27.498 | |
| convertFilter | 0.033 | 0.000 | 0.034 | |
| genomeToProtein | 5.284 | 0.203 | 5.501 | |
| genomeToTranscript | 14.369 | 5.116 | 55.075 | |
| global-filters | 0.146 | 0.012 | 0.300 | |
| hasProteinData-EnsDb-method | 0.017 | 0.000 | 0.017 | |
| listEnsDbs | 0.000 | 0.000 | 0.001 | |
| makeEnsemblDbPackage | 0.865 | 0.058 | 0.936 | |
| proteinToGenome | 7.070 | 0.706 | 10.605 | |
| proteinToTranscript | 3.022 | 0.306 | 3.338 | |
| transcriptToCds | 15.227 | 6.329 | 22.287 | |
| transcriptToGenome | 21.304 | 6.724 | 101.563 | |
| transcriptToProtein | 4.137 | 0.581 | 7.373 | |
| useMySQL-EnsDb-method | 0.018 | 0.001 | 0.019 | |