| Back to Multiple platform build/check report for BioC 3.22: simplified long |
|
This page was generated on 2025-10-21 12:07 -0400 (Tue, 21 Oct 2025).
| Hostname | OS | Arch (*) | R version | Installed pkgs |
|---|---|---|---|---|
| nebbiolo2 | Linux (Ubuntu 24.04.3 LTS) | x86_64 | 4.5.1 Patched (2025-08-23 r88802) -- "Great Square Root" | 4887 |
| lconway | macOS 12.7.6 Monterey | x86_64 | 4.5.1 Patched (2025-09-10 r88807) -- "Great Square Root" | 4677 |
| kjohnson3 | macOS 13.7.7 Ventura | arm64 | 4.5.1 Patched (2025-09-10 r88807) -- "Great Square Root" | 4622 |
| taishan | Linux (openEuler 24.03 LTS) | aarch64 | 4.5.0 (2025-04-11) -- "How About a Twenty-Six" | 4642 |
| Click on any hostname to see more info about the system (e.g. compilers) (*) as reported by 'uname -p', except on Windows and Mac OS X | ||||
| Package 840/2353 | Hostname | OS / Arch | INSTALL | BUILD | CHECK | BUILD BIN | ||||||||
| GenomicDistributions 1.17.1 (landing page) Kristyna Kupkova
| nebbiolo2 | Linux (Ubuntu 24.04.3 LTS) / x86_64 | OK | OK | OK | |||||||||
| lconway | macOS 12.7.6 Monterey / x86_64 | OK | OK | OK | OK | |||||||||
| kjohnson3 | macOS 13.7.7 Ventura / arm64 | OK | OK | OK | OK | |||||||||
| taishan | Linux (openEuler 24.03 LTS) / aarch64 | OK | OK | OK | ||||||||||
|
To the developers/maintainers of the GenomicDistributions package: - Allow up to 24 hours (and sometimes 48 hours) for your latest push to git@git.bioconductor.org:packages/GenomicDistributions.git to reflect on this report. See Troubleshooting Build Report for more information. - Use the following Renviron settings to reproduce errors and warnings. - If 'R CMD check' started to fail recently on the Linux builder(s) over a missing dependency, add the missing dependency to 'Suggests:' in your DESCRIPTION file. See Renviron.bioc for more information. - See Martin Grigorov's blog post for how to debug Linux ARM64 related issues on a x86_64 host. |
| Package: GenomicDistributions |
| Version: 1.17.1 |
| Command: /home/biocbuild/R/R/bin/R CMD check --install=check:GenomicDistributions.install-out.txt --library=/home/biocbuild/R/R/site-library --no-vignettes --timings GenomicDistributions_1.17.1.tar.gz |
| StartedAt: 2025-10-17 09:22:37 -0000 (Fri, 17 Oct 2025) |
| EndedAt: 2025-10-17 09:26:11 -0000 (Fri, 17 Oct 2025) |
| EllapsedTime: 213.1 seconds |
| RetCode: 0 |
| Status: OK |
| CheckDir: GenomicDistributions.Rcheck |
| Warnings: 0 |
##############################################################################
##############################################################################
###
### Running command:
###
### /home/biocbuild/R/R/bin/R CMD check --install=check:GenomicDistributions.install-out.txt --library=/home/biocbuild/R/R/site-library --no-vignettes --timings GenomicDistributions_1.17.1.tar.gz
###
##############################################################################
##############################################################################
* using log directory ‘/home/biocbuild/bbs-3.22-bioc/meat/GenomicDistributions.Rcheck’
* using R version 4.5.0 (2025-04-11)
* using platform: aarch64-unknown-linux-gnu
* R was compiled by
aarch64-unknown-linux-gnu-gcc (GCC) 14.2.0
GNU Fortran (GCC) 14.2.0
* running under: openEuler 24.03 (LTS)
* using session charset: UTF-8
* using option ‘--no-vignettes’
* checking for file ‘GenomicDistributions/DESCRIPTION’ ... OK
* this is package ‘GenomicDistributions’ version ‘1.17.1’
* package encoding: UTF-8
* checking package namespace information ... OK
* checking package dependencies ... OK
* checking if this is a source package ... OK
* checking if there is a namespace ... OK
* checking for hidden files and directories ... OK
* checking for portable file names ... OK
* checking for sufficient/correct file permissions ... OK
* checking whether package ‘GenomicDistributions’ can be installed ... OK
* checking installed package size ... OK
* checking package directory ... OK
* checking ‘build’ directory ... OK
* checking DESCRIPTION meta-information ... OK
* checking top-level files ... OK
* checking for left-over files ... OK
* checking index information ... OK
* checking package subdirectories ... OK
* checking code files for non-ASCII characters ... OK
* checking R files for syntax errors ... OK
* checking whether the package can be loaded ... OK
* checking whether the package can be loaded with stated dependencies ... OK
* checking whether the package can be unloaded cleanly ... OK
* checking whether the namespace can be loaded with stated dependencies ... OK
* checking whether the namespace can be unloaded cleanly ... OK
* checking loading without being on the library search path ... OK
* checking dependencies in R code ... OK
* checking S3 generic/method consistency ... OK
* checking replacement functions ... OK
* checking foreign function calls ... OK
* checking R code for possible problems ... OK
* checking Rd files ... OK
* checking Rd metadata ... OK
* checking Rd cross-references ... OK
* checking for missing documentation entries ... OK
* checking for code/documentation mismatches ... OK
* checking Rd \usage sections ... OK
* checking Rd contents ... OK
* checking for unstated dependencies in examples ... OK
* checking contents of ‘data’ directory ... OK
* checking data for non-ASCII characters ... OK
* checking LazyData ... OK
* checking data for ASCII and uncompressed saves ... OK
* checking files in ‘vignettes’ ... OK
* checking examples ... OK
Examples with CPU (user + system) or elapsed time > 5s
user system elapsed
getGeneModelsFromGTF 9.363 0.267 9.659
* checking for unstated dependencies in ‘tests’ ... OK
* checking tests ...
Running ‘testthat.R’
OK
* checking for unstated dependencies in vignettes ... OK
* checking package vignettes ... OK
* checking running R code from vignettes ... SKIPPED
* checking re-building of vignette outputs ... SKIPPED
* checking PDF version of manual ... OK
* DONE
Status: OK
GenomicDistributions.Rcheck/00install.out
############################################################################## ############################################################################## ### ### Running command: ### ### /home/biocbuild/R/R/bin/R CMD INSTALL GenomicDistributions ### ############################################################################## ############################################################################## * installing to library ‘/home/biocbuild/R/R-4.5.0/site-library’ * installing *source* package ‘GenomicDistributions’ ... ** this is package ‘GenomicDistributions’ version ‘1.17.1’ ** using staged installation ** R ** data *** moving datasets to lazyload DB ** inst ** byte-compile and prepare package for lazy loading ** help *** installing help indices ** building package indices ** installing vignettes ** testing if installed package can be loaded from temporary location ** testing if installed package can be loaded from final location ** testing if installed package keeps a record of temporary installation path * DONE (GenomicDistributions)
GenomicDistributions.Rcheck/tests/testthat.Rout
R version 4.5.0 (2025-04-11) -- "How About a Twenty-Six"
Copyright (C) 2025 The R Foundation for Statistical Computing
Platform: aarch64-unknown-linux-gnu
R is free software and comes with ABSOLUTELY NO WARRANTY.
You are welcome to redistribute it under certain conditions.
Type 'license()' or 'licence()' for distribution details.
R is a collaborative project with many contributors.
Type 'contributors()' for more information and
'citation()' on how to cite R or R packages in publications.
Type 'demo()' for some demos, 'help()' for on-line help, or
'help.start()' for an HTML browser interface to help.
Type 'q()' to quit R.
> library(testthat)
> library("GenomicDistributions")
Loading required package: IRanges
Loading required package: BiocGenerics
Loading required package: generics
Attaching package: 'generics'
The following objects are masked from 'package:base':
as.difftime, as.factor, as.ordered, intersect, is.element, setdiff,
setequal, union
Attaching package: 'BiocGenerics'
The following objects are masked from 'package:stats':
IQR, mad, sd, var, xtabs
The following objects are masked from 'package:base':
Filter, Find, Map, Position, Reduce, anyDuplicated, aperm, append,
as.data.frame, basename, cbind, colnames, dirname, do.call,
duplicated, eval, evalq, get, grep, grepl, is.unsorted, lapply,
mapply, match, mget, order, paste, pmax, pmax.int, pmin, pmin.int,
rank, rbind, rownames, sapply, saveRDS, table, tapply, unique,
unsplit, which.max, which.min
Loading required package: S4Vectors
Loading required package: stats4
Attaching package: 'S4Vectors'
The following object is masked from 'package:utils':
findMatches
The following objects are masked from 'package:base':
I, expand.grid, unname
Loading required package: GenomicRanges
Loading required package: Seqinfo
>
> test_check("GenomicDistributions")
[ FAIL 0 | WARN 0 | SKIP 1 | PASS 48 ]
══ Skipped tests (1) ═══════════════════════════════════════════════════════════
• empty test (1): 'test_all.R:139:1'
[ FAIL 0 | WARN 0 | SKIP 1 | PASS 48 ]
>
> proc.time()
user system elapsed
32.868 0.825 33.742
GenomicDistributions.Rcheck/GenomicDistributions-Ex.timings
| name | user | system | elapsed | |
| binBSGenome | 0 | 0 | 0 | |
| binChroms | 0.015 | 0.000 | 0.015 | |
| binRegion | 0.001 | 0.000 | 0.001 | |
| calcChromBins | 2.667 | 0.004 | 2.677 | |
| calcChromBinsRef | 0.026 | 0.000 | 0.023 | |
| calcChromBinsRefSlow | 0.019 | 0.004 | 0.021 | |
| calcCumulativePartitions | 2.981 | 0.056 | 3.046 | |
| calcCumulativePartitionsRef | 2.675 | 0.028 | 2.711 | |
| calcDinuclFreq | 0 | 0 | 0 | |
| calcDinuclFreqRef | 0 | 0 | 0 | |
| calcExpectedPartitions | 2.106 | 0.028 | 2.140 | |
| calcExpectedPartitionsRef | 2.044 | 0.011 | 2.061 | |
| calcFeatureDist | 0.133 | 0.012 | 0.146 | |
| calcFeatureDistRefTSS | 0.233 | 0.004 | 0.232 | |
| calcGCContent | 0 | 0 | 0 | |
| calcGCContentRef | 0 | 0 | 0 | |
| calcNearestNeighbors | 0.041 | 0.008 | 0.049 | |
| calcNeighborDist | 0.047 | 0.000 | 0.047 | |
| calcPartitions | 2.292 | 0.000 | 2.299 | |
| calcPartitionsRef | 1.947 | 0.000 | 1.953 | |
| calcSummarySignal | 0.035 | 0.000 | 0.034 | |
| calcWidth | 0.001 | 0.000 | 0.001 | |
| dot-validateInputs | 0.000 | 0.000 | 0.001 | |
| dtToGr | 0.014 | 0.000 | 0.013 | |
| genomePartitionList | 1.757 | 0.000 | 1.762 | |
| getChromSizes | 0.000 | 0.004 | 0.004 | |
| getChromSizesFromFasta | 0.022 | 0.004 | 0.027 | |
| getGeneModels | 0.099 | 0.000 | 0.099 | |
| getGeneModelsFromGTF | 9.363 | 0.267 | 9.659 | |
| getGenomeBins | 1.719 | 0.128 | 1.852 | |
| getTssFromGTF | 0.182 | 0.000 | 0.182 | |
| loadBSgenome | 0 | 0 | 0 | |
| loadEnsDb | 0 | 0 | 0 | |
| nlist | 0 | 0 | 0 | |
| plotChromBins | 0.188 | 0.004 | 0.193 | |
| plotCumulativePartitions | 2.937 | 0.060 | 3.004 | |
| plotDinuclFreq | 0.101 | 0.000 | 0.101 | |
| plotExpectedPartitions | 2.192 | 0.000 | 2.197 | |
| plotFeatureDist | 0.406 | 0.000 | 0.403 | |
| plotGCContent | 0.213 | 0.000 | 0.214 | |
| plotNeighborDist | 0.1 | 0.0 | 0.1 | |
| plotPartitions | 2.406 | 0.003 | 2.417 | |
| plotQTHist | 0.266 | 0.000 | 0.267 | |
| plotSummarySignal | 0.406 | 0.012 | 0.417 | |
| retrieveFile | 0.001 | 0.000 | 0.001 | |