| Back to Multiple platform build/check report for BioC 3.22: simplified long |
|
This page was generated on 2025-10-21 12:07 -0400 (Tue, 21 Oct 2025).
| Hostname | OS | Arch (*) | R version | Installed pkgs |
|---|---|---|---|---|
| nebbiolo2 | Linux (Ubuntu 24.04.3 LTS) | x86_64 | 4.5.1 Patched (2025-08-23 r88802) -- "Great Square Root" | 4887 |
| lconway | macOS 12.7.6 Monterey | x86_64 | 4.5.1 Patched (2025-09-10 r88807) -- "Great Square Root" | 4677 |
| kjohnson3 | macOS 13.7.7 Ventura | arm64 | 4.5.1 Patched (2025-09-10 r88807) -- "Great Square Root" | 4622 |
| taishan | Linux (openEuler 24.03 LTS) | aarch64 | 4.5.0 (2025-04-11) -- "How About a Twenty-Six" | 4642 |
| Click on any hostname to see more info about the system (e.g. compilers) (*) as reported by 'uname -p', except on Windows and Mac OS X | ||||
| Package 1594/2353 | Hostname | OS / Arch | INSTALL | BUILD | CHECK | BUILD BIN | ||||||||
| pipeComp 1.19.0 (landing page) Pierre-Luc Germain
| nebbiolo2 | Linux (Ubuntu 24.04.3 LTS) / x86_64 | OK | OK | OK | |||||||||
| lconway | macOS 12.7.6 Monterey / x86_64 | OK | OK | OK | OK | |||||||||
| kjohnson3 | macOS 13.7.7 Ventura / arm64 | OK | OK | OK | OK | |||||||||
| taishan | Linux (openEuler 24.03 LTS) / aarch64 | OK | OK | OK | ||||||||||
|
To the developers/maintainers of the pipeComp package: - Allow up to 24 hours (and sometimes 48 hours) for your latest push to git@git.bioconductor.org:packages/pipeComp.git to reflect on this report. See Troubleshooting Build Report for more information. - Use the following Renviron settings to reproduce errors and warnings. - If 'R CMD check' started to fail recently on the Linux builder(s) over a missing dependency, add the missing dependency to 'Suggests:' in your DESCRIPTION file. See Renviron.bioc for more information. - See Martin Grigorov's blog post for how to debug Linux ARM64 related issues on a x86_64 host. |
| Package: pipeComp |
| Version: 1.19.0 |
| Command: /home/biocbuild/R/R/bin/R CMD check --install=check:pipeComp.install-out.txt --library=/home/biocbuild/R/R/site-library --no-vignettes --timings pipeComp_1.19.0.tar.gz |
| StartedAt: 2025-10-17 12:12:17 -0000 (Fri, 17 Oct 2025) |
| EndedAt: 2025-10-17 12:20:15 -0000 (Fri, 17 Oct 2025) |
| EllapsedTime: 477.7 seconds |
| RetCode: 0 |
| Status: OK |
| CheckDir: pipeComp.Rcheck |
| Warnings: 0 |
##############################################################################
##############################################################################
###
### Running command:
###
### /home/biocbuild/R/R/bin/R CMD check --install=check:pipeComp.install-out.txt --library=/home/biocbuild/R/R/site-library --no-vignettes --timings pipeComp_1.19.0.tar.gz
###
##############################################################################
##############################################################################
* using log directory ‘/home/biocbuild/bbs-3.22-bioc/meat/pipeComp.Rcheck’
* using R version 4.5.0 (2025-04-11)
* using platform: aarch64-unknown-linux-gnu
* R was compiled by
aarch64-unknown-linux-gnu-gcc (GCC) 14.2.0
GNU Fortran (GCC) 14.2.0
* running under: openEuler 24.03 (LTS)
* using session charset: UTF-8
* using option ‘--no-vignettes’
* checking for file ‘pipeComp/DESCRIPTION’ ... OK
* checking extension type ... Package
* this is package ‘pipeComp’ version ‘1.19.0’
* package encoding: UTF-8
* checking package namespace information ... OK
* checking package dependencies ... INFO
Imports includes 26 non-default packages.
Importing from so many packages makes the package vulnerable to any of
them becoming unavailable. Move as many as possible to Suggests and
use conditionally.
* checking if this is a source package ... OK
* checking if there is a namespace ... OK
* checking for hidden files and directories ... OK
* checking for portable file names ... OK
* checking for sufficient/correct file permissions ... OK
* checking whether package ‘pipeComp’ can be installed ... OK
* checking installed package size ... OK
* checking package directory ... OK
* checking ‘build’ directory ... OK
* checking DESCRIPTION meta-information ... OK
* checking top-level files ... NOTE
File
LICENSE
is not mentioned in the DESCRIPTION file.
* checking for left-over files ... OK
* checking index information ... OK
* checking package subdirectories ... OK
* checking code files for non-ASCII characters ... OK
* checking R files for syntax errors ... OK
* checking whether the package can be loaded ... OK
* checking whether the package can be loaded with stated dependencies ... OK
* checking whether the package can be unloaded cleanly ... OK
* checking whether the namespace can be loaded with stated dependencies ... OK
* checking whether the namespace can be unloaded cleanly ... OK
* checking loading without being on the library search path ... OK
* checking dependencies in R code ... NOTE
There are ::: calls to the package's namespace in its code. A package
almost never needs to use ::: for its own objects:
‘.compileExcludedCells’ ‘.getMM’ ‘.homogenizeDEA’ ‘.runf’
* checking S3 generic/method consistency ... OK
* checking replacement functions ... OK
* checking foreign function calls ... OK
* checking R code for possible problems ... NOTE
scrna_describeDatasets: no visible binding for global variable
‘cluster’
scrna_describeDatasets: no visible binding for global variable ‘nb’
scrna_describeDatasets : pf: no visible binding for global variable
‘.x’
scrna_describeDatasets : rd: no visible binding for global variable ‘y’
scrna_describeDatasets : rd: no visible binding for global variable
‘cluster’
scrna_evalPlot_filtering: no visible binding for global variable
‘max.lost’
scrna_evalPlot_filtering: no visible binding for global variable
‘mean_F1’
scrna_evalPlot_filtering: no visible binding for global variable ‘filt’
scrna_evalPlot_filtering: no visible binding for global variable
‘doubletmethod’
scrna_evalPlot_filtering: no visible binding for global variable
‘method’
scrna_evalPlot_overall: no visible binding for global variable
‘true.nbClusts’
scrna_evalPlot_overall: no visible binding for global variable ‘n_clus’
Undefined global functions or variables:
.x cluster doubletmethod filt max.lost mean_F1 method n_clus nb
true.nbClusts y
* checking Rd files ... OK
* checking Rd metadata ... OK
* checking Rd cross-references ... OK
* checking for missing documentation entries ... OK
* checking for code/documentation mismatches ... OK
* checking Rd \usage sections ... OK
* checking Rd contents ... OK
* checking for unstated dependencies in examples ... OK
* checking contents of ‘data’ directory ... OK
* checking data for non-ASCII characters ... OK
* checking data for ASCII and uncompressed saves ... OK
* checking files in ‘vignettes’ ... OK
* checking examples ... OK
Examples with CPU (user + system) or elapsed time > 5s
user system elapsed
scrna_evalPlot_overall 6.149 0.171 6.339
* checking for unstated dependencies in vignettes ... OK
* checking package vignettes ... OK
* checking running R code from vignettes ... SKIPPED
* checking re-building of vignette outputs ... SKIPPED
* checking PDF version of manual ... OK
* DONE
Status: 3 NOTEs
See
‘/home/biocbuild/bbs-3.22-bioc/meat/pipeComp.Rcheck/00check.log’
for details.
pipeComp.Rcheck/00install.out
############################################################################## ############################################################################## ### ### Running command: ### ### /home/biocbuild/R/R/bin/R CMD INSTALL pipeComp ### ############################################################################## ############################################################################## * installing to library ‘/home/biocbuild/R/R-4.5.0/site-library’ * installing *source* package ‘pipeComp’ ... ** this is package ‘pipeComp’ version ‘1.19.0’ ** using staged installation ** R ** data ** inst ** byte-compile and prepare package for lazy loading ** help *** installing help indices ** building package indices ** installing vignettes ** testing if installed package can be loaded from temporary location ** testing if installed package can be loaded from final location ** testing if installed package keeps a record of temporary installation path * DONE (pipeComp)
pipeComp.Rcheck/pipeComp-Ex.timings
| name | user | system | elapsed | |
| PipelineDefinition-methods | 0.01 | 0.00 | 0.01 | |
| PipelineDefinition | 0.002 | 0.000 | 0.002 | |
| addPipelineStep | 0.004 | 0.000 | 0.003 | |
| aggregatePipelineResults | 1.051 | 0.064 | 1.125 | |
| buildCombMatrix | 0.002 | 0.003 | 0.005 | |
| checkPipelinePackages | 0.082 | 0.004 | 0.086 | |
| colCenterScale | 0.001 | 0.004 | 0.004 | |
| dea_evalPlot_curve | 1.535 | 0.187 | 1.728 | |
| dea_pipeline | 0.004 | 0.000 | 0.004 | |
| evalHeatmap | 3.459 | 0.240 | 3.710 | |
| evaluateClustering | 0.010 | 0.003 | 0.014 | |
| evaluateDEA | 0.067 | 0.012 | 0.079 | |
| evaluateDimRed | 1.794 | 0.143 | 1.944 | |
| evaluateNorm | 2.414 | 0.100 | 2.522 | |
| farthestPoint | 0.008 | 0.000 | 0.008 | |
| getQualitativePalette | 0.001 | 0.000 | 0.000 | |
| match_evaluate_multiple | 0.004 | 0.000 | 0.003 | |
| mergePipelineResults | 2.221 | 0.199 | 2.427 | |
| mockPipeline | 0.001 | 0.000 | 0.001 | |
| parsePipNames | 0.002 | 0.000 | 0.002 | |
| plotElapsed | 1.157 | 0.044 | 1.204 | |
| readPipelineResults | 1.018 | 0.068 | 1.089 | |
| runPipeline | 0.986 | 0.032 | 1.021 | |
| scrna_evalPlot_filtering | 0.726 | 0.008 | 0.736 | |
| scrna_evalPlot_overall | 6.149 | 0.171 | 6.339 | |
| scrna_evalPlot_silh | 1.105 | 0.004 | 1.112 | |
| scrna_pipeline | 0.003 | 0.000 | 0.003 | |