Back to Multiple platform build/check report for BioC 3.22:   simplified   long
ABCDEFGHIJKLMNOPQ[R]STUVWXYZ

This page was generated on 2025-11-15 11:58 -0500 (Sat, 15 Nov 2025).

HostnameOSArch (*)R versionInstalled pkgs
nebbiolo2Linux (Ubuntu 24.04.3 LTS)x86_644.5.1 Patched (2025-08-23 r88802) -- "Great Square Root" 4903
taishanLinux (openEuler 24.03 LTS)aarch644.5.0 (2025-04-11) -- "How About a Twenty-Six" 4668
Click on any hostname to see more info about the system (e.g. compilers)      (*) as reported by 'uname -p', except on Windows and Mac OS X

Package 1876/2361HostnameOS / ArchINSTALLBUILDCHECKBUILD BIN
rWikiPathways 1.30.0  (landing page)
Egon Willighagen
Snapshot Date: 2025-11-14 13:45 -0500 (Fri, 14 Nov 2025)
git_url: https://git.bioconductor.org/packages/rWikiPathways
git_branch: RELEASE_3_22
git_last_commit: 1ca65ae
git_last_commit_date: 2025-10-29 10:44:32 -0500 (Wed, 29 Oct 2025)
nebbiolo2Linux (Ubuntu 24.04.3 LTS) / x86_64  OK    OK    OK  UNNEEDED, same version is already published
taishanLinux (openEuler 24.03 LTS) / aarch64  OK    OK    OK  


CHECK results for rWikiPathways on taishan

To the developers/maintainers of the rWikiPathways package:
- Allow up to 24 hours (and sometimes 48 hours) for your latest push to git@git.bioconductor.org:packages/rWikiPathways.git to reflect on this report. See Troubleshooting Build Report for more information.
- Use the following Renviron settings to reproduce errors and warnings.
- If 'R CMD check' started to fail recently on the Linux builder(s) over a missing dependency, add the missing dependency to 'Suggests:' in your DESCRIPTION file. See Renviron.bioc for more information.
- See Martin Grigorov's blog post for how to debug Linux ARM64 related issues on a x86_64 host.

raw results


Summary

Package: rWikiPathways
Version: 1.30.0
Command: /home/biocbuild/R/R/bin/R CMD check --install=check:rWikiPathways.install-out.txt --library=/home/biocbuild/R/R/site-library --no-vignettes --timings rWikiPathways_1.30.0.tar.gz
StartedAt: 2025-11-14 14:01:42 -0000 (Fri, 14 Nov 2025)
EndedAt: 2025-11-14 14:07:26 -0000 (Fri, 14 Nov 2025)
EllapsedTime: 344.6 seconds
RetCode: 0
Status:   OK  
CheckDir: rWikiPathways.Rcheck
Warnings: 0

Command output

##############################################################################
##############################################################################
###
### Running command:
###
###   /home/biocbuild/R/R/bin/R CMD check --install=check:rWikiPathways.install-out.txt --library=/home/biocbuild/R/R/site-library --no-vignettes --timings rWikiPathways_1.30.0.tar.gz
###
##############################################################################
##############################################################################


* using log directory ‘/home/biocbuild/bbs-3.22-bioc/meat/rWikiPathways.Rcheck’
* using R version 4.5.0 (2025-04-11)
* using platform: aarch64-unknown-linux-gnu
* R was compiled by
    aarch64-unknown-linux-gnu-gcc (GCC) 14.2.0
    GNU Fortran (GCC) 14.2.0
* running under: openEuler 24.03 (LTS)
* using session charset: UTF-8
* using option ‘--no-vignettes’
* checking for file ‘rWikiPathways/DESCRIPTION’ ... OK
* checking extension type ... Package
* this is package ‘rWikiPathways’ version ‘1.30.0’
* package encoding: UTF-8
* checking package namespace information ... OK
* checking package dependencies ... OK
* checking if this is a source package ... OK
* checking if there is a namespace ... OK
* checking for hidden files and directories ... OK
* checking for portable file names ... NOTE
Found the following non-portable file path:
  rWikiPathways/docs/articles/rWikiPathways-and-BridgeDbR_files/accessible-code-block-0.0.1/empty-anchor.js

Tarballs are only required to store paths of up to 100 bytes and cannot
store those of more than 256 bytes, with restrictions including to 100
bytes for the final component.
See section ‘Package structure’ in the ‘Writing R Extensions’ manual.
* checking for sufficient/correct file permissions ... OK
* checking whether package ‘rWikiPathways’ can be installed ... OK
* checking installed package size ... OK
* checking package directory ... OK
* checking ‘build’ directory ... OK
* checking DESCRIPTION meta-information ... NOTE
License stub is invalid DCF.
* checking top-level files ... OK
* checking for left-over files ... OK
* checking index information ... OK
* checking package subdirectories ... OK
* checking code files for non-ASCII characters ... OK
* checking R files for syntax errors ... OK
* checking whether the package can be loaded ... OK
* checking whether the package can be loaded with stated dependencies ... OK
* checking whether the package can be unloaded cleanly ... OK
* checking whether the namespace can be loaded with stated dependencies ... OK
* checking whether the namespace can be unloaded cleanly ... OK
* checking loading without being on the library search path ... OK
* checking dependencies in R code ... OK
* checking S3 generic/method consistency ... OK
* checking replacement functions ... OK
* checking foreign function calls ... OK
* checking R code for possible problems ... NOTE
findPathwaysByLiterature: no visible binding for global variable ‘refs’
findPathwaysByLiterature: no visible binding for global variable
  ‘citations’
findPathwaysByOrcid: no visible binding for global variable ‘orcids’
findPathwaysByText: no visible binding for global variable ‘citedIn’
getOntologyTerms: no visible binding for global variable ‘terms’
getPathwaysByCommunity: no visible binding for global variable
  ‘pathways’
getPathwaysByCommunity: no visible binding for global variable
  ‘community-tag’
getPathwaysByOntologyTerm: no visible binding for global variable
  ‘pathways’
getPathwaysByParentOntologyTerm: no visible binding for global variable
  ‘terms’
getPathwaysByParentOntologyTerm: no visible binding for global variable
  ‘terms_parent’
getRecentChanges: no visible binding for global variable ‘revision’
getRecentChanges: no visible binding for global variable ‘revision_ymd’
getRecentChanges: no visible binding for global variable ‘authors’
getRecentChanges: no visible binding for global variable ‘description’
getRecentChanges: no visible binding for global variable ‘citedIn’
listCommunities: no visible binding for global variable ‘pathways’
listPathways: no visible binding for global variable ‘species’
readPathwayGMT: no visible binding for global variable ‘pathway’
Undefined global functions or variables:
  authors citations citedIn community-tag description orcids pathway
  pathways refs revision revision_ymd species terms terms_parent
Consider adding
  importFrom("stats", "terms")
to your NAMESPACE file.
* checking Rd files ... OK
* checking Rd metadata ... OK
* checking Rd cross-references ... OK
* checking for missing documentation entries ... OK
* checking for code/documentation mismatches ... OK
* checking Rd \usage sections ... OK
* checking Rd contents ... OK
* checking for unstated dependencies in examples ... OK
* checking files in ‘vignettes’ ... OK
* checking examples ... OK
Examples with CPU (user + system) or elapsed time > 5s
                               user system elapsed
findPathwaysByLiterature     11.333  0.151  30.015
findPathwayIdsByLiterature    8.397  0.113  16.919
findPathwayNamesByLiterature  8.249  0.095  19.543
findPathwayUrlsByLiterature   8.083  0.044  19.878
findPathwaysByText            3.601  0.036   6.620
findPathwayIdsByText          3.195  0.028   5.351
findPathwayUrlsByText         3.189  0.023   5.477
findPathwayNamesByText        3.057  0.001   5.309
findPathwaysByXref            1.298  0.038  10.742
findPathwayNamesByXref        1.251  0.017   9.177
findPathwayIdsByXref          1.236  0.029  11.202
findPathwayUrlsByXref         1.118  0.041  13.877
* checking for unstated dependencies in ‘tests’ ... OK
* checking tests ...
  Running ‘testthat.R’
 OK
* checking for unstated dependencies in vignettes ... OK
* checking package vignettes ... OK
* checking running R code from vignettes ... SKIPPED
* checking re-building of vignette outputs ... SKIPPED
* checking PDF version of manual ... OK
* DONE

Status: 3 NOTEs
See
  ‘/home/biocbuild/bbs-3.22-bioc/meat/rWikiPathways.Rcheck/00check.log’
for details.


Installation output

rWikiPathways.Rcheck/00install.out

##############################################################################
##############################################################################
###
### Running command:
###
###   /home/biocbuild/R/R/bin/R CMD INSTALL rWikiPathways
###
##############################################################################
##############################################################################


* installing to library ‘/home/biocbuild/R/R-4.5.0/site-library’
* installing *source* package ‘rWikiPathways’ ...
** this is package ‘rWikiPathways’ version ‘1.30.0’
** using staged installation
** R
** inst
** byte-compile and prepare package for lazy loading
** help
*** installing help indices
** building package indices
** installing vignettes
** testing if installed package can be loaded from temporary location
** testing if installed package can be loaded from final location
** testing if installed package keeps a record of temporary installation path
* DONE (rWikiPathways)

Tests output

rWikiPathways.Rcheck/tests/testthat.Rout


R version 4.5.0 (2025-04-11) -- "How About a Twenty-Six"
Copyright (C) 2025 The R Foundation for Statistical Computing
Platform: aarch64-unknown-linux-gnu

R is free software and comes with ABSOLUTELY NO WARRANTY.
You are welcome to redistribute it under certain conditions.
Type 'license()' or 'licence()' for distribution details.

R is a collaborative project with many contributors.
Type 'contributors()' for more information and
'citation()' on how to cite R or R packages in publications.

Type 'demo()' for some demos, 'help()' for on-line help, or
'help.start()' for an HTML browser interface to help.
Type 'q()' to quit R.

> library(testthat)
> library(rWikiPathways)
> 
> test_check("rWikiPathways")
[ FAIL 0 | WARN 1 | SKIP 0 | PASS 26 ]

[ FAIL 0 | WARN 1 | SKIP 0 | PASS 26 ]
> 
> proc.time()
   user  system elapsed 
 29.204   0.561  86.169 

Example timings

rWikiPathways.Rcheck/rWikiPathways-Ex.timings

nameusersystemelapsed
downloadPathwayArchive000
findPathwayIDsByOrcid0.4160.0161.372
findPathwayIdsByLiterature 8.397 0.11316.919
findPathwayIdsByText3.1950.0285.351
findPathwayIdsByXref 1.236 0.02911.202
findPathwayNamesByLiterature 8.249 0.09519.543
findPathwayNamesByOrcid0.4050.0081.279
findPathwayNamesByText3.0570.0015.309
findPathwayNamesByXref1.2510.0179.177
findPathwayUrlsByLiterature 8.083 0.04419.878
findPathwayUrlsByOrcid0.4250.0002.555
findPathwayUrlsByText3.1890.0235.477
findPathwayUrlsByXref 1.118 0.04113.877
findPathwaysByLiterature11.333 0.15130.015
findPathwaysByOrcid0.4300.0001.985
findPathwaysByText3.6010.0366.620
findPathwaysByXref 1.298 0.03810.742
getCounts0.0200.0031.006
getCurationStatus0.0230.0000.958
getOntologyTermIds1.4240.0292.630
getOntologyTermNames1.4320.0002.574
getOntologyTerms1.6530.0184.413
getPathway0.0500.0000.449
getPathwayHistory000
getPathwayIdsByCommunity0.1920.0162.397
getPathwayIdsByOntologyTerm0.1660.0001.704
getPathwayIdsByParentOntologyTerm1.3460.0042.028
getPathwayInfo0.3470.0122.107
getPathwayNamesByCommunity0.2160.0041.100
getPathwayUrlsByCommunity0.2120.0001.756
getPathwaysByCommunity0.2270.0001.861
getPathwaysByOntologyTerm0.2650.0001.003
getPathwaysByParentOntologyTerm1.3350.0031.697
getRecentChanges0.6690.0221.978
getRecentChangesIds0.3440.0002.974
getRecentChangesNames0.3410.0070.921
getXrefList0.3890.0091.181
listCommunities0.2550.0040.547
listOrganisms0.0190.0000.579
listPathwayIds0.2110.0030.913
listPathwayNames0.1990.0120.614
listPathwayUrls0.2300.0080.564
listPathways0.2160.0040.506
readGMT000
readGMTnames000
readPathwayGMT000
writeGMT000