Back to Multiple platform build/check report for BioC 3.22:   simplified   long
ABCD[E]FGHIJKLMNOPQRSTUVWXYZ

This page was generated on 2025-10-24 12:07 -0400 (Fri, 24 Oct 2025).

HostnameOSArch (*)R versionInstalled pkgs
nebbiolo2Linux (Ubuntu 24.04.3 LTS)x86_644.5.1 Patched (2025-08-23 r88802) -- "Great Square Root" 4898
lconwaymacOS 12.7.6 Montereyx86_644.5.1 Patched (2025-09-10 r88807) -- "Great Square Root" 4688
kjohnson3macOS 13.7.7 Venturaarm644.5.1 Patched (2025-09-10 r88807) -- "Great Square Root" 4634
taishanLinux (openEuler 24.03 LTS)aarch644.5.0 (2025-04-11) -- "How About a Twenty-Six" 4658
Click on any hostname to see more info about the system (e.g. compilers)      (*) as reported by 'uname -p', except on Windows and Mac OS X

Package 642/2359HostnameOS / ArchINSTALLBUILDCHECKBUILD BIN
easylift 1.7.0  (landing page)
Abdullah Al Nahid
Snapshot Date: 2025-10-23 14:17 -0400 (Thu, 23 Oct 2025)
git_url: https://git.bioconductor.org/packages/easylift
git_branch: devel
git_last_commit: c67c566
git_last_commit_date: 2025-04-15 13:20:46 -0400 (Tue, 15 Apr 2025)
nebbiolo2Linux (Ubuntu 24.04.3 LTS) / x86_64  OK    OK    OK  UNNEEDED, same version is already published
lconwaymacOS 12.7.6 Monterey / x86_64  OK    OK    OK    OK  UNNEEDED, same version is already published
kjohnson3macOS 13.7.7 Ventura / arm64  OK    OK    OK    OK  UNNEEDED, same version is already published
taishanLinux (openEuler 24.03 LTS) / aarch64  OK    OK    ERROR  


CHECK results for easylift on taishan

To the developers/maintainers of the easylift package:
- Allow up to 24 hours (and sometimes 48 hours) for your latest push to git@git.bioconductor.org:packages/easylift.git to reflect on this report. See Troubleshooting Build Report for more information.
- Use the following Renviron settings to reproduce errors and warnings.
- If 'R CMD check' started to fail recently on the Linux builder(s) over a missing dependency, add the missing dependency to 'Suggests:' in your DESCRIPTION file. See Renviron.bioc for more information.
- See Martin Grigorov's blog post for how to debug Linux ARM64 related issues on a x86_64 host.

raw results


Summary

Package: easylift
Version: 1.7.0
Command: /home/biocbuild/R/R/bin/R CMD check --install=check:easylift.install-out.txt --library=/home/biocbuild/R/R/site-library --no-vignettes --timings easylift_1.7.0.tar.gz
StartedAt: 2025-10-21 07:40:24 -0000 (Tue, 21 Oct 2025)
EndedAt: 2025-10-21 07:40:25 -0000 (Tue, 21 Oct 2025)
EllapsedTime: 1.0 seconds
RetCode: 1
Status:   ERROR  
CheckDir: None
Warnings: NA

Command output

##############################################################################
##############################################################################
###
### Running command:
###
###   /home/biocbuild/R/R/bin/R CMD check --install=check:easylift.install-out.txt --library=/home/biocbuild/R/R/site-library --no-vignettes --timings easylift_1.7.0.tar.gz
###
##############################################################################
##############################################################################


Warning in dir.create(pkgoutdir, mode = "0755") :
  cannot create dir '/home/biocbuild/bbs-3.22-bioc/meat/easylift.Rcheck', reason 'No space left on device'
ERROR: cannot create check dir ‘/home/biocbuild/bbs-3.22-bioc/meat/easylift.Rcheck’

Installation output


Tests output

Due to an anomaly in the Build System, this output is not available. We apologize for the inconvenience.


Example timings

Due to an anomaly in the Build System, the timings are not available. We apologize for the inconvenience.