Back to Multiple platform build/check report for BioC 3.22:   simplified   long
ABC[D]EFGHIJKLMNOPQRSTUVWXYZ

This page was generated on 2025-11-24 12:07 -0500 (Mon, 24 Nov 2025).

HostnameOSArch (*)R versionInstalled pkgs
nebbiolo2Linux (Ubuntu 24.04.3 LTS)x86_644.5.2 (2025-10-31) -- "[Not] Part in a Rumble" 4873
merida1macOS 12.7.6 Montereyx86_644.5.2 Patched (2025-11-05 r88990) -- "[Not] Part in a Rumble" 4654
kjohnson1macOS 13.7.5 Venturaarm644.5.2 Patched (2025-11-04 r88984) -- "[Not] Part in a Rumble" 4600
taishanLinux (openEuler 24.03 LTS)aarch644.5.0 (2025-04-11) -- "How About a Twenty-Six" 4668
Click on any hostname to see more info about the system (e.g. compilers)      (*) as reported by 'uname -p', except on Windows and Mac OS X

Package 524/2361HostnameOS / ArchINSTALLBUILDCHECKBUILD BIN
dar 1.6.0  (landing page)
Francesc Catala-Moll
Snapshot Date: 2025-11-20 15:01 -0500 (Thu, 20 Nov 2025)
git_url: https://git.bioconductor.org/packages/dar
git_branch: RELEASE_3_22
git_last_commit: 0a164df
git_last_commit_date: 2025-10-29 11:27:31 -0500 (Wed, 29 Oct 2025)
nebbiolo2Linux (Ubuntu 24.04.3 LTS) / x86_64  OK    OK    OK  UNNEEDED, same version is already published
merida1macOS 12.7.6 Monterey / x86_64  OK    OK    OK    OK  NO, package depends on 'mia' which is only available as a source package that needs compilation
kjohnson1macOS 13.7.5 Ventura / arm64  OK    OK    OK    OK  NO, package depends on 'mia' which is only available as a source package that needs compilation
taishanLinux (openEuler 24.03 LTS) / aarch64  OK    OK    OK  


CHECK results for dar on taishan

To the developers/maintainers of the dar package:
- Allow up to 24 hours (and sometimes 48 hours) for your latest push to git@git.bioconductor.org:packages/dar.git to reflect on this report. See Troubleshooting Build Report for more information.
- Use the following Renviron settings to reproduce errors and warnings.
- If 'R CMD check' started to fail recently on the Linux builder(s) over a missing dependency, add the missing dependency to 'Suggests:' in your DESCRIPTION file. See Renviron.bioc for more information.
- See Martin Grigorov's blog post for how to debug Linux ARM64 related issues on a x86_64 host.

raw results


Summary

Package: dar
Version: 1.6.0
Command: /home/biocbuild/R/R/bin/R CMD check --install=check:dar.install-out.txt --library=/home/biocbuild/R/R/site-library --no-vignettes --timings dar_1.6.0.tar.gz
StartedAt: 2025-11-21 09:42:40 -0000 (Fri, 21 Nov 2025)
EndedAt: 2025-11-21 09:55:07 -0000 (Fri, 21 Nov 2025)
EllapsedTime: 747.6 seconds
RetCode: 0
Status:   OK  
CheckDir: dar.Rcheck
Warnings: 0

Command output

##############################################################################
##############################################################################
###
### Running command:
###
###   /home/biocbuild/R/R/bin/R CMD check --install=check:dar.install-out.txt --library=/home/biocbuild/R/R/site-library --no-vignettes --timings dar_1.6.0.tar.gz
###
##############################################################################
##############################################################################


* using log directory ‘/home/biocbuild/bbs-3.22-bioc/meat/dar.Rcheck’
* using R version 4.5.0 (2025-04-11)
* using platform: aarch64-unknown-linux-gnu
* R was compiled by
    aarch64-unknown-linux-gnu-gcc (GCC) 14.2.0
    GNU Fortran (GCC) 14.2.0
* running under: openEuler 24.03 (LTS)
* using session charset: UTF-8
* using option ‘--no-vignettes’
* checking for file ‘dar/DESCRIPTION’ ... OK
* this is package ‘dar’ version ‘1.6.0’
* package encoding: UTF-8
* checking package namespace information ... OK
* checking package dependencies ... INFO
Imports includes 21 non-default packages.
Importing from so many packages makes the package vulnerable to any of
them becoming unavailable.  Move as many as possible to Suggests and
use conditionally.
* checking if this is a source package ... OK
* checking if there is a namespace ... OK
* checking for hidden files and directories ... OK
* checking for portable file names ... OK
* checking for sufficient/correct file permissions ... OK
* checking whether package ‘dar’ can be installed ... OK
* checking installed package size ... OK
* checking package directory ... OK
* checking ‘build’ directory ... OK
* checking DESCRIPTION meta-information ... OK
* checking top-level files ... OK
* checking for left-over files ... OK
* checking index information ... OK
* checking package subdirectories ... OK
* checking code files for non-ASCII characters ... OK
* checking R files for syntax errors ... OK
* checking whether the package can be loaded ... OK
* checking whether the package can be loaded with stated dependencies ... OK
* checking whether the package can be unloaded cleanly ... OK
* checking whether the namespace can be loaded with stated dependencies ... OK
* checking whether the namespace can be unloaded cleanly ... OK
* checking loading without being on the library search path ... OK
* checking dependencies in R code ... OK
* checking S3 generic/method consistency ... OK
* checking replacement functions ... OK
* checking foreign function calls ... OK
* checking R code for possible problems ... OK
* checking Rd files ... OK
* checking Rd metadata ... OK
* checking Rd cross-references ... OK
* checking for missing documentation entries ... OK
* checking for code/documentation mismatches ... OK
* checking Rd \usage sections ... OK
* checking Rd contents ... OK
* checking for unstated dependencies in examples ... OK
* checking contents of ‘data’ directory ... OK
* checking data for non-ASCII characters ... OK
* checking data for ASCII and uncompressed saves ... OK
* checking R/sysdata.rda ... OK
* checking files in ‘vignettes’ ... OK
* checking examples ... OK
Examples with CPU (user + system) or elapsed time > 5s
                     user system elapsed
step_aldex         20.628  0.424  21.108
step_deseq          8.612  0.255   8.888
prep                6.946  1.058  54.228
corr_heatmap        5.392  0.184   5.586
step_metagenomeseq  4.769  0.213  12.561
import_steps        4.655  0.324  45.519
export_steps        3.040  0.266  16.912
recipe              2.791  0.242  21.820
* checking for unstated dependencies in ‘tests’ ... OK
* checking tests ...
  Running ‘testthat.R’
 OK
* checking for unstated dependencies in vignettes ... OK
* checking package vignettes ... OK
* checking running R code from vignettes ... SKIPPED
* checking re-building of vignette outputs ... SKIPPED
* checking PDF version of manual ... OK
* DONE

Status: OK


Installation output

dar.Rcheck/00install.out

##############################################################################
##############################################################################
###
### Running command:
###
###   /home/biocbuild/R/R/bin/R CMD INSTALL dar
###
##############################################################################
##############################################################################


* installing to library ‘/home/biocbuild/R/R-4.5.0/site-library’
* installing *source* package ‘dar’ ...
** this is package ‘dar’ version ‘1.6.0’
** using staged installation
** R
** data
** inst
** byte-compile and prepare package for lazy loading
** help
*** installing help indices
*** copying figures
** building package indices
** installing vignettes
** testing if installed package can be loaded from temporary location
** testing if installed package can be loaded from final location
** testing if installed package keeps a record of temporary installation path
* DONE (dar)

Tests output

dar.Rcheck/tests/testthat.Rout


R version 4.5.0 (2025-04-11) -- "How About a Twenty-Six"
Copyright (C) 2025 The R Foundation for Statistical Computing
Platform: aarch64-unknown-linux-gnu

R is free software and comes with ABSOLUTELY NO WARRANTY.
You are welcome to redistribute it under certain conditions.
Type 'license()' or 'licence()' for distribution details.

R is a collaborative project with many contributors.
Type 'contributors()' for more information and
'citation()' on how to cite R or R packages in publications.

Type 'demo()' for some demos, 'help()' for on-line help, or
'help.start()' for an HTML browser interface to help.
Type 'q()' to quit R.

> library(testthat)
> library(dar)
> 
> test_check("dar")
Starting 2 test processes
[ FAIL 0 | WARN 3 | SKIP 10 | PASS 81 ]

══ Skipped tests (10) ══════════════════════════════════════════════════════════
• On CRAN (9): 'test-roxytest-tests-bake.R:18:3',
  'test-roxytest-tests-lefse.R:15:3', 'test-roxytest-tests-misc.R:73:3',
  'test-roxytest-tests-misc.R:101:3', 'test-roxytest-tests-misc.R:108:3',
  'test-roxytest-tests-pkg_check.R:6:3', 'test-roxytest-tests-maaslin2.R:16:3',
  'test-roxytest-tests-read_data.R:24:3',
  'test-roxytest-tests-steps_and_checks.R:7:3'
• Temporary disabling due to problems with the ANCOM package (1):
  'test-roxytest-tests-ancom.R:6:3'

[ FAIL 0 | WARN 3 | SKIP 10 | PASS 81 ]
> 
> proc.time()
   user  system elapsed 
268.421  10.034 307.312 

Example timings

dar.Rcheck/dar-Ex.timings

nameusersystemelapsed
abundance_plt3.8820.1404.031
add_tax0.2240.0000.224
add_var0.2180.0000.218
bake0.6220.0160.639
contains_rarefaction0.8030.0360.842
cool0.3830.0080.391
corr_heatmap5.3920.1845.586
exclusion_plt1.5010.0441.547
export_steps 3.040 0.26616.912
find_intersections0.2280.0040.234
get_comparisons0.0230.0000.023
get_phy0.0250.0000.025
get_tax0.030.000.03
get_var0.0310.0000.030
import_steps 4.655 0.32445.519
intersection_df0.2270.0000.228
intersection_plt3.2210.0833.313
mutual_plt3.7450.1283.883
otu_table0.6080.0240.633
overlap_df0.3430.0040.349
phy_qc1.7110.1111.828
prep 6.946 1.05854.228
rand_id0.0010.0000.000
read_data1.8440.3562.212
recipe 2.791 0.24221.820
required_deps0.0420.0000.042
sample_data0.0390.0000.039
step_aldex20.628 0.42421.108
step_ancom000
step_corncob2.7340.0202.804
step_deseq8.6120.2558.888
step_filter_by_abundance0.0550.0040.059
step_filter_by_prevalence0.0520.0000.052
step_filter_by_rarity0.0520.0000.051
step_filter_by_variance0.0440.0080.052
step_filter_taxa0.0530.0000.052
step_lefse0.0920.0000.091
step_maaslin4.4260.0764.513
step_metagenomeseq 4.769 0.21312.561
step_rarefaction0.0580.0120.070
step_subset_taxa0.0470.0080.056
step_wilcox2.7250.3033.037
steps_ids0.0110.0000.011
tax_table0.0700.0040.074
tidyeval0.0260.0000.026
to_tibble0.6870.0720.761
use_rarefy0.0160.0000.016
zero_otu0.6030.0560.660