Back to Multiple platform build/check report for BioC 3.22:   simplified   long
ABC[D]EFGHIJKLMNOPQRSTUVWXYZ

This page was generated on 2025-11-20 12:06 -0500 (Thu, 20 Nov 2025).

HostnameOSArch (*)R versionInstalled pkgs
nebbiolo2Linux (Ubuntu 24.04.3 LTS)x86_644.5.2 (2025-10-31) -- "[Not] Part in a Rumble" 4615
merida1macOS 12.7.6 Montereyx86_644.5.2 Patched (2025-11-05 r88990) -- "[Not] Part in a Rumble" 4610
kjohnson1macOS 13.7.5 Venturaarm644.5.2 Patched (2025-11-04 r88984) -- "[Not] Part in a Rumble" 4598
taishanLinux (openEuler 24.03 LTS)aarch644.5.0 (2025-04-11) -- "How About a Twenty-Six" 4668
Click on any hostname to see more info about the system (e.g. compilers)      (*) as reported by 'uname -p', except on Windows and Mac OS X

Package 524/2361HostnameOS / ArchINSTALLBUILDCHECKBUILD BIN
dar 1.6.0  (landing page)
Francesc Catala-Moll
Snapshot Date: 2025-11-17 13:45 -0500 (Mon, 17 Nov 2025)
git_url: https://git.bioconductor.org/packages/dar
git_branch: RELEASE_3_22
git_last_commit: 0a164df
git_last_commit_date: 2025-10-29 11:27:31 -0500 (Wed, 29 Oct 2025)
nebbiolo2Linux (Ubuntu 24.04.3 LTS) / x86_64  OK    OK    OK  UNNEEDED, same version is already published
merida1macOS 12.7.6 Monterey / x86_64  OK    OK    OK    OK  NO, package depends on 'mia' which is only available as a source package that needs compilation
kjohnson1macOS 13.7.5 Ventura / arm64  OK    OK    OK    OK  NO, package depends on 'mia' which is only available as a source package that needs compilation
taishanLinux (openEuler 24.03 LTS) / aarch64  OK    OK    OK  


CHECK results for dar on kjohnson1

To the developers/maintainers of the dar package:
- Allow up to 24 hours (and sometimes 48 hours) for your latest push to git@git.bioconductor.org:packages/dar.git to reflect on this report. See Troubleshooting Build Report for more information.
- Use the following Renviron settings to reproduce errors and warnings.
- If 'R CMD check' started to fail recently on the Linux builder(s) over a missing dependency, add the missing dependency to 'Suggests:' in your DESCRIPTION file. See Renviron.bioc for more information.

raw results


Summary

Package: dar
Version: 1.6.0
Command: /Library/Frameworks/R.framework/Resources/bin/R CMD check --install=check:dar.install-out.txt --library=/Library/Frameworks/R.framework/Resources/library --no-vignettes --timings dar_1.6.0.tar.gz
StartedAt: 2025-11-18 05:08:30 -0500 (Tue, 18 Nov 2025)
EndedAt: 2025-11-18 05:12:32 -0500 (Tue, 18 Nov 2025)
EllapsedTime: 242.1 seconds
RetCode: 0
Status:   OK  
CheckDir: dar.Rcheck
Warnings: 0

Command output

##############################################################################
##############################################################################
###
### Running command:
###
###   /Library/Frameworks/R.framework/Resources/bin/R CMD check --install=check:dar.install-out.txt --library=/Library/Frameworks/R.framework/Resources/library --no-vignettes --timings dar_1.6.0.tar.gz
###
##############################################################################
##############################################################################


* using log directory ‘/Users/biocbuild/bbs-3.22-bioc/meat/dar.Rcheck’
* using R version 4.5.2 Patched (2025-11-04 r88984)
* using platform: aarch64-apple-darwin20
* R was compiled by
    Apple clang version 16.0.0 (clang-1600.0.26.6)
    GNU Fortran (GCC) 14.2.0
* running under: macOS Ventura 13.7.8
* using session charset: UTF-8
* using option ‘--no-vignettes’
* checking for file ‘dar/DESCRIPTION’ ... OK
* this is package ‘dar’ version ‘1.6.0’
* package encoding: UTF-8
* checking package namespace information ... OK
* checking package dependencies ... INFO
Imports includes 21 non-default packages.
Importing from so many packages makes the package vulnerable to any of
them becoming unavailable.  Move as many as possible to Suggests and
use conditionally.
* checking if this is a source package ... OK
* checking if there is a namespace ... OK
* checking for hidden files and directories ... OK
* checking for portable file names ... OK
* checking for sufficient/correct file permissions ... OK
* checking whether package ‘dar’ can be installed ... OK
* checking installed package size ... OK
* checking package directory ... OK
* checking ‘build’ directory ... OK
* checking DESCRIPTION meta-information ... OK
* checking top-level files ... OK
* checking for left-over files ... OK
* checking index information ... OK
* checking package subdirectories ... OK
* checking code files for non-ASCII characters ... OK
* checking R files for syntax errors ... OK
* checking whether the package can be loaded ... OK
* checking whether the package can be loaded with stated dependencies ... OK
* checking whether the package can be unloaded cleanly ... OK
* checking whether the namespace can be loaded with stated dependencies ... OK
* checking whether the namespace can be unloaded cleanly ... OK
* checking dependencies in R code ... OK
* checking S3 generic/method consistency ... OK
* checking replacement functions ... OK
* checking foreign function calls ... OK
* checking R code for possible problems ... OK
* checking Rd files ... OK
* checking Rd metadata ... OK
* checking Rd cross-references ... OK
* checking for missing documentation entries ... OK
* checking for code/documentation mismatches ... OK
* checking Rd \usage sections ... OK
* checking Rd contents ... OK
* checking for unstated dependencies in examples ... OK
* checking contents of ‘data’ directory ... OK
* checking data for non-ASCII characters ... OK
* checking data for ASCII and uncompressed saves ... OK
* checking R/sysdata.rda ... OK
* checking files in ‘vignettes’ ... OK
* checking examples ... OK
Examples with CPU (user + system) or elapsed time > 5s
              user system elapsed
step_aldex   7.059  0.817   9.346
prep         1.659  0.034  17.004
export_steps 0.989  0.073   5.922
import_steps 0.926  0.037  14.992
recipe       0.641  0.015   7.696
* checking for unstated dependencies in ‘tests’ ... OK
* checking tests ...
  Running ‘testthat.R’
 OK
* checking for unstated dependencies in vignettes ... OK
* checking package vignettes ... OK
* checking running R code from vignettes ... SKIPPED
* checking re-building of vignette outputs ... SKIPPED
* checking PDF version of manual ... OK
* DONE

Status: OK


Installation output

dar.Rcheck/00install.out

##############################################################################
##############################################################################
###
### Running command:
###
###   /Library/Frameworks/R.framework/Resources/bin/R CMD INSTALL dar
###
##############################################################################
##############################################################################


* installing to library ‘/Library/Frameworks/R.framework/Versions/4.5-arm64/Resources/library’
* installing *source* package ‘dar’ ...
** this is package ‘dar’ version ‘1.6.0’
** using staged installation
** R
** data
** inst
** byte-compile and prepare package for lazy loading
** help
*** installing help indices
*** copying figures
** building package indices
** installing vignettes
** testing if installed package can be loaded from temporary location
** testing if installed package can be loaded from final location
** testing if installed package keeps a record of temporary installation path
* DONE (dar)

Tests output

dar.Rcheck/tests/testthat.Rout


R version 4.5.2 Patched (2025-11-04 r88984) -- "[Not] Part in a Rumble"
Copyright (C) 2025 The R Foundation for Statistical Computing
Platform: aarch64-apple-darwin20

R is free software and comes with ABSOLUTELY NO WARRANTY.
You are welcome to redistribute it under certain conditions.
Type 'license()' or 'licence()' for distribution details.

R is a collaborative project with many contributors.
Type 'contributors()' for more information and
'citation()' on how to cite R or R packages in publications.

Type 'demo()' for some demos, 'help()' for on-line help, or
'help.start()' for an HTML browser interface to help.
Type 'q()' to quit R.

> library(testthat)
> library(dar)
> 
> test_check("dar")
Starting 2 test processes.
> test-roxytest-tests-lefse.R: ! Run lefse without rarefaction is not recommended (id = lefse__Lattice)
> test-roxytest-tests-recipe-class.R: Loading required namespace: TreeSummarizedExperiment
> test-roxytest-tests-recipe-class.R: Found more than one class "phylo" in cache; using the first, from namespace 'phyloseq'
> test-roxytest-tests-recipe-class.R: Also defined by 'tidytree'
> test-roxytest-tests-recipe-class.R: Found more than one class "phylo" in cache; using the first, from namespace 'phyloseq'
> test-roxytest-tests-recipe-class.R: Also defined by 'tidytree'
> test-roxytest-tests-recipe-class.R: Found more than one class "phylo" in cache; using the first, from namespace 'phyloseq'
> test-roxytest-tests-recipe-class.R: Also defined by 'tidytree'
> test-roxytest-tests-recipe-class.R: Found more than one class "phylo" in cache; using the first, from namespace 'phyloseq'
> test-roxytest-tests-recipe-class.R: Also defined by 'tidytree'
> test-roxytest-tests-recipe-class.R: Found more than one class "phylo" in cache; using the first, from namespace 'phyloseq'
> test-roxytest-tests-recipe-class.R: Also defined by 'tidytree'
> test-roxytest-tests-recipe-class.R: Found more than one class "phylo" in cache; using the first, from namespace 'phyloseq'
> test-roxytest-tests-recipe-class.R: Also defined by 'tidytree'
> test-roxytest-tests-recipe-class.R: Found more than one class "phylo" in cache; using the first, from namespace 'phyloseq'
> test-roxytest-tests-recipe-class.R: Also defined by 'tidytree'
> test-roxytest-tests-recipe-class.R: Found more than one class "phylo" in cache; using the first, from namespace 'phyloseq'
> test-roxytest-tests-recipe-class.R: Also defined by 'tidytree'
> test-roxytest-tests-recipe-class.R: Found more than one class "phylo" in cache; using the first, from namespace 'phyloseq'
> test-roxytest-tests-recipe-class.R: Also defined by 'tidytree'
> test-roxytest-tests-recipe-class.R: Found more than one class "phylo" in cache; using the first, from namespace 'phyloseq'
> test-roxytest-tests-recipe-class.R: Also defined by 'tidytree'
> test-roxytest-tests-recipe-class.R: Found more than one class "phylo" in cache; using the first, from namespace 'phyloseq'
> test-roxytest-tests-recipe-class.R: Also defined by 'tidytree'
> test-roxytest-tests-recipe-class.R: Found more than one class "phylo" in cache; using the first, from namespace 'phyloseq'
> test-roxytest-tests-recipe-class.R: Also defined by 'tidytree'
> test-roxytest-tests-recipe-class.R: Found more than one class "phylo" in cache; using the first, from namespace 'phyloseq'
> test-roxytest-tests-recipe-class.R: Also defined by 'tidytree'
> test-roxytest-tests-recipe-class.R: Found more than one class "phylo" in cache; using the first, from namespace 'phyloseq'
> test-roxytest-tests-recipe-class.R: Also defined by 'tidytree'
> test-roxytest-tests-recipe-class.R: Found more than one class "phylo" in cache; using the first, from namespace 'phyloseq'
> test-roxytest-tests-recipe-class.R: Also defined by 'tidytree'
[ FAIL 0 | WARN 3 | SKIP 10 | PASS 97 ]

══ Skipped tests (10) ══════════════════════════════════════════════════════════
• On CRAN (9): 'test-roxytest-tests-bake.R:5:1',
  'test-roxytest-tests-maaslin2.R:5:1', 'test-roxytest-tests-lefse.R:5:1',
  'test-roxytest-tests-pkg_check.R:5:1', 'test-roxytest-tests-misc.R:71:1',
  'test-roxytest-tests-misc.R:97:1', 'test-roxytest-tests-misc.R:106:1',
  'test-roxytest-tests-read_data.R:11:1',
  'test-roxytest-tests-steps_and_checks.R:5:1'
• Temporary disabling due to problems with the ANCOM package (1):
  'test-roxytest-tests-ancom.R:6:3'

[ FAIL 0 | WARN 3 | SKIP 10 | PASS 97 ]
> 
> proc.time()
   user  system elapsed 
 61.072   3.350  90.898 

Example timings

dar.Rcheck/dar-Ex.timings

nameusersystemelapsed
abundance_plt1.0710.0221.231
add_tax0.0580.0020.062
add_var0.0590.0020.062
bake0.1670.0030.177
contains_rarefaction0.3650.0070.379
cool0.1000.0030.104
corr_heatmap1.8650.0512.047
exclusion_plt0.4100.0140.458
export_steps0.9890.0735.922
find_intersections0.0560.0010.058
get_comparisons0.0080.0010.010
get_phy0.0090.0010.011
get_tax0.0110.0010.013
get_var0.0120.0010.013
import_steps 0.926 0.03714.992
intersection_df0.0600.0040.075
intersection_plt0.8100.0080.917
mutual_plt0.8940.0071.035
otu_table0.1390.0010.163
overlap_df0.0860.0030.090
phy_qc0.3950.0060.424
prep 1.659 0.03417.004
rand_id000
read_data0.4790.0640.634
recipe0.6410.0157.696
required_deps0.0150.0040.020
sample_data0.0150.0010.016
step_aldex7.0590.8179.346
step_ancom000
step_corncob0.7250.0450.862
step_deseq2.2980.0422.581
step_filter_by_abundance0.0160.0020.019
step_filter_by_prevalence0.0160.0020.020
step_filter_by_rarity0.0160.0010.019
step_filter_by_variance0.0170.0010.020
step_filter_taxa0.0160.0010.023
step_lefse0.0270.0020.029
step_maaslin1.1060.0561.287
step_metagenomeseq1.1240.0234.035
step_rarefaction0.0190.0020.020
step_subset_taxa0.0170.0010.018
step_wilcox0.6160.0080.655
steps_ids0.0050.0010.006
tax_table0.0190.0010.020
tidyeval0.0050.0010.005
to_tibble0.1260.0020.140
use_rarefy0.0080.0010.009
zero_otu0.1430.0010.170