| Back to Multiple platform build/check report for BioC 3.22: simplified long |
|
This page was generated on 2025-10-25 12:03 -0400 (Sat, 25 Oct 2025).
| Hostname | OS | Arch (*) | R version | Installed pkgs |
|---|---|---|---|---|
| nebbiolo2 | Linux (Ubuntu 24.04.3 LTS) | x86_64 | 4.5.1 Patched (2025-08-23 r88802) -- "Great Square Root" | 4901 |
| lconway | macOS 12.7.6 Monterey | x86_64 | 4.5.1 Patched (2025-09-10 r88807) -- "Great Square Root" | 4691 |
| kjohnson3 | macOS 13.7.7 Ventura | arm64 | 4.5.1 Patched (2025-09-10 r88807) -- "Great Square Root" | 4637 |
| taishan | Linux (openEuler 24.03 LTS) | aarch64 | 4.5.0 (2025-04-11) -- "How About a Twenty-Six" | 4658 |
| Click on any hostname to see more info about the system (e.g. compilers) (*) as reported by 'uname -p', except on Windows and Mac OS X | ||||
| Package 524/2361 | Hostname | OS / Arch | INSTALL | BUILD | CHECK | BUILD BIN | ||||||||
| dar 1.5.2 (landing page) Francesc Catala-Moll
| nebbiolo2 | Linux (Ubuntu 24.04.3 LTS) / x86_64 | OK | OK | OK | |||||||||
| lconway | macOS 12.7.6 Monterey / x86_64 | OK | OK | OK | OK | |||||||||
| kjohnson3 | macOS 13.7.7 Ventura / arm64 | OK | OK | OK | OK | |||||||||
| taishan | Linux (openEuler 24.03 LTS) / aarch64 | OK | NA | NA | ||||||||||
|
To the developers/maintainers of the dar package: - Allow up to 24 hours (and sometimes 48 hours) for your latest push to git@git.bioconductor.org:packages/dar.git to reflect on this report. See Troubleshooting Build Report for more information. - Use the following Renviron settings to reproduce errors and warnings. - If 'R CMD check' started to fail recently on the Linux builder(s) over a missing dependency, add the missing dependency to 'Suggests:' in your DESCRIPTION file. See Renviron.bioc for more information. |
| Package: dar |
| Version: 1.5.2 |
| Command: /home/biocbuild/bbs-3.22-bioc/R/bin/R CMD check --install=check:dar.install-out.txt --library=/home/biocbuild/bbs-3.22-bioc/R/site-library --timings dar_1.5.2.tar.gz |
| StartedAt: 2025-10-24 22:49:06 -0400 (Fri, 24 Oct 2025) |
| EndedAt: 2025-10-24 23:03:37 -0400 (Fri, 24 Oct 2025) |
| EllapsedTime: 870.8 seconds |
| RetCode: 0 |
| Status: OK |
| CheckDir: dar.Rcheck |
| Warnings: 0 |
##############################################################################
##############################################################################
###
### Running command:
###
### /home/biocbuild/bbs-3.22-bioc/R/bin/R CMD check --install=check:dar.install-out.txt --library=/home/biocbuild/bbs-3.22-bioc/R/site-library --timings dar_1.5.2.tar.gz
###
##############################################################################
##############################################################################
* using log directory ‘/home/biocbuild/bbs-3.22-bioc/meat/dar.Rcheck’
* using R version 4.5.1 Patched (2025-08-23 r88802)
* using platform: x86_64-pc-linux-gnu
* R was compiled by
gcc (Ubuntu 13.3.0-6ubuntu2~24.04) 13.3.0
GNU Fortran (Ubuntu 13.3.0-6ubuntu2~24.04) 13.3.0
* running under: Ubuntu 24.04.3 LTS
* using session charset: UTF-8
* checking for file ‘dar/DESCRIPTION’ ... OK
* this is package ‘dar’ version ‘1.5.2’
* package encoding: UTF-8
* checking package namespace information ... OK
* checking package dependencies ... INFO
Imports includes 21 non-default packages.
Importing from so many packages makes the package vulnerable to any of
them becoming unavailable. Move as many as possible to Suggests and
use conditionally.
* checking if this is a source package ... OK
* checking if there is a namespace ... OK
* checking for hidden files and directories ... OK
* checking for portable file names ... OK
* checking for sufficient/correct file permissions ... OK
* checking whether package ‘dar’ can be installed ... OK
* checking installed package size ... OK
* checking package directory ... OK
* checking ‘build’ directory ... OK
* checking DESCRIPTION meta-information ... OK
* checking top-level files ... OK
* checking for left-over files ... OK
* checking index information ... OK
* checking package subdirectories ... OK
* checking code files for non-ASCII characters ... OK
* checking R files for syntax errors ... OK
* checking whether the package can be loaded ... OK
* checking whether the package can be loaded with stated dependencies ... OK
* checking whether the package can be unloaded cleanly ... OK
* checking whether the namespace can be loaded with stated dependencies ... OK
* checking whether the namespace can be unloaded cleanly ... OK
* checking loading without being on the library search path ... OK
* checking dependencies in R code ... OK
* checking S3 generic/method consistency ... OK
* checking replacement functions ... OK
* checking foreign function calls ... OK
* checking R code for possible problems ... OK
* checking Rd files ... OK
* checking Rd metadata ... OK
* checking Rd cross-references ... OK
* checking for missing documentation entries ... OK
* checking for code/documentation mismatches ... OK
* checking Rd \usage sections ... OK
* checking Rd contents ... OK
* checking for unstated dependencies in examples ... OK
* checking contents of ‘data’ directory ... OK
* checking data for non-ASCII characters ... OK
* checking data for ASCII and uncompressed saves ... OK
* checking R/sysdata.rda ... OK
* checking files in ‘vignettes’ ... OK
* checking examples ... OK
Examples with CPU (user + system) or elapsed time > 5s
user system elapsed
step_aldex 15.108 0.697 15.808
prep 6.187 0.617 40.937
step_deseq 5.828 0.076 5.905
import_steps 4.036 0.137 35.391
step_metagenomeseq 3.238 0.444 9.529
export_steps 2.958 0.244 12.979
recipe 2.507 0.420 17.619
* checking for unstated dependencies in ‘tests’ ... OK
* checking tests ...
Running ‘testthat.R’
OK
* checking for unstated dependencies in vignettes ... OK
* checking package vignettes ... OK
* checking re-building of vignette outputs ... OK
* checking PDF version of manual ... OK
* DONE
Status: OK
dar.Rcheck/00install.out
############################################################################## ############################################################################## ### ### Running command: ### ### /home/biocbuild/bbs-3.22-bioc/R/bin/R CMD INSTALL dar ### ############################################################################## ############################################################################## * installing to library ‘/home/biocbuild/bbs-3.22-bioc/R/site-library’ * installing *source* package ‘dar’ ... ** this is package ‘dar’ version ‘1.5.2’ ** using staged installation ** R ** data ** inst ** byte-compile and prepare package for lazy loading ** help *** installing help indices *** copying figures ** building package indices ** installing vignettes ** testing if installed package can be loaded from temporary location ** testing if installed package can be loaded from final location ** testing if installed package keeps a record of temporary installation path * DONE (dar)
dar.Rcheck/tests/testthat.Rout
R version 4.5.1 Patched (2025-08-23 r88802) -- "Great Square Root"
Copyright (C) 2025 The R Foundation for Statistical Computing
Platform: x86_64-pc-linux-gnu
R is free software and comes with ABSOLUTELY NO WARRANTY.
You are welcome to redistribute it under certain conditions.
Type 'license()' or 'licence()' for distribution details.
R is a collaborative project with many contributors.
Type 'contributors()' for more information and
'citation()' on how to cite R or R packages in publications.
Type 'demo()' for some demos, 'help()' for on-line help, or
'help.start()' for an HTML browser interface to help.
Type 'q()' to quit R.
> library(testthat)
> library(dar)
>
> test_check("dar")
Starting 2 test processes
[ FAIL 0 | WARN 3 | SKIP 10 | PASS 81 ]
══ Skipped tests (10) ══════════════════════════════════════════════════════════
• On CRAN (9): 'test-roxytest-tests-bake.R:18:3',
'test-roxytest-tests-lefse.R:15:3', 'test-roxytest-tests-maaslin2.R:16:3',
'test-roxytest-tests-pkg_check.R:6:3', 'test-roxytest-tests-misc.R:73:3',
'test-roxytest-tests-misc.R:101:3', 'test-roxytest-tests-misc.R:108:3',
'test-roxytest-tests-read_data.R:24:3',
'test-roxytest-tests-steps_and_checks.R:7:3'
• Temporary disabling due to problems with the ANCOM package (1):
'test-roxytest-tests-ancom.R:6:3'
[ FAIL 0 | WARN 3 | SKIP 10 | PASS 81 ]
>
> proc.time()
user system elapsed
210.451 11.294 250.361
dar.Rcheck/dar-Ex.timings
| name | user | system | elapsed | |
| abundance_plt | 2.774 | 0.069 | 2.843 | |
| add_tax | 0.156 | 0.000 | 0.157 | |
| add_var | 0.149 | 0.001 | 0.151 | |
| bake | 0.467 | 0.002 | 0.470 | |
| contains_rarefaction | 0.929 | 0.081 | 1.011 | |
| cool | 0.269 | 0.001 | 0.270 | |
| corr_heatmap | 4.620 | 0.145 | 4.767 | |
| exclusion_plt | 1.085 | 0.033 | 1.118 | |
| export_steps | 2.958 | 0.244 | 12.979 | |
| find_intersections | 0.171 | 0.002 | 0.174 | |
| get_comparisons | 0.021 | 0.001 | 0.022 | |
| get_phy | 0.021 | 0.000 | 0.021 | |
| get_tax | 0.027 | 0.000 | 0.027 | |
| get_var | 0.026 | 0.000 | 0.026 | |
| import_steps | 4.036 | 0.137 | 35.391 | |
| intersection_df | 0.147 | 0.000 | 0.146 | |
| intersection_plt | 2.140 | 0.062 | 2.202 | |
| mutual_plt | 2.589 | 0.103 | 2.693 | |
| otu_table | 0.385 | 0.022 | 0.408 | |
| overlap_df | 0.241 | 0.005 | 0.245 | |
| phy_qc | 1.108 | 0.070 | 1.178 | |
| prep | 6.187 | 0.617 | 40.937 | |
| rand_id | 0.000 | 0.000 | 0.001 | |
| read_data | 1.258 | 0.571 | 1.838 | |
| recipe | 2.507 | 0.420 | 17.619 | |
| required_deps | 0.037 | 0.002 | 0.039 | |
| sample_data | 0.032 | 0.001 | 0.034 | |
| step_aldex | 15.108 | 0.697 | 15.808 | |
| step_ancom | 0.000 | 0.000 | 0.001 | |
| step_corncob | 1.909 | 0.010 | 1.921 | |
| step_deseq | 5.828 | 0.076 | 5.905 | |
| step_filter_by_abundance | 0.039 | 0.001 | 0.039 | |
| step_filter_by_prevalence | 0.038 | 0.001 | 0.038 | |
| step_filter_by_rarity | 0.038 | 0.000 | 0.038 | |
| step_filter_by_variance | 0.04 | 0.00 | 0.04 | |
| step_filter_taxa | 0.039 | 0.000 | 0.039 | |
| step_lefse | 0.066 | 0.000 | 0.065 | |
| step_maaslin | 2.892 | 0.083 | 2.976 | |
| step_metagenomeseq | 3.238 | 0.444 | 9.529 | |
| step_rarefaction | 0.048 | 0.003 | 0.051 | |
| step_subset_taxa | 0.041 | 0.000 | 0.041 | |
| step_wilcox | 1.800 | 0.373 | 2.173 | |
| steps_ids | 0.012 | 0.000 | 0.012 | |
| tax_table | 0.050 | 0.006 | 0.056 | |
| tidyeval | 0.015 | 0.002 | 0.017 | |
| to_tibble | 0.404 | 0.055 | 0.460 | |
| use_rarefy | 0.016 | 0.000 | 0.016 | |
| zero_otu | 0.457 | 0.073 | 0.531 | |