| Back to Multiple platform build/check report for BioC 3.22: simplified long |
|
This page was generated on 2025-10-24 12:07 -0400 (Fri, 24 Oct 2025).
| Hostname | OS | Arch (*) | R version | Installed pkgs |
|---|---|---|---|---|
| nebbiolo2 | Linux (Ubuntu 24.04.3 LTS) | x86_64 | 4.5.1 Patched (2025-08-23 r88802) -- "Great Square Root" | 4898 |
| lconway | macOS 12.7.6 Monterey | x86_64 | 4.5.1 Patched (2025-09-10 r88807) -- "Great Square Root" | 4688 |
| kjohnson3 | macOS 13.7.7 Ventura | arm64 | 4.5.1 Patched (2025-09-10 r88807) -- "Great Square Root" | 4634 |
| taishan | Linux (openEuler 24.03 LTS) | aarch64 | 4.5.0 (2025-04-11) -- "How About a Twenty-Six" | 4658 |
| Click on any hostname to see more info about the system (e.g. compilers) (*) as reported by 'uname -p', except on Windows and Mac OS X | ||||
| Package 260/2359 | Hostname | OS / Arch | INSTALL | BUILD | CHECK | BUILD BIN | ||||||||
| BulkSignalR 1.1.5 (landing page) Jean-Philippe Villemin
| nebbiolo2 | Linux (Ubuntu 24.04.3 LTS) / x86_64 | OK | OK | ERROR | |||||||||
| lconway | macOS 12.7.6 Monterey / x86_64 | OK | OK | ERROR | OK | |||||||||
| kjohnson3 | macOS 13.7.7 Ventura / arm64 | OK | OK | ERROR | OK | |||||||||
| taishan | Linux (openEuler 24.03 LTS) / aarch64 | OK | OK | OK | ||||||||||
|
To the developers/maintainers of the BulkSignalR package: - Allow up to 24 hours (and sometimes 48 hours) for your latest push to git@git.bioconductor.org:packages/BulkSignalR.git to reflect on this report. See Troubleshooting Build Report for more information. - Use the following Renviron settings to reproduce errors and warnings. - If 'R CMD check' started to fail recently on the Linux builder(s) over a missing dependency, add the missing dependency to 'Suggests:' in your DESCRIPTION file. See Renviron.bioc for more information. - See Martin Grigorov's blog post for how to debug Linux ARM64 related issues on a x86_64 host. |
| Package: BulkSignalR |
| Version: 1.1.5 |
| Command: /home/biocbuild/R/R/bin/R CMD check --install=check:BulkSignalR.install-out.txt --library=/home/biocbuild/R/R/site-library --no-vignettes --timings BulkSignalR_1.1.5.tar.gz |
| StartedAt: 2025-10-21 06:05:46 -0000 (Tue, 21 Oct 2025) |
| EndedAt: 2025-10-21 06:16:21 -0000 (Tue, 21 Oct 2025) |
| EllapsedTime: 635.4 seconds |
| RetCode: 0 |
| Status: OK |
| CheckDir: BulkSignalR.Rcheck |
| Warnings: 0 |
##############################################################################
##############################################################################
###
### Running command:
###
### /home/biocbuild/R/R/bin/R CMD check --install=check:BulkSignalR.install-out.txt --library=/home/biocbuild/R/R/site-library --no-vignettes --timings BulkSignalR_1.1.5.tar.gz
###
##############################################################################
##############################################################################
* using log directory ‘/home/biocbuild/bbs-3.22-bioc/meat/BulkSignalR.Rcheck’
* using R version 4.5.0 (2025-04-11)
* using platform: aarch64-unknown-linux-gnu
* R was compiled by
aarch64-unknown-linux-gnu-gcc (GCC) 14.2.0
GNU Fortran (GCC) 14.2.0
* running under: openEuler 24.03 (LTS)
* using session charset: UTF-8
* using option ‘--no-vignettes’
* checking for file ‘BulkSignalR/DESCRIPTION’ ... OK
* checking extension type ... Package
* this is package ‘BulkSignalR’ version ‘1.1.5’
* package encoding: UTF-8
* checking package namespace information ... OK
* checking package dependencies ... INFO
Imports includes 26 non-default packages.
Importing from so many packages makes the package vulnerable to any of
them becoming unavailable. Move as many as possible to Suggests and
use conditionally.
* checking if this is a source package ... OK
* checking if there is a namespace ... OK
* checking for hidden files and directories ... OK
* checking for portable file names ... OK
* checking for sufficient/correct file permissions ... OK
* checking whether package ‘BulkSignalR’ can be installed ... OK
* checking installed package size ... OK
* checking package directory ... OK
* checking ‘build’ directory ... OK
* checking DESCRIPTION meta-information ... OK
* checking top-level files ... OK
* checking for left-over files ... OK
* checking index information ... OK
* checking package subdirectories ... OK
* checking code files for non-ASCII characters ... OK
* checking R files for syntax errors ... OK
* checking whether the package can be loaded ... OK
* checking whether the package can be loaded with stated dependencies ... OK
* checking whether the package can be unloaded cleanly ... OK
* checking whether the namespace can be loaded with stated dependencies ... OK
* checking whether the namespace can be unloaded cleanly ... OK
* checking loading without being on the library search path ... OK
* checking whether startup messages can be suppressed ... OK
* checking dependencies in R code ... NOTE
Error: .onLoad failed in loadNamespace() for 'BulkSignalR', details:
call: if (any(BiocFileCache::bfcneedsupdate(bfc, config = config))) {
error: missing value where TRUE/FALSE needed
Call sequence:
3: stop(gettextf("%s failed in %s() for '%s', details:\n call: %s\n error: %s",
hookname, "loadNamespace", pkgname, deparse(conditionCall(res))[1L],
conditionMessage(res)), call. = FALSE, domain = NA)
2: runHook(".onLoad", env, package.lib, package)
1: loadNamespace(package, lib.loc)
Execution halted
* checking S3 generic/method consistency ... OK
* checking replacement functions ... OK
* checking foreign function calls ... OK
* checking R code for possible problems ... OK
* checking Rd files ... OK
* checking Rd metadata ... OK
* checking Rd cross-references ... OK
* checking for missing documentation entries ... OK
* checking for code/documentation mismatches ... OK
* checking Rd \usage sections ... OK
* checking Rd contents ... OK
* checking for unstated dependencies in examples ... OK
* checking contents of ‘data’ directory ... OK
* checking data for non-ASCII characters ... OK
* checking data for ASCII and uncompressed saves ... OK
* checking files in ‘vignettes’ ... OK
* checking examples ... OK
Examples with CPU (user + system) or elapsed time > 5s
user system elapsed
simpleHeatmap 6.920 0.299 7.238
spatialAssociationPlot 5.616 0.064 5.698
cacheClear 4.124 0.227 43.257
* checking for unstated dependencies in ‘tests’ ... OK
* checking tests ...
Running ‘testthat.R’
OK
* checking for unstated dependencies in vignettes ... OK
* checking package vignettes ... OK
* checking running R code from vignettes ... SKIPPED
* checking re-building of vignette outputs ... SKIPPED
* checking PDF version of manual ... OK
* DONE
Status: 1 NOTE
See
‘/home/biocbuild/bbs-3.22-bioc/meat/BulkSignalR.Rcheck/00check.log’
for details.
BulkSignalR.Rcheck/00install.out
############################################################################## ############################################################################## ### ### Running command: ### ### /home/biocbuild/R/R/bin/R CMD INSTALL BulkSignalR ### ############################################################################## ############################################################################## * installing to library ‘/home/biocbuild/R/R-4.5.0/site-library’ * installing *source* package ‘BulkSignalR’ ... ** this is package ‘BulkSignalR’ version ‘1.1.5’ ** using staged installation ** R ** data ** inst ** byte-compile and prepare package for lazy loading ** help *** installing help indices *** copying figures ** building package indices ** installing vignettes ** testing if installed package can be loaded from temporary location ** testing if installed package can be loaded from final location ** testing if installed package keeps a record of temporary installation path * DONE (BulkSignalR)
BulkSignalR.Rcheck/tests/testthat.Rout
R version 4.5.0 (2025-04-11) -- "How About a Twenty-Six"
Copyright (C) 2025 The R Foundation for Statistical Computing
Platform: aarch64-unknown-linux-gnu
R is free software and comes with ABSOLUTELY NO WARRANTY.
You are welcome to redistribute it under certain conditions.
Type 'license()' or 'licence()' for distribution details.
R is a collaborative project with many contributors.
Type 'contributors()' for more information and
'citation()' on how to cite R or R packages in publications.
Type 'demo()' for some demos, 'help()' for on-line help, or
'help.start()' for an HTML browser interface to help.
Type 'q()' to quit R.
> library(testthat)
> library(BulkSignalR)
Local "resources" are up to date.
> test_check("BulkSignalR")
[ FAIL 0 | WARN 0 | SKIP 0 | PASS 1 ]
>
> proc.time()
user system elapsed
17.532 0.870 21.404
BulkSignalR.Rcheck/BulkSignalR-Ex.timings
| name | user | system | elapsed | |
| BSRClusterComp-class | 0.003 | 0.000 | 0.003 | |
| BSRClusterComp | 0.367 | 0.016 | 0.384 | |
| BSRDataModel-class | 0.043 | 0.004 | 0.046 | |
| BSRDataModel | 0.22 | 0.00 | 0.22 | |
| BSRDataModelComp-class | 0.007 | 0.000 | 0.007 | |
| BSRDataModelComp | 0.236 | 0.000 | 0.236 | |
| BSRInference-class | 0.006 | 0.000 | 0.006 | |
| BSRInference | 4.402 | 0.084 | 4.502 | |
| BSRInferenceComp-class | 0.01 | 0.00 | 0.01 | |
| BSRInferenceComp | 1.902 | 0.051 | 1.960 | |
| BSRSignature-class | 0.003 | 0.000 | 0.002 | |
| BSRSignature | 0.045 | 0.000 | 0.045 | |
| BSRSignatureComp-class | 0.004 | 0.000 | 0.005 | |
| BSRSignatureComp | 0.015 | 0.004 | 0.019 | |
| LRinter | 0.002 | 0.000 | 0.002 | |
| LRinterScore | 0.004 | 0.000 | 0.005 | |
| LRinterShort | 0.004 | 0.000 | 0.004 | |
| addClusterComp | 0.369 | 0.004 | 0.374 | |
| alluvialPlot | 0.817 | 0.004 | 0.824 | |
| assignCellTypesToInteractions | 0.973 | 0.004 | 0.983 | |
| bubblePlotPathwaysLR | 0.716 | 0.000 | 0.718 | |
| cacheClear | 4.124 | 0.227 | 43.257 | |
| cacheInfo | 0.165 | 0.012 | 0.177 | |
| cacheVersion | 0.406 | 0.036 | 1.190 | |
| cellTypeFrequency | 1.058 | 0.092 | 1.153 | |
| cellularNetwork | 0.952 | 0.067 | 1.022 | |
| cellularNetworkTable | 0.977 | 0.048 | 1.028 | |
| chordDiagramLR | 1.862 | 0.136 | 2.006 | |
| coerce | 0.002 | 0.000 | 0.002 | |
| colClusterA | 0.001 | 0.000 | 0.000 | |
| colClusterB | 0 | 0 | 0 | |
| comparison | 0 | 0 | 0 | |
| comparisonName | 0.001 | 0.000 | 0.000 | |
| convertToHuman | 0.259 | 0.008 | 2.715 | |
| createResources | 0.337 | 0.032 | 1.755 | |
| differentialStats | 0.002 | 0.000 | 0.001 | |
| findOrthoGenes | 0.163 | 0.003 | 1.316 | |
| generateSpatialPlots | 2.874 | 0.108 | 2.992 | |
| getLRIntracellNetwork | 2.795 | 0.028 | 2.833 | |
| getLRNetwork | 0.051 | 0.000 | 0.051 | |
| getPathwayStats | 0.021 | 0.000 | 0.022 | |
| getResource | 0.342 | 0.008 | 0.352 | |
| inferenceParameters | 0.000 | 0.000 | 0.001 | |
| initialOrganism | 0.001 | 0.001 | 0.002 | |
| initialOrthologs | 0.000 | 0.002 | 0.002 | |
| learnParameters | 3.919 | 0.076 | 4.010 | |
| ligands | 0.000 | 0.000 | 0.001 | |
| logTransformed | 0.002 | 0.000 | 0.002 | |
| maxLigandSpatialCounts | 0.075 | 0.000 | 0.074 | |
| mu | 0.001 | 0.000 | 0.000 | |
| ncounts | 0.002 | 0.000 | 0.002 | |
| normalization | 0.002 | 0.000 | 0.002 | |
| parameters | 0.002 | 0.000 | 0.002 | |
| pathways | 0 | 0 | 0 | |
| receptors | 0.000 | 0.000 | 0.001 | |
| reduceToBestPathway | 0.132 | 0.012 | 0.145 | |
| reduceToLigand | 0.064 | 0.000 | 0.064 | |
| reduceToPathway | 0.147 | 0.012 | 0.160 | |
| reduceToReceptor | 0.025 | 0.000 | 0.025 | |
| relateToGeneSet | 0.110 | 0.004 | 0.115 | |
| removeClusterComp | 0.413 | 0.000 | 0.415 | |
| rescoreInference | 0.031 | 0.008 | 0.038 | |
| resetLRdb | 0.035 | 0.000 | 0.036 | |
| resetNetwork | 0.01 | 0.00 | 0.01 | |
| resetPathways | 0.347 | 0.000 | 0.348 | |
| resetToInitialOrganism | 0.213 | 0.000 | 0.214 | |
| scoreLRGeneSignatures | 1.469 | 0.107 | 1.581 | |
| scoreSignatures | 0.428 | 0.008 | 0.437 | |
| separatedLRPlot | 2.607 | 0.015 | 2.631 | |
| signatureHeatmaps | 0.018 | 0.004 | 0.022 | |
| simpleHeatmap | 6.920 | 0.299 | 7.238 | |
| smoothSpatialCounts | 0.071 | 0.000 | 0.071 | |
| sourceComparisonName | 0 | 0 | 0 | |
| spatialAssociation | 0.055 | 0.004 | 0.058 | |
| spatialAssociationPlot | 5.616 | 0.064 | 5.698 | |
| spatialDiversityPlot | 1.406 | 0.032 | 1.443 | |
| spatialIndexPlot | 2.161 | 0.044 | 2.211 | |
| spatialPlot | 1.824 | 0.024 | 1.853 | |
| summarizedCellularNetwork | 0.919 | 0.040 | 0.960 | |
| tgCorr | 0 | 0 | 0 | |
| tgExpr | 0 | 0 | 0 | |
| tgGenes | 0 | 0 | 0 | |
| tgLogFC | 0.001 | 0.000 | 0.000 | |
| tgPval | 0 | 0 | 0 | |
| updateInference | 0.092 | 0.011 | 0.104 | |