| Back to Multiple platform build/check report for BioC 3.22: simplified long | 
 | 
This page was generated on 2025-10-21 12:07 -0400 (Tue, 21 Oct 2025).
| Hostname | OS | Arch (*) | R version | Installed pkgs | 
|---|---|---|---|---|
| nebbiolo2 | Linux (Ubuntu 24.04.3 LTS) | x86_64 | 4.5.1 Patched (2025-08-23 r88802) -- "Great Square Root" | 4887 | 
| lconway | macOS 12.7.6 Monterey | x86_64 | 4.5.1 Patched (2025-09-10 r88807) -- "Great Square Root" | 4677 | 
| kjohnson3 | macOS 13.7.7 Ventura | arm64 | 4.5.1 Patched (2025-09-10 r88807) -- "Great Square Root" | 4622 | 
| taishan | Linux (openEuler 24.03 LTS) | aarch64 | 4.5.0 (2025-04-11) -- "How About a Twenty-Six" | 4642 | 
| Click on any hostname to see more info about the system (e.g. compilers) (*) as reported by 'uname -p', except on Windows and Mac OS X | ||||
| Package 1694/2353 | Hostname | OS / Arch | INSTALL | BUILD | CHECK | BUILD BIN | ||||||||
| RAIDS 1.7.3  (landing page) Pascal Belleau 
 | nebbiolo2 | Linux (Ubuntu 24.04.3 LTS) / x86_64 | OK | OK | OK |  | ||||||||
| lconway | macOS 12.7.6 Monterey / x86_64 | OK | OK | OK | OK |  | ||||||||
| kjohnson3 | macOS 13.7.7 Ventura / arm64 | OK | OK | OK | OK |  | ||||||||
| taishan | Linux (openEuler 24.03 LTS) / aarch64 | OK | OK | OK | ||||||||||
| To the developers/maintainers of the RAIDS package: - Allow up to 24 hours (and sometimes 48 hours) for your latest push to git@git.bioconductor.org:packages/RAIDS.git to reflect on this report. See Troubleshooting Build Report for more information. - Use the following Renviron settings to reproduce errors and warnings. - If 'R CMD check' started to fail recently on the Linux builder(s) over a missing dependency, add the missing dependency to 'Suggests:' in your DESCRIPTION file. See Renviron.bioc for more information. - See Martin Grigorov's blog post for how to debug Linux ARM64 related issues on a x86_64 host. | 
| Package: RAIDS | 
| Version: 1.7.3 | 
| Command: /home/biocbuild/R/R/bin/R CMD check --install=check:RAIDS.install-out.txt --library=/home/biocbuild/R/R/site-library --no-vignettes --timings RAIDS_1.7.3.tar.gz | 
| StartedAt: 2025-10-17 12:34:04 -0000 (Fri, 17 Oct 2025) | 
| EndedAt: 2025-10-17 12:42:52 -0000 (Fri, 17 Oct 2025) | 
| EllapsedTime: 527.9 seconds | 
| RetCode: 0 | 
| Status: OK | 
| CheckDir: RAIDS.Rcheck | 
| Warnings: 0 | 
##############################################################################
##############################################################################
###
### Running command:
###
###   /home/biocbuild/R/R/bin/R CMD check --install=check:RAIDS.install-out.txt --library=/home/biocbuild/R/R/site-library --no-vignettes --timings RAIDS_1.7.3.tar.gz
###
##############################################################################
##############################################################################
* using log directory ‘/home/biocbuild/bbs-3.22-bioc/meat/RAIDS.Rcheck’
* using R version 4.5.0 (2025-04-11)
* using platform: aarch64-unknown-linux-gnu
* R was compiled by
    aarch64-unknown-linux-gnu-gcc (GCC) 14.2.0
    GNU Fortran (GCC) 14.2.0
* running under: openEuler 24.03 (LTS)
* using session charset: UTF-8
* using option ‘--no-vignettes’
* checking for file ‘RAIDS/DESCRIPTION’ ... OK
* checking extension type ... Package
* this is package ‘RAIDS’ version ‘1.7.3’
* package encoding: UTF-8
* checking package namespace information ... OK
* checking package dependencies ... OK
* checking if this is a source package ... OK
* checking if there is a namespace ... OK
* checking for hidden files and directories ... OK
* checking for portable file names ... OK
* checking for sufficient/correct file permissions ... OK
* checking whether package ‘RAIDS’ can be installed ... OK
* checking installed package size ... OK
* checking package directory ... OK
* checking ‘build’ directory ... OK
* checking DESCRIPTION meta-information ... OK
* checking top-level files ... OK
* checking for left-over files ... OK
* checking index information ... OK
* checking package subdirectories ... OK
* checking code files for non-ASCII characters ... OK
* checking R files for syntax errors ... OK
* checking whether the package can be loaded ... OK
* checking whether the package can be loaded with stated dependencies ... OK
* checking whether the package can be unloaded cleanly ... OK
* checking whether the namespace can be loaded with stated dependencies ... OK
* checking whether the namespace can be unloaded cleanly ... OK
* checking loading without being on the library search path ... OK
* checking dependencies in R code ... OK
* checking S3 generic/method consistency ... OK
* checking replacement functions ... OK
* checking foreign function calls ... OK
* checking R code for possible problems ... OK
* checking Rd files ... OK
* checking Rd metadata ... OK
* checking Rd cross-references ... OK
* checking for missing documentation entries ... OK
* checking for code/documentation mismatches ... OK
* checking Rd \usage sections ... NOTE
Documented arguments not in \usage in Rd file 'wrapperAncestry.Rd':
  ‘pathGeno’
Functions with \usage entries need to have the appropriate \alias
entries, and all their arguments documented.
The \usage entries must correspond to syntactically valid R code.
See chapter ‘Writing R documentation files’ in the ‘Writing R
Extensions’ manual.
* checking Rd contents ... OK
* checking for unstated dependencies in examples ... OK
* checking contents of ‘data’ directory ... OK
* checking data for non-ASCII characters ... OK
* checking data for ASCII and uncompressed saves ... OK
* checking files in ‘vignettes’ ... OK
* checking examples ... OK
Examples with CPU (user + system) or elapsed time > 5s
                                  user system elapsed
readSNVVCF                       9.168  0.106   9.297
computeAncestryFromSyntheticFile 8.099  0.088   8.208
selParaPCAUpQuartile             7.161  0.076   7.254
* checking for unstated dependencies in ‘tests’ ... OK
* checking tests ...
  Running ‘testthat.R’
 OK
* checking for unstated dependencies in vignettes ... OK
* checking package vignettes ... OK
* checking running R code from vignettes ... SKIPPED
* checking re-building of vignette outputs ... SKIPPED
* checking PDF version of manual ... OK
* DONE
Status: 1 NOTE
See
  ‘/home/biocbuild/bbs-3.22-bioc/meat/RAIDS.Rcheck/00check.log’
for details.
RAIDS.Rcheck/00install.out
############################################################################## ############################################################################## ### ### Running command: ### ### /home/biocbuild/R/R/bin/R CMD INSTALL RAIDS ### ############################################################################## ############################################################################## * installing to library ‘/home/biocbuild/R/R-4.5.0/site-library’ * installing *source* package ‘RAIDS’ ... ** this is package ‘RAIDS’ version ‘1.7.3’ ** using staged installation ** R ** data ** inst ** byte-compile and prepare package for lazy loading ** help *** installing help indices ** building package indices ** installing vignettes ** testing if installed package can be loaded from temporary location ** testing if installed package can be loaded from final location ** testing if installed package keeps a record of temporary installation path * DONE (RAIDS)
RAIDS.Rcheck/tests/testthat.Rout
R version 4.5.0 (2025-04-11) -- "How About a Twenty-Six"
Copyright (C) 2025 The R Foundation for Statistical Computing
Platform: aarch64-unknown-linux-gnu
R is free software and comes with ABSOLUTELY NO WARRANTY.
You are welcome to redistribute it under certain conditions.
Type 'license()' or 'licence()' for distribution details.
R is a collaborative project with many contributors.
Type 'contributors()' for more information and
'citation()' on how to cite R or R packages in publications.
Type 'demo()' for some demos, 'help()' for on-line help, or
'help.start()' for an HTML browser interface to help.
Type 'q()' to quit R.
> library(testthat)
> library(RAIDS)
Loading required package: gdsfmt
Loading required package: SNPRelate
Loading required package: GENESIS
Loading required package: dplyr
Attaching package: 'dplyr'
The following object is masked from 'package:testthat':
    matches
The following objects are masked from 'package:stats':
    filter, lag
The following objects are masked from 'package:base':
    intersect, setdiff, setequal, union
Loading required package: Rsamtools
Loading required package: Seqinfo
Loading required package: BiocGenerics
Loading required package: generics
Attaching package: 'generics'
The following object is masked from 'package:dplyr':
    explain
The following objects are masked from 'package:base':
    as.difftime, as.factor, as.ordered, intersect, is.element, setdiff,
    setequal, union
Attaching package: 'BiocGenerics'
The following object is masked from 'package:dplyr':
    combine
The following objects are masked from 'package:stats':
    IQR, mad, sd, var, xtabs
The following objects are masked from 'package:base':
    Filter, Find, Map, Position, Reduce, anyDuplicated, aperm, append,
    as.data.frame, basename, cbind, colnames, dirname, do.call,
    duplicated, eval, evalq, get, grep, grepl, is.unsorted, lapply,
    mapply, match, mget, order, paste, pmax, pmax.int, pmin, pmin.int,
    rank, rbind, rownames, sapply, saveRDS, table, tapply, unique,
    unsplit, which.max, which.min
Loading required package: GenomicRanges
Loading required package: stats4
Loading required package: S4Vectors
Attaching package: 'S4Vectors'
The following objects are masked from 'package:dplyr':
    first, rename
The following object is masked from 'package:utils':
    findMatches
The following objects are masked from 'package:base':
    I, expand.grid, unname
Loading required package: IRanges
Attaching package: 'IRanges'
The following objects are masked from 'package:dplyr':
    collapse, desc, slice
Loading required package: Biostrings
Loading required package: XVector
Attaching package: 'Biostrings'
The following object is masked from 'package:base':
    strsplit
> 
> ## Run all unit tests
> test_check("RAIDS")
Attaching package: 'Matrix'
The following object is masked from 'package:S4Vectors':
    expand
[ FAIL 0 | WARN 0 | SKIP 0 | PASS 478 ]
> 
> proc.time()
   user  system elapsed 
 46.636   2.235  49.007 
RAIDS.Rcheck/RAIDS-Ex.timings
| name | user | system | elapsed | |
| add1KG2SampleGDS | 0.071 | 0.036 | 0.135 | |
| addBlockFromDetFile | 0.004 | 0.000 | 0.007 | |
| addBlockInGDSAnnot | 0.006 | 0.000 | 0.011 | |
| addGDS1KGLDBlock | 0.002 | 0.000 | 0.002 | |
| addGDSRef | 0.004 | 0.000 | 0.006 | |
| addGDSStudyPruning | 0.001 | 0.000 | 0.003 | |
| addGeneBlockGDSRefAnnot | 0.998 | 0.072 | 1.101 | |
| addGeneBlockRefAnnot | 0.001 | 0.000 | 0.002 | |
| addRef2GDS1KG | 0.005 | 0.000 | 0.006 | |
| addStudy1Kg | 0.012 | 0.000 | 0.013 | |
| addStudyGDSSample | 0.009 | 0.000 | 0.010 | |
| addUpdateLap | 0.000 | 0.002 | 0.002 | |
| addUpdateSegment | 0.000 | 0.001 | 0.002 | |
| appendGDSRefSample | 0.008 | 0.000 | 0.009 | |
| appendGDSSampleOnly | 0.002 | 0.000 | 0.002 | |
| appendGDSgenotype | 0.02 | 0.00 | 0.03 | |
| appendGDSgenotypeMat | 0.001 | 0.000 | 0.002 | |
| calcAFMLRNA | 0.006 | 0.000 | 0.006 | |
| computeAlleleFraction | 0.003 | 0.000 | 0.003 | |
| computeAllelicFractionDNA | 0.192 | 0.008 | 0.205 | |
| computeAllelicFractionRNA | 0.350 | 0.004 | 0.359 | |
| computeAllelicImbDNAChr | 0.008 | 0.000 | 0.008 | |
| computeAncestryFromSynthetic | 1.006 | 0.000 | 1.011 | |
| computeAncestryFromSyntheticFile | 8.099 | 0.088 | 8.208 | |
| computeKNNRefSample | 0.024 | 0.000 | 0.024 | |
| computeKNNRefSynthetic | 3.103 | 0.028 | 3.140 | |
| computeLOHBlocksDNAChr | 0.012 | 0.000 | 0.012 | |
| computePCAMultiSynthetic | 0.01 | 0.00 | 0.01 | |
| computePCARefRMMulti | 0.694 | 0.008 | 0.703 | |
| computePCARefSample | 0.721 | 0.000 | 0.723 | |
| computePoolSyntheticAncestryGr | 1.156 | 0.008 | 1.166 | |
| computeSyntheticConfMat | 0.017 | 0.000 | 0.017 | |
| computeSyntheticROC | 0.050 | 0.004 | 0.054 | |
| createAUROCGraph | 1.281 | 0.004 | 1.289 | |
| createAccuracyGraph | 1.243 | 0.000 | 1.247 | |
| createProfile | 0.067 | 0.000 | 0.070 | |
| createStudy2GDS1KG | 0.065 | 0.000 | 0.065 | |
| demoKnownSuperPop1KG | 2.138 | 0.000 | 2.143 | |
| demoPCA1KG | 0.008 | 0.000 | 0.008 | |
| demoPCASyntheticProfiles | 2.156 | 0.008 | 2.169 | |
| demoPedigreeEx1 | 0.023 | 0.000 | 0.023 | |
| estimateAllelicFraction | 0.122 | 0.000 | 0.123 | |
| extractNucleotide | 0.001 | 0.000 | 0.000 | |
| generateGDS1KG | 0.018 | 0.000 | 0.019 | |
| generateGDS1KGgenotypeFromSNPPileup | 0.055 | 0.000 | 0.059 | |
| generateGDSRefSample | 0.005 | 0.000 | 0.006 | |
| generateGDSSNPinfo | 0.005 | 0.000 | 0.006 | |
| generateGDSgenotype | 0.013 | 0.004 | 0.018 | |
| generateGeneBlock | 0.001 | 0.000 | 0.002 | |
| generateMapSnvSel | 0.004 | 0.000 | 0.004 | |
| generatePhase1KG2GDS | 0.018 | 0.000 | 0.020 | |
| generatePhaseRef | 0.018 | 0.000 | 0.018 | |
| generateProfileGDS | 0.056 | 0.000 | 0.056 | |
| getBlockIDs | 0.002 | 0.000 | 0.003 | |
| getRef1KGPop | 0.004 | 0.000 | 0.005 | |
| getRefSuperPop | 0.003 | 0.000 | 0.003 | |
| getTableSNV | 0.016 | 0.000 | 0.016 | |
| groupChr1KGSNV | 0.052 | 0.018 | 0.074 | |
| identifyRelative | 0.009 | 0.001 | 0.010 | |
| identifyRelativeRef | 0.008 | 0.000 | 0.007 | |
| inferAncestry | 0.020 | 0.000 | 0.019 | |
| inferAncestryDNA | 0.02 | 0.00 | 0.02 | |
| inferAncestryGeneAware | 0.019 | 0.000 | 0.019 | |
| matKNNSynthetic | 0.053 | 0.000 | 0.054 | |
| pedSynthetic | 0.051 | 0.004 | 0.055 | |
| prepPed1KG | 0.002 | 0.004 | 0.007 | |
| prepPedSynthetic1KG | 0.007 | 0.000 | 0.008 | |
| prepSynthetic | 0.016 | 0.000 | 0.016 | |
| processBlockChr | 0.004 | 0.000 | 0.004 | |
| processPileupChrBin | 2.962 | 0.056 | 3.024 | |
| profileAncestry | 0.024 | 0.000 | 0.024 | |
| pruning1KGbyChr | 0.005 | 0.000 | 0.004 | |
| pruningSample | 0.049 | 0.008 | 0.057 | |
| readSNVBAM | 4.908 | 0.020 | 4.940 | |
| readSNVFileGeneric | 0.005 | 0.000 | 0.005 | |
| readSNVPileupFile | 0.041 | 0.000 | 0.042 | |
| readSNVVCF | 9.168 | 0.106 | 9.297 | |
| runExomeAncestry | 0.024 | 0.001 | 0.025 | |
| runIBDKING | 0.056 | 0.000 | 0.056 | |
| runLDPruning | 0.030 | 0.004 | 0.037 | |
| runProfileAncestry | 0.023 | 0.004 | 0.027 | |
| runRNAAncestry | 0.026 | 0.000 | 0.026 | |
| runWrapperAncestry | 0.026 | 0.000 | 0.026 | |
| selParaPCAUpQuartile | 7.161 | 0.076 | 7.254 | |
| select1KGPop | 0.007 | 0.000 | 0.006 | |
| select1KGPopForSynthetic | 0.007 | 0.000 | 0.007 | |
| snpPositionDemo | 0.004 | 0.000 | 0.004 | |
| snvListVCF | 0.001 | 0.004 | 0.004 | |
| splitSelectByPop | 0.001 | 0.000 | 0.001 | |
| syntheticGeno | 0.041 | 0.000 | 0.041 | |
| tableBlockAF | 0.033 | 0.000 | 0.032 | |
| testAlleleFractionChange | 0.002 | 0.000 | 0.002 | |
| testEmptyBox | 0.002 | 0.000 | 0.002 | |
| validateAccuracyGraphInternal | 0 | 0 | 0 | |
| validateAdd1KG2SampleGDS | 0.002 | 0.000 | 0.002 | |
| validateAddStudy1Kg | 0.002 | 0.000 | 0.002 | |
| validateCharacterString | 0 | 0 | 0 | |
| validateComputeAncestryFromSyntheticFile | 0.002 | 0.000 | 0.002 | |
| validateComputeKNNRefSample | 0.005 | 0.000 | 0.004 | |
| validateComputeKNNRefSynthetic | 0.006 | 0.000 | 0.006 | |
| validateComputePCAMultiSynthetic | 0.004 | 0.000 | 0.005 | |
| validateComputePCARefSample | 0.002 | 0.000 | 0.001 | |
| validateComputePoolSyntheticAncestryGr | 0.002 | 0.000 | 0.001 | |
| validateComputeSyntheticRoc | 0.014 | 0.000 | 0.013 | |
| validateCreateAccuracyGraph | 0.001 | 0.000 | 0.002 | |
| validateCreateStudy2GDS1KG | 0.002 | 0.000 | 0.003 | |
| validateDataRefSynParameter | 0.001 | 0.000 | 0.001 | |
| validateEstimateAllelicFraction | 0.004 | 0.000 | 0.004 | |
| validateGDSClass | 0.001 | 0.000 | 0.001 | |
| validateGenerateGDS1KG | 0.000 | 0.001 | 0.001 | |
| validateLogical | 0 | 0 | 0 | |
| validatePEDStudyParameter | 0.001 | 0.001 | 0.001 | |
| validatePepSynthetic | 0.002 | 0.000 | 0.001 | |
| validatePositiveIntegerVector | 0 | 0 | 0 | |
| validatePrepPed1KG | 0.001 | 0.000 | 0.001 | |
| validateProfileGDSExist | 0.001 | 0.000 | 0.001 | |
| validatePruningSample | 0.002 | 0.000 | 0.002 | |
| validateRunExomeOrRNAAncestry | 0.005 | 0.000 | 0.006 | |
| validateSingleRatio | 0.000 | 0.000 | 0.001 | |
| validateStudyDataFrameParameter | 0.000 | 0.000 | 0.001 | |
| validateSyntheticGeno | 0.002 | 0.000 | 0.003 | |
| validatecreateAUROCGraph | 0.002 | 0.000 | 0.001 | |
| validatecreateProfile | 0.001 | 0.002 | 0.003 | |
| wrapperAncestry | 0.051 | 0.006 | 0.057 | |