Back to Multiple platform build/check report for BioC 3.22:   simplified   long
ABCDEFGHIJKLMNOPQ[R]STUVWXYZ

This page was generated on 2025-11-24 12:05 -0500 (Mon, 24 Nov 2025).

HostnameOSArch (*)R versionInstalled pkgs
nebbiolo2Linux (Ubuntu 24.04.3 LTS)x86_644.5.2 (2025-10-31) -- "[Not] Part in a Rumble" 4873
merida1macOS 12.7.6 Montereyx86_644.5.2 Patched (2025-11-05 r88990) -- "[Not] Part in a Rumble" 4654
kjohnson1macOS 13.7.5 Venturaarm644.5.2 Patched (2025-11-04 r88984) -- "[Not] Part in a Rumble" 4600
taishanLinux (openEuler 24.03 LTS)aarch644.5.0 (2025-04-11) -- "How About a Twenty-Six" 4668
Click on any hostname to see more info about the system (e.g. compilers)      (*) as reported by 'uname -p', except on Windows and Mac OS X

Package 1702/2361HostnameOS / ArchINSTALLBUILDCHECKBUILD BIN
RAIDS 1.8.0  (landing page)
Pascal Belleau
Snapshot Date: 2025-11-20 15:01 -0500 (Thu, 20 Nov 2025)
git_url: https://git.bioconductor.org/packages/RAIDS
git_branch: RELEASE_3_22
git_last_commit: 4c9a678
git_last_commit_date: 2025-10-29 11:25:36 -0500 (Wed, 29 Oct 2025)
nebbiolo2Linux (Ubuntu 24.04.3 LTS) / x86_64  OK    OK    OK  UNNEEDED, same version is already published
merida1macOS 12.7.6 Monterey / x86_64  OK    OK    OK    OK  UNNEEDED, same version is already published
kjohnson1macOS 13.7.5 Ventura / arm64  OK    OK    OK    OK  UNNEEDED, same version is already published
taishanLinux (openEuler 24.03 LTS) / aarch64  OK    OK    OK  


CHECK results for RAIDS on merida1

To the developers/maintainers of the RAIDS package:
- Allow up to 24 hours (and sometimes 48 hours) for your latest push to git@git.bioconductor.org:packages/RAIDS.git to reflect on this report. See Troubleshooting Build Report for more information.
- Use the following Renviron settings to reproduce errors and warnings.
- If 'R CMD check' started to fail recently on the Linux builder(s) over a missing dependency, add the missing dependency to 'Suggests:' in your DESCRIPTION file. See Renviron.bioc for more information.

raw results


Summary

Package: RAIDS
Version: 1.8.0
Command: /Library/Frameworks/R.framework/Resources/bin/R CMD check --install=check:RAIDS.install-out.txt --library=/Library/Frameworks/R.framework/Resources/library --no-vignettes --timings RAIDS_1.8.0.tar.gz
StartedAt: 2025-11-21 10:07:22 -0500 (Fri, 21 Nov 2025)
EndedAt: 2025-11-21 10:22:07 -0500 (Fri, 21 Nov 2025)
EllapsedTime: 884.6 seconds
RetCode: 0
Status:   OK  
CheckDir: RAIDS.Rcheck
Warnings: 0

Command output

##############################################################################
##############################################################################
###
### Running command:
###
###   /Library/Frameworks/R.framework/Resources/bin/R CMD check --install=check:RAIDS.install-out.txt --library=/Library/Frameworks/R.framework/Resources/library --no-vignettes --timings RAIDS_1.8.0.tar.gz
###
##############################################################################
##############################################################################


* using log directory ‘/Users/biocbuild/bbs-3.22-bioc/meat/RAIDS.Rcheck’
* using R version 4.5.2 Patched (2025-11-05 r88990)
* using platform: x86_64-apple-darwin20
* R was compiled by
    Apple clang version 14.0.0 (clang-1400.0.29.202)
    GNU Fortran (GCC) 14.2.0
* running under: macOS Monterey 12.7.6
* using session charset: UTF-8
* using option ‘--no-vignettes’
* checking for file ‘RAIDS/DESCRIPTION’ ... OK
* checking extension type ... Package
* this is package ‘RAIDS’ version ‘1.8.0’
* package encoding: UTF-8
* checking package namespace information ... OK
* checking package dependencies ... OK
* checking if this is a source package ... OK
* checking if there is a namespace ... OK
* checking for hidden files and directories ... OK
* checking for portable file names ... OK
* checking for sufficient/correct file permissions ... OK
* checking whether package ‘RAIDS’ can be installed ... OK
* checking installed package size ... OK
* checking package directory ... OK
* checking ‘build’ directory ... OK
* checking DESCRIPTION meta-information ... OK
* checking top-level files ... OK
* checking for left-over files ... OK
* checking index information ... OK
* checking package subdirectories ... OK
* checking code files for non-ASCII characters ... OK
* checking R files for syntax errors ... OK
* checking whether the package can be loaded ... OK
* checking whether the package can be loaded with stated dependencies ... OK
* checking whether the package can be unloaded cleanly ... OK
* checking whether the namespace can be loaded with stated dependencies ... OK
* checking whether the namespace can be unloaded cleanly ... OK
* checking dependencies in R code ... OK
* checking S3 generic/method consistency ... OK
* checking replacement functions ... OK
* checking foreign function calls ... OK
* checking R code for possible problems ... OK
* checking Rd files ... OK
* checking Rd metadata ... OK
* checking Rd cross-references ... OK
* checking for missing documentation entries ... OK
* checking for code/documentation mismatches ... OK
* checking Rd \usage sections ... NOTE
Documented arguments not in \usage in Rd file 'wrapperAncestry.Rd':
  ‘pathGeno’

Functions with \usage entries need to have the appropriate \alias
entries, and all their arguments documented.
The \usage entries must correspond to syntactically valid R code.
See chapter ‘Writing R documentation files’ in the ‘Writing R
Extensions’ manual.
* checking Rd contents ... OK
* checking for unstated dependencies in examples ... OK
* checking contents of ‘data’ directory ... OK
* checking data for non-ASCII characters ... OK
* checking data for ASCII and uncompressed saves ... OK
* checking files in ‘vignettes’ ... OK
* checking examples ... OK
Examples with CPU (user + system) or elapsed time > 5s
                                   user system elapsed
computeAncestryFromSyntheticFile 14.782  0.565  15.755
readSNVVCF                       14.719  0.089  14.921
selParaPCAUpQuartile             12.763  0.063  13.099
readSNVBAM                        6.112  0.023   6.454
* checking for unstated dependencies in ‘tests’ ... OK
* checking tests ...
  Running ‘testthat.R’
 OK
* checking for unstated dependencies in vignettes ... OK
* checking package vignettes ... OK
* checking running R code from vignettes ... SKIPPED
* checking re-building of vignette outputs ... SKIPPED
* checking PDF version of manual ... OK
* DONE

Status: 1 NOTE
See
  ‘/Users/biocbuild/bbs-3.22-bioc/meat/RAIDS.Rcheck/00check.log’
for details.


Installation output

RAIDS.Rcheck/00install.out

##############################################################################
##############################################################################
###
### Running command:
###
###   /Library/Frameworks/R.framework/Resources/bin/R CMD INSTALL RAIDS
###
##############################################################################
##############################################################################


* installing to library ‘/Library/Frameworks/R.framework/Versions/4.5-x86_64/Resources/library’
* installing *source* package ‘RAIDS’ ...
** this is package ‘RAIDS’ version ‘1.8.0’
** using staged installation
** R
** data
** inst
** byte-compile and prepare package for lazy loading
** help
*** installing help indices
** building package indices
** installing vignettes
** testing if installed package can be loaded from temporary location
** testing if installed package can be loaded from final location
** testing if installed package keeps a record of temporary installation path
* DONE (RAIDS)

Tests output

RAIDS.Rcheck/tests/testthat.Rout


R version 4.5.2 Patched (2025-11-05 r88990) -- "[Not] Part in a Rumble"
Copyright (C) 2025 The R Foundation for Statistical Computing
Platform: x86_64-apple-darwin20

R is free software and comes with ABSOLUTELY NO WARRANTY.
You are welcome to redistribute it under certain conditions.
Type 'license()' or 'licence()' for distribution details.

R is a collaborative project with many contributors.
Type 'contributors()' for more information and
'citation()' on how to cite R or R packages in publications.

Type 'demo()' for some demos, 'help()' for on-line help, or
'help.start()' for an HTML browser interface to help.
Type 'q()' to quit R.

> library(testthat)
> library(RAIDS)
Loading required package: gdsfmt
Loading required package: SNPRelate
SNPRelate -- supported by Streaming SIMD Extensions 2 (SSE2)
Loading required package: GENESIS
Loading required package: dplyr

Attaching package: 'dplyr'

The following objects are masked from 'package:stats':

    filter, lag

The following objects are masked from 'package:base':

    intersect, setdiff, setequal, union

Loading required package: Rsamtools
Loading required package: Seqinfo
Loading required package: BiocGenerics
Loading required package: generics

Attaching package: 'generics'

The following object is masked from 'package:dplyr':

    explain

The following objects are masked from 'package:base':

    as.difftime, as.factor, as.ordered, intersect, is.element, setdiff,
    setequal, union


Attaching package: 'BiocGenerics'

The following object is masked from 'package:dplyr':

    combine

The following objects are masked from 'package:stats':

    IQR, mad, sd, var, xtabs

The following objects are masked from 'package:base':

    Filter, Find, Map, Position, Reduce, anyDuplicated, aperm, append,
    as.data.frame, basename, cbind, colnames, dirname, do.call,
    duplicated, eval, evalq, get, grep, grepl, is.unsorted, lapply,
    mapply, match, mget, order, paste, pmax, pmax.int, pmin, pmin.int,
    rank, rbind, rownames, sapply, saveRDS, table, tapply, unique,
    unsplit, which.max, which.min

Loading required package: GenomicRanges
Loading required package: stats4
Loading required package: S4Vectors

Attaching package: 'S4Vectors'

The following objects are masked from 'package:dplyr':

    first, rename

The following object is masked from 'package:utils':

    findMatches

The following objects are masked from 'package:base':

    I, expand.grid, unname

Loading required package: IRanges

Attaching package: 'IRanges'

The following objects are masked from 'package:dplyr':

    collapse, desc, slice

Loading required package: Biostrings
Loading required package: XVector

Attaching package: 'Biostrings'

The following object is masked from 'package:base':

    strsplit

> 
> ## Run all unit tests
> test_check("RAIDS")

Attaching package: 'Matrix'

The following object is masked from 'package:S4Vectors':

    expand

[ FAIL 0 | WARN 0 | SKIP 0 | PASS 478 ]
> 
> proc.time()
   user  system elapsed 
 72.163   3.748  78.263 

Example timings

RAIDS.Rcheck/RAIDS-Ex.timings

nameusersystemelapsed
add1KG2SampleGDS0.1430.0430.206
addBlockFromDetFile0.0040.0060.012
addBlockInGDSAnnot0.0080.0070.017
addGDS1KGLDBlock0.0030.0040.007
addGDSRef0.0050.0040.010
addGDSStudyPruning0.0020.0030.005
addGeneBlockGDSRefAnnot1.6990.2101.980
addGeneBlockRefAnnot0.0030.0050.008
addRef2GDS1KG0.0080.0070.017
addStudy1Kg0.0220.0140.039
addStudyGDSSample0.0160.0070.025
addUpdateLap0.0020.0030.006
addUpdateSegment0.0020.0030.006
appendGDSRefSample0.0140.0070.022
appendGDSSampleOnly0.0020.0040.006
appendGDSgenotype0.0310.0190.054
appendGDSgenotypeMat0.0020.0030.007
calcAFMLRNA0.0090.0070.016
computeAlleleFraction0.0060.0020.007
computeAllelicFractionDNA0.3310.0170.350
computeAllelicFractionRNA0.6380.0220.667
computeAllelicImbDNAChr0.0160.0040.020
computeAncestryFromSynthetic0.0340.0130.049
computeAncestryFromSyntheticFile14.782 0.56515.755
computeKNNRefSample0.0680.0190.086
computeKNNRefSynthetic4.6640.2034.881
computeLOHBlocksDNAChr0.0230.0030.027
computePCAMultiSynthetic0.0140.0110.025
computePCARefRMMulti0.3210.0140.337
computePCARefSample0.3850.0060.391
computePoolSyntheticAncestryGr1.0080.0271.037
computeSyntheticConfMat0.0310.0130.046
computeSyntheticROC0.1300.0210.151
createAUROCGraph2.0760.0442.151
createAccuracyGraph2.0920.0172.128
createProfile0.1040.0200.128
createStudy2GDS1KG0.1090.0160.130
demoKnownSuperPop1KG3.4600.0733.543
demoPCA1KG0.0130.0120.025
demoPCASyntheticProfiles3.4570.0803.547
demoPedigreeEx10.0390.0100.049
estimateAllelicFraction0.2180.0100.228
extractNucleotide0.0010.0010.002
generateGDS1KG0.0270.0160.046
generateGDS1KGgenotypeFromSNPPileup0.0990.0190.122
generateGDSRefSample0.0090.0070.016
generateGDSSNPinfo0.0080.0070.015
generateGDSgenotype0.0280.0160.046
generateGeneBlock0.0020.0020.005
generateMapSnvSel0.0050.0030.009
generatePhase1KG2GDS0.0280.0200.050
generatePhaseRef0.0250.0150.042
generateProfileGDS0.1030.0190.124
getBlockIDs0.0040.0020.007
getRef1KGPop0.0060.0030.008
getRefSuperPop0.0040.0020.006
getTableSNV0.0260.0080.034
groupChr1KGSNV0.1070.1300.242
identifyRelative0.0170.0070.023
identifyRelativeRef0.0120.0050.018
inferAncestry0.0330.0040.038
inferAncestryDNA0.0320.0030.036
inferAncestryGeneAware0.0330.0030.036
matKNNSynthetic0.0900.0160.107
pedSynthetic0.0960.0180.115
prepPed1KG0.0090.0030.013
prepPedSynthetic1KG0.0110.0030.015
prepSynthetic0.0240.0080.033
processBlockChr0.0060.0030.008
processPileupChrBin3.6970.0783.784
profileAncestry0.0440.0110.055
pruning1KGbyChr0.0070.0030.010
pruningSample0.0810.0160.097
readSNVBAM6.1120.0236.454
readSNVFileGeneric0.0070.0030.011
readSNVPileupFile0.0820.0030.085
readSNVVCF14.719 0.08914.921
runExomeAncestry0.0410.0100.052
runIBDKING0.0660.0070.074
runLDPruning0.0400.0150.056
runProfileAncestry0.0460.0120.057
runRNAAncestry0.0410.0100.050
runWrapperAncestry0.0370.0090.046
selParaPCAUpQuartile12.763 0.06313.099
select1KGPop0.0100.0030.015
select1KGPopForSynthetic0.0110.0030.015
snpPositionDemo0.0060.0080.013
snvListVCF0.0060.0050.013
splitSelectByPop0.0030.0010.004
syntheticGeno0.0650.0120.086
tableBlockAF0.0550.0080.068
testAlleleFractionChange0.0030.0010.004
testEmptyBox0.0030.0010.006
validateAccuracyGraphInternal0.0000.0010.001
validateAdd1KG2SampleGDS0.0030.0020.005
validateAddStudy1Kg0.0030.0020.006
validateCharacterString0.0010.0000.000
validateComputeAncestryFromSyntheticFile0.0030.0030.007
validateComputeKNNRefSample0.0070.0130.022
validateComputeKNNRefSynthetic0.0090.0150.024
validateComputePCAMultiSynthetic0.0060.0080.014
validateComputePCARefSample0.0020.0010.004
validateComputePoolSyntheticAncestryGr0.0030.0020.006
validateComputeSyntheticRoc0.0260.0140.042
validateCreateAccuracyGraph0.0020.0010.004
validateCreateStudy2GDS1KG0.0050.0020.007
validateDataRefSynParameter0.0020.0000.002
validateEstimateAllelicFraction0.0070.0030.011
validateGDSClass0.0020.0020.003
validateGenerateGDS1KG0.0020.0020.004
validateLogical0.0010.0000.000
validatePEDStudyParameter0.0010.0000.003
validatePepSynthetic0.0030.0010.004
validatePositiveIntegerVector0.0000.0010.001
validatePrepPed1KG0.0020.0020.003
validateProfileGDSExist0.0010.0020.003
validatePruningSample0.0030.0020.005
validateRunExomeOrRNAAncestry0.0100.0030.015
validateSingleRatio0.0000.0000.001
validateStudyDataFrameParameter0.0020.0010.002
validateSyntheticGeno0.0030.0020.006
validatecreateAUROCGraph0.0030.0010.005
validatecreateProfile0.0050.0020.007
wrapperAncestry0.0410.0110.055