| Back to Multiple platform build/check report for BioC 3.22: simplified long |
|
This page was generated on 2025-10-21 12:07 -0400 (Tue, 21 Oct 2025).
| Hostname | OS | Arch (*) | R version | Installed pkgs |
|---|---|---|---|---|
| nebbiolo2 | Linux (Ubuntu 24.04.3 LTS) | x86_64 | 4.5.1 Patched (2025-08-23 r88802) -- "Great Square Root" | 4887 |
| lconway | macOS 12.7.6 Monterey | x86_64 | 4.5.1 Patched (2025-09-10 r88807) -- "Great Square Root" | 4677 |
| kjohnson3 | macOS 13.7.7 Ventura | arm64 | 4.5.1 Patched (2025-09-10 r88807) -- "Great Square Root" | 4622 |
| taishan | Linux (openEuler 24.03 LTS) | aarch64 | 4.5.0 (2025-04-11) -- "How About a Twenty-Six" | 4642 |
| Click on any hostname to see more info about the system (e.g. compilers) (*) as reported by 'uname -p', except on Windows and Mac OS X | ||||
| Package 1394/2353 | Hostname | OS / Arch | INSTALL | BUILD | CHECK | BUILD BIN | ||||||||
| MSstatsLiP 1.15.3 (landing page) Anthony Wu
| nebbiolo2 | Linux (Ubuntu 24.04.3 LTS) / x86_64 | OK | OK | OK | |||||||||
| lconway | macOS 12.7.6 Monterey / x86_64 | OK | OK | OK | OK | |||||||||
| kjohnson3 | macOS 13.7.7 Ventura / arm64 | OK | OK | OK | OK | |||||||||
| taishan | Linux (openEuler 24.03 LTS) / aarch64 | OK | OK | OK | ||||||||||
|
To the developers/maintainers of the MSstatsLiP package: - Allow up to 24 hours (and sometimes 48 hours) for your latest push to git@git.bioconductor.org:packages/MSstatsLiP.git to reflect on this report. See Troubleshooting Build Report for more information. - Use the following Renviron settings to reproduce errors and warnings. - If 'R CMD check' started to fail recently on the Linux builder(s) over a missing dependency, add the missing dependency to 'Suggests:' in your DESCRIPTION file. See Renviron.bioc for more information. - See Martin Grigorov's blog post for how to debug Linux ARM64 related issues on a x86_64 host. |
| Package: MSstatsLiP |
| Version: 1.15.3 |
| Command: /home/biocbuild/R/R/bin/R CMD check --install=check:MSstatsLiP.install-out.txt --library=/home/biocbuild/R/R/site-library --no-vignettes --timings MSstatsLiP_1.15.3.tar.gz |
| StartedAt: 2025-10-17 11:27:37 -0000 (Fri, 17 Oct 2025) |
| EndedAt: 2025-10-17 11:32:50 -0000 (Fri, 17 Oct 2025) |
| EllapsedTime: 313.2 seconds |
| RetCode: 0 |
| Status: OK |
| CheckDir: MSstatsLiP.Rcheck |
| Warnings: 0 |
##############################################################################
##############################################################################
###
### Running command:
###
### /home/biocbuild/R/R/bin/R CMD check --install=check:MSstatsLiP.install-out.txt --library=/home/biocbuild/R/R/site-library --no-vignettes --timings MSstatsLiP_1.15.3.tar.gz
###
##############################################################################
##############################################################################
* using log directory ‘/home/biocbuild/bbs-3.22-bioc/meat/MSstatsLiP.Rcheck’
* using R version 4.5.0 (2025-04-11)
* using platform: aarch64-unknown-linux-gnu
* R was compiled by
aarch64-unknown-linux-gnu-gcc (GCC) 14.2.0
GNU Fortran (GCC) 14.2.0
* running under: openEuler 24.03 (LTS)
* using session charset: UTF-8
* using option ‘--no-vignettes’
* checking for file ‘MSstatsLiP/DESCRIPTION’ ... OK
* checking extension type ... Package
* this is package ‘MSstatsLiP’ version ‘1.15.3’
* package encoding: UTF-8
* checking package namespace information ... OK
* checking package dependencies ... OK
* checking if this is a source package ... OK
* checking if there is a namespace ... OK
* checking for hidden files and directories ... OK
* checking for portable file names ... OK
* checking for sufficient/correct file permissions ... OK
* checking whether package ‘MSstatsLiP’ can be installed ... OK
* used C++ compiler: ‘aarch64-unknown-linux-gnu-g++ (GCC) 14.2.0’
* checking installed package size ... OK
* checking package directory ... OK
* checking ‘build’ directory ... OK
* checking DESCRIPTION meta-information ... OK
* checking top-level files ... OK
* checking for left-over files ... OK
* checking index information ... OK
* checking package subdirectories ... OK
* checking code files for non-ASCII characters ... OK
* checking R files for syntax errors ... OK
* checking whether the package can be loaded ... OK
* checking whether the package can be loaded with stated dependencies ... OK
* checking whether the package can be unloaded cleanly ... OK
* checking whether the namespace can be loaded with stated dependencies ... OK
* checking whether the namespace can be unloaded cleanly ... OK
* checking loading without being on the library search path ... OK
* checking dependencies in R code ... OK
* checking S3 generic/method consistency ... OK
* checking replacement functions ... OK
* checking foreign function calls ... OK
* checking R code for possible problems ... NOTE
.savePlotlyPlotHTML: no visible global function definition for
‘txtProgressBar’
.savePlotlyPlotHTML: no visible global function definition for
‘setTxtProgressBar’
.savePlotlyPlotHTML: no visible global function definition for ‘zip’
ResistanceBarcodePlotLiP: no visible binding for global variable
‘GROUP’
ResistanceBarcodePlotLiP: no visible binding for global variable
‘Protein’
ResistanceBarcodePlotLiP: no visible binding for global variable
‘uniprot_iso’
ResistanceBarcodePlotLiP: no visible binding for global variable
‘Sequence’
ResistanceBarcodePlotLiP: no visible binding for global variable
‘PeptideSequence’
ResistanceBarcodePlotLiP: no visible binding for global variable
‘Accessibility_ratio’
ResistanceBarcodePlotLiP: no visible binding for global variable
‘Index’
ResistanceBarcodePlotLiP: no visible binding for global variable
‘Label’
ResistanceBarcodePlotLiP: no visible binding for global variable ‘sig’
ResistanceBarcodePlotLiP: no visible binding for global variable
‘Coverage’
StructuralBarcodePlotLiP: no visible binding for global variable
‘NSEMI_TRI’
StructuralBarcodePlotLiP: no visible binding for global variable
‘CSEMI_TRI’
StructuralBarcodePlotLiP: no visible binding for global variable
‘Sequence’
calculateProteolyticResistance: no visible binding for global variable
‘LogIntensities’
calculateProteolyticResistance: no visible binding for global variable
‘Protein.y’
Undefined global functions or variables:
Accessibility_ratio CSEMI_TRI Coverage GROUP Index Label
LogIntensities NSEMI_TRI PeptideSequence Protein Protein.y Sequence
setTxtProgressBar sig txtProgressBar uniprot_iso zip
Consider adding
importFrom("utils", "setTxtProgressBar", "txtProgressBar", "zip")
to your NAMESPACE file.
* checking Rd files ... OK
* checking Rd metadata ... OK
* checking Rd cross-references ... OK
* checking for missing documentation entries ... OK
* checking for code/documentation mismatches ... OK
* checking Rd \usage sections ... OK
* checking Rd contents ... OK
* checking for unstated dependencies in examples ... OK
* checking contents of ‘data’ directory ... OK
* checking data for non-ASCII characters ... OK
* checking LazyData ... OK
* checking data for ASCII and uncompressed saves ... OK
* checking line endings in C/C++/Fortran sources/headers ... OK
* checking compiled code ... NOTE
Note: information on .o files is not available
* checking files in ‘vignettes’ ... OK
* checking examples ... OK
Examples with CPU (user + system) or elapsed time > 5s
user system elapsed
dataProcessPlotsLiP 50.217 1.025 51.386
* checking for unstated dependencies in ‘tests’ ... OK
* checking tests ...
Running ‘tinytest.R’
OK
* checking for unstated dependencies in vignettes ... OK
* checking package vignettes ... OK
* checking running R code from vignettes ... SKIPPED
* checking re-building of vignette outputs ... SKIPPED
* checking PDF version of manual ... OK
* DONE
Status: 2 NOTEs
See
‘/home/biocbuild/bbs-3.22-bioc/meat/MSstatsLiP.Rcheck/00check.log’
for details.
MSstatsLiP.Rcheck/00install.out
############################################################################## ############################################################################## ### ### Running command: ### ### /home/biocbuild/R/R/bin/R CMD INSTALL MSstatsLiP ### ############################################################################## ############################################################################## * installing to library ‘/home/biocbuild/R/R-4.5.0/site-library’ * installing *source* package ‘MSstatsLiP’ ... ** this is package ‘MSstatsLiP’ version ‘1.15.3’ ** using staged installation ** libs using C++ compiler: ‘aarch64-unknown-linux-gnu-g++ (GCC) 14.2.0’ /opt/ohpc/pub/compiler/gcc/14.2.0/bin/aarch64-unknown-linux-gnu-g++ -std=gnu++17 -I"/home/biocbuild/R/R-4.5.0/include" -DNDEBUG -I'/home/biocbuild/R/R-4.5.0/site-library/Rcpp/include' -I/usr/local/include -fPIC -g -O2 -Wall -Werror=format-security -c RcppExports.cpp -o RcppExports.o /opt/ohpc/pub/compiler/gcc/14.2.0/bin/aarch64-unknown-linux-gnu-g++ -std=gnu++17 -I"/home/biocbuild/R/R-4.5.0/include" -DNDEBUG -I'/home/biocbuild/R/R-4.5.0/site-library/Rcpp/include' -I/usr/local/include -fPIC -g -O2 -Wall -Werror=format-security -c model_adjustment.cpp -o model_adjustment.o /opt/ohpc/pub/compiler/gcc/14.2.0/bin/aarch64-unknown-linux-gnu-g++ -std=gnu++17 -shared -L/home/biocbuild/R/R-4.5.0/lib -L/usr/local/lib -o MSstatsLiP.so RcppExports.o model_adjustment.o -L/home/biocbuild/R/R-4.5.0/lib -lR installing to /home/biocbuild/R/R-4.5.0/site-library/00LOCK-MSstatsLiP/00new/MSstatsLiP/libs ** R ** data *** moving datasets to lazyload DB ** inst ** byte-compile and prepare package for lazy loading ** help *** installing help indices ** building package indices ** installing vignettes ** testing if installed package can be loaded from temporary location ** checking absolute paths in shared objects and dynamic libraries ** testing if installed package can be loaded from final location ** testing if installed package keeps a record of temporary installation path * DONE (MSstatsLiP)
MSstatsLiP.Rcheck/tests/tinytest.Rout
R version 4.5.0 (2025-04-11) -- "How About a Twenty-Six"
Copyright (C) 2025 The R Foundation for Statistical Computing
Platform: aarch64-unknown-linux-gnu
R is free software and comes with ABSOLUTELY NO WARRANTY.
You are welcome to redistribute it under certain conditions.
Type 'license()' or 'licence()' for distribution details.
R is a collaborative project with many contributors.
Type 'contributors()' for more information and
'citation()' on how to cite R or R packages in publications.
Type 'demo()' for some demos, 'help()' for on-line help, or
'help.start()' for an HTML browser interface to help.
Type 'q()' to quit R.
>
> if ( requireNamespace("tinytest", quietly=TRUE) ){
+ tinytest::test_package("MSstatsLiP")
+ }
test_SkylinetoMSstatsLiPFormat.R 0 tests
test_SkylinetoMSstatsLiPFormat.R 1 tests [0;32mOK[0m
test_SkylinetoMSstatsLiPFormat.R 2 tests [0;32mOK[0m INFO [2025-10-17 11:31:26] ** Raw data from Skyline imported successfully.
INFO [2025-10-17 11:31:26] ** Raw data from Skyline cleaned successfully.
test_SkylinetoMSstatsLiPFormat.R 3 tests [0;32mOK[0m INFO [2025-10-17 11:31:26] ** Raw data from Skyline imported successfully.
INFO [2025-10-17 11:31:26] ** Raw data from Skyline cleaned successfully.
INFO [2025-10-17 11:31:26] ** Using annotation extracted from quantification data.
test_SkylinetoMSstatsLiPFormat.R 4 tests [0;32mOK[0m INFO [2025-10-17 11:31:26] ** Raw data from Skyline imported successfully.
INFO [2025-10-17 11:31:26] ** Raw data from Skyline cleaned successfully.
INFO [2025-10-17 11:31:26] ** Using annotation extracted from quantification data.
test_SkylinetoMSstatsLiPFormat.R 5 tests [0;32mOK[0m INFO [2025-10-17 11:31:26] ** Raw data from Skyline imported successfully.
INFO [2025-10-17 11:31:26] ** Raw data from Skyline cleaned successfully.
INFO [2025-10-17 11:31:26] ** Using annotation extracted from quantification data.
test_SkylinetoMSstatsLiPFormat.R 6 tests [0;32mOK[0m INFO [2025-10-17 11:31:26] ** Raw data from Skyline imported successfully.
INFO [2025-10-17 11:31:26] ** Raw data from Skyline cleaned successfully.
INFO [2025-10-17 11:31:26] ** Using annotation extracted from quantification data.
test_SkylinetoMSstatsLiPFormat.R 7 tests [0;32mOK[0m INFO [2025-10-17 11:31:26] ** Raw data from Skyline imported successfully.
INFO [2025-10-17 11:31:26] ** Raw data from Skyline cleaned successfully.
INFO [2025-10-17 11:31:26] ** Using annotation extracted from quantification data.
test_SkylinetoMSstatsLiPFormat.R 8 tests [0;32mOK[0m INFO [2025-10-17 11:31:26] ** Raw data from Skyline imported successfully.
INFO [2025-10-17 11:31:26] ** Raw data from Skyline cleaned successfully.
INFO [2025-10-17 11:31:26] ** Using annotation extracted from quantification data.
test_SkylinetoMSstatsLiPFormat.R 9 tests [0;32mOK[0m INFO [2025-10-17 11:31:26] ** Raw data from Skyline imported successfully.
INFO [2025-10-17 11:31:26] ** Raw data from Skyline cleaned successfully.
INFO [2025-10-17 11:31:26] ** Using annotation extracted from quantification data.
test_SkylinetoMSstatsLiPFormat.R 10 tests [0;32mOK[0m [0;34m0.6s[0m
test_SpectronauttoMSstatsLiPFormat.R 0 tests
test_SpectronauttoMSstatsLiPFormat.R 0 tests
test_SpectronauttoMSstatsLiPFormat.R 1 tests [0;32mOK[0m
test_SpectronauttoMSstatsLiPFormat.R 2 tests [0;32mOK[0m INFO [2025-10-17 11:31:27] ** Raw data from Spectronaut imported successfully.
INFO [2025-10-17 11:31:27] ** Raw data from Spectronaut cleaned successfully.
INFO [2025-10-17 11:31:27] ** Using annotation extracted from quantification data.
INFO [2025-10-17 11:31:27] ** Run labels were standardized to remove symbols such as '.' or '%'.
INFO [2025-10-17 11:31:27] ** The following options are used:
- Features will be defined by the columns: PeptideSequence, PrecursorCharge, FragmentIon, ProductCharge
- Shared peptides will be removed.
- Proteins with single feature will not be removed.
- Features with less than 3 measurements across runs will be removed.
INFO [2025-10-17 11:31:27] ** Intensities with values of FExcludedFromQuantification equal to TRUE are replaced with NA
WARN [2025-10-17 11:31:27] ** PGQvalue not found in input columns.
INFO [2025-10-17 11:31:27] ** Intensities with values not smaller than 0.01 in EGQvalue are replaced with NA
INFO [2025-10-17 11:31:27] ** Features with all missing measurements across runs are removed.
INFO [2025-10-17 11:31:27] ** Shared peptides are removed.
INFO [2025-10-17 11:31:27] ** Multiple measurements in a feature and a run are summarized by summaryforMultipleRows: max
INFO [2025-10-17 11:31:27] ** Features with one or two measurements across runs are removed.
INFO [2025-10-17 11:31:27] ** Run annotation merged with quantification data.
INFO [2025-10-17 11:31:27] ** Features with one or two measurements across runs are removed.
INFO [2025-10-17 11:31:27] ** Fractionation handled.
INFO [2025-10-17 11:31:27] ** Updated quantification data to make balanced design. Missing values are marked by NA
INFO [2025-10-17 11:31:27] ** Finished preprocessing. The dataset is ready to be processed by the dataProcess function.
test_SpectronauttoMSstatsLiPFormat.R 3 tests [0;32mOK[0m
test_SpectronauttoMSstatsLiPFormat.R 4 tests [0;32mOK[0m
test_SpectronauttoMSstatsLiPFormat.R 5 tests [0;32mOK[0m
test_SpectronauttoMSstatsLiPFormat.R 6 tests [0;32mOK[0m
test_SpectronauttoMSstatsLiPFormat.R 7 tests [0;32mOK[0m
test_SpectronauttoMSstatsLiPFormat.R 8 tests [0;32mOK[0m
test_SpectronauttoMSstatsLiPFormat.R 9 tests [0;32mOK[0m [0;34m1.0s[0m
test_dataProcessPlotsLiP.R.... 0 tests
test_dataProcessPlotsLiP.R.... 1 tests [0;32mOK[0m
test_dataProcessPlotsLiP.R.... 2 tests [0;32mOK[0m
test_dataProcessPlotsLiP.R.... 3 tests [0;32mOK[0m
test_dataProcessPlotsLiP.R.... 4 tests [0;32mOK[0m
test_dataProcessPlotsLiP.R.... 5 tests [0;32mOK[0m
test_dataProcessPlotsLiP.R.... 6 tests [0;32mOK[0m
test_dataProcessPlotsLiP.R.... 7 tests [0;32mOK[0m
test_dataProcessPlotsLiP.R.... 8 tests [0;32mOK[0m
test_dataProcessPlotsLiP.R.... 9 tests [0;32mOK[0m
test_dataProcessPlotsLiP.R.... 10 tests [0;32mOK[0m Drew the Profile plot for P14164_ILQNDLK (1 of 14)
Drew the Profile plot for P17891_ALQLINQDDADIIGGRDR (2 of 14)
Drew the Profile plot for P17891_DDDTDFLK (3 of 14)
Drew the Profile plot for P36112_SNDLLSGLTGSSQTR (4 of 14)
Drew the Profile plot for P38805_LGQTVGR (5 of 14)
Drew the Profile plot for P46959_DIIGKPYGSQIAIR (6 of 14)
Drew the Profile plot for P52893_SSSQGVEGIRK (7 of 14)
Drew the Profile plot for P52911_TWITEDDFEQIK (8 of 14)
Drew the Profile plot for P53235_ERQAVGDKLEDTQVLK (9 of 14)
Drew the Profile plot for P53858_FLDNHEVDSIVSLER (10 of 14)
Drew the Profile plot for Q02908_ISVISGVGVR (11 of 14)
Drew the Profile plot for Q12248_EFQSVSDLWK (12 of 14)
Drew the Profile plot for P16622_SHLQSNQLYSNQLPLDFALGK (13 of 14)
Drew the Profile plot for P24004_FIGASEQNIR (14 of 14)
Drew the Profile plot for P14164_ILQNDLK ( 1 of 14 )
Drew the Profile plot for P17891_ALQLINQDDADIIGGRDR ( 2 of 14 )
Drew the Profile plot for P17891_DDDTDFLK ( 3 of 14 )
Drew the Profile plot for P36112_SNDLLSGLTGSSQTR ( 4 of 14 )
Drew the Profile plot for P38805_LGQTVGR ( 5 of 14 )
Drew the Profile plot for P46959_DIIGKPYGSQIAIR ( 6 of 14 )
Drew the Profile plot for P52893_SSSQGVEGIRK ( 7 of 14 )
Drew the Profile plot for P52911_TWITEDDFEQIK ( 8 of 14 )
Drew the Profile plot for P53235_ERQAVGDKLEDTQVLK ( 9 of 14 )
Drew the Profile plot for P53858_FLDNHEVDSIVSLER ( 10 of 14 )
Drew the Profile plot for Q02908_ISVISGVGVR ( 11 of 14 )
Drew the Profile plot for Q12248_EFQSVSDLWK ( 12 of 14 )
Drew the Profile plot for P16622_SHLQSNQLYSNQLPLDFALGK ( 13 of 14 )
Drew the Profile plot for P24004_FIGASEQNIR ( 14 of 14 )
test_dataProcessPlotsLiP.R.... 11 tests [0;32mOK[0m Drew the Quality Contol plot(boxplot) for all ptms/proteins.
Drew the Quality Contol plot(boxplot) for P14164_ILQNDLK (1 of 14)
Drew the Quality Contol plot(boxplot) for P17891_ALQLINQDDADIIGGRDR (2 of 14)
Drew the Quality Contol plot(boxplot) for P17891_DDDTDFLK (3 of 14)
Drew the Quality Contol plot(boxplot) for P36112_SNDLLSGLTGSSQTR (4 of 14)
Drew the Quality Contol plot(boxplot) for P38805_LGQTVGR (5 of 14)
Drew the Quality Contol plot(boxplot) for P46959_DIIGKPYGSQIAIR (6 of 14)
Drew the Quality Contol plot(boxplot) for P52893_SSSQGVEGIRK (7 of 14)
Drew the Quality Contol plot(boxplot) for P52911_TWITEDDFEQIK (8 of 14)
Drew the Quality Contol plot(boxplot) for P53235_ERQAVGDKLEDTQVLK (9 of 14)
Drew the Quality Contol plot(boxplot) for P53858_FLDNHEVDSIVSLER (10 of 14)
Drew the Quality Contol plot(boxplot) for Q02908_ISVISGVGVR (11 of 14)
Drew the Quality Contol plot(boxplot) for Q12248_EFQSVSDLWK (12 of 14)
Drew the Quality Contol plot(boxplot) for P16622_SHLQSNQLYSNQLPLDFALGK (13 of 14)
Drew the Quality Contol plot(boxplot) for P24004_FIGASEQNIR (14 of 14)
test_dataProcessPlotsLiP.R.... 12 tests [0;32mOK[0m [0;34m52.6s[0m
test_dataSummarizationLiP.R... 0 tests
test_dataSummarizationLiP.R... 0 tests
test_dataSummarizationLiP.R... 1 tests [0;32mOK[0m
test_dataSummarizationLiP.R... 2 tests [0;32mOK[0m
test_dataSummarizationLiP.R... 3 tests [0;32mOK[0m
test_dataSummarizationLiP.R... 4 tests [0;32mOK[0m
test_dataSummarizationLiP.R... 5 tests [0;32mOK[0m
test_dataSummarizationLiP.R... 6 tests [0;32mOK[0m
test_dataSummarizationLiP.R... 7 tests [0;32mOK[0m
test_dataSummarizationLiP.R... 8 tests [0;32mOK[0m
test_dataSummarizationLiP.R... 9 tests [0;32mOK[0m
test_dataSummarizationLiP.R... 10 tests [0;32mOK[0m
test_dataSummarizationLiP.R... 11 tests [0;32mOK[0m
test_dataSummarizationLiP.R... 12 tests [0;32mOK[0m
test_dataSummarizationLiP.R... 13 tests [0;32mOK[0m
test_dataSummarizationLiP.R... 14 tests [0;32mOK[0m
test_dataSummarizationLiP.R... 15 tests [0;32mOK[0m
test_dataSummarizationLiP.R... 16 tests [0;32mOK[0m
test_dataSummarizationLiP.R... 17 tests [0;32mOK[0m
test_dataSummarizationLiP.R... 18 tests [0;32mOK[0m
test_dataSummarizationLiP.R... 19 tests [0;32mOK[0m
test_dataSummarizationLiP.R... 20 tests [0;32mOK[0m
test_dataSummarizationLiP.R... 21 tests [0;32mOK[0m
test_dataSummarizationLiP.R... 22 tests [0;32mOK[0m
test_dataSummarizationLiP.R... 23 tests [0;32mOK[0m
test_dataSummarizationLiP.R... 24 tests [0;32mOK[0m
test_dataSummarizationLiP.R... 25 tests [0;32mOK[0m
test_dataSummarizationLiP.R... 26 tests [0;32mOK[0m
test_dataSummarizationLiP.R... 27 tests [0;32mOK[0m
test_dataSummarizationLiP.R... 28 tests [0;32mOK[0m Starting PTM summarization...
test_dataSummarizationLiP.R... 29 tests [0;32mOK[0m [0;34m0.2s[0m
test_groupComparisonLiP.R..... 0 tests
test_groupComparisonLiP.R..... 0 tests
test_groupComparisonLiP.R..... 1 tests [0;32mOK[0m
test_groupComparisonLiP.R..... 2 tests [0;32mOK[0m Starting PTM modeling...
test_groupComparisonLiP.R..... 3 tests [0;32mOK[0m Starting PTM modeling...
INFO [2025-10-17 11:32:20] == Start to test and get inference in whole plot ...
|
| | 0%
|
|===== | 7%
|
|========== | 14%
|
|=============== | 21%
|
|==================== | 29%
|
|========================= | 36%
|
|============================== | 43%
|
|=================================== | 50%
|
|======================================== | 57%
|
|============================================= | 64%
|
|================================================== | 71%
|
|======================================================= | 79%
|
|============================================================ | 86%
|
|================================================================= | 93%
|
|======================================================================| 100%
INFO [2025-10-17 11:32:20] == Comparisons for all proteins are done.
Starting Protein modeling...
INFO [2025-10-17 11:32:20] == Start to test and get inference in whole plot ...
|
| | 0%
|
|===== | 8%
|
|=========== | 15%
|
|================ | 23%
|
|====================== | 31%
|
|=========================== | 38%
|
|================================ | 46%
|
|====================================== | 54%
|
|=========================================== | 62%
|
|================================================ | 69%
|
|====================================================== | 77%
|
|=========================================================== | 85%
|
|================================================================= | 92%
|
|======================================================================| 100%
INFO [2025-10-17 11:32:21] == Comparisons for all proteins are done.
Starting adjustment...
test_groupComparisonLiP.R..... 3 tests [0;32mOK[0m
test_groupComparisonLiP.R..... 4 tests [0;32mOK[0m
test_groupComparisonLiP.R..... 5 tests [0;32mOK[0m
test_groupComparisonLiP.R..... 6 tests [0;32mOK[0m
test_groupComparisonLiP.R..... 7 tests [0;32mOK[0m
test_groupComparisonLiP.R..... 8 tests [0;32mOK[0m
test_groupComparisonLiP.R..... 9 tests [0;32mOK[0m
test_groupComparisonLiP.R..... 10 tests [0;32mOK[0m [0;34m0.9s[0m
test_groupComparisonPlotsLiP.R 0 tests
test_groupComparisonPlotsLiP.R 1 tests [0;32mOK[0m
test_groupComparisonPlotsLiP.R 2 tests [0;32mOK[0m
test_groupComparisonPlotsLiP.R 3 tests [0;32mOK[0m
test_groupComparisonPlotsLiP.R 4 tests [0;32mOK[0m
test_groupComparisonPlotsLiP.R 5 tests [0;32mOK[0m
test_groupComparisonPlotsLiP.R 6 tests [0;32mOK[0m
test_groupComparisonPlotsLiP.R 7 tests [0;32mOK[0m
test_groupComparisonPlotsLiP.R 8 tests [0;32mOK[0m
test_groupComparisonPlotsLiP.R 9 tests [0;32mOK[0m
test_groupComparisonPlotsLiP.R 10 tests [0;32mOK[0m
test_groupComparisonPlotsLiP.R 11 tests [0;32mOK[0m
test_groupComparisonPlotsLiP.R 12 tests [0;32mOK[0m
test_groupComparisonPlotsLiP.R 13 tests [0;32mOK[0m
test_groupComparisonPlotsLiP.R 14 tests [0;32mOK[0m
test_groupComparisonPlotsLiP.R 15 tests [0;32mOK[0m
test_groupComparisonPlotsLiP.R 16 tests [0;32mOK[0m [0;34m8.1s[0m
test_trypticHistogramLiP.R.... 0 tests
test_trypticHistogramLiP.R.... 0 tests
test_trypticHistogramLiP.R.... 0 tests
test_trypticHistogramLiP.R.... 1 tests [0;32mOK[0m
test_trypticHistogramLiP.R.... 2 tests [0;32mOK[0m
test_trypticHistogramLiP.R.... 3 tests [0;32mOK[0m
test_trypticHistogramLiP.R.... 4 tests [0;32mOK[0m
test_trypticHistogramLiP.R.... 5 tests [0;32mOK[0m
test_trypticHistogramLiP.R.... 6 tests [0;32mOK[0m
test_trypticHistogramLiP.R.... 7 tests [0;32mOK[0m
test_trypticHistogramLiP.R.... 8 tests [0;32mOK[0m
test_trypticHistogramLiP.R.... 9 tests [0;32mOK[0m
test_trypticHistogramLiP.R.... 10 tests [0;32mOK[0m
test_trypticHistogramLiP.R.... 11 tests [0;32mOK[0m
test_trypticHistogramLiP.R.... 12 tests [0;32mOK[0m
test_trypticHistogramLiP.R.... 13 tests [0;32mOK[0m
test_trypticHistogramLiP.R.... 14 tests [0;32mOK[0m
test_trypticHistogramLiP.R.... 15 tests [0;32mOK[0m
test_trypticHistogramLiP.R.... 16 tests [0;32mOK[0m
test_trypticHistogramLiP.R.... 17 tests [0;32mOK[0m
test_trypticHistogramLiP.R.... 18 tests [0;32mOK[0m
test_trypticHistogramLiP.R.... 19 tests [0;32mOK[0m
test_trypticHistogramLiP.R.... 20 tests [0;32mOK[0m
test_trypticHistogramLiP.R.... 21 tests [0;32mOK[0m
test_trypticHistogramLiP.R.... 22 tests [0;32mOK[0m
test_trypticHistogramLiP.R.... 23 tests [0;32mOK[0m
test_trypticHistogramLiP.R.... 24 tests [0;32mOK[0m
test_trypticHistogramLiP.R.... 25 tests [0;32mOK[0m [0;34m16.7s[0m
All ok, 111 results (1m 20.0s)
Warning message:
In max(datafeature.ptm$ABUNDANCE, na.rm = TRUE) :
no non-missing arguments to max; returning -Inf
>
> proc.time()
user system elapsed
86.419 1.310 87.940
MSstatsLiP.Rcheck/MSstatsLiP-Ex.timings
| name | user | system | elapsed | |
| DIANNtoMSstatsLiPFormat | 0.024 | 0.000 | 0.024 | |
| LiPRawData | 0.011 | 0.000 | 0.011 | |
| MSstatsLiP_Summarized | 0.016 | 0.003 | 0.020 | |
| MSstatsLiP_data | 0.010 | 0.001 | 0.009 | |
| MSstatsLiP_model | 0.019 | 0.000 | 0.018 | |
| PCAPlotLiP | 4.492 | 0.227 | 4.733 | |
| ResistanceBarcodePlotLiP | 0.002 | 0.000 | 0.001 | |
| SkylineTest | 0.008 | 0.000 | 0.008 | |
| SkylinetoMSstatsLiPFormat | 0.01 | 0.00 | 0.01 | |
| SpectronauttoMSstatsLiPFormat | 0.277 | 0.016 | 0.294 | |
| StructuralBarcodePlotLiP | 4.620 | 0.191 | 4.825 | |
| TrPRawData | 0.010 | 0.000 | 0.011 | |
| annotSite | 0.001 | 0.000 | 0.001 | |
| calculateProteolyticResistance | 0.008 | 0.004 | 0.013 | |
| calculateTrypticity | 0.020 | 0.004 | 0.023 | |
| correlationPlotLiP | 0.579 | 0.032 | 0.612 | |
| dataProcessPlotsLiP | 50.217 | 1.025 | 51.386 | |
| dataSummarizationLiP | 0.882 | 0.032 | 0.916 | |
| groupComparisonLiP | 1.151 | 0.028 | 1.188 | |
| groupComparisonPlotsLiP | 3.003 | 0.056 | 3.068 | |
| locateMod | 0.000 | 0.000 | 0.001 | |
| locatePTM | 0.077 | 0.004 | 0.082 | |
| raw_lip | 0.068 | 0.000 | 0.068 | |
| raw_prot | 0.07 | 0.00 | 0.07 | |
| tidyFasta | 0.054 | 0.000 | 0.054 | |
| trypticHistogramLiP | 0.553 | 0.000 | 0.554 | |