| Back to Multiple platform build/check report for BioC 3.22: simplified long |
|
This page was generated on 2025-11-14 11:58 -0500 (Fri, 14 Nov 2025).
| Hostname | OS | Arch (*) | R version | Installed pkgs |
|---|---|---|---|---|
| nebbiolo2 | Linux (Ubuntu 24.04.3 LTS) | x86_64 | 4.5.1 Patched (2025-08-23 r88802) -- "Great Square Root" | 4903 |
| taishan | Linux (openEuler 24.03 LTS) | aarch64 | 4.5.0 (2025-04-11) -- "How About a Twenty-Six" | 4668 |
| Click on any hostname to see more info about the system (e.g. compilers) (*) as reported by 'uname -p', except on Windows and Mac OS X | ||||
| Package 1513/2361 | Hostname | OS / Arch | INSTALL | BUILD | CHECK | BUILD BIN | ||||||||
| ontoProc 2.4.0 (landing page) Vincent Carey
| nebbiolo2 | Linux (Ubuntu 24.04.3 LTS) / x86_64 | OK | OK | OK | |||||||||
| taishan | Linux (openEuler 24.03 LTS) / aarch64 | OK | OK | TIMEOUT | ||||||||||
|
To the developers/maintainers of the ontoProc package: - Allow up to 24 hours (and sometimes 48 hours) for your latest push to git@git.bioconductor.org:packages/ontoProc.git to reflect on this report. See Troubleshooting Build Report for more information. - Use the following Renviron settings to reproduce errors and warnings. - If 'R CMD check' started to fail recently on the Linux builder(s) over a missing dependency, add the missing dependency to 'Suggests:' in your DESCRIPTION file. See Renviron.bioc for more information. - See Martin Grigorov's blog post for how to debug Linux ARM64 related issues on a x86_64 host. |
| Package: ontoProc |
| Version: 2.4.0 |
| Command: /home/biocbuild/R/R/bin/R CMD check --install=check:ontoProc.install-out.txt --library=/home/biocbuild/R/R/site-library --no-vignettes --timings ontoProc_2.4.0.tar.gz |
| StartedAt: 2025-11-14 12:29:59 -0000 (Fri, 14 Nov 2025) |
| EndedAt: 2025-11-14 13:10:00 -0000 (Fri, 14 Nov 2025) |
| EllapsedTime: 2400.1 seconds |
| RetCode: None |
| Status: TIMEOUT |
| CheckDir: ontoProc.Rcheck |
| Warnings: NA |
##############################################################################
##############################################################################
###
### Running command:
###
### /home/biocbuild/R/R/bin/R CMD check --install=check:ontoProc.install-out.txt --library=/home/biocbuild/R/R/site-library --no-vignettes --timings ontoProc_2.4.0.tar.gz
###
##############################################################################
##############################################################################
* using log directory ‘/home/biocbuild/bbs-3.22-bioc/meat/ontoProc.Rcheck’
* using R version 4.5.0 (2025-04-11)
* using platform: aarch64-unknown-linux-gnu
* R was compiled by
aarch64-unknown-linux-gnu-gcc (GCC) 14.2.0
GNU Fortran (GCC) 14.2.0
* running under: openEuler 24.03 (LTS)
* using session charset: UTF-8
* using option ‘--no-vignettes’
* checking for file ‘ontoProc/DESCRIPTION’ ... OK
* this is package ‘ontoProc’ version ‘2.4.0’
* package encoding: UTF-8
* checking package namespace information ... OK
* checking package dependencies ... OK
* checking if this is a source package ... OK
* checking if there is a namespace ... OK
* checking for hidden files and directories ... OK
* checking for portable file names ... OK
* checking for sufficient/correct file permissions ... OK
* checking whether package ‘ontoProc’ can be installed ... OK
* checking installed package size ... INFO
installed size is 11.5Mb
sub-directories of 1Mb or more:
app 1.9Mb
data 1.8Mb
ontoRda 2.8Mb
owl 3.8Mb
* checking package directory ... OK
* checking ‘build’ directory ... OK
* checking DESCRIPTION meta-information ... OK
* checking top-level files ... OK
* checking for left-over files ... OK
* checking index information ... OK
* checking package subdirectories ... OK
* checking code files for non-ASCII characters ... OK
* checking R files for syntax errors ... OK
* checking whether the package can be loaded ... OK
* checking whether the package can be loaded with stated dependencies ... OK
* checking whether the package can be unloaded cleanly ... OK
* checking whether the namespace can be loaded with stated dependencies ... OK
* checking whether the namespace can be unloaded cleanly ... OK
* checking loading without being on the library search path ... OK
* checking dependencies in R code ... NOTE
':::' call which should be '::': ‘ontologyPlot:::remove_uninformative_terms’
See the note in ?`:::` about the use of this operator.
* checking S3 generic/method consistency ... OK
* checking replacement functions ... OK
* checking foreign function calls ... OK
* checking R code for possible problems ... NOTE
CLfeat : prupdate: no visible binding for global variable ‘PROSYM’
CLfeat : prupdate: no visible binding for global variable ‘PRID’
CLfeat : prupdate: no visible binding for global variable ‘SYMBOL’
ctmarks : server: no visible binding for global variable ‘text’
ctmarks : server: no visible binding for global variable ‘packDesc2022’
ctmarks : server: no visible binding for global variable ‘packDesc2021’
ctmarks: no visible binding for global variable ‘cumu’
dropStop: no visible binding for global variable ‘stopWords’
getOnto: no visible binding for global variable ‘rdatadateadded’
getOnto: no visible binding for global variable ‘title’
getOnto: no visible binding for global variable ‘description’
ldfToTerm: no visible binding for global variable ‘PROSYM’
sym2CellOnto: no visible binding for global variable ‘PROSYM’
sym2CellOnto: no visible binding for global variable ‘SYMBOL’
Undefined global functions or variables:
PRID PROSYM SYMBOL cumu description packDesc2021 packDesc2022
rdatadateadded stopWords text title
Consider adding
importFrom("graphics", "text", "title")
to your NAMESPACE file.
* checking Rd files ... OK
* checking Rd metadata ... OK
* checking Rd cross-references ... NOTE
Found the following Rd file(s) with Rd \link{} targets missing package
anchors:
findCommonAncestors.Rd: graph, DataFrame-class, List-class
Please provide package anchors for all Rd \link{} targets not in the
package itself and the base packages.
* checking for missing documentation entries ... OK
* checking for code/documentation mismatches ... OK
* checking Rd \usage sections ... NOTE
S3 methods shown with full name in Rd file 'plot.owlents.Rd':
‘plot.owlents’
The \usage entries for S3 methods should use the \method markup and not
their full name.
See chapter ‘Writing R documentation files’ in the ‘Writing R
Extensions’ manual.
* checking Rd contents ... OK
* checking for unstated dependencies in examples ... OK
* checking contents of ‘data’ directory ... OK
* checking data for non-ASCII characters ... OK
* checking data for ASCII and uncompressed saves ... OK
* checking files in ‘vignettes’ ... OK
* checking examples ...
ontoProc.Rcheck/00install.out
############################################################################## ############################################################################## ### ### Running command: ### ### /home/biocbuild/R/R/bin/R CMD INSTALL ontoProc ### ############################################################################## ############################################################################## * installing to library ‘/home/biocbuild/R/R-4.5.0/site-library’ * installing *source* package ‘ontoProc’ ... ** this is package ‘ontoProc’ version ‘2.4.0’ ** using staged installation ** R ** data ** inst ** byte-compile and prepare package for lazy loading ** help *** installing help indices ** building package indices ** installing vignettes ** testing if installed package can be loaded from temporary location ** testing if installed package can be loaded from final location ** testing if installed package keeps a record of temporary installation path * DONE (ontoProc)
ontoProc.Rcheck/ontoProc-Ex.timings
| name | user | system | elapsed | |
| CLfeats | 89.461 | 4.051 | 112.886 | |
| PROSYM | 0.244 | 0.000 | 0.245 | |
| TermSet-class | 56.986 | 1.964 | 66.789 | |
| allGOterms | 0.089 | 0.008 | 0.098 | |
| ancestors | 3.091 | 0.381 | 5.874 | |
| ancestors_names | 0.009 | 0.000 | 0.017 | |
| bioregistry_ols_resources | 0.054 | 0.020 | 20.530 | |
| cellTypeToGO | 1.976 | 0.107 | 2.591 | |
| children_names | 0.009 | 0.000 | 0.008 | |
| cleanCLOnames | 128.217 | 2.888 | 194.057 | |
| common_classes | 63.675 | 2.604 | 102.987 | |
| ctmarks | 0.000 | 0.000 | 0.001 | |
| cyclicSigset | 0.009 | 0.000 | 0.018 | |
| demoApp | 0 | 0 | 0 | |
| dropStop | 0.005 | 0.000 | 0.012 | |
| fastGrep | 78.877 | 2.584 | 89.756 | |
| findCommonAncestors | 61.570 | 2.467 | 73.110 | |
| formalize | 0.001 | 0.000 | 0.001 | |
| getLeavesFromTerm | 78.682 | 2.492 | 96.546 | |
| getOnto | 60.530 | 2.341 | 71.624 | |
| graph2paths | 10.484 | 0.239 | 11.167 | |
| humrna | 0.008 | 0.000 | 0.008 | |
| jowl2classgraph | 0.458 | 0.004 | 0.463 | |
| jowl2classgraph_nio | 1.053 | 0.005 | 1.541 | |
| labels.owlents | 0 | 0 | 0 | |
| ldfToTerms | 2.442 | 0.012 | 2.457 | |
| liberalMap | 61.212 | 2.037 | 73.917 | |
| makeSelectInput | 0.000 | 0.000 | 0.001 | |
| make_graphNEL_from_ontology_plot | 60.188 | 1.462 | 70.179 | |
| mapOneNaive | 59.423 | 1.800 | 68.475 | |
| minicorpus | 0.001 | 0.000 | 0.002 | |
| nomenCheckup | 126.809 | 2.059 | 149.683 | |
| ontoDiff | 15.889 | 1.608 | 28.034 | |
| onto_plot2 | 58.653 | 1.908 | 66.720 | |
| onto_roots | 0 | 0 | 0 | |
| owl2cache | 0.031 | 0.004 | 0.054 | |
| packDesc2019 | 0.000 | 0.004 | 0.004 | |
| packDesc2021 | 0.000 | 0.003 | 0.003 | |
| packDesc2022 | 0.003 | 0.001 | 0.004 | |
| packDesc2023 | 0.003 | 0.000 | 0.004 | |
| parents | 0.007 | 0.000 | 0.015 | |
| plot.owlents | 5.414 | 0.290 | 121.949 | |
| quickOnto | 0.521 | 0.044 | 1.133 | |
| recognizedPredicates | 0 | 0 | 0 | |
| search_labels | 0.532 | 0.028 | 22.555 | |
| secLevGen | 57.668 | 1.376 | 66.257 | |
| selectFromMap | 61.573 | 1.605 | 73.847 | |
| setup_entities | 0.006 | 0.000 | 0.007 | |
| setup_entities2 | 0.444 | 0.020 | 0.465 | |
| seur3kTab | 0.004 | 0.000 | 0.011 | |
| siblings_TAG | 167.579 | 4.386 | 194.636 | |
| stopWords | 0.002 | 0.000 | 0.006 | |
| subclasses | 0.007 | 0.000 | 0.015 | |