Back to Multiple platform build/check report for BioC 3.22:   simplified   long
ABC[D]EFGHIJKLMNOPQRSTUVWXYZ

This page was generated on 2025-10-24 12:07 -0400 (Fri, 24 Oct 2025).

HostnameOSArch (*)R versionInstalled pkgs
nebbiolo2Linux (Ubuntu 24.04.3 LTS)x86_644.5.1 Patched (2025-08-23 r88802) -- "Great Square Root" 4898
lconwaymacOS 12.7.6 Montereyx86_644.5.1 Patched (2025-09-10 r88807) -- "Great Square Root" 4688
kjohnson3macOS 13.7.7 Venturaarm644.5.1 Patched (2025-09-10 r88807) -- "Great Square Root" 4634
taishanLinux (openEuler 24.03 LTS)aarch644.5.0 (2025-04-11) -- "How About a Twenty-Six" 4658
Click on any hostname to see more info about the system (e.g. compilers)      (*) as reported by 'uname -p', except on Windows and Mac OS X

Package 522/2359HostnameOS / ArchINSTALLBUILDCHECKBUILD BIN
DAPAR 1.41.0  (landing page)
Samuel Wieczorek
Snapshot Date: 2025-10-23 14:17 -0400 (Thu, 23 Oct 2025)
git_url: https://git.bioconductor.org/packages/DAPAR
git_branch: devel
git_last_commit: c47beab
git_last_commit_date: 2025-04-15 10:53:48 -0400 (Tue, 15 Apr 2025)
nebbiolo2Linux (Ubuntu 24.04.3 LTS) / x86_64  OK    OK    OK  UNNEEDED, same version is already published
lconwaymacOS 12.7.6 Monterey / x86_64  OK    OK    OK    OK  UNNEEDED, same version is already published
kjohnson3macOS 13.7.7 Ventura / arm64  OK    OK    OK    OK  UNNEEDED, same version is already published
taishanLinux (openEuler 24.03 LTS) / aarch64  OK    OK    OK  


CHECK results for DAPAR on taishan

To the developers/maintainers of the DAPAR package:
- Allow up to 24 hours (and sometimes 48 hours) for your latest push to git@git.bioconductor.org:packages/DAPAR.git to reflect on this report. See Troubleshooting Build Report for more information.
- Use the following Renviron settings to reproduce errors and warnings.
- If 'R CMD check' started to fail recently on the Linux builder(s) over a missing dependency, add the missing dependency to 'Suggests:' in your DESCRIPTION file. See Renviron.bioc for more information.
- See Martin Grigorov's blog post for how to debug Linux ARM64 related issues on a x86_64 host.

raw results


Summary

Package: DAPAR
Version: 1.41.0
Command: /home/biocbuild/R/R/bin/R CMD check --install=check:DAPAR.install-out.txt --library=/home/biocbuild/R/R/site-library --no-vignettes --timings DAPAR_1.41.0.tar.gz
StartedAt: 2025-10-21 07:09:01 -0000 (Tue, 21 Oct 2025)
EndedAt: 2025-10-21 07:19:58 -0000 (Tue, 21 Oct 2025)
EllapsedTime: 657.4 seconds
RetCode: 0
Status:   OK  
CheckDir: DAPAR.Rcheck
Warnings: 0

Command output

##############################################################################
##############################################################################
###
### Running command:
###
###   /home/biocbuild/R/R/bin/R CMD check --install=check:DAPAR.install-out.txt --library=/home/biocbuild/R/R/site-library --no-vignettes --timings DAPAR_1.41.0.tar.gz
###
##############################################################################
##############################################################################


* using log directory ‘/home/biocbuild/bbs-3.22-bioc/meat/DAPAR.Rcheck’
* using R version 4.5.0 (2025-04-11)
* using platform: aarch64-unknown-linux-gnu
* R was compiled by
    aarch64-unknown-linux-gnu-gcc (GCC) 14.2.0
    GNU Fortran (GCC) 14.2.0
* running under: openEuler 24.03 (LTS)
* using session charset: UTF-8
* using option ‘--no-vignettes’
* checking for file ‘DAPAR/DESCRIPTION’ ... OK
* checking extension type ... Package
* this is package ‘DAPAR’ version ‘1.41.0’
* package encoding: UTF-8
* checking package namespace information ... OK
* checking package dependencies ... INFO
Vignette dependency required without any vignettes: ‘knitr’
* checking if this is a source package ... OK
* checking if there is a namespace ... OK
* checking for hidden files and directories ... OK
* checking for portable file names ... OK
* checking for sufficient/correct file permissions ... OK
* checking whether package ‘DAPAR’ can be installed ... OK
* checking installed package size ... OK
* checking package directory ... OK
* checking DESCRIPTION meta-information ... OK
* checking top-level files ... OK
* checking for left-over files ... OK
* checking index information ... OK
* checking package subdirectories ... OK
* checking code files for non-ASCII characters ... OK
* checking R files for syntax errors ... OK
* checking whether the package can be loaded ... OK
* checking whether the package can be loaded with stated dependencies ... OK
* checking whether the package can be unloaded cleanly ... OK
* checking whether the namespace can be loaded with stated dependencies ... OK
* checking whether the namespace can be unloaded cleanly ... OK
* checking loading without being on the library search path ... OK
* checking whether startup messages can be suppressed ... OK
* checking dependencies in R code ... OK
* checking S3 generic/method consistency ... OK
* checking replacement functions ... OK
* checking foreign function calls ... OK
* checking R code for possible problems ... NOTE
Check_Dataset_Validity: no visible global function definition for
  ‘exprs’
OWAnova: no visible global function definition for ‘aov’
aggregateIterParallel: no visible binding for global variable ‘cond’
averageIntensities: no visible binding for global variable ‘condition’
averageIntensities: no visible binding for global variable ‘feature’
averageIntensities: no visible binding for global variable ‘intensity’
createMSnset: no visible global function definition for
  ‘installed.packages’
createMSnset: no visible binding for global variable ‘Prostar.loc’
createMSnset2: no visible global function definition for
  ‘installed.packages’
createMSnset2: no visible binding for global variable ‘Prostar.loc’
diffAnaVolcanoplot_rCharts: no visible binding for global variable ‘x’
diffAnaVolcanoplot_rCharts: no visible binding for global variable ‘y’
diffAnaVolcanoplot_rCharts: no visible binding for global variable ‘g’
display.CC.visNet: no visible binding for global variable
  ‘layout_nicely’
getTextForGOAnalysis: no visible binding for global variable
  ‘textGOParams’
getTextForGOAnalysis: no visible binding for global variable ‘input’
globalAdjPval: no visible global function definition for ‘stack’
heatmapForMissingValues: no visible binding for global variable ‘par’
limmaCompleteTest: no visible binding for global variable ‘A’
limmaCompleteTest: no visible binding for global variable ‘B’
limmaCompleteTest: no visible binding for global variable ‘P.Value’
pepa.test: no visible global function definition for ‘nodes<-’
testAnovaModels : <anonymous>: no visible global function definition
  for ‘TukeyHSD’
visualizeClusters: no visible binding for global variable
  ‘adjusted_pvalues’
visualizeClusters: no visible binding for global variable ‘Condition’
visualizeClusters: no visible binding for global variable ‘Intensity’
visualizeClusters: no visible binding for global variable
  ‘FDR_threshold’
visualizeClusters: no visible binding for global variable ‘feature’
wrapperClassic1wayAnova: no visible binding for global variable
  ‘Pr(>F)1’
wrapperRunClustering: no visible global function definition for ‘str_c’
Undefined global functions or variables:
  A B Condition FDR_threshold Intensity P.Value Pr(>F)1 Prostar.loc
  TukeyHSD adjusted_pvalues aov cond condition exprs feature g input
  installed.packages intensity layout_nicely nodes<- par stack str_c
  textGOParams x y
Consider adding
  importFrom("graphics", "par")
  importFrom("stats", "TukeyHSD", "aov")
  importFrom("utils", "installed.packages", "stack")
to your NAMESPACE file.
* checking Rd files ... OK
* checking Rd metadata ... OK
* checking Rd cross-references ... OK
* checking for missing documentation entries ... OK
* checking for code/documentation mismatches ... OK
* checking Rd \usage sections ... OK
* checking Rd contents ... OK
* checking for unstated dependencies in examples ... OK
* checking examples ... OK
Examples with CPU (user + system) or elapsed time > 5s
                                   user system elapsed
wrapper.compareNormalizationD_HC 59.305 17.274  80.299
wrapper.dapar.impute.mi          19.418  0.738  20.372
barplotEnrichGO_HC                8.594  1.067   9.856
barplotGroupGO_HC                 4.800  0.369   5.220
group_GO                          4.748  0.277   5.082
enrich_GO                         4.696  0.300   5.050
scatterplotEnrichGO_HC            4.727  0.254   5.036
* checking for unstated dependencies in ‘tests’ ... OK
* checking tests ...
  Running ‘testthat.R’
 OK
* checking PDF version of manual ... OK
* DONE

Status: 1 NOTE
See
  ‘/home/biocbuild/bbs-3.22-bioc/meat/DAPAR.Rcheck/00check.log’
for details.


Installation output

DAPAR.Rcheck/00install.out

##############################################################################
##############################################################################
###
### Running command:
###
###   /home/biocbuild/R/R/bin/R CMD INSTALL DAPAR
###
##############################################################################
##############################################################################


* installing to library ‘/home/biocbuild/R/R-4.5.0/site-library’
* installing *source* package ‘DAPAR’ ...
** this is package ‘DAPAR’ version ‘1.41.0’
** using staged installation
** R
** inst
** byte-compile and prepare package for lazy loading
** help
*** installing help indices
** building package indices
** testing if installed package can be loaded from temporary location
** testing if installed package can be loaded from final location
** testing if installed package keeps a record of temporary installation path
* DONE (DAPAR)

Tests output

DAPAR.Rcheck/tests/testthat.Rout


R version 4.5.0 (2025-04-11) -- "How About a Twenty-Six"
Copyright (C) 2025 The R Foundation for Statistical Computing
Platform: aarch64-unknown-linux-gnu

R is free software and comes with ABSOLUTELY NO WARRANTY.
You are welcome to redistribute it under certain conditions.
Type 'license()' or 'licence()' for distribution details.

R is a collaborative project with many contributors.
Type 'contributors()' for more information and
'citation()' on how to cite R or R packages in publications.

Type 'demo()' for some demos, 'help()' for on-line help, or
'help.start()' for an HTML browser interface to help.
Type 'q()' to quit R.

> library(testthat)
> library(DAPAR)

This is the 'DAPAR' version 1.41.0.

  To get started, visit
    http://www.prostar-proteomics.org/


> 
> test_check("DAPAR")

 Iterations: 

 1 / 1  - Imputation MNAR OK - 
Imputation MCAR in progress - 
3 % - 6 % - 9 % - 12 % - 15 % - 18 % - 21 % - 24 % - 27 % - 30 % - 33 % - 36 % - 39 % - 42 % - 45 % - 48 % - 51 % - 54 % - 57 % - 60 % - 63 % - 66 % - 69 % - 72 % - 75 % - 78 % - 81 % - 84 % - 87 % - 90 % - 93 % - 96 % - 99 % - 
 Iterations: 

 1 / 1  - Imputation MNAR OK - 
Imputation MCAR in progress - 
3 % - 6 % - 9 % - 12 % - 15 % - 18 % - 21 % - 24 % - 27 % - 30 % - 33 % - 36 % - 39 % - 42 % - 45 % - 48 % - 51 % - 54 % - 57 % - 60 % - 63 % - 66 % - 69 % - 72 % - 75 % - 78 % - 81 % - 84 % - 87 % - 90 % - 93 % - 96 % - 99 % - 
 Imputation in condition  1 ...
 In progress: 10 % - 20 % - 30 % - 40 % - 50 % - 60 % - 70 % - 80 % - 90 % - 100 % - 
 Imputation in condition  2 ...
 In progress: 10 % - 20 % - 30 % - 40 % - 50 % - 60 % - 70 % - 80 % - 90 % - 100 % - [ FAIL 0 | WARN 17 | SKIP 0 | PASS 66 ]

[ FAIL 0 | WARN 17 | SKIP 0 | PASS 66 ]
> 
> proc.time()
   user  system elapsed 
 42.117   1.320  43.653 

Example timings

DAPAR.Rcheck/DAPAR-Ex.timings

nameusersystemelapsed
AggregateMetacell0.6220.0070.635
BuildAdjacencyMatrix0.4710.0160.488
BuildColumnToProteinDataset0.5830.0000.585
BuildMetaCell0.7370.0320.775
CVDistD_HC4.1830.2194.475
Children0.0070.0000.007
CountPep0.4860.0120.499
ExtendPalette0.0360.0000.036
GOAnalysisSave000
GetCC2.3610.1732.539
GetColorsForConditions0.4190.0140.435
GetDetailedNbPeptides0.4640.0040.470
GetDetailedNbPeptidesUsed0.0010.0000.000
GetIndices_BasedOnConditions0.4610.0080.470
GetIndices_MetacellFiltering0.4630.0080.472
GetIndices_WholeLine0.4610.0000.462
GetIndices_WholeMatrix0.4640.0120.477
GetKeyId0.4380.0040.442
GetMatAdj0.5160.0080.526
GetMetacell000
GetMetacellTags0.4470.0160.464
GetNbPeptidesUsed0.4430.0120.456
GetNbTags000
GetSoftAvailables0.0000.0000.001
GetTypeofData0.4330.0080.443
Get_AllComparisons0.3400.0160.358
GlobalQuantileAlignment0.4620.0040.472
GraphPepProt0.4680.0000.469
LH0000
LH0.lm0.0010.0000.000
LH1000
LH1.lm000
LOESS1.8150.0351.854
MeanCentering0.4920.0080.501
MetaCellFiltering0.6820.0120.697
MetacellFilteringScope000
Metacell_DIA_NN0.5270.0100.538
Metacell_generic0.4360.0140.450
Metacell_maxquant0.4950.0040.500
Metacell_proline0.4310.0080.441
NumericalFiltering0.4890.0160.506
NumericalgetIndicesOfLinesToRemove0.4400.0080.449
OWAnova0.0080.0000.008
QuantileCentering0.4840.0000.485
SetCC2.2570.0962.359
SetMatAdj0.5110.0040.516
Set_POV_MEC_tags0.4560.0000.457
StringBasedFiltering0.4810.0080.490
StringBasedFiltering20.4750.0080.484
SumByColumns1.7670.1081.879
SymFilteringOperators000
UpdateMetacellAfterImputation0.4780.0040.483
aggregateIter0.6670.0280.697
aggregateIterParallel000
aggregateMean0.5690.0160.586
aggregateSum0.6020.0200.624
aggregateTopn0.5630.0160.581
applyAnovasOnProteins0.1440.0000.144
averageIntensities0.5710.0750.656
barplotEnrichGO_HC8.5941.0679.856
barplotGroupGO_HC4.8000.3695.220
boxPlotD_HC0.3720.0200.398
buildGraph1.5740.0761.657
check.conditions0.4220.0000.423
check.design0.4200.0040.425
checkClusterability3.4741.2114.961
classic1wayAnova0.0010.0000.000
compareNormalizationD_HC0.1690.0320.203
compute.selection.table0.8860.0991.010
compute_t_tests1.5280.2171.795
corrMatrixD_HC0.5800.0310.617
createMSnset1.9260.0401.976
createMSnset21.8240.0481.884
dapar_hc_ExportMenu0.1480.0470.200
dapar_hc_chart0.0740.0160.092
deleteLinesFromIndices0.4880.0160.505
densityPlotD_HC3.5370.9284.660
diffAnaComputeAdjustedPValues0.2390.0350.279
diffAnaComputeFDR000
diffAnaGetSignificant0.3380.0320.380
diffAnaSave0.3140.0430.367
diffAnaVolcanoplot0.2050.0230.233
diffAnaVolcanoplot_rCharts0.4340.0840.530
display.CC.visNet1.6690.1591.840
enrich_GO4.6960.3005.050
finalizeAggregation000
findMECBlock0.5590.0150.576
formatHSDResults000
formatLimmaResult0.1860.0240.213
formatPHResults000
formatPHTResults000
fudge2LRT000
get.pep.prot.cc1.4990.0111.517
getDesignLevel0.4210.0120.434
getIndicesConditions0.4210.0040.426
getIndicesOfLinesToRemove0.4480.0040.455
getListNbValuesInLines0.4220.0000.424
getNumberOf0.4470.0040.452
getNumberOfEmptyLines0.4480.0160.466
getPourcentageOfMV0.4370.0200.459
getProcessingInfo0.4130.0120.425
getProteinsStats0.4530.0160.471
getQuantile4Imp0.110.000.11
getTextForAggregation000
getTextForAnaDiff000
getTextForFiltering000
getTextForGOAnalysis0.0000.0000.001
getTextForHypothesisTest000
getTextForNewDataset0.0030.0000.003
getTextForNormalization0.0000.0000.001
getTextForpeptideImputation000
getTextForproteinImputation0.0010.0000.000
globalAdjPval0.5690.0270.606
group_GO4.7480.2775.082
hc_logFC_DensityPlot0.8510.1821.071
hc_mvTypePlot21.0650.1371.240
heatmapD0.7690.0250.799
heatmapForMissingValues0.2130.0110.227
histPValue_HC0.2780.0240.308
impute.pa20.5130.0160.530
inner.aggregate.iter0.5290.0120.544
inner.aggregate.topn0.5070.0070.518
inner.mean0.5020.0000.505
inner.sum0.5420.0110.556
is.subset0.0010.0000.001
limmaCompleteTest2.0420.0802.138
listSheets000
make.contrast0.4480.0040.453
make.design.10.4520.0000.453
make.design.20.4430.0120.456
make.design.30.4550.0190.475
make.design0.4990.0000.501
match.metacell0.4680.0110.481
metacell.def0.0070.0000.007
metacellHisto_HC0.5140.0240.540
metacellPerLinesHistoPerCondition_HC0.6410.0350.681
metacellPerLinesHisto_HC0.7990.0680.877
metacombine0.2390.0120.253
mvImage3.0220.1533.206
my_hc_ExportMenu0.1670.0280.199
my_hc_chart0.1720.0320.208
nonzero0.0250.0000.025
normalizeMethods.dapar000
pepa.test0.4880.0100.501
pkgs.require0.0010.0000.000
plotJitter1.6780.0921.777
plotJitter_rCharts1.5530.0641.625
plotPCA_Eigen0.5140.0310.550
plotPCA_Eigen_hc0.4250.0040.429
plotPCA_Ind0.4350.0040.439
plotPCA_Var0.4270.0080.436
postHocTest000
proportionConRev_HC0.0630.0160.080
rbindMSnset0.5410.0310.579
reIntroduceMEC0.5040.0110.520
readExcel000
removeLines0.4880.0040.495
samLRT000
saveParameters0.4210.0080.431
scatterplotEnrichGO_HC4.7270.2545.036
search.metacell.tags0.0060.0050.010
separateAdjPval0.2170.0120.231
splitAdjacencyMat0.4770.0150.495
test.design0.4600.0000.461
testAnovaModels0.1480.0040.155
thresholdpval4fdr000
translatedRandomBeta0.0030.0000.003
univ_AnnotDbPkg0.2230.0200.246
violinPlotD0.3620.0170.382
visualizeClusters1.9610.2182.234
vsn0.7410.0220.768
wrapper.CVDistD_HC2.4050.6133.152
wrapper.compareNormalizationD_HC59.30517.27480.299
wrapper.corrMatrixD_HC0.6050.0190.630
wrapper.dapar.impute.mi19.418 0.73820.372
wrapper.heatmapD0.6270.0190.651
wrapper.impute.KNN0.4530.0230.479
wrapper.impute.detQuant0.5190.0120.536
wrapper.impute.fixedValue0.5280.0160.558
wrapper.impute.mle0.4690.0120.483
wrapper.impute.pa0.1540.0160.172
wrapper.impute.pa20.4720.0190.494
wrapper.impute.slsa0.6400.0530.699
wrapper.mvImage0.2340.0150.252
wrapper.normalizeD0.4420.0040.447
wrapper.pca0.1730.0210.197
wrapperCalibrationPlot0.2090.0480.260
wrapperClassic1wayAnova000
wrapperRunClustering3.0660.3083.447
write.excel0.9570.0931.072
writeMSnsetToCSV0.4470.0120.464
writeMSnsetToExcel1.1400.1251.289