| Back to Multiple platform build/check report for BioC 3.22: simplified long |
|
This page was generated on 2025-11-15 11:58 -0500 (Sat, 15 Nov 2025).
| Hostname | OS | Arch (*) | R version | Installed pkgs |
|---|---|---|---|---|
| nebbiolo2 | Linux (Ubuntu 24.04.3 LTS) | x86_64 | 4.5.1 Patched (2025-08-23 r88802) -- "Great Square Root" | 4903 |
| taishan | Linux (openEuler 24.03 LTS) | aarch64 | 4.5.0 (2025-04-11) -- "How About a Twenty-Six" | 4668 |
| Click on any hostname to see more info about the system (e.g. compilers) (*) as reported by 'uname -p', except on Windows and Mac OS X | ||||
| Package 523/2361 | Hostname | OS / Arch | INSTALL | BUILD | CHECK | BUILD BIN | ||||||||
| DAPAR 1.42.0 (landing page) Samuel Wieczorek
| nebbiolo2 | Linux (Ubuntu 24.04.3 LTS) / x86_64 | OK | OK | OK | |||||||||
| taishan | Linux (openEuler 24.03 LTS) / aarch64 | OK | OK | OK | ||||||||||
|
To the developers/maintainers of the DAPAR package: - Allow up to 24 hours (and sometimes 48 hours) for your latest push to git@git.bioconductor.org:packages/DAPAR.git to reflect on this report. See Troubleshooting Build Report for more information. - Use the following Renviron settings to reproduce errors and warnings. - If 'R CMD check' started to fail recently on the Linux builder(s) over a missing dependency, add the missing dependency to 'Suggests:' in your DESCRIPTION file. See Renviron.bioc for more information. |
| Package: DAPAR |
| Version: 1.42.0 |
| Command: /home/biocbuild/bbs-3.22-bioc/R/bin/R CMD check --install=check:DAPAR.install-out.txt --library=/home/biocbuild/bbs-3.22-bioc/R/site-library --timings DAPAR_1.42.0.tar.gz |
| StartedAt: 2025-11-14 22:51:11 -0500 (Fri, 14 Nov 2025) |
| EndedAt: 2025-11-14 22:59:51 -0500 (Fri, 14 Nov 2025) |
| EllapsedTime: 519.4 seconds |
| RetCode: 0 |
| Status: OK |
| CheckDir: DAPAR.Rcheck |
| Warnings: 0 |
##############################################################################
##############################################################################
###
### Running command:
###
### /home/biocbuild/bbs-3.22-bioc/R/bin/R CMD check --install=check:DAPAR.install-out.txt --library=/home/biocbuild/bbs-3.22-bioc/R/site-library --timings DAPAR_1.42.0.tar.gz
###
##############################################################################
##############################################################################
* using log directory ‘/home/biocbuild/bbs-3.22-bioc/meat/DAPAR.Rcheck’
* using R version 4.5.1 Patched (2025-08-23 r88802)
* using platform: x86_64-pc-linux-gnu
* R was compiled by
gcc (Ubuntu 13.3.0-6ubuntu2~24.04) 13.3.0
GNU Fortran (Ubuntu 13.3.0-6ubuntu2~24.04) 13.3.0
* running under: Ubuntu 24.04.3 LTS
* using session charset: UTF-8
* checking for file ‘DAPAR/DESCRIPTION’ ... OK
* checking extension type ... Package
* this is package ‘DAPAR’ version ‘1.42.0’
* package encoding: UTF-8
* checking package namespace information ... OK
* checking package dependencies ... INFO
Vignette dependency required without any vignettes: ‘knitr’
* checking if this is a source package ... OK
* checking if there is a namespace ... OK
* checking for hidden files and directories ... OK
* checking for portable file names ... OK
* checking for sufficient/correct file permissions ... OK
* checking whether package ‘DAPAR’ can be installed ... OK
* checking installed package size ... OK
* checking package directory ... OK
* checking DESCRIPTION meta-information ... OK
* checking top-level files ... OK
* checking for left-over files ... OK
* checking index information ... OK
* checking package subdirectories ... OK
* checking code files for non-ASCII characters ... OK
* checking R files for syntax errors ... OK
* checking whether the package can be loaded ... OK
* checking whether the package can be loaded with stated dependencies ... OK
* checking whether the package can be unloaded cleanly ... OK
* checking whether the namespace can be loaded with stated dependencies ... OK
* checking whether the namespace can be unloaded cleanly ... OK
* checking loading without being on the library search path ... OK
* checking whether startup messages can be suppressed ... OK
* checking dependencies in R code ... OK
* checking S3 generic/method consistency ... OK
* checking replacement functions ... OK
* checking foreign function calls ... OK
* checking R code for possible problems ... NOTE
Check_Dataset_Validity: no visible global function definition for
‘exprs’
OWAnova: no visible global function definition for ‘aov’
aggregateIterParallel: no visible binding for global variable ‘cond’
averageIntensities: no visible binding for global variable ‘condition’
averageIntensities: no visible binding for global variable ‘feature’
averageIntensities: no visible binding for global variable ‘intensity’
createMSnset: no visible global function definition for
‘installed.packages’
createMSnset: no visible binding for global variable ‘Prostar.loc’
createMSnset2: no visible global function definition for
‘installed.packages’
createMSnset2: no visible binding for global variable ‘Prostar.loc’
diffAnaVolcanoplot_rCharts: no visible binding for global variable ‘x’
diffAnaVolcanoplot_rCharts: no visible binding for global variable ‘y’
diffAnaVolcanoplot_rCharts: no visible binding for global variable ‘g’
display.CC.visNet: no visible binding for global variable
‘layout_nicely’
getTextForGOAnalysis: no visible binding for global variable
‘textGOParams’
getTextForGOAnalysis: no visible binding for global variable ‘input’
globalAdjPval: no visible global function definition for ‘stack’
heatmapForMissingValues: no visible binding for global variable ‘par’
limmaCompleteTest: no visible binding for global variable ‘A’
limmaCompleteTest: no visible binding for global variable ‘B’
limmaCompleteTest: no visible binding for global variable ‘P.Value’
pepa.test: no visible global function definition for ‘nodes<-’
testAnovaModels : <anonymous>: no visible global function definition
for ‘TukeyHSD’
visualizeClusters: no visible binding for global variable
‘adjusted_pvalues’
visualizeClusters: no visible binding for global variable ‘Condition’
visualizeClusters: no visible binding for global variable ‘Intensity’
visualizeClusters: no visible binding for global variable
‘FDR_threshold’
visualizeClusters: no visible binding for global variable ‘feature’
wrapperClassic1wayAnova: no visible binding for global variable
‘Pr(>F)1’
wrapperRunClustering: no visible global function definition for ‘str_c’
Undefined global functions or variables:
A B Condition FDR_threshold Intensity P.Value Pr(>F)1 Prostar.loc
TukeyHSD adjusted_pvalues aov cond condition exprs feature g input
installed.packages intensity layout_nicely nodes<- par stack str_c
textGOParams x y
Consider adding
importFrom("graphics", "par")
importFrom("stats", "TukeyHSD", "aov")
importFrom("utils", "installed.packages", "stack")
to your NAMESPACE file.
* checking Rd files ... OK
* checking Rd metadata ... OK
* checking Rd cross-references ... OK
* checking for missing documentation entries ... OK
* checking for code/documentation mismatches ... OK
* checking Rd \usage sections ... OK
* checking Rd contents ... OK
* checking for unstated dependencies in examples ... OK
* checking examples ... OK
Examples with CPU (user + system) or elapsed time > 5s
user system elapsed
wrapper.compareNormalizationD_HC 36.614 11.691 48.648
wrapper.dapar.impute.mi 12.968 0.442 13.435
barplotEnrichGO_HC 7.445 0.595 8.092
* checking for unstated dependencies in ‘tests’ ... OK
* checking tests ...
Running ‘testthat.R’
OK
* checking PDF version of manual ... OK
* DONE
Status: 1 NOTE
See
‘/home/biocbuild/bbs-3.22-bioc/meat/DAPAR.Rcheck/00check.log’
for details.
DAPAR.Rcheck/00install.out
############################################################################## ############################################################################## ### ### Running command: ### ### /home/biocbuild/bbs-3.22-bioc/R/bin/R CMD INSTALL DAPAR ### ############################################################################## ############################################################################## * installing to library ‘/home/biocbuild/bbs-3.22-bioc/R/site-library’ * installing *source* package ‘DAPAR’ ... ** this is package ‘DAPAR’ version ‘1.42.0’ ** using staged installation ** R ** inst ** byte-compile and prepare package for lazy loading ** help *** installing help indices ** building package indices ** testing if installed package can be loaded from temporary location ** testing if installed package can be loaded from final location ** testing if installed package keeps a record of temporary installation path * DONE (DAPAR)
DAPAR.Rcheck/tests/testthat.Rout
R version 4.5.1 Patched (2025-08-23 r88802) -- "Great Square Root"
Copyright (C) 2025 The R Foundation for Statistical Computing
Platform: x86_64-pc-linux-gnu
R is free software and comes with ABSOLUTELY NO WARRANTY.
You are welcome to redistribute it under certain conditions.
Type 'license()' or 'licence()' for distribution details.
R is a collaborative project with many contributors.
Type 'contributors()' for more information and
'citation()' on how to cite R or R packages in publications.
Type 'demo()' for some demos, 'help()' for on-line help, or
'help.start()' for an HTML browser interface to help.
Type 'q()' to quit R.
> library(testthat)
> library(DAPAR)
This is the 'DAPAR' version 1.42.0.
To get started, visit
http://www.prostar-proteomics.org/
>
> test_check("DAPAR")
Iterations:
1 / 1 - Imputation MNAR OK -
Imputation MCAR in progress -
3 % - 6 % - 9 % - 12 % - 15 % - 18 % - 21 % - 24 % - 27 % - 30 % - 33 % - 36 % - 39 % - 42 % - 45 % - 48 % - 51 % - 54 % - 57 % - 60 % - 63 % - 66 % - 69 % - 72 % - 75 % - 78 % - 81 % - 84 % - 87 % - 90 % - 93 % - 96 % - 99 % -
Iterations:
1 / 1 - Imputation MNAR OK -
Imputation MCAR in progress -
3 % - 6 % - 9 % - 12 % - 15 % - 18 % - 21 % - 24 % - 27 % - 30 % - 33 % - 36 % - 39 % - 42 % - 45 % - 48 % - 51 % - 54 % - 57 % - 60 % - 63 % - 66 % - 69 % - 72 % - 75 % - 78 % - 81 % - 84 % - 87 % - 90 % - 93 % - 96 % - 99 % -
Imputation in condition 1 ...
In progress: 10 % - 20 % - 30 % - 40 % - 50 % - 60 % - 70 % - 80 % - 90 % - 100 % -
Imputation in condition 2 ...
In progress: 10 % - 20 % - 30 % - 40 % - 50 % - 60 % - 70 % - 80 % - 90 % - 100 % - [ FAIL 0 | WARN 17 | SKIP 9 | PASS 66 ]
══ Skipped tests (9) ═══════════════════════════════════════════════════════════
• empty test (9): , , , , , , , ,
[ FAIL 0 | WARN 17 | SKIP 9 | PASS 66 ]
>
> proc.time()
user system elapsed
31.616 0.930 32.542
DAPAR.Rcheck/DAPAR-Ex.timings
| name | user | system | elapsed | |
| AggregateMetacell | 0.586 | 0.017 | 0.603 | |
| BuildAdjacencyMatrix | 0.471 | 0.019 | 0.490 | |
| BuildColumnToProteinDataset | 0.616 | 0.040 | 0.656 | |
| BuildMetaCell | 1.982 | 0.066 | 2.049 | |
| CVDistD_HC | 2.086 | 0.165 | 2.269 | |
| Children | 0.005 | 0.000 | 0.005 | |
| CountPep | 0.522 | 0.015 | 0.538 | |
| ExtendPalette | 0.024 | 0.001 | 0.025 | |
| GOAnalysisSave | 0 | 0 | 0 | |
| GetCC | 2.883 | 0.076 | 2.958 | |
| GetColorsForConditions | 0.459 | 0.008 | 0.467 | |
| GetDetailedNbPeptides | 0.467 | 0.012 | 0.479 | |
| GetDetailedNbPeptidesUsed | 0.000 | 0.000 | 0.001 | |
| GetIndices_BasedOnConditions | 0.470 | 0.006 | 0.476 | |
| GetIndices_MetacellFiltering | 0.464 | 0.010 | 0.475 | |
| GetIndices_WholeLine | 0.460 | 0.009 | 0.469 | |
| GetIndices_WholeMatrix | 0.466 | 0.017 | 0.484 | |
| GetKeyId | 0.468 | 0.007 | 0.475 | |
| GetMatAdj | 0.518 | 0.010 | 0.527 | |
| GetMetacell | 0 | 0 | 0 | |
| GetMetacellTags | 0.470 | 0.017 | 0.487 | |
| GetNbPeptidesUsed | 0.459 | 0.011 | 0.470 | |
| GetNbTags | 0 | 0 | 0 | |
| GetSoftAvailables | 0 | 0 | 0 | |
| GetTypeofData | 0.458 | 0.006 | 0.464 | |
| Get_AllComparisons | 0.291 | 0.006 | 0.298 | |
| GlobalQuantileAlignment | 0.478 | 0.009 | 0.489 | |
| GraphPepProt | 0.479 | 0.011 | 0.489 | |
| LH0 | 0 | 0 | 0 | |
| LH0.lm | 0 | 0 | 0 | |
| LH1 | 0 | 0 | 0 | |
| LH1.lm | 0.001 | 0.000 | 0.000 | |
| LOESS | 1.189 | 0.010 | 1.199 | |
| MeanCentering | 0.511 | 0.005 | 0.517 | |
| MetaCellFiltering | 0.659 | 0.007 | 0.667 | |
| MetacellFilteringScope | 0.000 | 0.000 | 0.001 | |
| Metacell_DIA_NN | 0.622 | 0.025 | 0.647 | |
| Metacell_generic | 0.467 | 0.004 | 0.471 | |
| Metacell_maxquant | 0.512 | 0.009 | 0.520 | |
| Metacell_proline | 0.438 | 0.002 | 0.441 | |
| NumericalFiltering | 0.493 | 0.013 | 0.506 | |
| NumericalgetIndicesOfLinesToRemove | 0.459 | 0.017 | 0.477 | |
| OWAnova | 0.006 | 0.000 | 0.006 | |
| QuantileCentering | 0.496 | 0.009 | 0.506 | |
| SetCC | 3.189 | 0.137 | 3.327 | |
| SetMatAdj | 0.483 | 0.014 | 0.497 | |
| Set_POV_MEC_tags | 0.444 | 0.014 | 0.458 | |
| StringBasedFiltering | 0.475 | 0.014 | 0.489 | |
| StringBasedFiltering2 | 0.472 | 0.008 | 0.481 | |
| SumByColumns | 1.254 | 0.033 | 1.287 | |
| SymFilteringOperators | 0 | 0 | 0 | |
| UpdateMetacellAfterImputation | 0.444 | 0.014 | 0.458 | |
| aggregateIter | 0.586 | 0.008 | 0.594 | |
| aggregateIterParallel | 0 | 0 | 0 | |
| aggregateMean | 0.518 | 0.017 | 0.535 | |
| aggregateSum | 0.541 | 0.011 | 0.552 | |
| aggregateTopn | 0.506 | 0.010 | 0.516 | |
| applyAnovasOnProteins | 0.136 | 0.002 | 0.138 | |
| averageIntensities | 0.458 | 0.054 | 0.513 | |
| barplotEnrichGO_HC | 7.445 | 0.595 | 8.092 | |
| barplotGroupGO_HC | 3.831 | 0.202 | 4.041 | |
| boxPlotD_HC | 0.258 | 0.021 | 0.280 | |
| buildGraph | 1.558 | 0.015 | 1.573 | |
| check.conditions | 0.422 | 0.006 | 0.428 | |
| check.design | 0.428 | 0.007 | 0.435 | |
| checkClusterability | 2.346 | 0.953 | 3.333 | |
| classic1wayAnova | 0 | 0 | 0 | |
| compareNormalizationD_HC | 0.168 | 0.010 | 0.178 | |
| compute.selection.table | 0.631 | 0.051 | 0.685 | |
| compute_t_tests | 0.980 | 0.073 | 1.057 | |
| corrMatrixD_HC | 0.519 | 0.019 | 0.538 | |
| createMSnset | 1.503 | 0.048 | 1.552 | |
| createMSnset2 | 1.510 | 0.044 | 1.555 | |
| dapar_hc_ExportMenu | 0.117 | 0.025 | 0.142 | |
| dapar_hc_chart | 0.049 | 0.009 | 0.058 | |
| deleteLinesFromIndices | 0.499 | 0.009 | 0.508 | |
| densityPlotD_HC | 2.571 | 0.528 | 3.111 | |
| diffAnaComputeAdjustedPValues | 0.182 | 0.009 | 0.191 | |
| diffAnaComputeFDR | 0.001 | 0.000 | 0.000 | |
| diffAnaGetSignificant | 0.261 | 0.026 | 0.290 | |
| diffAnaSave | 0.262 | 0.017 | 0.283 | |
| diffAnaVolcanoplot | 0.187 | 0.007 | 0.195 | |
| diffAnaVolcanoplot_rCharts | 0.355 | 0.037 | 0.395 | |
| display.CC.visNet | 1.814 | 0.028 | 1.846 | |
| enrich_GO | 3.888 | 0.176 | 4.069 | |
| finalizeAggregation | 0 | 0 | 0 | |
| findMECBlock | 0.466 | 0.011 | 0.477 | |
| formatHSDResults | 0 | 0 | 0 | |
| formatLimmaResult | 0.168 | 0.014 | 0.182 | |
| formatPHResults | 0.000 | 0.000 | 0.001 | |
| formatPHTResults | 0 | 0 | 0 | |
| fudge2LRT | 0 | 0 | 0 | |
| get.pep.prot.cc | 1.815 | 0.082 | 1.896 | |
| getDesignLevel | 0.424 | 0.010 | 0.435 | |
| getIndicesConditions | 0.436 | 0.004 | 0.440 | |
| getIndicesOfLinesToRemove | 0.445 | 0.009 | 0.454 | |
| getListNbValuesInLines | 0.426 | 0.008 | 0.433 | |
| getNumberOf | 0.446 | 0.007 | 0.453 | |
| getNumberOfEmptyLines | 0.450 | 0.011 | 0.461 | |
| getPourcentageOfMV | 0.451 | 0.010 | 0.462 | |
| getProcessingInfo | 0.438 | 0.005 | 0.442 | |
| getProteinsStats | 0.469 | 0.017 | 0.486 | |
| getQuantile4Imp | 0.119 | 0.006 | 0.125 | |
| getTextForAggregation | 0 | 0 | 0 | |
| getTextForAnaDiff | 0.001 | 0.000 | 0.000 | |
| getTextForFiltering | 0.000 | 0.000 | 0.001 | |
| getTextForGOAnalysis | 0 | 0 | 0 | |
| getTextForHypothesisTest | 0.001 | 0.000 | 0.000 | |
| getTextForNewDataset | 0.002 | 0.000 | 0.003 | |
| getTextForNormalization | 0 | 0 | 0 | |
| getTextForpeptideImputation | 0.001 | 0.000 | 0.000 | |
| getTextForproteinImputation | 0 | 0 | 0 | |
| globalAdjPval | 0.415 | 0.018 | 0.434 | |
| group_GO | 3.843 | 0.180 | 4.027 | |
| hc_logFC_DensityPlot | 0.657 | 0.100 | 0.763 | |
| hc_mvTypePlot2 | 0.802 | 0.138 | 0.941 | |
| heatmapD | 0.709 | 0.021 | 0.729 | |
| heatmapForMissingValues | 0.197 | 0.007 | 0.204 | |
| histPValue_HC | 0.321 | 0.022 | 0.344 | |
| impute.pa2 | 0.484 | 0.013 | 0.497 | |
| inner.aggregate.iter | 0.490 | 0.013 | 0.503 | |
| inner.aggregate.topn | 0.471 | 0.006 | 0.477 | |
| inner.mean | 0.465 | 0.011 | 0.477 | |
| inner.sum | 0.464 | 0.006 | 0.470 | |
| is.subset | 0 | 0 | 0 | |
| limmaCompleteTest | 1.274 | 0.024 | 1.299 | |
| listSheets | 0 | 0 | 0 | |
| make.contrast | 0.430 | 0.014 | 0.444 | |
| make.design.1 | 0.439 | 0.006 | 0.446 | |
| make.design.2 | 0.440 | 0.009 | 0.450 | |
| make.design.3 | 0.440 | 0.006 | 0.446 | |
| make.design | 0.437 | 0.010 | 0.447 | |
| match.metacell | 0.458 | 0.016 | 0.475 | |
| metacell.def | 0.004 | 0.001 | 0.004 | |
| metacellHisto_HC | 0.509 | 0.017 | 0.526 | |
| metacellPerLinesHistoPerCondition_HC | 0.578 | 0.024 | 0.603 | |
| metacellPerLinesHisto_HC | 0.680 | 0.050 | 0.732 | |
| metacombine | 0.142 | 0.004 | 0.146 | |
| mvImage | 1.892 | 0.059 | 1.955 | |
| my_hc_ExportMenu | 0.112 | 0.019 | 0.130 | |
| my_hc_chart | 0.105 | 0.024 | 0.129 | |
| nonzero | 0.016 | 0.000 | 0.016 | |
| normalizeMethods.dapar | 0 | 0 | 0 | |
| pepa.test | 0.463 | 0.008 | 0.472 | |
| pkgs.require | 0.000 | 0.000 | 0.001 | |
| plotJitter | 1.703 | 0.015 | 1.719 | |
| plotJitter_rCharts | 1.476 | 0.015 | 1.492 | |
| plotPCA_Eigen | 0.491 | 0.014 | 0.506 | |
| plotPCA_Eigen_hc | 0.424 | 0.008 | 0.432 | |
| plotPCA_Ind | 0.418 | 0.015 | 0.434 | |
| plotPCA_Var | 0.422 | 0.009 | 0.430 | |
| postHocTest | 0 | 0 | 0 | |
| proportionConRev_HC | 0.041 | 0.008 | 0.050 | |
| rbindMSnset | 0.499 | 0.023 | 0.522 | |
| reIntroduceMEC | 0.483 | 0.019 | 0.503 | |
| readExcel | 0 | 0 | 0 | |
| removeLines | 0.465 | 0.016 | 0.482 | |
| samLRT | 0.000 | 0.000 | 0.001 | |
| saveParameters | 0.432 | 0.007 | 0.442 | |
| scatterplotEnrichGO_HC | 3.950 | 0.207 | 4.169 | |
| search.metacell.tags | 0.007 | 0.000 | 0.007 | |
| separateAdjPval | 0.194 | 0.007 | 0.203 | |
| splitAdjacencyMat | 0.473 | 0.010 | 0.484 | |
| test.design | 0.508 | 0.005 | 0.513 | |
| testAnovaModels | 0.140 | 0.005 | 0.146 | |
| thresholdpval4fdr | 0.000 | 0.000 | 0.001 | |
| translatedRandomBeta | 0.002 | 0.000 | 0.002 | |
| univ_AnnotDbPkg | 0.151 | 0.014 | 0.166 | |
| violinPlotD | 0.292 | 0.012 | 0.305 | |
| visualizeClusters | 1.259 | 0.092 | 1.355 | |
| vsn | 0.701 | 0.014 | 0.715 | |
| wrapper.CVDistD_HC | 1.799 | 0.374 | 2.187 | |
| wrapper.compareNormalizationD_HC | 36.614 | 11.691 | 48.648 | |
| wrapper.corrMatrixD_HC | 0.514 | 0.020 | 0.535 | |
| wrapper.dapar.impute.mi | 12.968 | 0.442 | 13.435 | |
| wrapper.heatmapD | 0.629 | 0.012 | 0.642 | |
| wrapper.impute.KNN | 0.458 | 0.013 | 0.471 | |
| wrapper.impute.detQuant | 0.491 | 0.015 | 0.508 | |
| wrapper.impute.fixedValue | 0.499 | 0.020 | 0.522 | |
| wrapper.impute.mle | 0.470 | 0.011 | 0.482 | |
| wrapper.impute.pa | 0.150 | 0.011 | 0.161 | |
| wrapper.impute.pa2 | 0.460 | 0.012 | 0.471 | |
| wrapper.impute.slsa | 0.579 | 0.027 | 0.607 | |
| wrapper.mvImage | 0.162 | 0.015 | 0.177 | |
| wrapper.normalizeD | 0.440 | 0.005 | 0.445 | |
| wrapper.pca | 0.162 | 0.013 | 0.175 | |
| wrapperCalibrationPlot | 0.198 | 0.014 | 0.213 | |
| wrapperClassic1wayAnova | 0 | 0 | 0 | |
| wrapperRunClustering | 1.907 | 0.234 | 2.146 | |
| write.excel | 0.739 | 0.066 | 0.807 | |
| writeMSnsetToCSV | 0.446 | 0.010 | 0.458 | |
| writeMSnsetToExcel | 0.952 | 0.109 | 1.064 | |