| Back to Multiple platform build/check report for BioC 3.22: simplified long |
|
This page was generated on 2025-10-24 12:07 -0400 (Fri, 24 Oct 2025).
| Hostname | OS | Arch (*) | R version | Installed pkgs |
|---|---|---|---|---|
| nebbiolo2 | Linux (Ubuntu 24.04.3 LTS) | x86_64 | 4.5.1 Patched (2025-08-23 r88802) -- "Great Square Root" | 4898 |
| lconway | macOS 12.7.6 Monterey | x86_64 | 4.5.1 Patched (2025-09-10 r88807) -- "Great Square Root" | 4688 |
| kjohnson3 | macOS 13.7.7 Ventura | arm64 | 4.5.1 Patched (2025-09-10 r88807) -- "Great Square Root" | 4634 |
| taishan | Linux (openEuler 24.03 LTS) | aarch64 | 4.5.0 (2025-04-11) -- "How About a Twenty-Six" | 4658 |
| Click on any hostname to see more info about the system (e.g. compilers) (*) as reported by 'uname -p', except on Windows and Mac OS X | ||||
| Package 1948/2359 | Hostname | OS / Arch | INSTALL | BUILD | CHECK | BUILD BIN | ||||||||
| scrapper 1.3.17 (landing page) Aaron Lun
| nebbiolo2 | Linux (Ubuntu 24.04.3 LTS) / x86_64 | OK | OK | WARNINGS | |||||||||
| lconway | macOS 12.7.6 Monterey / x86_64 | OK | OK | OK | OK | |||||||||
| kjohnson3 | macOS 13.7.7 Ventura / arm64 | OK | OK | WARNINGS | OK | |||||||||
| taishan | Linux (openEuler 24.03 LTS) / aarch64 | OK | OK | NA | ||||||||||
|
To the developers/maintainers of the scrapper package: - Allow up to 24 hours (and sometimes 48 hours) for your latest push to git@git.bioconductor.org:packages/scrapper.git to reflect on this report. See Troubleshooting Build Report for more information. - Use the following Renviron settings to reproduce errors and warnings. - If 'R CMD check' started to fail recently on the Linux builder(s) over a missing dependency, add the missing dependency to 'Suggests:' in your DESCRIPTION file. See Renviron.bioc for more information. - See Martin Grigorov's blog post for how to debug Linux ARM64 related issues on a x86_64 host. |
| Package: scrapper |
| Version: 1.3.17 |
| Command: /home/biocbuild/R/R/bin/R CMD INSTALL scrapper |
| StartedAt: 2025-10-23 20:38:11 -0000 (Thu, 23 Oct 2025) |
| EndedAt: 2025-10-23 20:47:11 -0000 (Thu, 23 Oct 2025) |
| EllapsedTime: 540.1 seconds |
| RetCode: 0 |
| Status: OK |
##############################################################################
##############################################################################
###
### Running command:
###
### /home/biocbuild/R/R/bin/R CMD INSTALL scrapper
###
##############################################################################
##############################################################################
* installing to library ‘/home/biocbuild/R/R-4.5.0/site-library’
* installing *source* package ‘scrapper’ ...
** this is package ‘scrapper’ version ‘1.3.17’
** using staged installation
** libs
using C++ compiler: ‘aarch64-unknown-linux-gnu-g++ (GCC) 14.2.0’
using C++17
/opt/ohpc/pub/compiler/gcc/14.2.0/bin/aarch64-unknown-linux-gnu-g++ -std=gnu++17 -I"/home/biocbuild/R/R-4.5.0/include" -DNDEBUG -I'/home/biocbuild/R/R-4.5.0/site-library/Rigraphlib/igraph/include/igraph' -I'/home/biocbuild/R/R-4.5.0/site-library/Rcpp/include' -I'/home/biocbuild/R/R-4.5.0/site-library/assorthead/include' -I'/home/biocbuild/R/R-4.5.0/site-library/beachmat/include' -I'/home/biocbuild/R/R-4.5.0/site-library/BiocNeighbors/include' -I/usr/local/include -fPIC -g -O2 -Wall -Werror=format-security -c RcppExports.cpp -o RcppExports.o
/opt/ohpc/pub/compiler/gcc/14.2.0/bin/aarch64-unknown-linux-gnu-g++ -std=gnu++17 -I"/home/biocbuild/R/R-4.5.0/include" -DNDEBUG -I'/home/biocbuild/R/R-4.5.0/site-library/Rigraphlib/igraph/include/igraph' -I'/home/biocbuild/R/R-4.5.0/site-library/Rcpp/include' -I'/home/biocbuild/R/R-4.5.0/site-library/assorthead/include' -I'/home/biocbuild/R/R-4.5.0/site-library/beachmat/include' -I'/home/biocbuild/R/R-4.5.0/site-library/BiocNeighbors/include' -I/usr/local/include -fPIC -g -O2 -Wall -Werror=format-security -c adt_quality_control.cpp -o adt_quality_control.o
/opt/ohpc/pub/compiler/gcc/14.2.0/bin/aarch64-unknown-linux-gnu-g++ -std=gnu++17 -I"/home/biocbuild/R/R-4.5.0/include" -DNDEBUG -I'/home/biocbuild/R/R-4.5.0/site-library/Rigraphlib/igraph/include/igraph' -I'/home/biocbuild/R/R-4.5.0/site-library/Rcpp/include' -I'/home/biocbuild/R/R-4.5.0/site-library/assorthead/include' -I'/home/biocbuild/R/R-4.5.0/site-library/beachmat/include' -I'/home/biocbuild/R/R-4.5.0/site-library/BiocNeighbors/include' -I/usr/local/include -fPIC -g -O2 -Wall -Werror=format-security -c aggregate_across_cells.cpp -o aggregate_across_cells.o
/opt/ohpc/pub/compiler/gcc/14.2.0/bin/aarch64-unknown-linux-gnu-g++ -std=gnu++17 -I"/home/biocbuild/R/R-4.5.0/include" -DNDEBUG -I'/home/biocbuild/R/R-4.5.0/site-library/Rigraphlib/igraph/include/igraph' -I'/home/biocbuild/R/R-4.5.0/site-library/Rcpp/include' -I'/home/biocbuild/R/R-4.5.0/site-library/assorthead/include' -I'/home/biocbuild/R/R-4.5.0/site-library/beachmat/include' -I'/home/biocbuild/R/R-4.5.0/site-library/BiocNeighbors/include' -I/usr/local/include -fPIC -g -O2 -Wall -Werror=format-security -c aggregate_across_genes.cpp -o aggregate_across_genes.o
/opt/ohpc/pub/compiler/gcc/14.2.0/bin/aarch64-unknown-linux-gnu-g++ -std=gnu++17 -I"/home/biocbuild/R/R-4.5.0/include" -DNDEBUG -I'/home/biocbuild/R/R-4.5.0/site-library/Rigraphlib/igraph/include/igraph' -I'/home/biocbuild/R/R-4.5.0/site-library/Rcpp/include' -I'/home/biocbuild/R/R-4.5.0/site-library/assorthead/include' -I'/home/biocbuild/R/R-4.5.0/site-library/beachmat/include' -I'/home/biocbuild/R/R-4.5.0/site-library/BiocNeighbors/include' -I/usr/local/include -fPIC -g -O2 -Wall -Werror=format-security -c build_snn_graph.cpp -o build_snn_graph.o
/opt/ohpc/pub/compiler/gcc/14.2.0/bin/aarch64-unknown-linux-gnu-g++ -std=gnu++17 -I"/home/biocbuild/R/R-4.5.0/include" -DNDEBUG -I'/home/biocbuild/R/R-4.5.0/site-library/Rigraphlib/igraph/include/igraph' -I'/home/biocbuild/R/R-4.5.0/site-library/Rcpp/include' -I'/home/biocbuild/R/R-4.5.0/site-library/assorthead/include' -I'/home/biocbuild/R/R-4.5.0/site-library/beachmat/include' -I'/home/biocbuild/R/R-4.5.0/site-library/BiocNeighbors/include' -I/usr/local/include -fPIC -g -O2 -Wall -Werror=format-security -c center_size_factors.cpp -o center_size_factors.o
/opt/ohpc/pub/compiler/gcc/14.2.0/bin/aarch64-unknown-linux-gnu-g++ -std=gnu++17 -I"/home/biocbuild/R/R-4.5.0/include" -DNDEBUG -I'/home/biocbuild/R/R-4.5.0/site-library/Rigraphlib/igraph/include/igraph' -I'/home/biocbuild/R/R-4.5.0/site-library/Rcpp/include' -I'/home/biocbuild/R/R-4.5.0/site-library/assorthead/include' -I'/home/biocbuild/R/R-4.5.0/site-library/beachmat/include' -I'/home/biocbuild/R/R-4.5.0/site-library/BiocNeighbors/include' -I/usr/local/include -fPIC -g -O2 -Wall -Werror=format-security -c choose_highly_variable_genes.cpp -o choose_highly_variable_genes.o
/opt/ohpc/pub/compiler/gcc/14.2.0/bin/aarch64-unknown-linux-gnu-g++ -std=gnu++17 -I"/home/biocbuild/R/R-4.5.0/include" -DNDEBUG -I'/home/biocbuild/R/R-4.5.0/site-library/Rigraphlib/igraph/include/igraph' -I'/home/biocbuild/R/R-4.5.0/site-library/Rcpp/include' -I'/home/biocbuild/R/R-4.5.0/site-library/assorthead/include' -I'/home/biocbuild/R/R-4.5.0/site-library/beachmat/include' -I'/home/biocbuild/R/R-4.5.0/site-library/BiocNeighbors/include' -I/usr/local/include -fPIC -g -O2 -Wall -Werror=format-security -c choose_pseudo_count.cpp -o choose_pseudo_count.o
/opt/ohpc/pub/compiler/gcc/14.2.0/bin/aarch64-unknown-linux-gnu-g++ -std=gnu++17 -I"/home/biocbuild/R/R-4.5.0/include" -DNDEBUG -I'/home/biocbuild/R/R-4.5.0/site-library/Rigraphlib/igraph/include/igraph' -I'/home/biocbuild/R/R-4.5.0/site-library/Rcpp/include' -I'/home/biocbuild/R/R-4.5.0/site-library/assorthead/include' -I'/home/biocbuild/R/R-4.5.0/site-library/beachmat/include' -I'/home/biocbuild/R/R-4.5.0/site-library/BiocNeighbors/include' -I/usr/local/include -fPIC -g -O2 -Wall -Werror=format-security -c cluster_graph.cpp -o cluster_graph.o
/opt/ohpc/pub/compiler/gcc/14.2.0/bin/aarch64-unknown-linux-gnu-g++ -std=gnu++17 -I"/home/biocbuild/R/R-4.5.0/include" -DNDEBUG -I'/home/biocbuild/R/R-4.5.0/site-library/Rigraphlib/igraph/include/igraph' -I'/home/biocbuild/R/R-4.5.0/site-library/Rcpp/include' -I'/home/biocbuild/R/R-4.5.0/site-library/assorthead/include' -I'/home/biocbuild/R/R-4.5.0/site-library/beachmat/include' -I'/home/biocbuild/R/R-4.5.0/site-library/BiocNeighbors/include' -I/usr/local/include -fPIC -g -O2 -Wall -Werror=format-security -c cluster_kmeans.cpp -o cluster_kmeans.o
/opt/ohpc/pub/compiler/gcc/14.2.0/bin/aarch64-unknown-linux-gnu-g++ -std=gnu++17 -I"/home/biocbuild/R/R-4.5.0/include" -DNDEBUG -I'/home/biocbuild/R/R-4.5.0/site-library/Rigraphlib/igraph/include/igraph' -I'/home/biocbuild/R/R-4.5.0/site-library/Rcpp/include' -I'/home/biocbuild/R/R-4.5.0/site-library/assorthead/include' -I'/home/biocbuild/R/R-4.5.0/site-library/beachmat/include' -I'/home/biocbuild/R/R-4.5.0/site-library/BiocNeighbors/include' -I/usr/local/include -fPIC -g -O2 -Wall -Werror=format-security -c combine_factors.cpp -o combine_factors.o
/opt/ohpc/pub/compiler/gcc/14.2.0/bin/aarch64-unknown-linux-gnu-g++ -std=gnu++17 -I"/home/biocbuild/R/R-4.5.0/include" -DNDEBUG -I'/home/biocbuild/R/R-4.5.0/site-library/Rigraphlib/igraph/include/igraph' -I'/home/biocbuild/R/R-4.5.0/site-library/Rcpp/include' -I'/home/biocbuild/R/R-4.5.0/site-library/assorthead/include' -I'/home/biocbuild/R/R-4.5.0/site-library/beachmat/include' -I'/home/biocbuild/R/R-4.5.0/site-library/BiocNeighbors/include' -I/usr/local/include -fPIC -g -O2 -Wall -Werror=format-security -c compute_block_weights.cpp -o compute_block_weights.o
/opt/ohpc/pub/compiler/gcc/14.2.0/bin/aarch64-unknown-linux-gnu-g++ -std=gnu++17 -I"/home/biocbuild/R/R-4.5.0/include" -DNDEBUG -I'/home/biocbuild/R/R-4.5.0/site-library/Rigraphlib/igraph/include/igraph' -I'/home/biocbuild/R/R-4.5.0/site-library/Rcpp/include' -I'/home/biocbuild/R/R-4.5.0/site-library/assorthead/include' -I'/home/biocbuild/R/R-4.5.0/site-library/beachmat/include' -I'/home/biocbuild/R/R-4.5.0/site-library/BiocNeighbors/include' -I/usr/local/include -fPIC -g -O2 -Wall -Werror=format-security -c compute_clrm1_factors.cpp -o compute_clrm1_factors.o
/opt/ohpc/pub/compiler/gcc/14.2.0/bin/aarch64-unknown-linux-gnu-g++ -std=gnu++17 -I"/home/biocbuild/R/R-4.5.0/include" -DNDEBUG -I'/home/biocbuild/R/R-4.5.0/site-library/Rigraphlib/igraph/include/igraph' -I'/home/biocbuild/R/R-4.5.0/site-library/Rcpp/include' -I'/home/biocbuild/R/R-4.5.0/site-library/assorthead/include' -I'/home/biocbuild/R/R-4.5.0/site-library/beachmat/include' -I'/home/biocbuild/R/R-4.5.0/site-library/BiocNeighbors/include' -I/usr/local/include -fPIC -g -O2 -Wall -Werror=format-security -c correct_mnn.cpp -o correct_mnn.o
/opt/ohpc/pub/compiler/gcc/14.2.0/bin/aarch64-unknown-linux-gnu-g++ -std=gnu++17 -I"/home/biocbuild/R/R-4.5.0/include" -DNDEBUG -I'/home/biocbuild/R/R-4.5.0/site-library/Rigraphlib/igraph/include/igraph' -I'/home/biocbuild/R/R-4.5.0/site-library/Rcpp/include' -I'/home/biocbuild/R/R-4.5.0/site-library/assorthead/include' -I'/home/biocbuild/R/R-4.5.0/site-library/beachmat/include' -I'/home/biocbuild/R/R-4.5.0/site-library/BiocNeighbors/include' -I/usr/local/include -fPIC -g -O2 -Wall -Werror=format-security -c crispr_quality_control.cpp -o crispr_quality_control.o
/opt/ohpc/pub/compiler/gcc/14.2.0/bin/aarch64-unknown-linux-gnu-g++ -std=gnu++17 -I"/home/biocbuild/R/R-4.5.0/include" -DNDEBUG -I'/home/biocbuild/R/R-4.5.0/site-library/Rigraphlib/igraph/include/igraph' -I'/home/biocbuild/R/R-4.5.0/site-library/Rcpp/include' -I'/home/biocbuild/R/R-4.5.0/site-library/assorthead/include' -I'/home/biocbuild/R/R-4.5.0/site-library/beachmat/include' -I'/home/biocbuild/R/R-4.5.0/site-library/BiocNeighbors/include' -I/usr/local/include -fPIC -g -O2 -Wall -Werror=format-security -c fit_variance_trend.cpp -o fit_variance_trend.o
/opt/ohpc/pub/compiler/gcc/14.2.0/bin/aarch64-unknown-linux-gnu-g++ -std=gnu++17 -I"/home/biocbuild/R/R-4.5.0/include" -DNDEBUG -I'/home/biocbuild/R/R-4.5.0/site-library/Rigraphlib/igraph/include/igraph' -I'/home/biocbuild/R/R-4.5.0/site-library/Rcpp/include' -I'/home/biocbuild/R/R-4.5.0/site-library/assorthead/include' -I'/home/biocbuild/R/R-4.5.0/site-library/beachmat/include' -I'/home/biocbuild/R/R-4.5.0/site-library/BiocNeighbors/include' -I/usr/local/include -fPIC -g -O2 -Wall -Werror=format-security -c model_gene_variances.cpp -o model_gene_variances.o
In file included from /home/biocbuild/R/R-4.5.0/site-library/assorthead/include/tatami_stats/grouped_variances.hpp:5,
from /home/biocbuild/R/R-4.5.0/site-library/assorthead/include/tatami_stats/tatami_stats.hpp:7,
from /home/biocbuild/R/R-4.5.0/site-library/assorthead/include/scran_variances/model_gene_variances.hpp:10,
from /home/biocbuild/R/R-4.5.0/site-library/assorthead/include/scran_variances/scran_variances.hpp:5,
from model_gene_variances.cpp:8:
/home/biocbuild/R/R-4.5.0/site-library/assorthead/include/tatami_stats/variances.hpp: In instantiation of ‘std::pair<_FIter, _FIter> tatami_stats::variances::direct(const Value_*, Index_, Index_, bool) [with Output_ = double; Value_ = double; Index_ = int]’:
/home/biocbuild/R/R-4.5.0/site-library/assorthead/include/scran_variances/model_gene_variances.hpp:306:66: required from ‘void scran_variances::internal::compute_variances_sparse_row(const tatami::Matrix<Value_, Index_>&, const std::vector<scran_variances::ModelGeneVariancesBuffers<Stat_> >&, const Block_*, const std::vector<Index_, std::allocator<_T2> >&, int) [with Value_ = double; Index_ = int; Stat_ = double; Block_ = int]’
306 | const auto stat = tatami_stats::variances::direct(range.value, range.number, NC, false);
| ~~~~~~~~~~~~~~~~~~~~~~~~~~~~~~~^~~~~~~~~~~~~~~~~~~~~~~~~~~~~~~~~~~~~~
/home/biocbuild/R/R-4.5.0/site-library/assorthead/include/scran_variances/model_gene_variances.hpp:427:41: required from ‘void scran_variances::internal::compute_variances(const tatami::Matrix<Value_, Index_>&, const std::vector<scran_variances::ModelGeneVariancesBuffers<Stat_> >&, const Block_*, const std::vector<Index_, std::allocator<_T2> >&, int) [with Value_ = double; Index_ = int; Stat_ = double; Block_ = int]’
427 | compute_variances_sparse_row(mat, buffers, block, block_size, num_threads);
| ~~~~~~~~~~~~~~~~~~~~~~~~~~~~^~~~~~~~~~~~~~~~~~~~~~~~~~~~~~~~~~~~~~~~~~~~~~
/home/biocbuild/R/R-4.5.0/site-library/assorthead/include/scran_variances/model_gene_variances.hpp:511:36: required from ‘void scran_variances::model_gene_variances_blocked(const tatami::Matrix<Value_, Index_>&, const Block_*, const ModelGeneVariancesBlockedBuffers<Stat_>&, const ModelGeneVariancesOptions&) [with Value_ = double; Index_ = int; Block_ = int; Stat_ = double]’
511 | internal::compute_variances(mat, buffers.per_block, block, block_size, options.num_threads);
| ~~~~~~~~~~~~~~~~~~~~~~~~~~~^~~~~~~~~~~~~~~~~~~~~~~~~~~~~~~~~~~~~~~~~~~~~~~~~~~~~~~~~~~~~~~~
model_gene_variances.cpp:81:54: required from here
81 | scran_variances::model_gene_variances_blocked(*mat, ptr, bbuffers, opt);
| ~~~~~~~~~~~~~~~~~~~~~~~~~~~~~~~~~~~~~~~~~~~~~^~~~~~~~~~~~~~~~~~~~~~~~~~
/home/biocbuild/R/R-4.5.0/site-library/assorthead/include/tatami_stats/variances.hpp:98:29: note: parameter passing for argument of type ‘std::pair<double, double>’ when C++17 is enabled changed to match C++14 in GCC 10.1
98 | std::pair<Output_, Output_> direct(const Value_* value, Index_ num_nonzero, Index_ num_all, bool skip_nan) {
| ^~~~~~
/opt/ohpc/pub/compiler/gcc/14.2.0/bin/aarch64-unknown-linux-gnu-g++ -std=gnu++17 -I"/home/biocbuild/R/R-4.5.0/include" -DNDEBUG -I'/home/biocbuild/R/R-4.5.0/site-library/Rigraphlib/igraph/include/igraph' -I'/home/biocbuild/R/R-4.5.0/site-library/Rcpp/include' -I'/home/biocbuild/R/R-4.5.0/site-library/assorthead/include' -I'/home/biocbuild/R/R-4.5.0/site-library/beachmat/include' -I'/home/biocbuild/R/R-4.5.0/site-library/BiocNeighbors/include' -I/usr/local/include -fPIC -g -O2 -Wall -Werror=format-security -c normalize_counts.cpp -o normalize_counts.o
/opt/ohpc/pub/compiler/gcc/14.2.0/bin/aarch64-unknown-linux-gnu-g++ -std=gnu++17 -I"/home/biocbuild/R/R-4.5.0/include" -DNDEBUG -I'/home/biocbuild/R/R-4.5.0/site-library/Rigraphlib/igraph/include/igraph' -I'/home/biocbuild/R/R-4.5.0/site-library/Rcpp/include' -I'/home/biocbuild/R/R-4.5.0/site-library/assorthead/include' -I'/home/biocbuild/R/R-4.5.0/site-library/beachmat/include' -I'/home/biocbuild/R/R-4.5.0/site-library/BiocNeighbors/include' -I/usr/local/include -fPIC -g -O2 -Wall -Werror=format-security -c rna_quality_control.cpp -o rna_quality_control.o
/opt/ohpc/pub/compiler/gcc/14.2.0/bin/aarch64-unknown-linux-gnu-g++ -std=gnu++17 -I"/home/biocbuild/R/R-4.5.0/include" -DNDEBUG -I'/home/biocbuild/R/R-4.5.0/site-library/Rigraphlib/igraph/include/igraph' -I'/home/biocbuild/R/R-4.5.0/site-library/Rcpp/include' -I'/home/biocbuild/R/R-4.5.0/site-library/assorthead/include' -I'/home/biocbuild/R/R-4.5.0/site-library/beachmat/include' -I'/home/biocbuild/R/R-4.5.0/site-library/BiocNeighbors/include' -I/usr/local/include -fPIC -g -O2 -Wall -Werror=format-security -c run_pca.cpp -o run_pca.o
In file included from /home/biocbuild/R/R-4.5.0/site-library/assorthead/include/Eigen/Core:214,
from /home/biocbuild/R/R-4.5.0/site-library/assorthead/include/Eigen/Dense:1,
from /home/biocbuild/R/R-4.5.0/site-library/assorthead/include/irlba/compute.hpp:4,
from /home/biocbuild/R/R-4.5.0/site-library/assorthead/include/irlba/irlba.hpp:4,
from /home/biocbuild/R/R-4.5.0/site-library/assorthead/include/scran_pca/simple_pca.hpp:10,
from /home/biocbuild/R/R-4.5.0/site-library/assorthead/include/scran_pca/scran_pca.hpp:4,
from run_pca.cpp:10:
/home/biocbuild/R/R-4.5.0/site-library/assorthead/include/Eigen/src/Core/arch/NEON/PacketMath.h: In function ‘Packet Eigen::internal::pload(const typename unpacket_traits<T>::type*) [with Packet = eigen_packet_wrapper<int, 2>; typename unpacket_traits<T>::type = signed char]’:
/home/biocbuild/R/R-4.5.0/site-library/assorthead/include/Eigen/src/Core/arch/NEON/PacketMath.h:1671:9: warning: ‘void* memcpy(void*, const void*, size_t)’ copying an object of non-trivial type ‘Eigen::internal::Packet4c’ {aka ‘struct Eigen::internal::eigen_packet_wrapper<int, 2>’} from an array of ‘const int8_t’ {aka ‘const signed char’} [-Wclass-memaccess]
1671 | memcpy(&res, from, sizeof(Packet4c));
| ~~~~~~^~~~~~~~~~~~~~~~~~~~~~~~~~~~~~
In file included from /home/biocbuild/R/R-4.5.0/site-library/assorthead/include/Eigen/Core:172:
/home/biocbuild/R/R-4.5.0/site-library/assorthead/include/Eigen/src/Core/GenericPacketMath.h:159:8: note: ‘Eigen::internal::Packet4c’ {aka ‘struct Eigen::internal::eigen_packet_wrapper<int, 2>’} declared here
159 | struct eigen_packet_wrapper
| ^~~~~~~~~~~~~~~~~~~~
/home/biocbuild/R/R-4.5.0/site-library/assorthead/include/Eigen/src/Core/arch/NEON/PacketMath.h: In function ‘Packet Eigen::internal::ploadu(const typename unpacket_traits<T>::type*) [with Packet = eigen_packet_wrapper<int, 2>; typename unpacket_traits<T>::type = signed char]’:
/home/biocbuild/R/R-4.5.0/site-library/assorthead/include/Eigen/src/Core/arch/NEON/PacketMath.h:1716:9: warning: ‘void* memcpy(void*, const void*, size_t)’ copying an object of non-trivial type ‘Eigen::internal::Packet4c’ {aka ‘struct Eigen::internal::eigen_packet_wrapper<int, 2>’} from an array of ‘const int8_t’ {aka ‘const signed char’} [-Wclass-memaccess]
1716 | memcpy(&res, from, sizeof(Packet4c));
| ~~~~~~^~~~~~~~~~~~~~~~~~~~~~~~~~~~~~
/home/biocbuild/R/R-4.5.0/site-library/assorthead/include/Eigen/src/Core/GenericPacketMath.h:159:8: note: ‘Eigen::internal::Packet4c’ {aka ‘struct Eigen::internal::eigen_packet_wrapper<int, 2>’} declared here
159 | struct eigen_packet_wrapper
| ^~~~~~~~~~~~~~~~~~~~
In file included from /home/biocbuild/R/R-4.5.0/site-library/assorthead/include/tatami_stats/grouped_variances.hpp:5,
from /home/biocbuild/R/R-4.5.0/site-library/assorthead/include/tatami_stats/tatami_stats.hpp:7,
from /home/biocbuild/R/R-4.5.0/site-library/assorthead/include/scran_pca/simple_pca.hpp:9:
/home/biocbuild/R/R-4.5.0/site-library/assorthead/include/tatami_stats/variances.hpp: In instantiation of ‘std::pair<_FIter, _FIter> tatami_stats::variances::direct(const Value_*, Index_, Index_, bool) [with Output_ = double; Value_ = double; Index_ = int]’:
/home/biocbuild/R/R-4.5.0/site-library/assorthead/include/scran_pca/simple_pca.hpp:219:63: required from ‘void scran_pca::internal::run_sparse(const tatami::Matrix<Value_, Index_>&, const scran_pca::SimplePcaOptions&, EigenMatrix_&, EigenMatrix_&, EigenVector_&, EigenVector_&, EigenVector_&, typename EigenVector_::Scalar&, bool&) [with Value_ = double; Index_ = int; EigenMatrix_ = Eigen::Matrix<double, -1, -1>; EigenVector_ = Eigen::Matrix<double, -1, 1>; typename EigenVector_::Scalar = double]’
219 | auto results = tatami_stats::variances::direct(values.data() + offset, num_nonzero, ncells, /* skip_nan = */ false);
| ~~~~~~~~~~~~~~~~~~~~~~~~~~~~~~~^~~~~~~~~~~~~~~~~~~~~~~~~~~~~~~~~~~~~~~~~~~~~~~~~~~~~~~~~~~~~~~~~~~~~
/home/biocbuild/R/R-4.5.0/site-library/assorthead/include/scran_pca/simple_pca.hpp:406:29: required from ‘void scran_pca::simple_pca(const tatami::Matrix<Value_, Index_>&, const SimplePcaOptions&, SimplePcaResults<EigenMatrix_, EigenVector_>&) [with Value_ = double; Index_ = int; EigenMatrix_ = Eigen::Matrix<double, -1, -1>; EigenVector_ = Eigen::Matrix<double, -1, 1>]’
406 | internal::run_sparse(mat, options, output.components, output.rotation, output.variance_explained, output.center, output.scale, output.total_variance, output.converged);
| ~~~~~~~~~~~~~~~~~~~~^~~~~~~~~~~~~~~~~~~~~~~~~~~~~~~~~~~~~~~~~~~~~~~~~~~~~~~~~~~~~~~~~~~~~~~~~~~~~~~~~~~~~~~~~~~~~~~~~~~~~~~~~~~~~~~~~~~~~~~~~~~~~~~~~~~~~~~~~~~~~~~~~~~
/home/biocbuild/R/R-4.5.0/site-library/assorthead/include/scran_pca/simple_pca.hpp:439:15: required from ‘scran_pca::SimplePcaResults<EigenMatrix_, EigenVector_> scran_pca::simple_pca(const tatami::Matrix<Value_, Index_>&, const SimplePcaOptions&) [with EigenMatrix_ = Eigen::Matrix<double, -1, -1>; EigenVector_ = Eigen::Matrix<double, -1, 1>; Value_ = double; Index_ = int]’
439 | simple_pca(mat, options, output);
| ~~~~~~~~~~^~~~~~~~~~~~~~~~~~~~~~
run_pca.cpp:88:41: required from here
88 | auto out = scran_pca::simple_pca(*(mat->ptr), opt);
| ~~~~~~~~~~~~~~~~~~~~~^~~~~~~~~~~~~~~~~~
/home/biocbuild/R/R-4.5.0/site-library/assorthead/include/tatami_stats/variances.hpp:98:29: note: parameter passing for argument of type ‘std::pair<double, double>’ when C++17 is enabled changed to match C++14 in GCC 10.1
98 | std::pair<Output_, Output_> direct(const Value_* value, Index_ num_nonzero, Index_ num_all, bool skip_nan) {
| ^~~~~~
In file included from /home/biocbuild/R/R-4.5.0/site-library/assorthead/include/Eigen/Core:341:
/home/biocbuild/R/R-4.5.0/site-library/assorthead/include/Eigen/src/Core/products/TriangularMatrixVector.h: In function ‘static void Eigen::internal::trmv_selector<Mode, 1>::run(const Lhs&, const Rhs&, Dest&, const typename Dest::Scalar&) [with Lhs = Eigen::Transpose<const Eigen::Block<const Eigen::Block<Eigen::Matrix<double, -1, -1>, -1, -1, false>, -1, -1, false> >; Rhs = Eigen::Transpose<const Eigen::CwiseBinaryOp<Eigen::internal::scalar_product_op<double, double>, const Eigen::CwiseNullaryOp<Eigen::internal::scalar_constant_op<double>, const Eigen::Matrix<double, 1, -1> >, const Eigen::Transpose<const Eigen::Block<const Eigen::Block<const Eigen::Block<Eigen::Matrix<double, -1, -1>, -1, -1, false>, -1, 1, true>, -1, 1, false> > > >; Dest = Eigen::Transpose<Eigen::Block<Eigen::Block<Eigen::Matrix<double, -1, -1, 1, -1, -1>, 1, -1, true>, 1, -1, false> >; int Mode = 6]’:
/home/biocbuild/R/R-4.5.0/site-library/assorthead/include/Eigen/src/Core/products/TriangularMatrixVector.h:332:12: warning: ‘result’ may be used uninitialized [-Wmaybe-uninitialized]
327 | internal::triangular_matrix_vector_product
| ~~~~~~~~~~~~~~~~~~~~~~~~~~~~~~~~~~~~~~~~~~
328 | <Index,Mode,
| ~~~~~~~~~~~~
329 | LhsScalar, LhsBlasTraits::NeedToConjugate,
| ~~~~~~~~~~~~~~~~~~~~~~~~~~~~~~~~~~~~~~~~~~
330 | RhsScalar, RhsBlasTraits::NeedToConjugate,
| ~~~~~~~~~~~~~~~~~~~~~~~~~~~~~~~~~~~~~~~~~~
331 | RowMajor>
| ~~~~~~~~~
332 | ::run(actualLhs.rows(),actualLhs.cols(),
| ~~~~~^~~~~~~~~~~~~~~~~~~~~~~~~~~~~~~~~~~
333 | actualLhs.data(),actualLhs.outerStride(),
| ~~~~~~~~~~~~~~~~~~~~~~~~~~~~~~~~~~~~~~~~~
334 | actualRhsPtr,1,
| ~~~~~~~~~~~~~~~
335 | dest.data(),dest.innerStride(),
| ~~~~~~~~~~~~~~~~~~~~~~~~~~~~~~~
336 | actualAlpha);
| ~~~~~~~~~~~~
/home/biocbuild/R/R-4.5.0/site-library/assorthead/include/Eigen/src/Core/products/TriangularMatrixVector.h:105:24: note: by argument 5 of type ‘const double*’ to ‘static void Eigen::internal::triangular_matrix_vector_product<Index, Mode, LhsScalar, ConjLhs, RhsScalar, ConjRhs, 1, Version>::run(Index, Index, const LhsScalar*, Index, const RhsScalar*, Index, ResScalar*, Index, const ResScalar&) [with Index = long int; int Mode = 6; LhsScalar = double; bool ConjLhs = false; RhsScalar = double; bool ConjRhs = false; int Version = 0]’ declared here
105 | EIGEN_DONT_INLINE void triangular_matrix_vector_product<Index,Mode,LhsScalar,ConjLhs,RhsScalar,ConjRhs,RowMajor,Version>
| ^~~~~~~~~~~~~~~~~~~~~~~~~~~~~~~~~~~~~~~~~~~~~~~~~~~~~~~~~~~~~~~~~~~~~~~~~~~~~~~~~~~~~~~~~~~~~~~~~
/opt/ohpc/pub/compiler/gcc/14.2.0/bin/aarch64-unknown-linux-gnu-g++ -std=gnu++17 -I"/home/biocbuild/R/R-4.5.0/include" -DNDEBUG -I'/home/biocbuild/R/R-4.5.0/site-library/Rigraphlib/igraph/include/igraph' -I'/home/biocbuild/R/R-4.5.0/site-library/Rcpp/include' -I'/home/biocbuild/R/R-4.5.0/site-library/assorthead/include' -I'/home/biocbuild/R/R-4.5.0/site-library/beachmat/include' -I'/home/biocbuild/R/R-4.5.0/site-library/BiocNeighbors/include' -I/usr/local/include -fPIC -g -O2 -Wall -Werror=format-security -c run_tsne.cpp -o run_tsne.o
In file included from /home/biocbuild/R/R-4.5.0/site-library/assorthead/include/qdtsne/utils.hpp:16,
from /home/biocbuild/R/R-4.5.0/site-library/assorthead/include/qdtsne/SPTree.hpp:43,
from /home/biocbuild/R/R-4.5.0/site-library/assorthead/include/qdtsne/Status.hpp:43,
from /home/biocbuild/R/R-4.5.0/site-library/assorthead/include/qdtsne/initialize.hpp:8,
from /home/biocbuild/R/R-4.5.0/site-library/assorthead/include/qdtsne/qdtsne.hpp:10,
from run_tsne.cpp:5:
/home/biocbuild/R/R-4.5.0/site-library/assorthead/include/aarand/aarand.hpp: In instantiation of ‘std::pair<_FIter, _FIter> aarand::standard_normal(Engine_&) [with Output_ = double; Engine_ = std::mersenne_twister_engine<long unsigned int, 64, 312, 156, 31, 13043109905998158313, 29, 6148914691236517205, 17, 8202884508482404352, 37, 18444473444759240704, 43, 6364136223846793005>]’:
/home/biocbuild/R/R-4.5.0/site-library/assorthead/include/qdtsne/utils.hpp:79:54: required from ‘void qdtsne::initialize_random(Float_*, std::size_t, long long unsigned int) [with long unsigned int num_dim_ = 2; Float_ = double; std::size_t = long unsigned int]’
79 | auto paired = aarand::standard_normal<Float_>(rng);
| ~~~~~~~~~~~~~~~~~~~~~~~~~~~~~~~^~~~~
run_tsne.cpp:47:33: required from here
47 | qdtsne::initialize_random<2>(optr, nobs, seed);
| ~~~~~~~~~~~~~~~~~~~~~~~~~~~~^~~~~~~~~~~~~~~~~~
/home/biocbuild/R/R-4.5.0/site-library/assorthead/include/aarand/aarand.hpp:89:29: note: parameter passing for argument of type ‘std::pair<double, double>’ when C++17 is enabled changed to match C++14 in GCC 10.1
89 | std::pair<Output_, Output_> standard_normal(Engine_& eng) {
| ^~~~~~~~~~~~~~~
/opt/ohpc/pub/compiler/gcc/14.2.0/bin/aarch64-unknown-linux-gnu-g++ -std=gnu++17 -I"/home/biocbuild/R/R-4.5.0/include" -DNDEBUG -I'/home/biocbuild/R/R-4.5.0/site-library/Rigraphlib/igraph/include/igraph' -I'/home/biocbuild/R/R-4.5.0/site-library/Rcpp/include' -I'/home/biocbuild/R/R-4.5.0/site-library/assorthead/include' -I'/home/biocbuild/R/R-4.5.0/site-library/beachmat/include' -I'/home/biocbuild/R/R-4.5.0/site-library/BiocNeighbors/include' -I/usr/local/include -fPIC -g -O2 -Wall -Werror=format-security -c run_umap.cpp -o run_umap.o
In file included from /home/biocbuild/R/R-4.5.0/site-library/assorthead/include/Eigen/Core:214,
from /home/biocbuild/R/R-4.5.0/site-library/assorthead/include/Eigen/Dense:1,
from /home/biocbuild/R/R-4.5.0/site-library/assorthead/include/irlba/compute.hpp:4,
from /home/biocbuild/R/R-4.5.0/site-library/assorthead/include/irlba/irlba.hpp:4,
from /home/biocbuild/R/R-4.5.0/site-library/assorthead/include/umappp/Options.hpp:8,
from /home/biocbuild/R/R-4.5.0/site-library/assorthead/include/umappp/umappp.hpp:9,
from run_umap.cpp:4:
/home/biocbuild/R/R-4.5.0/site-library/assorthead/include/Eigen/src/Core/arch/NEON/PacketMath.h: In function ‘Packet Eigen::internal::pload(const typename unpacket_traits<T>::type*) [with Packet = eigen_packet_wrapper<int, 2>; typename unpacket_traits<T>::type = signed char]’:
/home/biocbuild/R/R-4.5.0/site-library/assorthead/include/Eigen/src/Core/arch/NEON/PacketMath.h:1671:9: warning: ‘void* memcpy(void*, const void*, size_t)’ copying an object of non-trivial type ‘Eigen::internal::Packet4c’ {aka ‘struct Eigen::internal::eigen_packet_wrapper<int, 2>’} from an array of ‘const int8_t’ {aka ‘const signed char’} [-Wclass-memaccess]
1671 | memcpy(&res, from, sizeof(Packet4c));
| ~~~~~~^~~~~~~~~~~~~~~~~~~~~~~~~~~~~~
In file included from /home/biocbuild/R/R-4.5.0/site-library/assorthead/include/Eigen/Core:172:
/home/biocbuild/R/R-4.5.0/site-library/assorthead/include/Eigen/src/Core/GenericPacketMath.h:159:8: note: ‘Eigen::internal::Packet4c’ {aka ‘struct Eigen::internal::eigen_packet_wrapper<int, 2>’} declared here
159 | struct eigen_packet_wrapper
| ^~~~~~~~~~~~~~~~~~~~
/home/biocbuild/R/R-4.5.0/site-library/assorthead/include/Eigen/src/Core/arch/NEON/PacketMath.h: In function ‘Packet Eigen::internal::ploadu(const typename unpacket_traits<T>::type*) [with Packet = eigen_packet_wrapper<int, 2>; typename unpacket_traits<T>::type = signed char]’:
/home/biocbuild/R/R-4.5.0/site-library/assorthead/include/Eigen/src/Core/arch/NEON/PacketMath.h:1716:9: warning: ‘void* memcpy(void*, const void*, size_t)’ copying an object of non-trivial type ‘Eigen::internal::Packet4c’ {aka ‘struct Eigen::internal::eigen_packet_wrapper<int, 2>’} from an array of ‘const int8_t’ {aka ‘const signed char’} [-Wclass-memaccess]
1716 | memcpy(&res, from, sizeof(Packet4c));
| ~~~~~~^~~~~~~~~~~~~~~~~~~~~~~~~~~~~~
/home/biocbuild/R/R-4.5.0/site-library/assorthead/include/Eigen/src/Core/GenericPacketMath.h:159:8: note: ‘Eigen::internal::Packet4c’ {aka ‘struct Eigen::internal::eigen_packet_wrapper<int, 2>’} declared here
159 | struct eigen_packet_wrapper
| ^~~~~~~~~~~~~~~~~~~~
In file included from /home/biocbuild/R/R-4.5.0/site-library/assorthead/include/umappp/initialize.hpp:6,
from /home/biocbuild/R/R-4.5.0/site-library/assorthead/include/umappp/umappp.hpp:11:
/home/biocbuild/R/R-4.5.0/site-library/assorthead/include/umappp/find_ab.hpp: In instantiation of ‘std::pair<_FIter, _FIter> umappp::internal::find_ab(Float_, Float_) [with Float_ = double]’:
/home/biocbuild/R/R-4.5.0/site-library/assorthead/include/umappp/initialize.hpp:111:45: required from ‘umappp::Status<Index_, Float_> umappp::initialize(NeighborList<Index_, Float_>, std::size_t, Float_*, Options) [with Index_ = int; Float_ = float; NeighborList<Index_, Float_> = std::vector<std::vector<std::pair<int, float>, std::allocator<std::pair<int, float> > >, std::allocator<std::vector<std::pair<int, float>, std::allocator<std::pair<int, float> > > > >; std::size_t = long unsigned int]’
111 | const auto found = internal::find_ab(options.spread, options.min_dist);
| ~~~~~~~~~~~~~~~~~^~~~~~~~~~~~~~~~~~~~~~~~~~~~~~~~~~
run_umap.cpp:104:37: required from here
104 | auto status = umappp::initialize(std::move(neighbors), num_dim, embedding.data(), opt);
| ~~~~~~~~~~~~~~~~~~^~~~~~~~~~~~~~~~~~~~~~~~~~~~~~~~~~~~~~~~~~~~~~~~~~~~~~
/home/biocbuild/R/R-4.5.0/site-library/assorthead/include/umappp/find_ab.hpp:47:27: note: parameter passing for argument of type ‘std::pair<double, double>’ when C++17 is enabled changed to match C++14 in GCC 10.1
47 | std::pair<Float_, Float_> find_ab(const Float_ spread, const Float_ min_dist) {
| ^~~~~~~
In file included from /home/biocbuild/R/R-4.5.0/site-library/assorthead/include/Eigen/Core:341:
/home/biocbuild/R/R-4.5.0/site-library/assorthead/include/Eigen/src/Core/products/TriangularMatrixVector.h: In function ‘static void Eigen::internal::trmv_selector<Mode, 1>::run(const Lhs&, const Rhs&, Dest&, const typename Dest::Scalar&) [with Lhs = Eigen::Transpose<const Eigen::Block<const Eigen::Block<Eigen::Matrix<double, -1, -1>, -1, -1, false>, -1, -1, false> >; Rhs = Eigen::Transpose<const Eigen::CwiseBinaryOp<Eigen::internal::scalar_product_op<double, double>, const Eigen::CwiseNullaryOp<Eigen::internal::scalar_constant_op<double>, const Eigen::Matrix<double, 1, -1> >, const Eigen::Transpose<const Eigen::Block<const Eigen::Block<const Eigen::Block<Eigen::Matrix<double, -1, -1>, -1, -1, false>, -1, 1, true>, -1, 1, false> > > >; Dest = Eigen::Transpose<Eigen::Block<Eigen::Block<Eigen::Matrix<double, -1, -1, 1, -1, -1>, 1, -1, true>, 1, -1, false> >; int Mode = 6]’:
/home/biocbuild/R/R-4.5.0/site-library/assorthead/include/Eigen/src/Core/products/TriangularMatrixVector.h:332:12: warning: ‘result’ may be used uninitialized [-Wmaybe-uninitialized]
327 | internal::triangular_matrix_vector_product
| ~~~~~~~~~~~~~~~~~~~~~~~~~~~~~~~~~~~~~~~~~~
328 | <Index,Mode,
| ~~~~~~~~~~~~
329 | LhsScalar, LhsBlasTraits::NeedToConjugate,
| ~~~~~~~~~~~~~~~~~~~~~~~~~~~~~~~~~~~~~~~~~~
330 | RhsScalar, RhsBlasTraits::NeedToConjugate,
| ~~~~~~~~~~~~~~~~~~~~~~~~~~~~~~~~~~~~~~~~~~
331 | RowMajor>
| ~~~~~~~~~
332 | ::run(actualLhs.rows(),actualLhs.cols(),
| ~~~~~^~~~~~~~~~~~~~~~~~~~~~~~~~~~~~~~~~~
333 | actualLhs.data(),actualLhs.outerStride(),
| ~~~~~~~~~~~~~~~~~~~~~~~~~~~~~~~~~~~~~~~~~
334 | actualRhsPtr,1,
| ~~~~~~~~~~~~~~~
335 | dest.data(),dest.innerStride(),
| ~~~~~~~~~~~~~~~~~~~~~~~~~~~~~~~
336 | actualAlpha);
| ~~~~~~~~~~~~
/home/biocbuild/R/R-4.5.0/site-library/assorthead/include/Eigen/src/Core/products/TriangularMatrixVector.h:105:24: note: by argument 5 of type ‘const double*’ to ‘static void Eigen::internal::triangular_matrix_vector_product<Index, Mode, LhsScalar, ConjLhs, RhsScalar, ConjRhs, 1, Version>::run(Index, Index, const LhsScalar*, Index, const RhsScalar*, Index, ResScalar*, Index, const ResScalar&) [with Index = long int; int Mode = 6; LhsScalar = double; bool ConjLhs = false; RhsScalar = double; bool ConjRhs = false; int Version = 0]’ declared here
105 | EIGEN_DONT_INLINE void triangular_matrix_vector_product<Index,Mode,LhsScalar,ConjLhs,RhsScalar,ConjRhs,RowMajor,Version>
| ^~~~~~~~~~~~~~~~~~~~~~~~~~~~~~~~~~~~~~~~~~~~~~~~~~~~~~~~~~~~~~~~~~~~~~~~~~~~~~~~~~~~~~~~~~~~~~~~~
/opt/ohpc/pub/compiler/gcc/14.2.0/bin/aarch64-unknown-linux-gnu-g++ -std=gnu++17 -I"/home/biocbuild/R/R-4.5.0/include" -DNDEBUG -I'/home/biocbuild/R/R-4.5.0/site-library/Rigraphlib/igraph/include/igraph' -I'/home/biocbuild/R/R-4.5.0/site-library/Rcpp/include' -I'/home/biocbuild/R/R-4.5.0/site-library/assorthead/include' -I'/home/biocbuild/R/R-4.5.0/site-library/beachmat/include' -I'/home/biocbuild/R/R-4.5.0/site-library/BiocNeighbors/include' -I/usr/local/include -fPIC -g -O2 -Wall -Werror=format-security -c sanitize_size_factors.cpp -o sanitize_size_factors.o
/opt/ohpc/pub/compiler/gcc/14.2.0/bin/aarch64-unknown-linux-gnu-g++ -std=gnu++17 -I"/home/biocbuild/R/R-4.5.0/include" -DNDEBUG -I'/home/biocbuild/R/R-4.5.0/site-library/Rigraphlib/igraph/include/igraph' -I'/home/biocbuild/R/R-4.5.0/site-library/Rcpp/include' -I'/home/biocbuild/R/R-4.5.0/site-library/assorthead/include' -I'/home/biocbuild/R/R-4.5.0/site-library/beachmat/include' -I'/home/biocbuild/R/R-4.5.0/site-library/BiocNeighbors/include' -I/usr/local/include -fPIC -g -O2 -Wall -Werror=format-security -c scale_by_neighbors.cpp -o scale_by_neighbors.o
In file included from scale_by_neighbors.cpp:3:
/home/biocbuild/R/R-4.5.0/site-library/assorthead/include/mumosa/mumosa.hpp: In instantiation of ‘std::pair<_ForwardIterator, _ForwardIterator> mumosa::compute_distance(Index_, Distance_*) [with Index_ = int; Distance_ = double]’:
scale_by_neighbors.cpp:15:63: required from here
15 | values.push_back(mumosa::compute_distance<int, double>(copy.size(), copy.data()));
| ~~~~~~~~~~~~~~~~~~~~~~~~~~~~~~~~~~~~~^~~~~~~~~~~~~~~~~~~~~~~~~~
/home/biocbuild/R/R-4.5.0/site-library/assorthead/include/mumosa/mumosa.hpp:57:33: note: parameter passing for argument of type ‘std::pair<double, double>’ when C++17 is enabled changed to match C++14 in GCC 10.1
57 | std::pair<Distance_, Distance_> compute_distance(Index_ num_cells, Distance_* distances) {
| ^~~~~~~~~~~~~~~~
/opt/ohpc/pub/compiler/gcc/14.2.0/bin/aarch64-unknown-linux-gnu-g++ -std=gnu++17 -I"/home/biocbuild/R/R-4.5.0/include" -DNDEBUG -I'/home/biocbuild/R/R-4.5.0/site-library/Rigraphlib/igraph/include/igraph' -I'/home/biocbuild/R/R-4.5.0/site-library/Rcpp/include' -I'/home/biocbuild/R/R-4.5.0/site-library/assorthead/include' -I'/home/biocbuild/R/R-4.5.0/site-library/beachmat/include' -I'/home/biocbuild/R/R-4.5.0/site-library/BiocNeighbors/include' -I/usr/local/include -fPIC -g -O2 -Wall -Werror=format-security -c score_gene_set.cpp -o score_gene_set.o
In file included from /home/biocbuild/R/R-4.5.0/site-library/assorthead/include/Eigen/Core:214,
from /home/biocbuild/R/R-4.5.0/site-library/assorthead/include/Eigen/Dense:1,
from /home/biocbuild/R/R-4.5.0/site-library/assorthead/include/irlba/compute.hpp:4,
from /home/biocbuild/R/R-4.5.0/site-library/assorthead/include/irlba/irlba.hpp:4,
from /home/biocbuild/R/R-4.5.0/site-library/assorthead/include/gsdecon/compute.hpp:8,
from /home/biocbuild/R/R-4.5.0/site-library/assorthead/include/gsdecon/gsdecon.hpp:4,
from score_gene_set.cpp:7:
/home/biocbuild/R/R-4.5.0/site-library/assorthead/include/Eigen/src/Core/arch/NEON/PacketMath.h: In function ‘Packet Eigen::internal::pload(const typename unpacket_traits<T>::type*) [with Packet = eigen_packet_wrapper<int, 2>; typename unpacket_traits<T>::type = signed char]’:
/home/biocbuild/R/R-4.5.0/site-library/assorthead/include/Eigen/src/Core/arch/NEON/PacketMath.h:1671:9: warning: ‘void* memcpy(void*, const void*, size_t)’ copying an object of non-trivial type ‘Eigen::internal::Packet4c’ {aka ‘struct Eigen::internal::eigen_packet_wrapper<int, 2>’} from an array of ‘const int8_t’ {aka ‘const signed char’} [-Wclass-memaccess]
1671 | memcpy(&res, from, sizeof(Packet4c));
| ~~~~~~^~~~~~~~~~~~~~~~~~~~~~~~~~~~~~
In file included from /home/biocbuild/R/R-4.5.0/site-library/assorthead/include/Eigen/Core:172:
/home/biocbuild/R/R-4.5.0/site-library/assorthead/include/Eigen/src/Core/GenericPacketMath.h:159:8: note: ‘Eigen::internal::Packet4c’ {aka ‘struct Eigen::internal::eigen_packet_wrapper<int, 2>’} declared here
159 | struct eigen_packet_wrapper
| ^~~~~~~~~~~~~~~~~~~~
/home/biocbuild/R/R-4.5.0/site-library/assorthead/include/Eigen/src/Core/arch/NEON/PacketMath.h: In function ‘Packet Eigen::internal::ploadu(const typename unpacket_traits<T>::type*) [with Packet = eigen_packet_wrapper<int, 2>; typename unpacket_traits<T>::type = signed char]’:
/home/biocbuild/R/R-4.5.0/site-library/assorthead/include/Eigen/src/Core/arch/NEON/PacketMath.h:1716:9: warning: ‘void* memcpy(void*, const void*, size_t)’ copying an object of non-trivial type ‘Eigen::internal::Packet4c’ {aka ‘struct Eigen::internal::eigen_packet_wrapper<int, 2>’} from an array of ‘const int8_t’ {aka ‘const signed char’} [-Wclass-memaccess]
1716 | memcpy(&res, from, sizeof(Packet4c));
| ~~~~~~^~~~~~~~~~~~~~~~~~~~~~~~~~~~~~
/home/biocbuild/R/R-4.5.0/site-library/assorthead/include/Eigen/src/Core/GenericPacketMath.h:159:8: note: ‘Eigen::internal::Packet4c’ {aka ‘struct Eigen::internal::eigen_packet_wrapper<int, 2>’} declared here
159 | struct eigen_packet_wrapper
| ^~~~~~~~~~~~~~~~~~~~
In file included from /home/biocbuild/R/R-4.5.0/site-library/assorthead/include/tatami_stats/grouped_variances.hpp:5,
from /home/biocbuild/R/R-4.5.0/site-library/assorthead/include/tatami_stats/tatami_stats.hpp:7,
from /home/biocbuild/R/R-4.5.0/site-library/assorthead/include/scran_pca/simple_pca.hpp:9,
from /home/biocbuild/R/R-4.5.0/site-library/assorthead/include/scran_pca/scran_pca.hpp:4,
from /home/biocbuild/R/R-4.5.0/site-library/assorthead/include/gsdecon/compute.hpp:9:
/home/biocbuild/R/R-4.5.0/site-library/assorthead/include/tatami_stats/variances.hpp: In instantiation of ‘std::pair<_FIter, _FIter> tatami_stats::variances::direct(const Value_*, Index_, Index_, bool) [with Output_ = double; Value_ = double; Index_ = int]’:
/home/biocbuild/R/R-4.5.0/site-library/assorthead/include/scran_pca/simple_pca.hpp:219:63: required from ‘void scran_pca::internal::run_sparse(const tatami::Matrix<Value_, Index_>&, const scran_pca::SimplePcaOptions&, EigenMatrix_&, EigenMatrix_&, EigenVector_&, EigenVector_&, EigenVector_&, typename EigenVector_::Scalar&, bool&) [with Value_ = double; Index_ = int; EigenMatrix_ = Eigen::Matrix<double, -1, -1>; EigenVector_ = Eigen::Matrix<double, -1, 1>; typename EigenVector_::Scalar = double]’
219 | auto results = tatami_stats::variances::direct(values.data() + offset, num_nonzero, ncells, /* skip_nan = */ false);
| ~~~~~~~~~~~~~~~~~~~~~~~~~~~~~~~^~~~~~~~~~~~~~~~~~~~~~~~~~~~~~~~~~~~~~~~~~~~~~~~~~~~~~~~~~~~~~~~~~~~~
/home/biocbuild/R/R-4.5.0/site-library/assorthead/include/scran_pca/simple_pca.hpp:406:29: required from ‘void scran_pca::simple_pca(const tatami::Matrix<Value_, Index_>&, const SimplePcaOptions&, SimplePcaResults<EigenMatrix_, EigenVector_>&) [with Value_ = double; Index_ = int; EigenMatrix_ = Eigen::Matrix<double, -1, -1>; EigenVector_ = Eigen::Matrix<double, -1, 1>]’
406 | internal::run_sparse(mat, options, output.components, output.rotation, output.variance_explained, output.center, output.scale, output.total_variance, output.converged);
| ~~~~~~~~~~~~~~~~~~~~^~~~~~~~~~~~~~~~~~~~~~~~~~~~~~~~~~~~~~~~~~~~~~~~~~~~~~~~~~~~~~~~~~~~~~~~~~~~~~~~~~~~~~~~~~~~~~~~~~~~~~~~~~~~~~~~~~~~~~~~~~~~~~~~~~~~~~~~~~~~~~~~~~~
/home/biocbuild/R/R-4.5.0/site-library/assorthead/include/scran_pca/simple_pca.hpp:439:15: required from ‘scran_pca::SimplePcaResults<EigenMatrix_, EigenVector_> scran_pca::simple_pca(const tatami::Matrix<Value_, Index_>&, const SimplePcaOptions&) [with EigenMatrix_ = Eigen::Matrix<double, -1, -1>; EigenVector_ = Eigen::Matrix<double, -1, 1>; Value_ = double; Index_ = int]’
439 | simple_pca(mat, options, output);
| ~~~~~~~~~~^~~~~~~~~~~~~~~~~~~~~~
/home/biocbuild/R/R-4.5.0/site-library/assorthead/include/gsdecon/compute.hpp:55:37: required from ‘void gsdecon::compute(const tatami::Matrix<Value_, Index_>&, const Options&, const Buffers<Float_>&) [with Value_ = double; Index_ = int; Float_ = double]’
55 | auto res = scran_pca::simple_pca(matrix, sopt);
| ~~~~~~~~~~~~~~~~~~~~~^~~~~~~~~~~~~~
score_gene_set.cpp:56:25: required from here
56 | gsdecon::compute(matrix, opt, output);
| ~~~~~~~~~~~~~~~~^~~~~~~~~~~~~~~~~~~~~
/home/biocbuild/R/R-4.5.0/site-library/assorthead/include/tatami_stats/variances.hpp:98:29: note: parameter passing for argument of type ‘std::pair<double, double>’ when C++17 is enabled changed to match C++14 in GCC 10.1
98 | std::pair<Output_, Output_> direct(const Value_* value, Index_ num_nonzero, Index_ num_all, bool skip_nan) {
| ^~~~~~
In file included from /home/biocbuild/R/R-4.5.0/site-library/assorthead/include/Eigen/Core:341:
/home/biocbuild/R/R-4.5.0/site-library/assorthead/include/Eigen/src/Core/products/TriangularMatrixVector.h: In function ‘static void Eigen::internal::trmv_selector<Mode, 1>::run(const Lhs&, const Rhs&, Dest&, const typename Dest::Scalar&) [with Lhs = Eigen::Transpose<const Eigen::Block<const Eigen::Block<Eigen::Matrix<double, -1, -1>, -1, -1, false>, -1, -1, false> >; Rhs = Eigen::Transpose<const Eigen::CwiseBinaryOp<Eigen::internal::scalar_product_op<double, double>, const Eigen::CwiseNullaryOp<Eigen::internal::scalar_constant_op<double>, const Eigen::Matrix<double, 1, -1> >, const Eigen::Transpose<const Eigen::Block<const Eigen::Block<const Eigen::Block<Eigen::Matrix<double, -1, -1>, -1, -1, false>, -1, 1, true>, -1, 1, false> > > >; Dest = Eigen::Transpose<Eigen::Block<Eigen::Block<Eigen::Matrix<double, -1, -1, 1, -1, -1>, 1, -1, true>, 1, -1, false> >; int Mode = 6]’:
/home/biocbuild/R/R-4.5.0/site-library/assorthead/include/Eigen/src/Core/products/TriangularMatrixVector.h:332:12: warning: ‘result’ may be used uninitialized [-Wmaybe-uninitialized]
327 | internal::triangular_matrix_vector_product
| ~~~~~~~~~~~~~~~~~~~~~~~~~~~~~~~~~~~~~~~~~~
328 | <Index,Mode,
| ~~~~~~~~~~~~
329 | LhsScalar, LhsBlasTraits::NeedToConjugate,
| ~~~~~~~~~~~~~~~~~~~~~~~~~~~~~~~~~~~~~~~~~~
330 | RhsScalar, RhsBlasTraits::NeedToConjugate,
| ~~~~~~~~~~~~~~~~~~~~~~~~~~~~~~~~~~~~~~~~~~
331 | RowMajor>
| ~~~~~~~~~
332 | ::run(actualLhs.rows(),actualLhs.cols(),
| ~~~~~^~~~~~~~~~~~~~~~~~~~~~~~~~~~~~~~~~~
333 | actualLhs.data(),actualLhs.outerStride(),
| ~~~~~~~~~~~~~~~~~~~~~~~~~~~~~~~~~~~~~~~~~
334 | actualRhsPtr,1,
| ~~~~~~~~~~~~~~~
335 | dest.data(),dest.innerStride(),
| ~~~~~~~~~~~~~~~~~~~~~~~~~~~~~~~
336 | actualAlpha);
| ~~~~~~~~~~~~
/home/biocbuild/R/R-4.5.0/site-library/assorthead/include/Eigen/src/Core/products/TriangularMatrixVector.h:105:24: note: by argument 5 of type ‘const double*’ to ‘static void Eigen::internal::triangular_matrix_vector_product<Index, Mode, LhsScalar, ConjLhs, RhsScalar, ConjRhs, 1, Version>::run(Index, Index, const LhsScalar*, Index, const RhsScalar*, Index, ResScalar*, Index, const ResScalar&) [with Index = long int; int Mode = 6; LhsScalar = double; bool ConjLhs = false; RhsScalar = double; bool ConjRhs = false; int Version = 0]’ declared here
105 | EIGEN_DONT_INLINE void triangular_matrix_vector_product<Index,Mode,LhsScalar,ConjLhs,RhsScalar,ConjRhs,RowMajor,Version>
| ^~~~~~~~~~~~~~~~~~~~~~~~~~~~~~~~~~~~~~~~~~~~~~~~~~~~~~~~~~~~~~~~~~~~~~~~~~~~~~~~~~~~~~~~~~~~~~~~~
/opt/ohpc/pub/compiler/gcc/14.2.0/bin/aarch64-unknown-linux-gnu-g++ -std=gnu++17 -I"/home/biocbuild/R/R-4.5.0/include" -DNDEBUG -I'/home/biocbuild/R/R-4.5.0/site-library/Rigraphlib/igraph/include/igraph' -I'/home/biocbuild/R/R-4.5.0/site-library/Rcpp/include' -I'/home/biocbuild/R/R-4.5.0/site-library/assorthead/include' -I'/home/biocbuild/R/R-4.5.0/site-library/beachmat/include' -I'/home/biocbuild/R/R-4.5.0/site-library/BiocNeighbors/include' -I/usr/local/include -fPIC -g -O2 -Wall -Werror=format-security -c score_markers.cpp -o score_markers.o
In file included from /home/biocbuild/R/R-4.5.0/site-library/assorthead/include/scran_markers/scan_matrix.hpp:13,
from /home/biocbuild/R/R-4.5.0/site-library/assorthead/include/scran_markers/score_markers_pairwise.hpp:12,
from /home/biocbuild/R/R-4.5.0/site-library/assorthead/include/scran_markers/scran_markers.hpp:4,
from score_markers.cpp:10:
/home/biocbuild/R/R-4.5.0/site-library/assorthead/include/scran_markers/cohens_d.hpp: In instantiation of ‘std::pair<_FIter, _FIter> scran_markers::internal::compute_pairwise_cohens_d_two_sided(std::size_t, std::size_t, const Stat_*, const Stat_*, std::size_t, std::size_t, const PrecomputedPairwiseWeights<Weight_>&, Stat_) [with Stat_ = double; Weight_ = double; std::size_t = long unsigned int]’:
/home/biocbuild/R/R-4.5.0/site-library/assorthead/include/scran_markers/cohens_d.hpp:128:59: required from ‘void scran_markers::internal::compute_pairwise_cohens_d(const Stat_*, const Stat_*, std::size_t, std::size_t, const PrecomputedPairwiseWeights<Weight_>&, Stat_, Stat_*) [with Stat_ = double; Weight_ = double; std::size_t = long unsigned int]’
128 | auto tmp = compute_pairwise_cohens_d_two_sided(g1, g2, means, vars, ngroups, nblocks, preweights, threshold);
| ~~~~~~~~~~~~~~~~~~~~~~~~~~~~~~~~~~~^~~~~~~~~~~~~~~~~~~~~~~~~~~~~~~~~~~~~~~~~~~~~~~~~~~~~~~~~~~~~~
/home/biocbuild/R/R-4.5.0/site-library/assorthead/include/scran_markers/score_markers_summary.hpp:456:42: required from ‘void scran_markers::internal::process_simple_summary_effects(Index_, std::size_t, std::size_t, std::size_t, const std::vector<Index_, std::allocator<_T2> >&, const std::vector<Index_, std::allocator<_T2> >&, const std::vector<Index_, std::allocator<_T2> >&, const scran_markers::ScoreMarkersSummaryBuffers<Stat_, Rank_>&, const std::vector<Index_, std::allocator<_T2> >&, double, Index_, bool, int) [with Index_ = int; Stat_ = double; Rank_ = int; std::size_t = long unsigned int]’
456 | compute_pairwise_cohens_d(tmp_means, tmp_variances, ngroups, nblocks, preweights, threshold, pairwise_buffer.data());
| ~~~~~~~~~~~~~~~~~~~~~~~~~^~~~~~~~~~~~~~~~~~~~~~~~~~~~~~~~~~~~~~~~~~~~~~~~~~~~~~~~~~~~~~~~~~~~~~~~~~~~~~~~~~~~~~~~~~~
/home/biocbuild/R/R-4.5.0/site-library/assorthead/include/scran_markers/score_markers_summary.hpp:693:35: required from ‘void scran_markers::internal::score_markers_summary(const tatami::Matrix<Value_, Index_>&, std::size_t, const Group_*, std::size_t, const Block_*, std::size_t, const std::size_t*, const std::vector<Index_, std::allocator<_Tp> >&, const scran_markers::ScoreMarkersSummaryOptions&, const scran_markers::ScoreMarkersSummaryBuffers<Stat_, Rank_>&) [with bool single_block_ = false; Value_ = double; Index_ = int; Group_ = int; Block_ = int; Stat_ = double; Rank_ = int; std::size_t = long unsigned int]’
693 | process_simple_summary_effects(
| ~~~~~~~~~~~~~~~~~~~~~~~~~~~~~~^
694 | matrix.nrow(),
| ~~~~~~~~~~~~~~
695 | ngroups,
| ~~~~~~~~
696 | nblocks,
| ~~~~~~~~
697 | ncombos,
| ~~~~~~~~
698 | combo_means,
| ~~~~~~~~~~~~
699 | combo_vars,
| ~~~~~~~~~~~
700 | combo_detected,
| ~~~~~~~~~~~~~~~
701 | output,
| ~~~~~~~
702 | combo_weights,
| ~~~~~~~~~~~~~~
703 | options.threshold,
| ~~~~~~~~~~~~~~~~~~
704 | minrank_limit,
| ~~~~~~~~~~~~~~
705 | options.min_rank_preserve_ties,
| ~~~~~~~~~~~~~~~~~~~~~~~~~~~~~~~
706 | options.num_threads
| ~~~~~~~~~~~~~~~~~~~
707 | );
| ~
/home/biocbuild/R/R-4.5.0/site-library/assorthead/include/scran_markers/score_markers_summary.hpp:818:43: required from ‘void scran_markers::score_markers_summary_blocked(const tatami::Matrix<Value_, Index_>&, const Group_*, const Block_*, const ScoreMarkersSummaryOptions&, const ScoreMarkersSummaryBuffers<Stat_, Rank_>&) [with Value_ = double; Index_ = int; Group_ = int; Block_ = int; Stat_ = double; Rank_ = int]’
818 | internal::score_markers_summary<false>(
| ~~~~~~~~~~~~~~~~~~~~~~~~~~~~~~~~~~~~~~^
819 | matrix,
| ~~~~~~~
820 | sanisizer::cast<std::size_t>(ngroups),
| ~~~~~~~~~~~~~~~~~~~~~~~~~~~~~~~~~~~~~~
821 | group,
| ~~~~~~
822 | sanisizer::cast<std::size_t>(nblocks),
| ~~~~~~~~~~~~~~~~~~~~~~~~~~~~~~~~~~~~~~
823 | block,
| ~~~~~~
824 | sanisizer::cast<std::size_t>(ncombos),
| ~~~~~~~~~~~~~~~~~~~~~~~~~~~~~~~~~~~~~~
825 | combinations.data(),
| ~~~~~~~~~~~~~~~~~~~~
826 | combo_sizes,
| ~~~~~~~~~~~~
827 | options,
| ~~~~~~~~
828 | output
| ~~~~~~
829 | );
| ~
score_markers.cpp:120:53: required from here
120 | scran_markers::score_markers_summary_blocked(*mat, static_cast<const int*>(groups.begin()), ptr, opt, buffers);
| ~~~~~~~~~~~~~~~~~~~~~~~~~~~~~~~~~~~~~~~~~~~~^~~~~~~~~~~~~~~~~~~~~~~~~~~~~~~~~~~~~~~~~~~~~~~~~~~~~~~~~~~~~~~~~~
/home/biocbuild/R/R-4.5.0/site-library/assorthead/include/scran_markers/cohens_d.hpp:60:25: note: parameter passing for argument of type ‘std::pair<double, double>’ when C++17 is enabled changed to match C++14 in GCC 10.1
60 | std::pair<Stat_, Stat_> compute_pairwise_cohens_d_two_sided(
| ^~~~~~~~~~~~~~~~~~~~~~~~~~~~~~~~~~~
/opt/ohpc/pub/compiler/gcc/14.2.0/bin/aarch64-unknown-linux-gnu-g++ -std=gnu++17 -I"/home/biocbuild/R/R-4.5.0/include" -DNDEBUG -I'/home/biocbuild/R/R-4.5.0/site-library/Rigraphlib/igraph/include/igraph' -I'/home/biocbuild/R/R-4.5.0/site-library/Rcpp/include' -I'/home/biocbuild/R/R-4.5.0/site-library/assorthead/include' -I'/home/biocbuild/R/R-4.5.0/site-library/beachmat/include' -I'/home/biocbuild/R/R-4.5.0/site-library/BiocNeighbors/include' -I/usr/local/include -fPIC -g -O2 -Wall -Werror=format-security -c set_executor.cpp -o set_executor.o
/opt/ohpc/pub/compiler/gcc/14.2.0/bin/aarch64-unknown-linux-gnu-g++ -std=gnu++17 -I"/home/biocbuild/R/R-4.5.0/include" -DNDEBUG -I'/home/biocbuild/R/R-4.5.0/site-library/Rigraphlib/igraph/include/igraph' -I'/home/biocbuild/R/R-4.5.0/site-library/Rcpp/include' -I'/home/biocbuild/R/R-4.5.0/site-library/assorthead/include' -I'/home/biocbuild/R/R-4.5.0/site-library/beachmat/include' -I'/home/biocbuild/R/R-4.5.0/site-library/BiocNeighbors/include' -I/usr/local/include -fPIC -g -O2 -Wall -Werror=format-security -c subsample_by_neighbors.cpp -o subsample_by_neighbors.o
/opt/ohpc/pub/compiler/gcc/14.2.0/bin/aarch64-unknown-linux-gnu-g++ -std=gnu++17 -I"/home/biocbuild/R/R-4.5.0/include" -DNDEBUG -I'/home/biocbuild/R/R-4.5.0/site-library/Rigraphlib/igraph/include/igraph' -I'/home/biocbuild/R/R-4.5.0/site-library/Rcpp/include' -I'/home/biocbuild/R/R-4.5.0/site-library/assorthead/include' -I'/home/biocbuild/R/R-4.5.0/site-library/beachmat/include' -I'/home/biocbuild/R/R-4.5.0/site-library/BiocNeighbors/include' -I/usr/local/include -fPIC -g -O2 -Wall -Werror=format-security -c summarize_effects.cpp -o summarize_effects.o
/opt/ohpc/pub/compiler/gcc/14.2.0/bin/aarch64-unknown-linux-gnu-g++ -std=gnu++17 -I"/home/biocbuild/R/R-4.5.0/include" -DNDEBUG -I'/home/biocbuild/R/R-4.5.0/site-library/Rigraphlib/igraph/include/igraph' -I'/home/biocbuild/R/R-4.5.0/site-library/Rcpp/include' -I'/home/biocbuild/R/R-4.5.0/site-library/assorthead/include' -I'/home/biocbuild/R/R-4.5.0/site-library/beachmat/include' -I'/home/biocbuild/R/R-4.5.0/site-library/BiocNeighbors/include' -I/usr/local/include -fPIC -g -O2 -Wall -Werror=format-security -c test_enrichment.cpp -o test_enrichment.o
/opt/ohpc/pub/compiler/gcc/14.2.0/bin/aarch64-unknown-linux-gnu-g++ -std=gnu++17 -shared -L/home/biocbuild/R/R-4.5.0/lib -L/usr/local/lib -o scrapper.so RcppExports.o adt_quality_control.o aggregate_across_cells.o aggregate_across_genes.o build_snn_graph.o center_size_factors.o choose_highly_variable_genes.o choose_pseudo_count.o cluster_graph.o cluster_kmeans.o combine_factors.o compute_block_weights.o compute_clrm1_factors.o correct_mnn.o crispr_quality_control.o fit_variance_trend.o model_gene_variances.o normalize_counts.o rna_quality_control.o run_pca.o run_tsne.o run_umap.o sanitize_size_factors.o scale_by_neighbors.o score_gene_set.o score_markers.o set_executor.o subsample_by_neighbors.o summarize_effects.o test_enrichment.o /home/biocbuild/R/R-4.5.0/site-library/Rigraphlib/igraph/lib64/libigraph.a -lopenblas -lgfortran -lm -L/home/biocbuild/R/R-4.5.0/lib -lR
installing to /home/biocbuild/R/R-4.5.0/site-library/00LOCK-scrapper/00new/scrapper/libs
** R
** inst
** byte-compile and prepare package for lazy loading
** help
*** installing help indices
** building package indices
** installing vignettes
** testing if installed package can be loaded from temporary location
** checking absolute paths in shared objects and dynamic libraries
** testing if installed package can be loaded from final location
** testing if installed package keeps a record of temporary installation path
* DONE (scrapper)