| Back to Multiple platform build/check report for BioC 3.22: simplified long |
|
This page was generated on 2025-10-21 12:07 -0400 (Tue, 21 Oct 2025).
| Hostname | OS | Arch (*) | R version | Installed pkgs |
|---|---|---|---|---|
| nebbiolo2 | Linux (Ubuntu 24.04.3 LTS) | x86_64 | 4.5.1 Patched (2025-08-23 r88802) -- "Great Square Root" | 4887 |
| lconway | macOS 12.7.6 Monterey | x86_64 | 4.5.1 Patched (2025-09-10 r88807) -- "Great Square Root" | 4677 |
| kjohnson3 | macOS 13.7.7 Ventura | arm64 | 4.5.1 Patched (2025-09-10 r88807) -- "Great Square Root" | 4622 |
| taishan | Linux (openEuler 24.03 LTS) | aarch64 | 4.5.0 (2025-04-11) -- "How About a Twenty-Six" | 4642 |
| Click on any hostname to see more info about the system (e.g. compilers) (*) as reported by 'uname -p', except on Windows and Mac OS X | ||||
| Package 889/2353 | Hostname | OS / Arch | INSTALL | BUILD | CHECK | BUILD BIN | ||||||||
| glmSparseNet 1.27.0 (landing page) André Veríssimo
| nebbiolo2 | Linux (Ubuntu 24.04.3 LTS) / x86_64 | OK | OK | OK | |||||||||
| lconway | macOS 12.7.6 Monterey / x86_64 | OK | OK | OK | OK | |||||||||
| kjohnson3 | macOS 13.7.7 Ventura / arm64 | OK | OK | OK | OK | |||||||||
| taishan | Linux (openEuler 24.03 LTS) / aarch64 | OK | OK | OK | ||||||||||
|
To the developers/maintainers of the glmSparseNet package: - Allow up to 24 hours (and sometimes 48 hours) for your latest push to git@git.bioconductor.org:packages/glmSparseNet.git to reflect on this report. See Troubleshooting Build Report for more information. - Use the following Renviron settings to reproduce errors and warnings. - If 'R CMD check' started to fail recently on the Linux builder(s) over a missing dependency, add the missing dependency to 'Suggests:' in your DESCRIPTION file. See Renviron.bioc for more information. - See Martin Grigorov's blog post for how to debug Linux ARM64 related issues on a x86_64 host. |
| Package: glmSparseNet |
| Version: 1.27.0 |
| Command: /home/biocbuild/R/R/bin/R CMD check --install=check:glmSparseNet.install-out.txt --library=/home/biocbuild/R/R/site-library --no-vignettes --timings glmSparseNet_1.27.0.tar.gz |
| StartedAt: 2025-10-17 09:39:53 -0000 (Fri, 17 Oct 2025) |
| EndedAt: 2025-10-17 09:42:23 -0000 (Fri, 17 Oct 2025) |
| EllapsedTime: 150.1 seconds |
| RetCode: 0 |
| Status: OK |
| CheckDir: glmSparseNet.Rcheck |
| Warnings: 0 |
##############################################################################
##############################################################################
###
### Running command:
###
### /home/biocbuild/R/R/bin/R CMD check --install=check:glmSparseNet.install-out.txt --library=/home/biocbuild/R/R/site-library --no-vignettes --timings glmSparseNet_1.27.0.tar.gz
###
##############################################################################
##############################################################################
* using log directory ‘/home/biocbuild/bbs-3.22-bioc/meat/glmSparseNet.Rcheck’
* using R version 4.5.0 (2025-04-11)
* using platform: aarch64-unknown-linux-gnu
* R was compiled by
aarch64-unknown-linux-gnu-gcc (GCC) 14.2.0
GNU Fortran (GCC) 14.2.0
* running under: openEuler 24.03 (LTS)
* using session charset: UTF-8
* using option ‘--no-vignettes’
* checking for file ‘glmSparseNet/DESCRIPTION’ ... OK
* checking extension type ... Package
* this is package ‘glmSparseNet’ version ‘1.27.0’
* package encoding: UTF-8
* checking package namespace information ... OK
* checking package dependencies ... OK
* checking if this is a source package ... OK
* checking if there is a namespace ... OK
* checking for hidden files and directories ... OK
* checking for portable file names ... OK
* checking for sufficient/correct file permissions ... OK
* checking whether package ‘glmSparseNet’ can be installed ... OK
* checking installed package size ... OK
* checking package directory ... OK
* checking ‘build’ directory ... OK
* checking DESCRIPTION meta-information ... OK
* checking top-level files ... OK
* checking for left-over files ... OK
* checking index information ... OK
* checking package subdirectories ... OK
* checking code files for non-ASCII characters ... OK
* checking R files for syntax errors ... OK
* checking whether the package can be loaded ... OK
* checking whether the package can be loaded with stated dependencies ... OK
* checking whether the package can be unloaded cleanly ... OK
* checking whether the namespace can be loaded with stated dependencies ... OK
* checking whether the namespace can be unloaded cleanly ... OK
* checking loading without being on the library search path ... OK
* checking whether startup messages can be suppressed ... OK
* checking dependencies in R code ... OK
* checking S3 generic/method consistency ... OK
* checking replacement functions ... OK
* checking foreign function calls ... OK
* checking R code for possible problems ... OK
* checking Rd files ... OK
* checking Rd metadata ... OK
* checking Rd cross-references ... OK
* checking for missing documentation entries ... OK
* checking for code/documentation mismatches ... OK
* checking Rd \usage sections ... OK
* checking Rd contents ... OK
* checking for unstated dependencies in examples ... OK
* checking contents of ‘data’ directory ... OK
* checking data for non-ASCII characters ... OK
* checking data for ASCII and uncompressed saves ... OK
* checking files in ‘vignettes’ ... OK
* checking examples ... OK
Examples with CPU (user + system) or elapsed time > 5s
user system elapsed
cv.glmSparseNet 17.473 0.607 18.136
separate2GroupsCox 6.615 0.179 6.828
dot-biomartLoad 3.154 0.132 7.858
* checking for unstated dependencies in ‘tests’ ... OK
* checking tests ...
Running ‘testthat.R’
OK
* checking for unstated dependencies in vignettes ... OK
* checking package vignettes ... OK
* checking running R code from vignettes ... SKIPPED
* checking re-building of vignette outputs ... SKIPPED
* checking PDF version of manual ... OK
* DONE
Status: OK
glmSparseNet.Rcheck/00install.out
############################################################################## ############################################################################## ### ### Running command: ### ### /home/biocbuild/R/R/bin/R CMD INSTALL glmSparseNet ### ############################################################################## ############################################################################## * installing to library ‘/home/biocbuild/R/R-4.5.0/site-library’ * installing *source* package ‘glmSparseNet’ ... ** this is package ‘glmSparseNet’ version ‘1.27.0’ ** using staged installation ** R ** data ** inst ** byte-compile and prepare package for lazy loading ** help *** installing help indices *** copying figures ** building package indices ** installing vignettes ** testing if installed package can be loaded from temporary location ** testing if installed package can be loaded from final location ** testing if installed package keeps a record of temporary installation path * DONE (glmSparseNet)
glmSparseNet.Rcheck/tests/testthat.Rout
R version 4.5.0 (2025-04-11) -- "How About a Twenty-Six"
Copyright (C) 2025 The R Foundation for Statistical Computing
Platform: aarch64-unknown-linux-gnu
R is free software and comes with ABSOLUTELY NO WARRANTY.
You are welcome to redistribute it under certain conditions.
Type 'license()' or 'licence()' for distribution details.
R is a collaborative project with many contributors.
Type 'contributors()' for more information and
'citation()' on how to cite R or R packages in publications.
Type 'demo()' for some demos, 'help()' for on-line help, or
'help.start()' for an HTML browser interface to help.
Type 'q()' to quit R.
> library(testthat)
> library(glmSparseNet)
>
> test_check("glmSparseNet")
[ FAIL 0 | WARN 0 | SKIP 0 | PASS 217 ]
>
> proc.time()
user system elapsed
41.253 6.896 44.659
glmSparseNet.Rcheck/glmSparseNet-Ex.timings
| name | user | system | elapsed | |
| balancedCvFolds | 0.01 | 0.00 | 0.01 | |
| buildLambda | 0.000 | 0.002 | 0.002 | |
| buildStringNetwork | 0 | 0 | 0 | |
| cv.glmSparseNet | 17.473 | 0.607 | 18.136 | |
| degreeCor | 0.015 | 0.000 | 0.016 | |
| degreeCov | 0.004 | 0.000 | 0.003 | |
| dot-baseDir | 0 | 0 | 0 | |
| dot-biomartLoad | 3.154 | 0.132 | 7.858 | |
| dot-buildFunctionDigest | 0 | 0 | 0 | |
| dot-cacheCompression | 0.000 | 0.000 | 0.001 | |
| dot-calcPenalty | 0.403 | 0.000 | 0.404 | |
| dot-calculateResult | 0.001 | 0.000 | 0.001 | |
| dot-createDirectoryForCache | 0.001 | 0.000 | 0.001 | |
| dot-curlWorkaround | 0 | 0 | 0 | |
| dot-digestCache | 0 | 0 | 0 | |
| dot-runCache | 0.005 | 0.000 | 0.005 | |
| dot-saveRunCache | 0.001 | 0.000 | 0.000 | |
| dot-showMessage | 0 | 0 | 0 | |
| dot-writeReadme | 0.000 | 0.000 | 0.001 | |
| downloadFileLocal | 0.025 | 0.007 | 0.262 | |
| ensemblGeneNames | 2.880 | 0.047 | 4.502 | |
| geneNames | 1.102 | 0.004 | 1.111 | |
| glmSparseNet | 2.486 | 0.016 | 2.511 | |
| heuristicScale | 0 | 0 | 0 | |
| hubHeuristic | 0 | 0 | 0 | |
| myColors | 0 | 0 | 0 | |
| mySymbols | 0.001 | 0.000 | 0.000 | |
| networkCorParallel | 0.029 | 0.004 | 0.033 | |
| networkCovParallel | 0.009 | 0.000 | 0.009 | |
| networkOptions | 0 | 0 | 0 | |
| orphanHeuristic | 0.000 | 0.000 | 0.001 | |
| protein2EnsemblGeneNames | 1.006 | 0.016 | 1.027 | |
| separate2GroupsCox | 6.615 | 0.179 | 6.828 | |
| stringDBhomoSapiens | 0 | 0 | 0 | |