| Back to Multiple platform build/check report for BioC 3.22: simplified long |
|
This page was generated on 2025-10-24 12:03 -0400 (Fri, 24 Oct 2025).
| Hostname | OS | Arch (*) | R version | Installed pkgs |
|---|---|---|---|---|
| nebbiolo2 | Linux (Ubuntu 24.04.3 LTS) | x86_64 | 4.5.1 Patched (2025-08-23 r88802) -- "Great Square Root" | 4898 |
| lconway | macOS 12.7.6 Monterey | x86_64 | 4.5.1 Patched (2025-09-10 r88807) -- "Great Square Root" | 4688 |
| kjohnson3 | macOS 13.7.7 Ventura | arm64 | 4.5.1 Patched (2025-09-10 r88807) -- "Great Square Root" | 4634 |
| taishan | Linux (openEuler 24.03 LTS) | aarch64 | 4.5.0 (2025-04-11) -- "How About a Twenty-Six" | 4658 |
| Click on any hostname to see more info about the system (e.g. compilers) (*) as reported by 'uname -p', except on Windows and Mac OS X | ||||
| Package 892/2359 | Hostname | OS / Arch | INSTALL | BUILD | CHECK | BUILD BIN | ||||||||
| glmSparseNet 1.27.0 (landing page) André Veríssimo
| nebbiolo2 | Linux (Ubuntu 24.04.3 LTS) / x86_64 | OK | OK | OK | |||||||||
| lconway | macOS 12.7.6 Monterey / x86_64 | OK | OK | OK | OK | |||||||||
| kjohnson3 | macOS 13.7.7 Ventura / arm64 | OK | OK | OK | OK | |||||||||
| taishan | Linux (openEuler 24.03 LTS) / aarch64 | OK | OK | NA | ||||||||||
|
To the developers/maintainers of the glmSparseNet package: - Allow up to 24 hours (and sometimes 48 hours) for your latest push to git@git.bioconductor.org:packages/glmSparseNet.git to reflect on this report. See Troubleshooting Build Report for more information. - Use the following Renviron settings to reproduce errors and warnings. - If 'R CMD check' started to fail recently on the Linux builder(s) over a missing dependency, add the missing dependency to 'Suggests:' in your DESCRIPTION file. See Renviron.bioc for more information. |
| Package: glmSparseNet |
| Version: 1.27.0 |
| Command: /home/biocbuild/bbs-3.22-bioc/R/bin/R CMD check --install=check:glmSparseNet.install-out.txt --library=/home/biocbuild/bbs-3.22-bioc/R/site-library --timings glmSparseNet_1.27.0.tar.gz |
| StartedAt: 2025-10-24 00:05:07 -0400 (Fri, 24 Oct 2025) |
| EndedAt: 2025-10-24 00:11:48 -0400 (Fri, 24 Oct 2025) |
| EllapsedTime: 401.4 seconds |
| RetCode: 0 |
| Status: OK |
| CheckDir: glmSparseNet.Rcheck |
| Warnings: 0 |
##############################################################################
##############################################################################
###
### Running command:
###
### /home/biocbuild/bbs-3.22-bioc/R/bin/R CMD check --install=check:glmSparseNet.install-out.txt --library=/home/biocbuild/bbs-3.22-bioc/R/site-library --timings glmSparseNet_1.27.0.tar.gz
###
##############################################################################
##############################################################################
* using log directory ‘/home/biocbuild/bbs-3.22-bioc/meat/glmSparseNet.Rcheck’
* using R version 4.5.1 Patched (2025-08-23 r88802)
* using platform: x86_64-pc-linux-gnu
* R was compiled by
gcc (Ubuntu 13.3.0-6ubuntu2~24.04) 13.3.0
GNU Fortran (Ubuntu 13.3.0-6ubuntu2~24.04) 13.3.0
* running under: Ubuntu 24.04.3 LTS
* using session charset: UTF-8
* checking for file ‘glmSparseNet/DESCRIPTION’ ... OK
* checking extension type ... Package
* this is package ‘glmSparseNet’ version ‘1.27.0’
* package encoding: UTF-8
* checking package namespace information ... OK
* checking package dependencies ... OK
* checking if this is a source package ... OK
* checking if there is a namespace ... OK
* checking for hidden files and directories ... OK
* checking for portable file names ... OK
* checking for sufficient/correct file permissions ... OK
* checking whether package ‘glmSparseNet’ can be installed ... OK
* checking installed package size ... OK
* checking package directory ... OK
* checking ‘build’ directory ... OK
* checking DESCRIPTION meta-information ... OK
* checking top-level files ... OK
* checking for left-over files ... OK
* checking index information ... OK
* checking package subdirectories ... OK
* checking code files for non-ASCII characters ... OK
* checking R files for syntax errors ... OK
* checking whether the package can be loaded ... OK
* checking whether the package can be loaded with stated dependencies ... OK
* checking whether the package can be unloaded cleanly ... OK
* checking whether the namespace can be loaded with stated dependencies ... OK
* checking whether the namespace can be unloaded cleanly ... OK
* checking loading without being on the library search path ... OK
* checking whether startup messages can be suppressed ... OK
* checking dependencies in R code ... OK
* checking S3 generic/method consistency ... OK
* checking replacement functions ... OK
* checking foreign function calls ... OK
* checking R code for possible problems ... OK
* checking Rd files ... OK
* checking Rd metadata ... OK
* checking Rd cross-references ... OK
* checking for missing documentation entries ... OK
* checking for code/documentation mismatches ... OK
* checking Rd \usage sections ... OK
* checking Rd contents ... OK
* checking for unstated dependencies in examples ... OK
* checking contents of ‘data’ directory ... OK
* checking data for non-ASCII characters ... OK
* checking data for ASCII and uncompressed saves ... OK
* checking files in ‘vignettes’ ... OK
* checking examples ... OK
Examples with CPU (user + system) or elapsed time > 5s
user system elapsed
cv.glmSparseNet 13.531 0.613 14.15
* checking for unstated dependencies in ‘tests’ ... OK
* checking tests ...
Running ‘testthat.R’
OK
* checking for unstated dependencies in vignettes ... OK
* checking package vignettes ... OK
* checking re-building of vignette outputs ... OK
* checking PDF version of manual ... OK
* DONE
Status: OK
glmSparseNet.Rcheck/00install.out
############################################################################## ############################################################################## ### ### Running command: ### ### /home/biocbuild/bbs-3.22-bioc/R/bin/R CMD INSTALL glmSparseNet ### ############################################################################## ############################################################################## * installing to library ‘/home/biocbuild/bbs-3.22-bioc/R/site-library’ * installing *source* package ‘glmSparseNet’ ... ** this is package ‘glmSparseNet’ version ‘1.27.0’ ** using staged installation ** R ** data ** inst ** byte-compile and prepare package for lazy loading ** help *** installing help indices *** copying figures ** building package indices ** installing vignettes ** testing if installed package can be loaded from temporary location ** testing if installed package can be loaded from final location ** testing if installed package keeps a record of temporary installation path * DONE (glmSparseNet)
glmSparseNet.Rcheck/tests/testthat.Rout
R version 4.5.1 Patched (2025-08-23 r88802) -- "Great Square Root"
Copyright (C) 2025 The R Foundation for Statistical Computing
Platform: x86_64-pc-linux-gnu
R is free software and comes with ABSOLUTELY NO WARRANTY.
You are welcome to redistribute it under certain conditions.
Type 'license()' or 'licence()' for distribution details.
R is a collaborative project with many contributors.
Type 'contributors()' for more information and
'citation()' on how to cite R or R packages in publications.
Type 'demo()' for some demos, 'help()' for on-line help, or
'help.start()' for an HTML browser interface to help.
Type 'q()' to quit R.
> library(testthat)
> library(glmSparseNet)
>
> test_check("glmSparseNet")
[ FAIL 0 | WARN 0 | SKIP 0 | PASS 217 ]
>
> proc.time()
user system elapsed
28.766 5.774 32.020
glmSparseNet.Rcheck/glmSparseNet-Ex.timings
| name | user | system | elapsed | |
| balancedCvFolds | 0.008 | 0.000 | 0.008 | |
| buildLambda | 0.001 | 0.000 | 0.002 | |
| buildStringNetwork | 0 | 0 | 0 | |
| cv.glmSparseNet | 13.531 | 0.613 | 14.150 | |
| degreeCor | 0.012 | 0.000 | 0.012 | |
| degreeCov | 0.002 | 0.000 | 0.003 | |
| dot-baseDir | 0 | 0 | 0 | |
| dot-biomartLoad | 1.142 | 0.087 | 1.230 | |
| dot-buildFunctionDigest | 0 | 0 | 0 | |
| dot-cacheCompression | 0.001 | 0.000 | 0.001 | |
| dot-calcPenalty | 0.003 | 0.003 | 0.007 | |
| dot-calculateResult | 0.000 | 0.000 | 0.001 | |
| dot-createDirectoryForCache | 0 | 0 | 0 | |
| dot-curlWorkaround | 0 | 0 | 0 | |
| dot-digestCache | 0 | 0 | 0 | |
| dot-runCache | 0.004 | 0.000 | 0.003 | |
| dot-saveRunCache | 0.000 | 0.000 | 0.001 | |
| dot-showMessage | 0 | 0 | 0 | |
| dot-writeReadme | 0 | 0 | 0 | |
| downloadFileLocal | 0.043 | 0.010 | 0.196 | |
| ensemblGeneNames | 2.210 | 0.049 | 4.803 | |
| geneNames | 0.774 | 0.010 | 0.785 | |
| glmSparseNet | 1.549 | 0.025 | 1.575 | |
| heuristicScale | 0.000 | 0.000 | 0.001 | |
| hubHeuristic | 0 | 0 | 0 | |
| myColors | 0.000 | 0.001 | 0.000 | |
| mySymbols | 0 | 0 | 0 | |
| networkCorParallel | 0.022 | 0.000 | 0.021 | |
| networkCovParallel | 0.007 | 0.000 | 0.006 | |
| networkOptions | 0.001 | 0.000 | 0.000 | |
| orphanHeuristic | 0.000 | 0.000 | 0.001 | |
| protein2EnsemblGeneNames | 0.740 | 0.011 | 0.751 | |
| separate2GroupsCox | 4.674 | 0.131 | 4.808 | |
| stringDBhomoSapiens | 0 | 0 | 0 | |