| Back to Multiple platform build/check report for BioC 3.22: simplified long | 
 | 
This page was generated on 2025-10-21 12:07 -0400 (Tue, 21 Oct 2025).
| Hostname | OS | Arch (*) | R version | Installed pkgs | 
|---|---|---|---|---|
| nebbiolo2 | Linux (Ubuntu 24.04.3 LTS) | x86_64 | 4.5.1 Patched (2025-08-23 r88802) -- "Great Square Root" | 4887 | 
| lconway | macOS 12.7.6 Monterey | x86_64 | 4.5.1 Patched (2025-09-10 r88807) -- "Great Square Root" | 4677 | 
| kjohnson3 | macOS 13.7.7 Ventura | arm64 | 4.5.1 Patched (2025-09-10 r88807) -- "Great Square Root" | 4622 | 
| taishan | Linux (openEuler 24.03 LTS) | aarch64 | 4.5.0 (2025-04-11) -- "How About a Twenty-Six" | 4642 | 
| Click on any hostname to see more info about the system (e.g. compilers) (*) as reported by 'uname -p', except on Windows and Mac OS X | ||||
| Package 1039/2353 | Hostname | OS / Arch | INSTALL | BUILD | CHECK | BUILD BIN | ||||||||
| IHW 1.37.0  (landing page) Nikos Ignatiadis 
 | nebbiolo2 | Linux (Ubuntu 24.04.3 LTS) / x86_64 | OK | OK | OK |  | ||||||||
| lconway | macOS 12.7.6 Monterey / x86_64 | OK | OK | OK | OK |  | ||||||||
| kjohnson3 | macOS 13.7.7 Ventura / arm64 | OK | OK | OK | OK |  | ||||||||
| taishan | Linux (openEuler 24.03 LTS) / aarch64 | OK | OK | OK | ||||||||||
| To the developers/maintainers of the IHW package: - Allow up to 24 hours (and sometimes 48 hours) for your latest push to git@git.bioconductor.org:packages/IHW.git to reflect on this report. See Troubleshooting Build Report for more information. - Use the following Renviron settings to reproduce errors and warnings. - If 'R CMD check' started to fail recently on the Linux builder(s) over a missing dependency, add the missing dependency to 'Suggests:' in your DESCRIPTION file. See Renviron.bioc for more information. - See Martin Grigorov's blog post for how to debug Linux ARM64 related issues on a x86_64 host. | 
| Package: IHW | 
| Version: 1.37.0 | 
| Command: /home/biocbuild/R/R/bin/R CMD check --install=check:IHW.install-out.txt --library=/home/biocbuild/R/R/site-library --no-vignettes --timings IHW_1.37.0.tar.gz | 
| StartedAt: 2025-10-17 10:12:57 -0000 (Fri, 17 Oct 2025) | 
| EndedAt: 2025-10-17 10:13:53 -0000 (Fri, 17 Oct 2025) | 
| EllapsedTime: 56.1 seconds | 
| RetCode: 0 | 
| Status: OK | 
| CheckDir: IHW.Rcheck | 
| Warnings: 0 | 
##############################################################################
##############################################################################
###
### Running command:
###
###   /home/biocbuild/R/R/bin/R CMD check --install=check:IHW.install-out.txt --library=/home/biocbuild/R/R/site-library --no-vignettes --timings IHW_1.37.0.tar.gz
###
##############################################################################
##############################################################################
* using log directory ‘/home/biocbuild/bbs-3.22-bioc/meat/IHW.Rcheck’
* using R version 4.5.0 (2025-04-11)
* using platform: aarch64-unknown-linux-gnu
* R was compiled by
    aarch64-unknown-linux-gnu-gcc (GCC) 14.2.0
    GNU Fortran (GCC) 14.2.0
* running under: openEuler 24.03 (LTS)
* using session charset: UTF-8
* using option ‘--no-vignettes’
* checking for file ‘IHW/DESCRIPTION’ ... OK
* this is package ‘IHW’ version ‘1.37.0’
* checking package namespace information ... OK
* checking package dependencies ... OK
* checking if this is a source package ... OK
* checking if there is a namespace ... OK
* checking for hidden files and directories ... OK
* checking for portable file names ... OK
* checking for sufficient/correct file permissions ... OK
* checking whether package ‘IHW’ can be installed ... OK
* checking installed package size ... OK
* checking package directory ... OK
* checking ‘build’ directory ... OK
* checking DESCRIPTION meta-information ... OK
* checking top-level files ... OK
* checking for left-over files ... OK
* checking index information ... OK
* checking package subdirectories ... OK
* checking code files for non-ASCII characters ... OK
* checking R files for syntax errors ... OK
* checking whether the package can be loaded ... OK
* checking whether the package can be loaded with stated dependencies ... OK
* checking whether the package can be unloaded cleanly ... OK
* checking whether the namespace can be loaded with stated dependencies ... OK
* checking whether the namespace can be unloaded cleanly ... OK
* checking loading without being on the library search path ... OK
* checking dependencies in R code ... OK
* checking S3 generic/method consistency ... OK
* checking replacement functions ... OK
* checking foreign function calls ... OK
* checking R code for possible problems ... NOTE
filter_pvals_for_optim: no visible global function definition for
  ‘p.adjust’
groups_by_filter: no visible global function definition for ‘runif’
ihw.DESeqResults: no visible global function definition for ‘mcols’
ihw.DESeqResults: no visible global function definition for ‘mcols<-’
ihw.DESeqResults: no visible global function definition for ‘metadata’
ihw.DESeqResults: no visible global function definition for
  ‘metadata<-’
ihw.default: no visible global function definition for ‘runif’
ihw.default: no visible global function definition for ‘p.adjust’
ihw_convex: no visible global function definition for ‘gurobi’
ihw_internal: no visible global function definition for ‘p.adjust’
ihw_milp: no visible global function definition for ‘str’
ihw_milp: no visible global function definition for ‘gurobi’
plot_decisionboundary: no visible binding for global variable ‘stratum’
plot_decisionboundary: no visible binding for global variable
  ‘covariate’
plot_decisionboundary: no visible binding for global variable ‘pvalue’
plot_decisionboundary: no visible binding for global variable ‘fold’
thresholds_ihwResult: no visible global function definition for
  ‘na.exclude’
thresholds,ihwResult: no visible global function definition for
  ‘na.exclude’
Undefined global functions or variables:
  covariate fold gurobi mcols mcols<- metadata metadata<- na.exclude
  p.adjust pvalue runif str stratum
Consider adding
  importFrom("stats", "na.exclude", "p.adjust", "runif")
  importFrom("utils", "str")
to your NAMESPACE file.
* checking Rd files ... OK
* checking Rd metadata ... OK
* checking Rd cross-references ... OK
* checking for missing documentation entries ... OK
* checking for code/documentation mismatches ... OK
* checking Rd \usage sections ... OK
* checking Rd contents ... OK
* checking for unstated dependencies in examples ... OK
* checking files in ‘vignettes’ ... OK
* checking examples ... OK
* checking for unstated dependencies in ‘tests’ ... OK
* checking tests ...
  Running ‘testthat.R’
 OK
* checking for unstated dependencies in vignettes ... OK
* checking package vignettes ... OK
* checking running R code from vignettes ... SKIPPED
* checking re-building of vignette outputs ... SKIPPED
* checking PDF version of manual ... OK
* DONE
Status: 1 NOTE
See
  ‘/home/biocbuild/bbs-3.22-bioc/meat/IHW.Rcheck/00check.log’
for details.
IHW.Rcheck/00install.out
############################################################################## ############################################################################## ### ### Running command: ### ### /home/biocbuild/R/R/bin/R CMD INSTALL IHW ### ############################################################################## ############################################################################## * installing to library ‘/home/biocbuild/R/R-4.5.0/site-library’ * installing *source* package ‘IHW’ ... ** this is package ‘IHW’ version ‘1.37.0’ ** using staged installation ** R ** inst ** byte-compile and prepare package for lazy loading Creating a generic function for ‘nrow’ from package ‘base’ in package ‘IHW’ ** help *** installing help indices ** building package indices ** installing vignettes ** testing if installed package can be loaded from temporary location ** testing if installed package can be loaded from final location ** testing if installed package keeps a record of temporary installation path * DONE (IHW)
IHW.Rcheck/tests/testthat.Rout
R version 4.5.0 (2025-04-11) -- "How About a Twenty-Six"
Copyright (C) 2025 The R Foundation for Statistical Computing
Platform: aarch64-unknown-linux-gnu
R is free software and comes with ABSOLUTELY NO WARRANTY.
You are welcome to redistribute it under certain conditions.
Type 'license()' or 'licence()' for distribution details.
R is a collaborative project with many contributors.
Type 'contributors()' for more information and
'citation()' on how to cite R or R packages in publications.
Type 'demo()' for some demos, 'help()' for on-line help, or
'help.start()' for an HTML browser interface to help.
Type 'q()' to quit R.
> library("testthat")
> library("IHW")
> 
> test_check("IHW")
List of 3
 $ solution: num [1:2000] 0 0 0 0 0 0 0 0 0 0 ...
 $ objval  : num 70
 $ status  : Named int 0
  ..- attr(*, "names")= chr "TM_OPTIMAL_SOLUTION_FOUND"
NULL
[ FAIL 0 | WARN 3 | SKIP 0 | PASS 34 ]
[ FAIL 0 | WARN 3 | SKIP 0 | PASS 34 ]
> 
> proc.time()
   user  system elapsed 
 14.715   0.469  15.224 
IHW.Rcheck/IHW-Ex.timings
| name | user | system | elapsed | |
| get_bh_threshold | 0.003 | 0.000 | 0.003 | |
| groups_by_filter | 0.003 | 0.000 | 0.002 | |
| ihw.DESeqResults | 0.000 | 0.000 | 0.001 | |
| ihw.default | 4.572 | 0.035 | 4.644 | |
| ihwResult-class | 2.394 | 0.008 | 2.411 | |
| plot-ihwResult-method | 4.701 | 0.136 | 4.851 | |