| Back to Multiple platform build/check report for BioC 3.22: simplified long | 
 | 
This page was generated on 2025-10-24 12:07 -0400 (Fri, 24 Oct 2025).
| Hostname | OS | Arch (*) | R version | Installed pkgs | 
|---|---|---|---|---|
| nebbiolo2 | Linux (Ubuntu 24.04.3 LTS) | x86_64 | 4.5.1 Patched (2025-08-23 r88802) -- "Great Square Root" | 4898 | 
| lconway | macOS 12.7.6 Monterey | x86_64 | 4.5.1 Patched (2025-09-10 r88807) -- "Great Square Root" | 4688 | 
| kjohnson3 | macOS 13.7.7 Ventura | arm64 | 4.5.1 Patched (2025-09-10 r88807) -- "Great Square Root" | 4634 | 
| taishan | Linux (openEuler 24.03 LTS) | aarch64 | 4.5.0 (2025-04-11) -- "How About a Twenty-Six" | 4658 | 
| Click on any hostname to see more info about the system (e.g. compilers) (*) as reported by 'uname -p', except on Windows and Mac OS X | ||||
| Package 80/2359 | Hostname | OS / Arch | INSTALL | BUILD | CHECK | BUILD BIN | ||||||||
| annotatr 1.35.2  (landing page) Raymond G. Cavalcante 
 | nebbiolo2 | Linux (Ubuntu 24.04.3 LTS) / x86_64 | OK | OK | OK |  | ||||||||
| lconway | macOS 12.7.6 Monterey / x86_64 | OK | OK | OK | OK |  | ||||||||
| kjohnson3 | macOS 13.7.7 Ventura / arm64 | OK | OK | OK | OK |  | ||||||||
| taishan | Linux (openEuler 24.03 LTS) / aarch64 | OK | OK | OK | ||||||||||
| To the developers/maintainers of the annotatr package: - Allow up to 24 hours (and sometimes 48 hours) for your latest push to git@git.bioconductor.org:packages/annotatr.git to reflect on this report. See Troubleshooting Build Report for more information. - Use the following Renviron settings to reproduce errors and warnings. - If 'R CMD check' started to fail recently on the Linux builder(s) over a missing dependency, add the missing dependency to 'Suggests:' in your DESCRIPTION file. See Renviron.bioc for more information. - See Martin Grigorov's blog post for how to debug Linux ARM64 related issues on a x86_64 host. | 
| Package: annotatr | 
| Version: 1.35.2 | 
| Command: /home/biocbuild/R/R/bin/R CMD check --install=check:annotatr.install-out.txt --library=/home/biocbuild/R/R/site-library --no-vignettes --timings annotatr_1.35.2.tar.gz | 
| StartedAt: 2025-10-21 04:28:57 -0000 (Tue, 21 Oct 2025) | 
| EndedAt: 2025-10-21 04:36:55 -0000 (Tue, 21 Oct 2025) | 
| EllapsedTime: 478.5 seconds | 
| RetCode: 0 | 
| Status: OK | 
| CheckDir: annotatr.Rcheck | 
| Warnings: 0 | 
##############################################################################
##############################################################################
###
### Running command:
###
###   /home/biocbuild/R/R/bin/R CMD check --install=check:annotatr.install-out.txt --library=/home/biocbuild/R/R/site-library --no-vignettes --timings annotatr_1.35.2.tar.gz
###
##############################################################################
##############################################################################
* using log directory ‘/home/biocbuild/bbs-3.22-bioc/meat/annotatr.Rcheck’
* using R version 4.5.0 (2025-04-11)
* using platform: aarch64-unknown-linux-gnu
* R was compiled by
    aarch64-unknown-linux-gnu-gcc (GCC) 14.2.0
    GNU Fortran (GCC) 14.2.0
* running under: openEuler 24.03 (LTS)
* using session charset: UTF-8
* using option ‘--no-vignettes’
* checking for file ‘annotatr/DESCRIPTION’ ... OK
* this is package ‘annotatr’ version ‘1.35.2’
* package encoding: UTF-8
* checking package namespace information ... OK
* checking package dependencies ... OK
* checking if this is a source package ... OK
* checking if there is a namespace ... OK
* checking for hidden files and directories ... OK
* checking for portable file names ... OK
* checking for sufficient/correct file permissions ... OK
* checking whether package ‘annotatr’ can be installed ... OK
* checking installed package size ... OK
* checking package directory ... OK
* checking ‘build’ directory ... OK
* checking DESCRIPTION meta-information ... OK
* checking top-level files ... OK
* checking for left-over files ... OK
* checking index information ... OK
* checking package subdirectories ... OK
* checking code files for non-ASCII characters ... OK
* checking R files for syntax errors ... OK
* checking whether the package can be loaded ... OK
* checking whether the package can be loaded with stated dependencies ... OK
* checking whether the package can be unloaded cleanly ... OK
* checking whether the namespace can be loaded with stated dependencies ... OK
* checking whether the namespace can be unloaded cleanly ... OK
* checking loading without being on the library search path ... OK
* checking dependencies in R code ... OK
* checking S3 generic/method consistency ... OK
* checking replacement functions ... OK
* checking foreign function calls ... OK
* checking R code for possible problems ... NOTE
plot_coannotations: no visible binding for global variable ‘.’
plot_numerical: no visible binding for global variable ‘density’
plot_numerical_coannotations: no visible binding for global variable
  ‘.’
plot_numerical_coannotations: no visible binding for global variable
  ‘density’
Undefined global functions or variables:
  . density
Consider adding
  importFrom("stats", "density")
to your NAMESPACE file.
* checking Rd files ... OK
* checking Rd metadata ... OK
* checking Rd cross-references ... OK
* checking for missing documentation entries ... OK
* checking for code/documentation mismatches ... OK
* checking Rd \usage sections ... OK
* checking Rd contents ... OK
* checking for unstated dependencies in examples ... OK
* checking contents of ‘data’ directory ... OK
* checking data for non-ASCII characters ... OK
* checking LazyData ... OK
* checking data for ASCII and uncompressed saves ... OK
* checking files in ‘vignettes’ ... OK
* checking examples ... OK
Examples with CPU (user + system) or elapsed time > 5s
                    user system elapsed
build_annotations 15.936  0.897  16.893
build_ah_annots    4.576  0.637  14.539
plot_annotation    3.273  0.878   5.718
randomize_regions  2.759  0.242   5.796
annotatr_cache     0.868  0.191   5.982
* checking for unstated dependencies in ‘tests’ ... OK
* checking tests ...
  Running ‘testthat.R’
 OK
* checking for unstated dependencies in vignettes ... OK
* checking package vignettes ... OK
* checking running R code from vignettes ... SKIPPED
* checking re-building of vignette outputs ... SKIPPED
* checking PDF version of manual ... OK
* DONE
Status: 1 NOTE
See
  ‘/home/biocbuild/bbs-3.22-bioc/meat/annotatr.Rcheck/00check.log’
for details.
annotatr.Rcheck/00install.out
############################################################################## ############################################################################## ### ### Running command: ### ### /home/biocbuild/R/R/bin/R CMD INSTALL annotatr ### ############################################################################## ############################################################################## * installing to library ‘/home/biocbuild/R/R-4.5.0/site-library’ * installing *source* package ‘annotatr’ ... ** this is package ‘annotatr’ version ‘1.35.2’ ** using staged installation ** R ** data *** moving datasets to lazyload DB ** inst ** byte-compile and prepare package for lazy loading ** help *** installing help indices ** building package indices ** installing vignettes ** testing if installed package can be loaded from temporary location ** testing if installed package can be loaded from final location ** testing if installed package keeps a record of temporary installation path * DONE (annotatr)
annotatr.Rcheck/tests/testthat.Rout
R version 4.5.0 (2025-04-11) -- "How About a Twenty-Six"
Copyright (C) 2025 The R Foundation for Statistical Computing
Platform: aarch64-unknown-linux-gnu
R is free software and comes with ABSOLUTELY NO WARRANTY.
You are welcome to redistribute it under certain conditions.
Type 'license()' or 'licence()' for distribution details.
R is a collaborative project with many contributors.
Type 'contributors()' for more information and
'citation()' on how to cite R or R packages in publications.
Type 'demo()' for some demos, 'help()' for on-line help, or
'help.start()' for an HTML browser interface to help.
Type 'q()' to quit R.
> library(testthat)
> library(annotatr)
> 
> test_check("annotatr")
[ FAIL 0 | WARN 4 | SKIP 0 | PASS 72 ]
[ FAIL 0 | WARN 4 | SKIP 0 | PASS 72 ]
> 
> proc.time()
   user  system elapsed 
 42.862   2.191  63.034 
annotatr.Rcheck/annotatr-Ex.timings
| name | user | system | elapsed | |
| annotate_regions | 0.551 | 0.024 | 0.577 | |
| annotatr_cache | 0.868 | 0.191 | 5.982 | |
| build_ah_annots | 4.576 | 0.637 | 14.539 | |
| build_annotations | 15.936 | 0.897 | 16.893 | |
| builtin_annotations | 0.001 | 0.008 | 0.008 | |
| builtin_genomes | 0 | 0 | 0 | |
| plot_annotation | 3.273 | 0.878 | 5.718 | |
| plot_categorical | 3.433 | 0.341 | 4.743 | |
| plot_coannotations | 1.390 | 0.095 | 1.492 | |
| plot_numerical | 0.861 | 0.035 | 0.900 | |
| plot_numerical_coannotations | 0.943 | 0.092 | 1.038 | |
| randomize_regions | 2.759 | 0.242 | 5.796 | |
| read_annotations | 0.420 | 0.069 | 1.447 | |
| read_regions | 0.415 | 0.067 | 1.955 | |
| summarize_annotations | 3.126 | 0.418 | 4.516 | |
| summarize_categorical | 0.488 | 0.021 | 1.470 | |
| summarize_numerical | 0.696 | 0.068 | 2.241 | |