| Back to Multiple platform build/check report for BioC 3.22: simplified long |
|
This page was generated on 2025-10-21 12:07 -0400 (Tue, 21 Oct 2025).
| Hostname | OS | Arch (*) | R version | Installed pkgs |
|---|---|---|---|---|
| nebbiolo2 | Linux (Ubuntu 24.04.3 LTS) | x86_64 | 4.5.1 Patched (2025-08-23 r88802) -- "Great Square Root" | 4887 |
| lconway | macOS 12.7.6 Monterey | x86_64 | 4.5.1 Patched (2025-09-10 r88807) -- "Great Square Root" | 4677 |
| kjohnson3 | macOS 13.7.7 Ventura | arm64 | 4.5.1 Patched (2025-09-10 r88807) -- "Great Square Root" | 4622 |
| taishan | Linux (openEuler 24.03 LTS) | aarch64 | 4.5.0 (2025-04-11) -- "How About a Twenty-Six" | 4642 |
| Click on any hostname to see more info about the system (e.g. compilers) (*) as reported by 'uname -p', except on Windows and Mac OS X | ||||
| Package 1908/2353 | Hostname | OS / Arch | INSTALL | BUILD | CHECK | BUILD BIN | ||||||||
| scDDboost 1.11.0 (landing page) Xiuyu Ma
| nebbiolo2 | Linux (Ubuntu 24.04.3 LTS) / x86_64 | OK | OK | OK | |||||||||
| lconway | macOS 12.7.6 Monterey / x86_64 | OK | OK | OK | OK | |||||||||
| kjohnson3 | macOS 13.7.7 Ventura / arm64 | OK | OK | OK | OK | |||||||||
| taishan | Linux (openEuler 24.03 LTS) / aarch64 | OK | OK | WARNINGS | ||||||||||
|
To the developers/maintainers of the scDDboost package: - Allow up to 24 hours (and sometimes 48 hours) for your latest push to git@git.bioconductor.org:packages/scDDboost.git to reflect on this report. See Troubleshooting Build Report for more information. - Use the following Renviron settings to reproduce errors and warnings. - If 'R CMD check' started to fail recently on the Linux builder(s) over a missing dependency, add the missing dependency to 'Suggests:' in your DESCRIPTION file. See Renviron.bioc for more information. - See Martin Grigorov's blog post for how to debug Linux ARM64 related issues on a x86_64 host. |
| Package: scDDboost |
| Version: 1.11.0 |
| Command: /home/biocbuild/R/R/bin/R CMD check --install=check:scDDboost.install-out.txt --library=/home/biocbuild/R/R/site-library --no-vignettes --timings scDDboost_1.11.0.tar.gz |
| StartedAt: 2025-10-17 13:15:54 -0000 (Fri, 17 Oct 2025) |
| EndedAt: 2025-10-17 13:22:01 -0000 (Fri, 17 Oct 2025) |
| EllapsedTime: 367.4 seconds |
| RetCode: 0 |
| Status: WARNINGS |
| CheckDir: scDDboost.Rcheck |
| Warnings: 1 |
##############################################################################
##############################################################################
###
### Running command:
###
### /home/biocbuild/R/R/bin/R CMD check --install=check:scDDboost.install-out.txt --library=/home/biocbuild/R/R/site-library --no-vignettes --timings scDDboost_1.11.0.tar.gz
###
##############################################################################
##############################################################################
* using log directory ‘/home/biocbuild/bbs-3.22-bioc/meat/scDDboost.Rcheck’
* using R version 4.5.0 (2025-04-11)
* using platform: aarch64-unknown-linux-gnu
* R was compiled by
aarch64-unknown-linux-gnu-gcc (GCC) 14.2.0
GNU Fortran (GCC) 14.2.0
* running under: openEuler 24.03 (LTS)
* using session charset: UTF-8
* using option ‘--no-vignettes’
* checking for file ‘scDDboost/DESCRIPTION’ ... OK
* checking extension type ... Package
* this is package ‘scDDboost’ version ‘1.11.0’
* checking package namespace information ... OK
* checking package dependencies ... OK
* checking if this is a source package ... OK
* checking if there is a namespace ... OK
* checking for hidden files and directories ... OK
* checking for portable file names ... OK
* checking for sufficient/correct file permissions ... OK
* checking whether package ‘scDDboost’ can be installed ... WARNING
Found the following significant warnings:
/home/biocbuild/R/R-4.5.0/site-library/RcppEigen/include/Eigen/src/Core/arch/NEON/PacketMath.h:1671:9: warning: ‘void* memcpy(void*, const void*, size_t)’ copying an object of non-trivial type ‘Eigen::internal::Packet4c’ {aka ‘struct Eigen::internal::eigen_packet_wrapper<int, 2>’} from an array of ‘const int8_t’ {aka ‘const signed char’} [-Wclass-memaccess]
/home/biocbuild/R/R-4.5.0/site-library/RcppEigen/include/Eigen/src/Core/arch/NEON/PacketMath.h:1716:9: warning: ‘void* memcpy(void*, const void*, size_t)’ copying an object of non-trivial type ‘Eigen::internal::Packet4c’ {aka ‘struct Eigen::internal::eigen_packet_wrapper<int, 2>’} from an array of ‘const int8_t’ {aka ‘const signed char’} [-Wclass-memaccess]
See ‘/home/biocbuild/bbs-3.22-bioc/meat/scDDboost.Rcheck/00install.out’ for details.
* used C compiler: ‘aarch64-unknown-linux-gnu-gcc (GCC) 14.2.0’
* used C++ compiler: ‘aarch64-unknown-linux-gnu-g++ (GCC) 14.2.0’
* checking C++ specification ... NOTE
Specified C++14: please drop specification unless essential
* checking installed package size ... INFO
installed size is 14.1Mb
sub-directories of 1Mb or more:
libs 13.7Mb
* checking package directory ... OK
* checking ‘build’ directory ... OK
* checking DESCRIPTION meta-information ... OK
* checking top-level files ... OK
* checking for left-over files ... OK
* checking index information ... OK
* checking package subdirectories ... NOTE
Problems with news in ‘NEWS.md’:
No news entries found.
* checking code files for non-ASCII characters ... OK
* checking R files for syntax errors ... OK
* checking whether the package can be loaded ... OK
* checking whether the package can be loaded with stated dependencies ... OK
* checking whether the package can be unloaded cleanly ... OK
* checking whether the namespace can be loaded with stated dependencies ... OK
* checking whether the namespace can be unloaded cleanly ... OK
* checking loading without being on the library search path ... OK
* checking dependencies in R code ... OK
* checking S3 generic/method consistency ... OK
* checking replacement functions ... OK
* checking foreign function calls ... OK
* checking R code for possible problems ... OK
* checking Rd files ... OK
* checking Rd metadata ... OK
* checking Rd cross-references ... OK
* checking for missing documentation entries ... OK
* checking for code/documentation mismatches ... OK
* checking Rd \usage sections ... OK
* checking Rd contents ... OK
* checking for unstated dependencies in examples ... OK
* checking contents of ‘data’ directory ... OK
* checking data for non-ASCII characters ... OK
* checking data for ASCII and uncompressed saves ... OK
* checking line endings in C/C++/Fortran sources/headers ... OK
* checking line endings in Makefiles ... OK
* checking compilation flags in Makevars ... OK
* checking for GNU extensions in Makefiles ... OK
* checking for portable use of $(BLAS_LIBS) and $(LAPACK_LIBS) ... OK
* checking use of PKG_*FLAGS in Makefiles ... OK
* checking compiled code ... NOTE
Note: information on .o files is not available
* checking files in ‘vignettes’ ... OK
* checking examples ... OK
Examples with CPU (user + system) or elapsed time > 5s
user system elapsed
scDDboost-package 69.575 1.475 27.626
pdd 55.301 1.265 29.350
detK 12.182 0.621 7.232
calD 12.042 0.352 6.643
* checking for unstated dependencies in ‘tests’ ... OK
* checking tests ...
Running ‘testthat.R’
OK
* checking for unstated dependencies in vignettes ... OK
* checking package vignettes ... OK
* checking running R code from vignettes ... SKIPPED
* checking re-building of vignette outputs ... SKIPPED
* checking PDF version of manual ... OK
* DONE
Status: 1 WARNING, 3 NOTEs
See
‘/home/biocbuild/bbs-3.22-bioc/meat/scDDboost.Rcheck/00check.log’
for details.
scDDboost.Rcheck/00install.out
##############################################################################
##############################################################################
###
### Running command:
###
### /home/biocbuild/R/R/bin/R CMD INSTALL scDDboost
###
##############################################################################
##############################################################################
* installing to library ‘/home/biocbuild/R/R-4.5.0/site-library’
* installing *source* package ‘scDDboost’ ...
** this is package ‘scDDboost’ version ‘1.11.0’
** using staged installation
** libs
using C compiler: ‘aarch64-unknown-linux-gnu-gcc (GCC) 14.2.0’
using C++ compiler: ‘aarch64-unknown-linux-gnu-g++ (GCC) 14.2.0’
using C++14
/opt/ohpc/pub/compiler/gcc/14.2.0/bin/aarch64-unknown-linux-gnu-g++ -std=gnu++14 -I"/home/biocbuild/R/R-4.5.0/include" -DNDEBUG -I'/home/biocbuild/R/R-4.5.0/site-library/Rcpp/include' -I'/home/biocbuild/R/R-4.5.0/site-library/RcppEigen/include' -I'/home/biocbuild/R/R-4.5.0/site-library/BH/include' -I/usr/local/include -fPIC -g -O2 -Wall -Werror=format-security -c DATA.cpp -o DATA.o
In file included from /home/biocbuild/R/R-4.5.0/site-library/RcppEigen/include/Eigen/Core:214,
from /home/biocbuild/R/R-4.5.0/site-library/RcppEigen/include/Eigen/Dense:1,
from /home/biocbuild/R/R-4.5.0/site-library/RcppEigen/include/RcppEigenForward.h:28,
from /home/biocbuild/R/R-4.5.0/site-library/RcppEigen/include/RcppEigen.h:25,
from DATA.h:9,
from DATA.cpp:9:
/home/biocbuild/R/R-4.5.0/site-library/RcppEigen/include/Eigen/src/Core/arch/NEON/PacketMath.h: In function ‘Packet Eigen::internal::pload(const typename unpacket_traits<T>::type*) [with Packet = eigen_packet_wrapper<int, 2>; typename unpacket_traits<T>::type = signed char]’:
/home/biocbuild/R/R-4.5.0/site-library/RcppEigen/include/Eigen/src/Core/arch/NEON/PacketMath.h:1671:9: warning: ‘void* memcpy(void*, const void*, size_t)’ copying an object of non-trivial type ‘Eigen::internal::Packet4c’ {aka ‘struct Eigen::internal::eigen_packet_wrapper<int, 2>’} from an array of ‘const int8_t’ {aka ‘const signed char’} [-Wclass-memaccess]
1671 | memcpy(&res, from, sizeof(Packet4c));
| ~~~~~~^~~~~~~~~~~~~~~~~~~~~~~~~~~~~~
In file included from /home/biocbuild/R/R-4.5.0/site-library/RcppEigen/include/Eigen/Core:172:
/home/biocbuild/R/R-4.5.0/site-library/RcppEigen/include/Eigen/src/Core/GenericPacketMath.h:159:8: note: ‘Eigen::internal::Packet4c’ {aka ‘struct Eigen::internal::eigen_packet_wrapper<int, 2>’} declared here
159 | struct eigen_packet_wrapper
| ^~~~~~~~~~~~~~~~~~~~
/home/biocbuild/R/R-4.5.0/site-library/RcppEigen/include/Eigen/src/Core/arch/NEON/PacketMath.h: In function ‘Packet Eigen::internal::ploadu(const typename unpacket_traits<T>::type*) [with Packet = eigen_packet_wrapper<int, 2>; typename unpacket_traits<T>::type = signed char]’:
/home/biocbuild/R/R-4.5.0/site-library/RcppEigen/include/Eigen/src/Core/arch/NEON/PacketMath.h:1716:9: warning: ‘void* memcpy(void*, const void*, size_t)’ copying an object of non-trivial type ‘Eigen::internal::Packet4c’ {aka ‘struct Eigen::internal::eigen_packet_wrapper<int, 2>’} from an array of ‘const int8_t’ {aka ‘const signed char’} [-Wclass-memaccess]
1716 | memcpy(&res, from, sizeof(Packet4c));
| ~~~~~~^~~~~~~~~~~~~~~~~~~~~~~~~~~~~~
/home/biocbuild/R/R-4.5.0/site-library/RcppEigen/include/Eigen/src/Core/GenericPacketMath.h:159:8: note: ‘Eigen::internal::Packet4c’ {aka ‘struct Eigen::internal::eigen_packet_wrapper<int, 2>’} declared here
159 | struct eigen_packet_wrapper
| ^~~~~~~~~~~~~~~~~~~~
DATA.cpp: In member function ‘std::vector<Eigen::Matrix<double, -1, -1> > DATA::reorg(Eigen::MatrixXd&, const Eigen::VectorXi&)’:
DATA.cpp:17:26: warning: comparison of integer expressions of different signedness: ‘int’ and ‘std::vector<int>::size_type’ {aka ‘long unsigned int’} [-Wsign-compare]
17 | for(int j = 0; j < s.size(); ++j){
| ~~^~~~~~~~~~
DATA.cpp: In member function ‘std::vector<Eigen::Matrix<double, -1, -1> > DATA::reorgr(const Eigen::MatrixXd&, const Eigen::VectorXi&)’:
DATA.cpp:32:26: warning: comparison of integer expressions of different signedness: ‘int’ and ‘std::vector<int>::size_type’ {aka ‘long unsigned int’} [-Wsign-compare]
32 | for(int j = 0; j < s.size(); ++j){
| ~~^~~~~~~~~~
DATA.cpp: In member function ‘r_q DATA::cal_r(Eigen::MatrixXd&, const Eigen::VectorXi&, const Eigen::VectorXd&)’:
DATA.cpp:48:22: warning: comparison of integer expressions of different signedness: ‘int’ and ‘size_t’ {aka ‘long unsigned int’} [-Wsign-compare]
48 | for(int i = 0; i < G; i++){
| ~~^~~
DATA.cpp:49:26: warning: comparison of integer expressions of different signedness: ‘int’ and ‘size_t’ {aka ‘long unsigned int’} [-Wsign-compare]
49 | for(int j = 0; j < nc; j++){
| ~~^~~~
DATA.cpp:58:22: warning: comparison of integer expressions of different signedness: ‘int’ and ‘size_t’ {aka ‘long unsigned int’} [-Wsign-compare]
58 | for(int i = 0; i < G; i++)
| ~~^~~
DATA.cpp:59:26: warning: comparison of integer expressions of different signedness: ‘int’ and ‘size_t’ {aka ‘long unsigned int’} [-Wsign-compare]
59 | for(int j = 0; j < K; j++){
| ~~^~~
DATA.cpp:65:30: warning: comparison of integer expressions of different signedness: ‘int’ and ‘std::vector<int>::size_type’ {aka ‘long unsigned int’} [-Wsign-compare]
65 | for(int t = 0; t < s.size(); t++)
| ~~^~~~~~~~~~
DATA.cpp:70:30: warning: comparison of integer expressions of different signedness: ‘int’ and ‘std::vector<int>::size_type’ {aka ‘long unsigned int’} [-Wsign-compare]
70 | for(int t = 0; t < s.size(); t++)
| ~~^~~~~~~~~~
DATA.cpp:85:22: warning: comparison of integer expressions of different signedness: ‘int’ and ‘size_t’ {aka ‘long unsigned int’} [-Wsign-compare]
85 | for(int i = 0; i < G; ++i){
| ~~^~~
DATA.cpp: In member function ‘Eigen::MatrixXd DATA::cal_hp()’:
DATA.cpp:106:18: warning: comparison of integer expressions of different signedness: ‘int’ and ‘size_t’ {aka ‘long unsigned int’} [-Wsign-compare]
106 | for(int j=0;j<K;++j){
| ~^~
DATA.cpp:113:18: warning: comparison of integer expressions of different signedness: ‘int’ and ‘size_t’ {aka ‘long unsigned int’} [-Wsign-compare]
113 | for(int i=0;i<G;++i){
| ~^~
DATA.cpp:114:22: warning: comparison of integer expressions of different signedness: ‘int’ and ‘size_t’ {aka ‘long unsigned int’} [-Wsign-compare]
114 | for(int j=0;j<K;++j){
| ~^~
DATA.cpp: In constructor ‘DATA::DATA(Eigen::MatrixXd&, const Eigen::VectorXi&, const Eigen::VectorXd&, const Eigen::MatrixXi&)’:
DATA.cpp:157:18: warning: comparison of integer expressions of different signedness: ‘int’ and ‘size_t’ {aka ‘long unsigned int’} [-Wsign-compare]
157 | for(int j=0;j<K;j++){
| ~^~
/opt/ohpc/pub/compiler/gcc/14.2.0/bin/aarch64-unknown-linux-gnu-g++ -std=gnu++14 -I"/home/biocbuild/R/R-4.5.0/include" -DNDEBUG -I'/home/biocbuild/R/R-4.5.0/site-library/Rcpp/include' -I'/home/biocbuild/R/R-4.5.0/site-library/RcppEigen/include' -I'/home/biocbuild/R/R-4.5.0/site-library/BH/include' -I/usr/local/include -fPIC -g -O2 -Wall -Werror=format-security -c Header.cpp -o Header.o
In file included from /home/biocbuild/R/R-4.5.0/site-library/RcppEigen/include/Eigen/Core:214,
from /home/biocbuild/R/R-4.5.0/site-library/RcppEigen/include/Eigen/Dense:1,
from /home/biocbuild/R/R-4.5.0/site-library/RcppEigen/include/RcppEigenForward.h:28,
from /home/biocbuild/R/R-4.5.0/site-library/RcppEigen/include/RcppEigen.h:25,
from Header.h:19,
from Header.cpp:9:
/home/biocbuild/R/R-4.5.0/site-library/RcppEigen/include/Eigen/src/Core/arch/NEON/PacketMath.h: In function ‘Packet Eigen::internal::pload(const typename unpacket_traits<T>::type*) [with Packet = eigen_packet_wrapper<int, 2>; typename unpacket_traits<T>::type = signed char]’:
/home/biocbuild/R/R-4.5.0/site-library/RcppEigen/include/Eigen/src/Core/arch/NEON/PacketMath.h:1671:9: warning: ‘void* memcpy(void*, const void*, size_t)’ copying an object of non-trivial type ‘Eigen::internal::Packet4c’ {aka ‘struct Eigen::internal::eigen_packet_wrapper<int, 2>’} from an array of ‘const int8_t’ {aka ‘const signed char’} [-Wclass-memaccess]
1671 | memcpy(&res, from, sizeof(Packet4c));
| ~~~~~~^~~~~~~~~~~~~~~~~~~~~~~~~~~~~~
In file included from /home/biocbuild/R/R-4.5.0/site-library/RcppEigen/include/Eigen/Core:172:
/home/biocbuild/R/R-4.5.0/site-library/RcppEigen/include/Eigen/src/Core/GenericPacketMath.h:159:8: note: ‘Eigen::internal::Packet4c’ {aka ‘struct Eigen::internal::eigen_packet_wrapper<int, 2>’} declared here
159 | struct eigen_packet_wrapper
| ^~~~~~~~~~~~~~~~~~~~
/home/biocbuild/R/R-4.5.0/site-library/RcppEigen/include/Eigen/src/Core/arch/NEON/PacketMath.h: In function ‘Packet Eigen::internal::ploadu(const typename unpacket_traits<T>::type*) [with Packet = eigen_packet_wrapper<int, 2>; typename unpacket_traits<T>::type = signed char]’:
/home/biocbuild/R/R-4.5.0/site-library/RcppEigen/include/Eigen/src/Core/arch/NEON/PacketMath.h:1716:9: warning: ‘void* memcpy(void*, const void*, size_t)’ copying an object of non-trivial type ‘Eigen::internal::Packet4c’ {aka ‘struct Eigen::internal::eigen_packet_wrapper<int, 2>’} from an array of ‘const int8_t’ {aka ‘const signed char’} [-Wclass-memaccess]
1716 | memcpy(&res, from, sizeof(Packet4c));
| ~~~~~~^~~~~~~~~~~~~~~~~~~~~~~~~~~~~~
/home/biocbuild/R/R-4.5.0/site-library/RcppEigen/include/Eigen/src/Core/GenericPacketMath.h:159:8: note: ‘Eigen::internal::Packet4c’ {aka ‘struct Eigen::internal::eigen_packet_wrapper<int, 2>’} declared here
159 | struct eigen_packet_wrapper
| ^~~~~~~~~~~~~~~~~~~~
Header.cpp: In function ‘std::vector<std::vector<int> > partition(const int&)’:
Header.cpp:38:22: warning: comparison of integer expressions of different signedness: ‘int’ and ‘size_t’ {aka ‘long unsigned int’} [-Wsign-compare]
38 | for(int j=0;j<L;++j){
| ~^~
/opt/ohpc/pub/compiler/gcc/14.2.0/bin/aarch64-unknown-linux-gnu-g++ -std=gnu++14 -I"/home/biocbuild/R/R-4.5.0/include" -DNDEBUG -I'/home/biocbuild/R/R-4.5.0/site-library/Rcpp/include' -I'/home/biocbuild/R/R-4.5.0/site-library/RcppEigen/include' -I'/home/biocbuild/R/R-4.5.0/site-library/BH/include' -I/usr/local/include -fPIC -g -O2 -Wall -Werror=format-security -c derived.cpp -o derived.o
In file included from /home/biocbuild/R/R-4.5.0/site-library/RcppEigen/include/Eigen/Core:214,
from /home/biocbuild/R/R-4.5.0/site-library/RcppEigen/include/Eigen/Dense:1,
from /home/biocbuild/R/R-4.5.0/site-library/RcppEigen/include/RcppEigenForward.h:28,
from /home/biocbuild/R/R-4.5.0/site-library/RcppEigen/include/RcppEigen.h:25,
from DATA.h:9,
from derived.h:13,
from derived.cpp:9:
/home/biocbuild/R/R-4.5.0/site-library/RcppEigen/include/Eigen/src/Core/arch/NEON/PacketMath.h: In function ‘Packet Eigen::internal::pload(const typename unpacket_traits<T>::type*) [with Packet = eigen_packet_wrapper<int, 2>; typename unpacket_traits<T>::type = signed char]’:
/home/biocbuild/R/R-4.5.0/site-library/RcppEigen/include/Eigen/src/Core/arch/NEON/PacketMath.h:1671:9: warning: ‘void* memcpy(void*, const void*, size_t)’ copying an object of non-trivial type ‘Eigen::internal::Packet4c’ {aka ‘struct Eigen::internal::eigen_packet_wrapper<int, 2>’} from an array of ‘const int8_t’ {aka ‘const signed char’} [-Wclass-memaccess]
1671 | memcpy(&res, from, sizeof(Packet4c));
| ~~~~~~^~~~~~~~~~~~~~~~~~~~~~~~~~~~~~
In file included from /home/biocbuild/R/R-4.5.0/site-library/RcppEigen/include/Eigen/Core:172:
/home/biocbuild/R/R-4.5.0/site-library/RcppEigen/include/Eigen/src/Core/GenericPacketMath.h:159:8: note: ‘Eigen::internal::Packet4c’ {aka ‘struct Eigen::internal::eigen_packet_wrapper<int, 2>’} declared here
159 | struct eigen_packet_wrapper
| ^~~~~~~~~~~~~~~~~~~~
/home/biocbuild/R/R-4.5.0/site-library/RcppEigen/include/Eigen/src/Core/arch/NEON/PacketMath.h: In function ‘Packet Eigen::internal::ploadu(const typename unpacket_traits<T>::type*) [with Packet = eigen_packet_wrapper<int, 2>; typename unpacket_traits<T>::type = signed char]’:
/home/biocbuild/R/R-4.5.0/site-library/RcppEigen/include/Eigen/src/Core/arch/NEON/PacketMath.h:1716:9: warning: ‘void* memcpy(void*, const void*, size_t)’ copying an object of non-trivial type ‘Eigen::internal::Packet4c’ {aka ‘struct Eigen::internal::eigen_packet_wrapper<int, 2>’} from an array of ‘const int8_t’ {aka ‘const signed char’} [-Wclass-memaccess]
1716 | memcpy(&res, from, sizeof(Packet4c));
| ~~~~~~^~~~~~~~~~~~~~~~~~~~~~~~~~~~~~
/home/biocbuild/R/R-4.5.0/site-library/RcppEigen/include/Eigen/src/Core/GenericPacketMath.h:159:8: note: ‘Eigen::internal::Packet4c’ {aka ‘struct Eigen::internal::eigen_packet_wrapper<int, 2>’} declared here
159 | struct eigen_packet_wrapper
| ^~~~~~~~~~~~~~~~~~~~
derived.cpp: In constructor ‘DC::DC(Eigen::MatrixXd&, Eigen::VectorXi&, Eigen::VectorXd&, std::vector<int>&, Eigen::MatrixXi&)’:
derived.cpp:31:26: warning: comparison of integer expressions of different signedness: ‘int’ and ‘size_t’ {aka ‘long unsigned int’} [-Wsign-compare]
31 | for(int j = 0; j < K; j++){
| ~~^~~
derived.cpp: In member function ‘void DC::go_drv(const Eigen::MatrixXd&, const Eigen::MatrixXd&, double&, Eigen::VectorXd&, double, double)’:
derived.cpp:162:22: warning: comparison of integer expressions of different signedness: ‘int’ and ‘size_t’ {aka ‘long unsigned int’} [-Wsign-compare]
162 | for(int i = 0; i < G; i++)
| ~~^~~
/opt/ohpc/pub/compiler/gcc/14.2.0/bin/aarch64-unknown-linux-gnu-g++ -std=gnu++14 -I"/home/biocbuild/R/R-4.5.0/include" -DNDEBUG -I'/home/biocbuild/R/R-4.5.0/site-library/Rcpp/include' -I'/home/biocbuild/R/R-4.5.0/site-library/RcppEigen/include' -I'/home/biocbuild/R/R-4.5.0/site-library/BH/include' -I/usr/local/include -fPIC -g -O2 -Wall -Werror=format-security -c main.cpp -o main.o
In file included from /home/biocbuild/R/R-4.5.0/site-library/RcppEigen/include/Eigen/Core:214,
from /home/biocbuild/R/R-4.5.0/site-library/RcppEigen/include/Eigen/Dense:1,
from /home/biocbuild/R/R-4.5.0/site-library/RcppEigen/include/RcppEigenForward.h:28,
from /home/biocbuild/R/R-4.5.0/site-library/RcppEigen/include/RcppEigen.h:25,
from main.cpp:9:
/home/biocbuild/R/R-4.5.0/site-library/RcppEigen/include/Eigen/src/Core/arch/NEON/PacketMath.h: In function ‘Packet Eigen::internal::pload(const typename unpacket_traits<T>::type*) [with Packet = eigen_packet_wrapper<int, 2>; typename unpacket_traits<T>::type = signed char]’:
/home/biocbuild/R/R-4.5.0/site-library/RcppEigen/include/Eigen/src/Core/arch/NEON/PacketMath.h:1671:9: warning: ‘void* memcpy(void*, const void*, size_t)’ copying an object of non-trivial type ‘Eigen::internal::Packet4c’ {aka ‘struct Eigen::internal::eigen_packet_wrapper<int, 2>’} from an array of ‘const int8_t’ {aka ‘const signed char’} [-Wclass-memaccess]
1671 | memcpy(&res, from, sizeof(Packet4c));
| ~~~~~~^~~~~~~~~~~~~~~~~~~~~~~~~~~~~~
In file included from /home/biocbuild/R/R-4.5.0/site-library/RcppEigen/include/Eigen/Core:172:
/home/biocbuild/R/R-4.5.0/site-library/RcppEigen/include/Eigen/src/Core/GenericPacketMath.h:159:8: note: ‘Eigen::internal::Packet4c’ {aka ‘struct Eigen::internal::eigen_packet_wrapper<int, 2>’} declared here
159 | struct eigen_packet_wrapper
| ^~~~~~~~~~~~~~~~~~~~
/home/biocbuild/R/R-4.5.0/site-library/RcppEigen/include/Eigen/src/Core/arch/NEON/PacketMath.h: In function ‘Packet Eigen::internal::ploadu(const typename unpacket_traits<T>::type*) [with Packet = eigen_packet_wrapper<int, 2>; typename unpacket_traits<T>::type = signed char]’:
/home/biocbuild/R/R-4.5.0/site-library/RcppEigen/include/Eigen/src/Core/arch/NEON/PacketMath.h:1716:9: warning: ‘void* memcpy(void*, const void*, size_t)’ copying an object of non-trivial type ‘Eigen::internal::Packet4c’ {aka ‘struct Eigen::internal::eigen_packet_wrapper<int, 2>’} from an array of ‘const int8_t’ {aka ‘const signed char’} [-Wclass-memaccess]
1716 | memcpy(&res, from, sizeof(Packet4c));
| ~~~~~~^~~~~~~~~~~~~~~~~~~~~~~~~~~~~~
/home/biocbuild/R/R-4.5.0/site-library/RcppEigen/include/Eigen/src/Core/GenericPacketMath.h:159:8: note: ‘Eigen::internal::Packet4c’ {aka ‘struct Eigen::internal::eigen_packet_wrapper<int, 2>’} declared here
159 | struct eigen_packet_wrapper
| ^~~~~~~~~~~~~~~~~~~~
main.cpp: In function ‘SEXPREC* new_D(SEXP, SEXP, SEXP)’:
main.cpp:180:18: warning: comparison of integer expressions of different signedness: ‘int’ and ‘std::vector<int>::size_type’ {aka ‘long unsigned int’} [-Wsign-compare]
180 | for(int i=0;i<de_i.size();i++){
| ~^~~~~~~~~~~~
main.cpp:191:18: warning: comparison of integer expressions of different signedness: ‘int’ and ‘std::vector<int>::size_type’ {aka ‘long unsigned int’} [-Wsign-compare]
191 | for(int i=0;i<cd.size();i++){
| ~^~~~~~~~~~
main.cpp:192:24: warning: comparison of integer expressions of different signedness: ‘int’ and ‘std::vector<int>::size_type’ {aka ‘long unsigned int’} [-Wsign-compare]
192 | for(int j=i+1;j<cd.size();j++){
| ~^~~~~~~~~~
main.cpp:194:26: warning: comparison of integer expressions of different signedness: ‘int’ and ‘std::vector<int>::size_type’ {aka ‘long unsigned int’} [-Wsign-compare]
194 | for(int t=0;t<de_i.size();t++){
| ~^~~~~~~~~~~~
main.cpp: In function ‘SEXPREC* pat(SEXP)’:
main.cpp:246:18: warning: comparison of integer expressions of different signedness: ‘int’ and ‘std::vector<std::vector<int> >::size_type’ {aka ‘long unsigned int’} [-Wsign-compare]
246 | for(int i=0;i<res.size();i++)
| ~^~~~~~~~~~~
/opt/ohpc/pub/compiler/gcc/14.2.0/bin/aarch64-unknown-linux-gnu-gcc -std=gnu23 -I"/home/biocbuild/R/R-4.5.0/include" -DNDEBUG -I'/home/biocbuild/R/R-4.5.0/site-library/Rcpp/include' -I'/home/biocbuild/R/R-4.5.0/site-library/RcppEigen/include' -I'/home/biocbuild/R/R-4.5.0/site-library/BH/include' -I/usr/local/include -fPIC -g -O2 -Wall -Werror=format-security -c scDDboost_init.c -o scDDboost_init.o
/opt/ohpc/pub/compiler/gcc/14.2.0/bin/aarch64-unknown-linux-gnu-g++ -std=gnu++14 -shared -L/home/biocbuild/R/R-4.5.0/lib -L/usr/local/lib -o scDDboost.so DATA.o Header.o derived.o main.o scDDboost_init.o -L/home/biocbuild/R/R-4.5.0/lib -lR
installing to /home/biocbuild/R/R-4.5.0/site-library/00LOCK-scDDboost/00new/scDDboost/libs
** R
** data
** inst
** byte-compile and prepare package for lazy loading
** help
*** installing help indices
** building package indices
** installing vignettes
** testing if installed package can be loaded from temporary location
** checking absolute paths in shared objects and dynamic libraries
** testing if installed package can be loaded from final location
** testing if installed package keeps a record of temporary installation path
* DONE (scDDboost)
scDDboost.Rcheck/tests/testthat.Rout
R version 4.5.0 (2025-04-11) -- "How About a Twenty-Six"
Copyright (C) 2025 The R Foundation for Statistical Computing
Platform: aarch64-unknown-linux-gnu
R is free software and comes with ABSOLUTELY NO WARRANTY.
You are welcome to redistribute it under certain conditions.
Type 'license()' or 'licence()' for distribution details.
R is a collaborative project with many contributors.
Type 'contributors()' for more information and
'citation()' on how to cite R or R packages in publications.
Type 'demo()' for some demos, 'help()' for on-line help, or
'help.start()' for an HTML browser interface to help.
Type 'q()' to quit R.
> library(testthat)
> library(scDDboost)
Loading required package: ggplot2
>
> test_check("scDDboost")
[ FAIL 0 | WARN 0 | SKIP 0 | PASS 18 ]
>
> proc.time()
user system elapsed
33.712 1.140 29.776
scDDboost.Rcheck/scDDboost-Ex.timings
| name | user | system | elapsed | |
| calD | 12.042 | 0.352 | 6.643 | |
| detK | 12.182 | 0.621 | 7.232 | |
| extractInfo | 0.029 | 0.008 | 0.037 | |
| getDD | 0.000 | 0.001 | 0.001 | |
| getSizeofDD | 0 | 0 | 0 | |
| pat | 0 | 0 | 0 | |
| pdd | 55.301 | 1.265 | 29.350 | |
| scDDboost-package | 69.575 | 1.475 | 27.626 | |
| sim_dat | 0.016 | 0.001 | 0.033 | |