| Back to Multiple platform build/check report for BioC 3.22: simplified long |
|
This page was generated on 2025-10-21 12:07 -0400 (Tue, 21 Oct 2025).
| Hostname | OS | Arch (*) | R version | Installed pkgs |
|---|---|---|---|---|
| nebbiolo2 | Linux (Ubuntu 24.04.3 LTS) | x86_64 | 4.5.1 Patched (2025-08-23 r88802) -- "Great Square Root" | 4887 |
| lconway | macOS 12.7.6 Monterey | x86_64 | 4.5.1 Patched (2025-09-10 r88807) -- "Great Square Root" | 4677 |
| kjohnson3 | macOS 13.7.7 Ventura | arm64 | 4.5.1 Patched (2025-09-10 r88807) -- "Great Square Root" | 4622 |
| taishan | Linux (openEuler 24.03 LTS) | aarch64 | 4.5.0 (2025-04-11) -- "How About a Twenty-Six" | 4642 |
| Click on any hostname to see more info about the system (e.g. compilers) (*) as reported by 'uname -p', except on Windows and Mac OS X | ||||
| Package 1971/2353 | Hostname | OS / Arch | INSTALL | BUILD | CHECK | BUILD BIN | ||||||||
| SeqArray 1.49.8 (landing page) Xiuwen Zheng
| nebbiolo2 | Linux (Ubuntu 24.04.3 LTS) / x86_64 | OK | OK | OK | |||||||||
| lconway | macOS 12.7.6 Monterey / x86_64 | OK | OK | OK | OK | |||||||||
| kjohnson3 | macOS 13.7.7 Ventura / arm64 | OK | OK | OK | OK | |||||||||
| taishan | Linux (openEuler 24.03 LTS) / aarch64 | OK | OK | OK | ||||||||||
|
To the developers/maintainers of the SeqArray package: - Allow up to 24 hours (and sometimes 48 hours) for your latest push to git@git.bioconductor.org:packages/SeqArray.git to reflect on this report. See Troubleshooting Build Report for more information. - Use the following Renviron settings to reproduce errors and warnings. - If 'R CMD check' started to fail recently on the Linux builder(s) over a missing dependency, add the missing dependency to 'Suggests:' in your DESCRIPTION file. See Renviron.bioc for more information. - See Martin Grigorov's blog post for how to debug Linux ARM64 related issues on a x86_64 host. |
| Package: SeqArray |
| Version: 1.49.8 |
| Command: /home/biocbuild/R/R/bin/R CMD check --install=check:SeqArray.install-out.txt --library=/home/biocbuild/R/R/site-library --no-vignettes --timings SeqArray_1.49.8.tar.gz |
| StartedAt: 2025-10-17 13:33:32 -0000 (Fri, 17 Oct 2025) |
| EndedAt: 2025-10-17 13:38:01 -0000 (Fri, 17 Oct 2025) |
| EllapsedTime: 268.5 seconds |
| RetCode: 0 |
| Status: OK |
| CheckDir: SeqArray.Rcheck |
| Warnings: 0 |
##############################################################################
##############################################################################
###
### Running command:
###
### /home/biocbuild/R/R/bin/R CMD check --install=check:SeqArray.install-out.txt --library=/home/biocbuild/R/R/site-library --no-vignettes --timings SeqArray_1.49.8.tar.gz
###
##############################################################################
##############################################################################
* using log directory ‘/home/biocbuild/bbs-3.22-bioc/meat/SeqArray.Rcheck’
* using R version 4.5.0 (2025-04-11)
* using platform: aarch64-unknown-linux-gnu
* R was compiled by
aarch64-unknown-linux-gnu-gcc (GCC) 14.2.0
GNU Fortran (GCC) 14.2.0
* running under: openEuler 24.03 (LTS)
* using session charset: UTF-8
* using option ‘--no-vignettes’
* checking for file ‘SeqArray/DESCRIPTION’ ... OK
* checking extension type ... Package
* this is package ‘SeqArray’ version ‘1.49.8’
* checking package namespace information ... OK
* checking package dependencies ... OK
* checking if this is a source package ... OK
* checking if there is a namespace ... OK
* checking for hidden files and directories ... OK
* checking for portable file names ... OK
* checking for sufficient/correct file permissions ... OK
* checking whether package ‘SeqArray’ can be installed ... OK
* used C compiler: ‘aarch64-unknown-linux-gnu-gcc (GCC) 14.2.0’
* used C++ compiler: ‘aarch64-unknown-linux-gnu-g++ (GCC) 14.2.0’
* checking installed package size ... INFO
installed size is 7.2Mb
sub-directories of 1Mb or more:
extdata 1.6Mb
libs 4.8Mb
* checking package directory ... OK
* checking ‘build’ directory ... OK
* checking DESCRIPTION meta-information ... OK
* checking top-level files ... OK
* checking for left-over files ... OK
* checking index information ... OK
* checking package subdirectories ... OK
* checking code files for non-ASCII characters ... OK
* checking R files for syntax errors ... OK
* checking whether the package can be loaded ... OK
* checking whether the package can be loaded with stated dependencies ... OK
* checking whether the package can be unloaded cleanly ... OK
* checking whether the namespace can be loaded with stated dependencies ... OK
* checking whether the namespace can be unloaded cleanly ... OK
* checking loading without being on the library search path ... OK
* checking whether startup messages can be suppressed ... OK
* checking dependencies in R code ... OK
* checking S3 generic/method consistency ... OK
* checking replacement functions ... OK
* checking foreign function calls ... OK
* checking R code for possible problems ... OK
* checking Rd files ... OK
* checking Rd metadata ... OK
* checking Rd cross-references ... NOTE
Non-topic package-anchored link(s) in Rd file 'seqGDS2VCF.Rd':
‘[Rsamtools:zip]{bgzip}’
See section 'Cross-references' in the 'Writing R Extensions' manual.
Found the following Rd file(s) with Rd \link{} targets missing package
anchors:
SeqVarGDSClass-class.Rd: gds.class, DNAStringSet, DNAStringSetList,
DataFrameList
seqAddValue.Rd: add.gdsn
seqApply.Rd: gdsn.class
seqBED2GDS.Rd: cleanup.gds
seqBlockApply.Rd: gdsn.class
seqClose.Rd: gds.class
seqExport.Rd: cleanup.gds
seqGDS2SNP.Rd: add.gdsn, cleanup.gds
seqMerge.Rd: cleanup.gds
seqNewVarData.Rd: IntegerList
seqOpen.Rd: openfn.gds, gds.class
seqRecompress.Rd: cleanup.gds
seqResetVariantID.Rd: cleanup.gds
seqSNP2GDS.Rd: add.gdsn, cleanup.gds
seqSetFilter.Rd: GRanges, GRangesList, IRanges
seqStorageOption.Rd: add.gdsn, compression.gdsn
seqTranspose.Rd: add.gdsn
seqUnitApply.Rd: gdsn.class
seqVCF2GDS.Rd: cleanup.gds
Please provide package anchors for all Rd \link{} targets not in the
package itself and the base packages.
* checking for missing documentation entries ... OK
* checking for code/documentation mismatches ... OK
* checking Rd \usage sections ... OK
* checking Rd contents ... OK
* checking for unstated dependencies in examples ... OK
* checking contents of ‘data’ directory ... OK
* checking data for non-ASCII characters ... OK
* checking LazyData ... OK
* checking data for ASCII and uncompressed saves ... OK
* checking line endings in C/C++/Fortran sources/headers ... OK
* checking line endings in Makefiles ... OK
* checking compilation flags in Makevars ... OK
* checking for GNU extensions in Makefiles ... OK
* checking for portable use of $(BLAS_LIBS) and $(LAPACK_LIBS) ... OK
* checking use of PKG_*FLAGS in Makefiles ... OK
* checking compiled code ... NOTE
Note: information on .o files is not available
File ‘SeqArray/libs/SeqArray.so’:
Found non-API calls to R: ‘R_GetConnection’, ‘R_ReadConnection’,
‘R_WriteConnection’, ‘R_new_custom_connection’
Compiled code should not call non-API entry points in R.
See ‘Writing portable packages’ in the ‘Writing R Extensions’ manual,
and section ‘Moving into C API compliance’ for issues with the use of
non-API entry points.
* checking files in ‘vignettes’ ... OK
* checking examples ... OK
* checking for unstated dependencies in ‘tests’ ... OK
* checking tests ...
Running ‘test.R’
OK
* checking for unstated dependencies in vignettes ... OK
* checking package vignettes ... OK
* checking running R code from vignettes ... SKIPPED
* checking re-building of vignette outputs ... SKIPPED
* checking PDF version of manual ... OK
* DONE
Status: 2 NOTEs
See
‘/home/biocbuild/bbs-3.22-bioc/meat/SeqArray.Rcheck/00check.log’
for details.
SeqArray.Rcheck/00install.out
##############################################################################
##############################################################################
###
### Running command:
###
### /home/biocbuild/R/R/bin/R CMD INSTALL SeqArray
###
##############################################################################
##############################################################################
* installing to library ‘/home/biocbuild/R/R-4.5.0/site-library’
* installing *source* package ‘SeqArray’ ...
** this is package ‘SeqArray’ version ‘1.49.8’
** using staged installation
** libs
using C compiler: ‘aarch64-unknown-linux-gnu-gcc (GCC) 14.2.0’
using C++ compiler: ‘aarch64-unknown-linux-gnu-g++ (GCC) 14.2.0’
/opt/ohpc/pub/compiler/gcc/14.2.0/bin/aarch64-unknown-linux-gnu-g++ -std=gnu++17 -I"/home/biocbuild/R/R-4.5.0/include" -DNDEBUG -DUSING_R -I'/home/biocbuild/R/R-4.5.0/site-library/gdsfmt/include' -I/usr/local/include -fPIC -g -O2 -Wall -Werror=format-security -c ConvGDS2VCF.cpp -o ConvGDS2VCF.o
/opt/ohpc/pub/compiler/gcc/14.2.0/bin/aarch64-unknown-linux-gnu-g++ -std=gnu++17 -I"/home/biocbuild/R/R-4.5.0/include" -DNDEBUG -DUSING_R -I'/home/biocbuild/R/R-4.5.0/site-library/gdsfmt/include' -I/usr/local/include -fPIC -g -O2 -Wall -Werror=format-security -c ConvToGDS.cpp -o ConvToGDS.o
/opt/ohpc/pub/compiler/gcc/14.2.0/bin/aarch64-unknown-linux-gnu-g++ -std=gnu++17 -I"/home/biocbuild/R/R-4.5.0/include" -DNDEBUG -DUSING_R -I'/home/biocbuild/R/R-4.5.0/site-library/gdsfmt/include' -I/usr/local/include -fPIC -g -O2 -Wall -Werror=format-security -c ConvVCF2GDS.cpp -o ConvVCF2GDS.o
/opt/ohpc/pub/compiler/gcc/14.2.0/bin/aarch64-unknown-linux-gnu-g++ -std=gnu++17 -I"/home/biocbuild/R/R-4.5.0/include" -DNDEBUG -DUSING_R -I'/home/biocbuild/R/R-4.5.0/site-library/gdsfmt/include' -I/usr/local/include -fPIC -g -O2 -Wall -Werror=format-security -c FileMerge.cpp -o FileMerge.o
/opt/ohpc/pub/compiler/gcc/14.2.0/bin/aarch64-unknown-linux-gnu-g++ -std=gnu++17 -I"/home/biocbuild/R/R-4.5.0/include" -DNDEBUG -DUSING_R -I'/home/biocbuild/R/R-4.5.0/site-library/gdsfmt/include' -I/usr/local/include -fPIC -g -O2 -Wall -Werror=format-security -c GetData.cpp -o GetData.o
/opt/ohpc/pub/compiler/gcc/14.2.0/bin/aarch64-unknown-linux-gnu-g++ -std=gnu++17 -I"/home/biocbuild/R/R-4.5.0/include" -DNDEBUG -DUSING_R -I'/home/biocbuild/R/R-4.5.0/site-library/gdsfmt/include' -I/usr/local/include -fPIC -g -O2 -Wall -Werror=format-security -c Index.cpp -o Index.o
Index.cpp: In member function ‘void SeqArray::CProgress::ShowProgress()’:
Index.cpp:1273:66: warning: comparison of integer expressions of different signedness: ‘std::vector<std::__cxx11::basic_string<char> >::size_type’ {aka ‘long unsigned int’} and ‘int’ [-Wsign-compare]
1273 | if (R_Process_StatusFName.size() < *R_Process_Count) return;
| ~~~~~~~~~~~~~~~~~~~~~~~~~~~~~^~~~~~~~~~~~~~~~~~
/opt/ohpc/pub/compiler/gcc/14.2.0/bin/aarch64-unknown-linux-gnu-g++ -std=gnu++17 -I"/home/biocbuild/R/R-4.5.0/include" -DNDEBUG -DUSING_R -I'/home/biocbuild/R/R-4.5.0/site-library/gdsfmt/include' -I/usr/local/include -fPIC -g -O2 -Wall -Werror=format-security -c LinkSNPRelate.cpp -o LinkSNPRelate.o
/opt/ohpc/pub/compiler/gcc/14.2.0/bin/aarch64-unknown-linux-gnu-g++ -std=gnu++17 -I"/home/biocbuild/R/R-4.5.0/include" -DNDEBUG -DUSING_R -I'/home/biocbuild/R/R-4.5.0/site-library/gdsfmt/include' -I/usr/local/include -fPIC -g -O2 -Wall -Werror=format-security -c Methods.cpp -o Methods.o
/opt/ohpc/pub/compiler/gcc/14.2.0/bin/aarch64-unknown-linux-gnu-gcc -std=gnu23 -I"/home/biocbuild/R/R-4.5.0/include" -DNDEBUG -DUSING_R -I'/home/biocbuild/R/R-4.5.0/site-library/gdsfmt/include' -I/usr/local/include -fPIC -g -O2 -Wall -Werror=format-security -c R_SeqArray.c -o R_SeqArray.o
/opt/ohpc/pub/compiler/gcc/14.2.0/bin/aarch64-unknown-linux-gnu-g++ -std=gnu++17 -I"/home/biocbuild/R/R-4.5.0/include" -DNDEBUG -DUSING_R -I'/home/biocbuild/R/R-4.5.0/site-library/gdsfmt/include' -I/usr/local/include -fPIC -g -O2 -Wall -Werror=format-security -c ReadBySample.cpp -o ReadBySample.o
/opt/ohpc/pub/compiler/gcc/14.2.0/bin/aarch64-unknown-linux-gnu-g++ -std=gnu++17 -I"/home/biocbuild/R/R-4.5.0/include" -DNDEBUG -DUSING_R -I'/home/biocbuild/R/R-4.5.0/site-library/gdsfmt/include' -I/usr/local/include -fPIC -g -O2 -Wall -Werror=format-security -c ReadByUnit.cpp -o ReadByUnit.o
/opt/ohpc/pub/compiler/gcc/14.2.0/bin/aarch64-unknown-linux-gnu-g++ -std=gnu++17 -I"/home/biocbuild/R/R-4.5.0/include" -DNDEBUG -DUSING_R -I'/home/biocbuild/R/R-4.5.0/site-library/gdsfmt/include' -I/usr/local/include -fPIC -g -O2 -Wall -Werror=format-security -c ReadByVariant.cpp -o ReadByVariant.o
/opt/ohpc/pub/compiler/gcc/14.2.0/bin/aarch64-unknown-linux-gnu-g++ -std=gnu++17 -I"/home/biocbuild/R/R-4.5.0/include" -DNDEBUG -DUSING_R -I'/home/biocbuild/R/R-4.5.0/site-library/gdsfmt/include' -I/usr/local/include -fPIC -g -O2 -Wall -Werror=format-security -c SeqArray.cpp -o SeqArray.o
/opt/ohpc/pub/compiler/gcc/14.2.0/bin/aarch64-unknown-linux-gnu-g++ -std=gnu++17 -I"/home/biocbuild/R/R-4.5.0/include" -DNDEBUG -DUSING_R -I'/home/biocbuild/R/R-4.5.0/site-library/gdsfmt/include' -I/usr/local/include -fPIC -g -O2 -Wall -Werror=format-security -c pkg_test.cpp -o pkg_test.o
/opt/ohpc/pub/compiler/gcc/14.2.0/bin/aarch64-unknown-linux-gnu-gcc -std=gnu23 -I"/home/biocbuild/R/R-4.5.0/include" -DNDEBUG -DUSING_R -I'/home/biocbuild/R/R-4.5.0/site-library/gdsfmt/include' -I/usr/local/include -fPIC -g -O2 -Wall -Werror=format-security -c samtools_ext.c -o samtools_ext.o
/opt/ohpc/pub/compiler/gcc/14.2.0/bin/aarch64-unknown-linux-gnu-g++ -std=gnu++17 -I"/home/biocbuild/R/R-4.5.0/include" -DNDEBUG -DUSING_R -I'/home/biocbuild/R/R-4.5.0/site-library/gdsfmt/include' -I/usr/local/include -fPIC -g -O2 -Wall -Werror=format-security -c vectorization.cpp -o vectorization.o
/opt/ohpc/pub/compiler/gcc/14.2.0/bin/aarch64-unknown-linux-gnu-g++ -std=gnu++17 -shared -L/home/biocbuild/R/R-4.5.0/lib -L/usr/local/lib -o SeqArray.so ConvGDS2VCF.o ConvToGDS.o ConvVCF2GDS.o FileMerge.o GetData.o Index.o LinkSNPRelate.o Methods.o R_SeqArray.o ReadBySample.o ReadByUnit.o ReadByVariant.o SeqArray.o pkg_test.o samtools_ext.o vectorization.o -L/home/biocbuild/R/R-4.5.0/lib -lR
installing to /home/biocbuild/R/R-4.5.0/site-library/00LOCK-SeqArray/00new/SeqArray/libs
** R
** data
*** moving datasets to lazyload DB
** inst
** byte-compile and prepare package for lazy loading
** help
*** installing help indices
** building package indices
** installing vignettes
** testing if installed package can be loaded from temporary location
** checking absolute paths in shared objects and dynamic libraries
** testing if installed package can be loaded from final location
** testing if installed package keeps a record of temporary installation path
* DONE (SeqArray)
SeqArray.Rcheck/tests/test.Rout
R version 4.5.0 (2025-04-11) -- "How About a Twenty-Six"
Copyright (C) 2025 The R Foundation for Statistical Computing
Platform: aarch64-unknown-linux-gnu
R is free software and comes with ABSOLUTELY NO WARRANTY.
You are welcome to redistribute it under certain conditions.
Type 'license()' or 'licence()' for distribution details.
R is a collaborative project with many contributors.
Type 'contributors()' for more information and
'citation()' on how to cite R or R packages in publications.
Type 'demo()' for some demos, 'help()' for on-line help, or
'help.start()' for an HTML browser interface to help.
Type 'q()' to quit R.
> if (.Platform$OS.type != "windows")
+ BiocGenerics:::testPackage("SeqArray")
Loading required package: BiocGenerics
Loading required package: generics
Attaching package: 'generics'
The following objects are masked from 'package:base':
as.difftime, as.factor, as.ordered, intersect, is.element, setdiff,
setequal, union
Attaching package: 'BiocGenerics'
The following objects are masked from 'package:stats':
IQR, mad, sd, var, xtabs
The following objects are masked from 'package:base':
Filter, Find, Map, Position, Reduce, anyDuplicated, aperm, append,
as.data.frame, basename, cbind, colnames, dirname, do.call,
duplicated, eval, evalq, get, grep, grepl, is.unsorted, lapply,
mapply, match, mget, order, paste, pmax, pmax.int, pmin, pmin.int,
rank, rbind, rownames, sapply, saveRDS, table, tapply, unique,
unsplit, which.max, which.min
Loading required package: MatrixGenerics
Loading required package: matrixStats
Attaching package: 'matrixStats'
The following object is masked from 'package:SeqArray':
rowRanges
Attaching package: 'MatrixGenerics'
The following objects are masked from 'package:matrixStats':
colAlls, colAnyNAs, colAnys, colAvgsPerRowSet, colCollapse,
colCounts, colCummaxs, colCummins, colCumprods, colCumsums,
colDiffs, colIQRDiffs, colIQRs, colLogSumExps, colMadDiffs,
colMads, colMaxs, colMeans2, colMedians, colMins, colOrderStats,
colProds, colQuantiles, colRanges, colRanks, colSdDiffs, colSds,
colSums2, colTabulates, colVarDiffs, colVars, colWeightedMads,
colWeightedMeans, colWeightedMedians, colWeightedSds,
colWeightedVars, rowAlls, rowAnyNAs, rowAnys, rowAvgsPerColSet,
rowCollapse, rowCounts, rowCummaxs, rowCummins, rowCumprods,
rowCumsums, rowDiffs, rowIQRDiffs, rowIQRs, rowLogSumExps,
rowMadDiffs, rowMads, rowMaxs, rowMeans2, rowMedians, rowMins,
rowOrderStats, rowProds, rowQuantiles, rowRanges, rowRanks,
rowSdDiffs, rowSds, rowSums2, rowTabulates, rowVarDiffs, rowVars,
rowWeightedMads, rowWeightedMeans, rowWeightedMedians,
rowWeightedSds, rowWeightedVars
The following object is masked from 'package:SeqArray':
rowRanges
Loading required package: Seqinfo
Loading required package: GenomicRanges
Loading required package: stats4
Loading required package: S4Vectors
Attaching package: 'S4Vectors'
The following object is masked from 'package:utils':
findMatches
The following objects are masked from 'package:base':
I, expand.grid, unname
Loading required package: IRanges
Loading required package: SummarizedExperiment
Loading required package: Biobase
Welcome to Bioconductor
Vignettes contain introductory material; view with
'browseVignettes()'. To cite Bioconductor, see
'citation("Biobase")', and for packages 'citation("pkgname")'.
Attaching package: 'Biobase'
The following object is masked from 'package:MatrixGenerics':
rowMedians
The following objects are masked from 'package:matrixStats':
anyMissing, rowMedians
Attaching package: 'SummarizedExperiment'
The following object is masked from 'package:SeqArray':
colData
Loading required package: Rsamtools
Loading required package: Biostrings
Loading required package: XVector
Attaching package: 'Biostrings'
The following object is masked from 'package:base':
strsplit
Attaching package: 'VariantAnnotation'
The following objects are masked from 'package:SeqArray':
alt, filt, fixed, geno, header, info, qual, ref
The following object is masked from 'package:base':
tabulate
[W::bcf_hdr_check_sanity] GL should be declared as Number=G
# of selected variants: 898
[..................................................] 0%, ETC: ---
[===============================================>..] 93%, ETC: 1s
[==================================================] 100%, used 10s
[..................................................] 0%, ETC: ---
[==============================================>...] 91%, ETC: 1s
[==================================================] 100%, used 11s
[..................................................] 0%, ETC: ---
[==================================================] 100%, used 5s
[..................................................] 0%, ETC: ---
[==================================================] 100%, used 1s
# of selected variants: 655
[..................................................] 0%, ETC: ---
[==================================================] 100%, used 5s
[..................................................] 0%, ETC: ---
[==================================================] 100%, used 5s
[..................................................] 0%, ETC: ---
[==================================================] 100%, used 6s
[..................................................] 0%, ETC: ---
[==================================================] 100%, used 0s
Attaching package: 'Matrix'
The following object is masked from 'package:VariantAnnotation':
expand
The following object is masked from 'package:S4Vectors':
expand
# of selected samples: 90
# of selected variants: 1,348
# of selected samples: 90
# of selected variants: 1,348
# of selected samples: 90
# of selected variants: 1,348
# of selected samples: 90
# of selected variants: 1,348
RUNIT TEST PROTOCOL -- Fri Oct 17 13:37:53 2025
***********************************************
Number of test functions: 28
Number of errors: 0
Number of failures: 0
1 Test Suite :
SeqArray RUnit Tests - 28 test functions, 0 errors, 0 failures
Number of test functions: 28
Number of errors: 0
Number of failures: 0
There were 50 or more warnings (use warnings() to see the first 50)
>
> proc.time()
user system elapsed
64.394 64.982 113.748
SeqArray.Rcheck/SeqArray-Ex.timings
| name | user | system | elapsed | |
| SeqArray-package | 0.475 | 0.060 | 0.932 | |
| SeqVarGDSClass-class | 0.178 | 0.004 | 0.182 | |
| seqAddValue | 0.170 | 0.016 | 0.187 | |
| seqAlleleFreq | 0.093 | 0.004 | 0.113 | |
| seqApply | 0.161 | 0.004 | 0.165 | |
| seqAsVCF | 0.002 | 0.000 | 0.003 | |
| seqBED2GDS | 0.282 | 0.036 | 0.410 | |
| seqBlockApply | 0.073 | 0.008 | 0.082 | |
| seqCheck | 0.034 | 0.000 | 0.034 | |
| seqDelete | 0.126 | 0.004 | 0.130 | |
| seqDigest | 0.024 | 0.000 | 0.024 | |
| seqEmptyFile | 0.033 | 0.000 | 0.033 | |
| seqExampleFileName | 0.003 | 0.000 | 0.003 | |
| seqExport | 0.580 | 0.075 | 0.660 | |
| seqGDS2SNP | 0.051 | 0.012 | 0.069 | |
| seqGDS2VCF | 0.784 | 0.010 | 0.843 | |
| seqGet2bGeno | 0.011 | 0.000 | 0.012 | |
| seqGetData | 1.734 | 0.004 | 1.742 | |
| seqGetFilter | 0.073 | 0.000 | 0.073 | |
| seqMerge | 0.880 | 0.085 | 1.013 | |
| seqMissing | 0.085 | 0.005 | 0.090 | |
| seqNewVarData | 0.015 | 0.000 | 0.015 | |
| seqNumAllele | 0.003 | 0.001 | 0.003 | |
| seqOpen | 0.068 | 0.002 | 0.071 | |
| seqOptimize | 0.216 | 0.005 | 0.241 | |
| seqParallel | 0.127 | 0.423 | 0.473 | |
| seqParallelSetup | 0.101 | 0.196 | 0.226 | |
| seqRecompress | 0.243 | 0.344 | 0.548 | |
| seqResetVariantID | 0.023 | 0.016 | 0.039 | |
| seqSNP2GDS | 1.133 | 0.111 | 1.403 | |
| seqSetFilter | 0.113 | 0.236 | 0.263 | |
| seqSetFilterCond | 0.111 | 0.425 | 0.383 | |
| seqStorageOption | 0.703 | 0.182 | 0.966 | |
| seqSummary | 0.151 | 0.016 | 0.167 | |
| seqSystem | 0 | 0 | 0 | |
| seqTranspose | 0.272 | 0.020 | 0.391 | |
| seqUnitApply | 0.347 | 0.165 | 0.583 | |
| seqUnitFilterCond | 0.080 | 0.464 | 0.394 | |
| seqUnitSlidingWindows | 0.057 | 0.072 | 0.070 | |
| seqUnitSubset | 0.089 | 0.008 | 0.097 | |
| seqVCF2GDS | 1.096 | 0.414 | 1.539 | |
| seqVCF_Header | 0.113 | 0.028 | 0.288 | |
| seqVCF_SampID | 0.002 | 0.001 | 0.007 | |