| Back to Multiple platform build/check report for BioC 3.22: simplified long |
|
This page was generated on 2025-10-24 12:04 -0400 (Fri, 24 Oct 2025).
| Hostname | OS | Arch (*) | R version | Installed pkgs |
|---|---|---|---|---|
| nebbiolo2 | Linux (Ubuntu 24.04.3 LTS) | x86_64 | 4.5.1 Patched (2025-08-23 r88802) -- "Great Square Root" | 4898 |
| lconway | macOS 12.7.6 Monterey | x86_64 | 4.5.1 Patched (2025-09-10 r88807) -- "Great Square Root" | 4688 |
| kjohnson3 | macOS 13.7.7 Ventura | arm64 | 4.5.1 Patched (2025-09-10 r88807) -- "Great Square Root" | 4634 |
| taishan | Linux (openEuler 24.03 LTS) | aarch64 | 4.5.0 (2025-04-11) -- "How About a Twenty-Six" | 4658 |
| Click on any hostname to see more info about the system (e.g. compilers) (*) as reported by 'uname -p', except on Windows and Mac OS X | ||||
| Package 1977/2359 | Hostname | OS / Arch | INSTALL | BUILD | CHECK | BUILD BIN | ||||||||
| SeqArray 1.49.8 (landing page) Xiuwen Zheng
| nebbiolo2 | Linux (Ubuntu 24.04.3 LTS) / x86_64 | OK | OK | OK | |||||||||
| lconway | macOS 12.7.6 Monterey / x86_64 | OK | OK | OK | OK | |||||||||
| kjohnson3 | macOS 13.7.7 Ventura / arm64 | OK | OK | OK | OK | |||||||||
| taishan | Linux (openEuler 24.03 LTS) / aarch64 | OK | OK | NA | ||||||||||
|
To the developers/maintainers of the SeqArray package: - Allow up to 24 hours (and sometimes 48 hours) for your latest push to git@git.bioconductor.org:packages/SeqArray.git to reflect on this report. See Troubleshooting Build Report for more information. - Use the following Renviron settings to reproduce errors and warnings. - If 'R CMD check' started to fail recently on the Linux builder(s) over a missing dependency, add the missing dependency to 'Suggests:' in your DESCRIPTION file. See Renviron.bioc for more information. |
| Package: SeqArray |
| Version: 1.49.8 |
| Command: /home/biocbuild/bbs-3.22-bioc/R/bin/R CMD check --install=check:SeqArray.install-out.txt --library=/home/biocbuild/bbs-3.22-bioc/R/site-library --timings SeqArray_1.49.8.tar.gz |
| StartedAt: 2025-10-24 03:53:16 -0400 (Fri, 24 Oct 2025) |
| EndedAt: 2025-10-24 03:58:42 -0400 (Fri, 24 Oct 2025) |
| EllapsedTime: 326.3 seconds |
| RetCode: 0 |
| Status: OK |
| CheckDir: SeqArray.Rcheck |
| Warnings: 0 |
##############################################################################
##############################################################################
###
### Running command:
###
### /home/biocbuild/bbs-3.22-bioc/R/bin/R CMD check --install=check:SeqArray.install-out.txt --library=/home/biocbuild/bbs-3.22-bioc/R/site-library --timings SeqArray_1.49.8.tar.gz
###
##############################################################################
##############################################################################
* using log directory ‘/home/biocbuild/bbs-3.22-bioc/meat/SeqArray.Rcheck’
* using R version 4.5.1 Patched (2025-08-23 r88802)
* using platform: x86_64-pc-linux-gnu
* R was compiled by
gcc (Ubuntu 13.3.0-6ubuntu2~24.04) 13.3.0
GNU Fortran (Ubuntu 13.3.0-6ubuntu2~24.04) 13.3.0
* running under: Ubuntu 24.04.3 LTS
* using session charset: UTF-8
* checking for file ‘SeqArray/DESCRIPTION’ ... OK
* checking extension type ... Package
* this is package ‘SeqArray’ version ‘1.49.8’
* checking package namespace information ... OK
* checking package dependencies ... OK
* checking if this is a source package ... OK
* checking if there is a namespace ... OK
* checking for hidden files and directories ... OK
* checking for portable file names ... OK
* checking for sufficient/correct file permissions ... OK
* checking whether package ‘SeqArray’ can be installed ... OK
* used C compiler: ‘gcc (Ubuntu 13.3.0-6ubuntu2~24.04) 13.3.0’
* used C++ compiler: ‘g++ (Ubuntu 13.3.0-6ubuntu2~24.04) 13.3.0’
* checking installed package size ... INFO
installed size is 7.5Mb
sub-directories of 1Mb or more:
extdata 1.6Mb
libs 5.0Mb
* checking package directory ... OK
* checking ‘build’ directory ... OK
* checking DESCRIPTION meta-information ... OK
* checking top-level files ... OK
* checking for left-over files ... OK
* checking index information ... OK
* checking package subdirectories ... OK
* checking code files for non-ASCII characters ... OK
* checking R files for syntax errors ... OK
* checking whether the package can be loaded ... OK
* checking whether the package can be loaded with stated dependencies ... OK
* checking whether the package can be unloaded cleanly ... OK
* checking whether the namespace can be loaded with stated dependencies ... OK
* checking whether the namespace can be unloaded cleanly ... OK
* checking loading without being on the library search path ... OK
* checking whether startup messages can be suppressed ... OK
* checking dependencies in R code ... OK
* checking S3 generic/method consistency ... OK
* checking replacement functions ... OK
* checking foreign function calls ... OK
* checking R code for possible problems ... OK
* checking Rd files ... OK
* checking Rd metadata ... OK
* checking Rd cross-references ... NOTE
Non-topic package-anchored link(s) in Rd file 'seqGDS2VCF.Rd':
‘[Rsamtools:zip]{bgzip}’
See section 'Cross-references' in the 'Writing R Extensions' manual.
Found the following Rd file(s) with Rd \link{} targets missing package
anchors:
SeqVarGDSClass-class.Rd: gds.class, DNAStringSet, DNAStringSetList,
DataFrameList
seqAddValue.Rd: add.gdsn
seqApply.Rd: gdsn.class
seqBED2GDS.Rd: cleanup.gds
seqBlockApply.Rd: gdsn.class
seqClose.Rd: gds.class
seqExport.Rd: cleanup.gds
seqGDS2SNP.Rd: add.gdsn, cleanup.gds
seqMerge.Rd: cleanup.gds
seqNewVarData.Rd: IntegerList
seqOpen.Rd: openfn.gds, gds.class
seqRecompress.Rd: cleanup.gds
seqResetVariantID.Rd: cleanup.gds
seqSNP2GDS.Rd: add.gdsn, cleanup.gds
seqSetFilter.Rd: GRanges, GRangesList, IRanges
seqStorageOption.Rd: add.gdsn, compression.gdsn
seqTranspose.Rd: add.gdsn
seqUnitApply.Rd: gdsn.class
seqVCF2GDS.Rd: cleanup.gds
Please provide package anchors for all Rd \link{} targets not in the
package itself and the base packages.
* checking for missing documentation entries ... OK
* checking for code/documentation mismatches ... OK
* checking Rd \usage sections ... OK
* checking Rd contents ... OK
* checking for unstated dependencies in examples ... OK
* checking contents of ‘data’ directory ... OK
* checking data for non-ASCII characters ... OK
* checking LazyData ... OK
* checking data for ASCII and uncompressed saves ... OK
* checking line endings in C/C++/Fortran sources/headers ... OK
* checking line endings in Makefiles ... OK
* checking compilation flags in Makevars ... OK
* checking for GNU extensions in Makefiles ... OK
* checking for portable use of $(BLAS_LIBS) and $(LAPACK_LIBS) ... OK
* checking use of PKG_*FLAGS in Makefiles ... OK
* checking compiled code ... NOTE
Note: information on .o files is not available
File ‘SeqArray/libs/SeqArray.so’:
Found non-API calls to R: ‘R_GetConnection’, ‘R_ReadConnection’,
‘R_WriteConnection’, ‘R_new_custom_connection’
Compiled code should not call non-API entry points in R.
See ‘Writing portable packages’ in the ‘Writing R Extensions’ manual,
and section ‘Moving into C API compliance’ for issues with the use of
non-API entry points.
* checking files in ‘vignettes’ ... OK
* checking examples ... OK
* checking for unstated dependencies in ‘tests’ ... OK
* checking tests ...
Running ‘test.R’
OK
* checking for unstated dependencies in vignettes ... OK
* checking package vignettes ... OK
* checking re-building of vignette outputs ... OK
* checking PDF version of manual ... OK
* DONE
Status: 2 NOTEs
See
‘/home/biocbuild/bbs-3.22-bioc/meat/SeqArray.Rcheck/00check.log’
for details.
SeqArray.Rcheck/00install.out
##############################################################################
##############################################################################
###
### Running command:
###
### /home/biocbuild/bbs-3.22-bioc/R/bin/R CMD INSTALL SeqArray
###
##############################################################################
##############################################################################
* installing to library ‘/home/biocbuild/bbs-3.22-bioc/R/site-library’
* installing *source* package ‘SeqArray’ ...
** this is package ‘SeqArray’ version ‘1.49.8’
** using staged installation
** libs
using C compiler: ‘gcc (Ubuntu 13.3.0-6ubuntu2~24.04) 13.3.0’
using C++ compiler: ‘g++ (Ubuntu 13.3.0-6ubuntu2~24.04) 13.3.0’
g++ -std=gnu++17 -I"/home/biocbuild/bbs-3.22-bioc/R/include" -DNDEBUG -DUSING_R -I'/home/biocbuild/bbs-3.22-bioc/R/site-library/gdsfmt/include' -I/usr/local/include -fpic -g -O2 -Wall -Werror=format-security -c ConvGDS2VCF.cpp -o ConvGDS2VCF.o
g++ -std=gnu++17 -I"/home/biocbuild/bbs-3.22-bioc/R/include" -DNDEBUG -DUSING_R -I'/home/biocbuild/bbs-3.22-bioc/R/site-library/gdsfmt/include' -I/usr/local/include -fpic -g -O2 -Wall -Werror=format-security -c ConvToGDS.cpp -o ConvToGDS.o
g++ -std=gnu++17 -I"/home/biocbuild/bbs-3.22-bioc/R/include" -DNDEBUG -DUSING_R -I'/home/biocbuild/bbs-3.22-bioc/R/site-library/gdsfmt/include' -I/usr/local/include -fpic -g -O2 -Wall -Werror=format-security -c ConvVCF2GDS.cpp -o ConvVCF2GDS.o
g++ -std=gnu++17 -I"/home/biocbuild/bbs-3.22-bioc/R/include" -DNDEBUG -DUSING_R -I'/home/biocbuild/bbs-3.22-bioc/R/site-library/gdsfmt/include' -I/usr/local/include -fpic -g -O2 -Wall -Werror=format-security -c FileMerge.cpp -o FileMerge.o
g++ -std=gnu++17 -I"/home/biocbuild/bbs-3.22-bioc/R/include" -DNDEBUG -DUSING_R -I'/home/biocbuild/bbs-3.22-bioc/R/site-library/gdsfmt/include' -I/usr/local/include -fpic -g -O2 -Wall -Werror=format-security -c GetData.cpp -o GetData.o
g++ -std=gnu++17 -I"/home/biocbuild/bbs-3.22-bioc/R/include" -DNDEBUG -DUSING_R -I'/home/biocbuild/bbs-3.22-bioc/R/site-library/gdsfmt/include' -I/usr/local/include -fpic -g -O2 -Wall -Werror=format-security -c Index.cpp -o Index.o
Index.cpp: In member function ‘void SeqArray::CProgress::ShowProgress()’:
Index.cpp:1273:66: warning: comparison of integer expressions of different signedness: ‘std::vector<std::__cxx11::basic_string<char> >::size_type’ {aka ‘long unsigned int’} and ‘int’ [-Wsign-compare]
1273 | if (R_Process_StatusFName.size() < *R_Process_Count) return;
| ~~~~~~~~~~~~~~~~~~~~~~~~~~~~~^~~~~~~~~~~~~~~~~~
g++ -std=gnu++17 -I"/home/biocbuild/bbs-3.22-bioc/R/include" -DNDEBUG -DUSING_R -I'/home/biocbuild/bbs-3.22-bioc/R/site-library/gdsfmt/include' -I/usr/local/include -fpic -g -O2 -Wall -Werror=format-security -c LinkSNPRelate.cpp -o LinkSNPRelate.o
g++ -std=gnu++17 -I"/home/biocbuild/bbs-3.22-bioc/R/include" -DNDEBUG -DUSING_R -I'/home/biocbuild/bbs-3.22-bioc/R/site-library/gdsfmt/include' -I/usr/local/include -fpic -g -O2 -Wall -Werror=format-security -c Methods.cpp -o Methods.o
gcc -std=gnu2x -I"/home/biocbuild/bbs-3.22-bioc/R/include" -DNDEBUG -DUSING_R -I'/home/biocbuild/bbs-3.22-bioc/R/site-library/gdsfmt/include' -I/usr/local/include -fpic -g -O2 -Wall -Werror=format-security -c R_SeqArray.c -o R_SeqArray.o
g++ -std=gnu++17 -I"/home/biocbuild/bbs-3.22-bioc/R/include" -DNDEBUG -DUSING_R -I'/home/biocbuild/bbs-3.22-bioc/R/site-library/gdsfmt/include' -I/usr/local/include -fpic -g -O2 -Wall -Werror=format-security -c ReadBySample.cpp -o ReadBySample.o
g++ -std=gnu++17 -I"/home/biocbuild/bbs-3.22-bioc/R/include" -DNDEBUG -DUSING_R -I'/home/biocbuild/bbs-3.22-bioc/R/site-library/gdsfmt/include' -I/usr/local/include -fpic -g -O2 -Wall -Werror=format-security -c ReadByUnit.cpp -o ReadByUnit.o
g++ -std=gnu++17 -I"/home/biocbuild/bbs-3.22-bioc/R/include" -DNDEBUG -DUSING_R -I'/home/biocbuild/bbs-3.22-bioc/R/site-library/gdsfmt/include' -I/usr/local/include -fpic -g -O2 -Wall -Werror=format-security -c ReadByVariant.cpp -o ReadByVariant.o
g++ -std=gnu++17 -I"/home/biocbuild/bbs-3.22-bioc/R/include" -DNDEBUG -DUSING_R -I'/home/biocbuild/bbs-3.22-bioc/R/site-library/gdsfmt/include' -I/usr/local/include -fpic -g -O2 -Wall -Werror=format-security -c SeqArray.cpp -o SeqArray.o
g++ -std=gnu++17 -I"/home/biocbuild/bbs-3.22-bioc/R/include" -DNDEBUG -DUSING_R -I'/home/biocbuild/bbs-3.22-bioc/R/site-library/gdsfmt/include' -I/usr/local/include -fpic -g -O2 -Wall -Werror=format-security -c pkg_test.cpp -o pkg_test.o
gcc -std=gnu2x -I"/home/biocbuild/bbs-3.22-bioc/R/include" -DNDEBUG -DUSING_R -I'/home/biocbuild/bbs-3.22-bioc/R/site-library/gdsfmt/include' -I/usr/local/include -fpic -g -O2 -Wall -Werror=format-security -c samtools_ext.c -o samtools_ext.o
g++ -std=gnu++17 -I"/home/biocbuild/bbs-3.22-bioc/R/include" -DNDEBUG -DUSING_R -I'/home/biocbuild/bbs-3.22-bioc/R/site-library/gdsfmt/include' -I/usr/local/include -fpic -g -O2 -Wall -Werror=format-security -c vectorization.cpp -o vectorization.o
g++ -std=gnu++17 -shared -L/home/biocbuild/bbs-3.22-bioc/R/lib -L/usr/local/lib -o SeqArray.so ConvGDS2VCF.o ConvToGDS.o ConvVCF2GDS.o FileMerge.o GetData.o Index.o LinkSNPRelate.o Methods.o R_SeqArray.o ReadBySample.o ReadByUnit.o ReadByVariant.o SeqArray.o pkg_test.o samtools_ext.o vectorization.o -L/home/biocbuild/bbs-3.22-bioc/R/lib -lR
installing to /home/biocbuild/bbs-3.22-bioc/R/site-library/00LOCK-SeqArray/00new/SeqArray/libs
** R
** data
*** moving datasets to lazyload DB
** inst
** byte-compile and prepare package for lazy loading
** help
*** installing help indices
** building package indices
** installing vignettes
** testing if installed package can be loaded from temporary location
** checking absolute paths in shared objects and dynamic libraries
** testing if installed package can be loaded from final location
** testing if installed package keeps a record of temporary installation path
* DONE (SeqArray)
SeqArray.Rcheck/tests/test.Rout
R version 4.5.1 Patched (2025-08-23 r88802) -- "Great Square Root"
Copyright (C) 2025 The R Foundation for Statistical Computing
Platform: x86_64-pc-linux-gnu
R is free software and comes with ABSOLUTELY NO WARRANTY.
You are welcome to redistribute it under certain conditions.
Type 'license()' or 'licence()' for distribution details.
R is a collaborative project with many contributors.
Type 'contributors()' for more information and
'citation()' on how to cite R or R packages in publications.
Type 'demo()' for some demos, 'help()' for on-line help, or
'help.start()' for an HTML browser interface to help.
Type 'q()' to quit R.
> if (.Platform$OS.type != "windows")
+ BiocGenerics:::testPackage("SeqArray")
Loading required package: BiocGenerics
Loading required package: generics
Attaching package: 'generics'
The following objects are masked from 'package:base':
as.difftime, as.factor, as.ordered, intersect, is.element, setdiff,
setequal, union
Attaching package: 'BiocGenerics'
The following objects are masked from 'package:stats':
IQR, mad, sd, var, xtabs
The following objects are masked from 'package:base':
Filter, Find, Map, Position, Reduce, anyDuplicated, aperm, append,
as.data.frame, basename, cbind, colnames, dirname, do.call,
duplicated, eval, evalq, get, grep, grepl, is.unsorted, lapply,
mapply, match, mget, order, paste, pmax, pmax.int, pmin, pmin.int,
rank, rbind, rownames, sapply, saveRDS, table, tapply, unique,
unsplit, which.max, which.min
Loading required package: MatrixGenerics
Loading required package: matrixStats
Attaching package: 'matrixStats'
The following object is masked from 'package:SeqArray':
rowRanges
Attaching package: 'MatrixGenerics'
The following objects are masked from 'package:matrixStats':
colAlls, colAnyNAs, colAnys, colAvgsPerRowSet, colCollapse,
colCounts, colCummaxs, colCummins, colCumprods, colCumsums,
colDiffs, colIQRDiffs, colIQRs, colLogSumExps, colMadDiffs,
colMads, colMaxs, colMeans2, colMedians, colMins, colOrderStats,
colProds, colQuantiles, colRanges, colRanks, colSdDiffs, colSds,
colSums2, colTabulates, colVarDiffs, colVars, colWeightedMads,
colWeightedMeans, colWeightedMedians, colWeightedSds,
colWeightedVars, rowAlls, rowAnyNAs, rowAnys, rowAvgsPerColSet,
rowCollapse, rowCounts, rowCummaxs, rowCummins, rowCumprods,
rowCumsums, rowDiffs, rowIQRDiffs, rowIQRs, rowLogSumExps,
rowMadDiffs, rowMads, rowMaxs, rowMeans2, rowMedians, rowMins,
rowOrderStats, rowProds, rowQuantiles, rowRanges, rowRanks,
rowSdDiffs, rowSds, rowSums2, rowTabulates, rowVarDiffs, rowVars,
rowWeightedMads, rowWeightedMeans, rowWeightedMedians,
rowWeightedSds, rowWeightedVars
The following object is masked from 'package:SeqArray':
rowRanges
Loading required package: Seqinfo
Loading required package: GenomicRanges
Loading required package: stats4
Loading required package: S4Vectors
Attaching package: 'S4Vectors'
The following object is masked from 'package:utils':
findMatches
The following objects are masked from 'package:base':
I, expand.grid, unname
Loading required package: IRanges
Loading required package: SummarizedExperiment
Loading required package: Biobase
Welcome to Bioconductor
Vignettes contain introductory material; view with
'browseVignettes()'. To cite Bioconductor, see
'citation("Biobase")', and for packages 'citation("pkgname")'.
Attaching package: 'Biobase'
The following object is masked from 'package:MatrixGenerics':
rowMedians
The following objects are masked from 'package:matrixStats':
anyMissing, rowMedians
Attaching package: 'SummarizedExperiment'
The following object is masked from 'package:SeqArray':
colData
Loading required package: Rsamtools
Loading required package: Biostrings
Loading required package: XVector
Attaching package: 'Biostrings'
The following object is masked from 'package:base':
strsplit
Attaching package: 'VariantAnnotation'
The following objects are masked from 'package:SeqArray':
alt, filt, fixed, geno, header, info, qual, ref
The following object is masked from 'package:base':
tabulate
[W::bcf_hdr_check_sanity] GL should be declared as Number=G
# of selected variants: 898
[..................................................] 0%, ETC: ---
[==========================================>.......] 85%, ETC: 2s
[==================================================] 100%, used 11s
[..................................................] 0%, ETC: ---
[========================================>.........] 80%, ETC: 3s
[==================================================] 100%, used 12s
[..................................................] 0%, ETC: ---
[===============================================>..] 94%, ETC: 1s
[==================================================] 100%, used 10s
[..................................................] 0%, ETC: ---
[==================================================] 100%, used 6s
# of selected variants: 655
[..................................................] 0%, ETC: ---
[==================================================] 100%, used 7s
[..................................................] 0%, ETC: ---
[==================================================] 100%, used 6s
[..................................................] 0%, ETC: ---
[==================================================] 100%, used 6s
[..................................................] 0%, ETC: ---
[==================================================] 100%, used 3s
Attaching package: 'Matrix'
The following object is masked from 'package:VariantAnnotation':
expand
The following object is masked from 'package:S4Vectors':
expand
# of selected samples: 90
# of selected variants: 1,348
# of selected samples: 90
# of selected variants: 1,348
# of selected samples: 90
# of selected variants: 1,348
# of selected samples: 90
# of selected variants: 1,348
RUNIT TEST PROTOCOL -- Fri Oct 24 03:57:03 2025
***********************************************
Number of test functions: 28
Number of errors: 0
Number of failures: 0
1 Test Suite :
SeqArray RUnit Tests - 28 test functions, 0 errors, 0 failures
Number of test functions: 28
Number of errors: 0
Number of failures: 0
There were 50 or more warnings (use warnings() to see the first 50)
>
> proc.time()
user system elapsed
60.953 76.286 123.467
SeqArray.Rcheck/SeqArray-Ex.timings
| name | user | system | elapsed | |
| SeqArray-package | 0.335 | 0.034 | 0.371 | |
| SeqVarGDSClass-class | 0.111 | 0.000 | 0.112 | |
| seqAddValue | 0.153 | 0.018 | 0.171 | |
| seqAlleleFreq | 0.071 | 0.005 | 0.077 | |
| seqApply | 0.121 | 0.002 | 0.123 | |
| seqAsVCF | 0.001 | 0.001 | 0.002 | |
| seqBED2GDS | 0.260 | 0.025 | 0.285 | |
| seqBlockApply | 0.054 | 0.002 | 0.056 | |
| seqCheck | 0.024 | 0.000 | 0.024 | |
| seqDelete | 0.085 | 0.002 | 0.087 | |
| seqDigest | 0.024 | 0.000 | 0.024 | |
| seqEmptyFile | 0.023 | 0.000 | 0.023 | |
| seqExampleFileName | 0.003 | 0.000 | 0.003 | |
| seqExport | 0.712 | 0.103 | 0.815 | |
| seqGDS2SNP | 0.060 | 0.011 | 0.071 | |
| seqGDS2VCF | 0.591 | 0.010 | 0.602 | |
| seqGet2bGeno | 0.009 | 0.001 | 0.010 | |
| seqGetData | 1.320 | 0.014 | 1.334 | |
| seqGetFilter | 0.048 | 0.006 | 0.054 | |
| seqMerge | 0.646 | 0.078 | 0.725 | |
| seqMissing | 0.067 | 0.002 | 0.068 | |
| seqNewVarData | 0.011 | 0.000 | 0.011 | |
| seqNumAllele | 0.001 | 0.002 | 0.003 | |
| seqOpen | 0.045 | 0.001 | 0.046 | |
| seqOptimize | 0.166 | 0.006 | 0.172 | |
| seqParallel | 0.108 | 0.399 | 0.288 | |
| seqParallelSetup | 0.070 | 0.191 | 0.155 | |
| seqRecompress | 0.279 | 0.309 | 0.540 | |
| seqResetVariantID | 0.017 | 0.018 | 0.035 | |
| seqSNP2GDS | 1.234 | 0.060 | 1.293 | |
| seqSetFilter | 0.078 | 0.226 | 0.191 | |
| seqSetFilterCond | 0.092 | 0.509 | 0.324 | |
| seqStorageOption | 0.521 | 0.090 | 0.568 | |
| seqSummary | 0.094 | 0.017 | 0.112 | |
| seqSystem | 0.000 | 0.000 | 0.001 | |
| seqTranspose | 0.188 | 0.020 | 0.208 | |
| seqUnitApply | 0.245 | 0.179 | 0.403 | |
| seqUnitFilterCond | 0.102 | 0.445 | 0.309 | |
| seqUnitSlidingWindows | 0.046 | 0.053 | 0.046 | |
| seqUnitSubset | 0.054 | 0.007 | 0.061 | |
| seqVCF2GDS | 1.134 | 0.291 | 1.317 | |
| seqVCF_Header | 0.075 | 0.003 | 0.078 | |
| seqVCF_SampID | 0.001 | 0.000 | 0.002 | |