| Back to Multiple platform build/check report for BioC 3.22: simplified long |
|
This page was generated on 2025-10-21 12:08 -0400 (Tue, 21 Oct 2025).
| Hostname | OS | Arch (*) | R version | Installed pkgs |
|---|---|---|---|---|
| nebbiolo2 | Linux (Ubuntu 24.04.3 LTS) | x86_64 | 4.5.1 Patched (2025-08-23 r88802) -- "Great Square Root" | 4887 |
| lconway | macOS 12.7.6 Monterey | x86_64 | 4.5.1 Patched (2025-09-10 r88807) -- "Great Square Root" | 4677 |
| kjohnson3 | macOS 13.7.7 Ventura | arm64 | 4.5.1 Patched (2025-09-10 r88807) -- "Great Square Root" | 4622 |
| taishan | Linux (openEuler 24.03 LTS) | aarch64 | 4.5.0 (2025-04-11) -- "How About a Twenty-Six" | 4642 |
| Click on any hostname to see more info about the system (e.g. compilers) (*) as reported by 'uname -p', except on Windows and Mac OS X | ||||
| Package 2068/2353 | Hostname | OS / Arch | INSTALL | BUILD | CHECK | BUILD BIN | ||||||||
| spaSim 1.11.0 (landing page) Yuzhou Feng
| nebbiolo2 | Linux (Ubuntu 24.04.3 LTS) / x86_64 | OK | OK | OK | |||||||||
| lconway | macOS 12.7.6 Monterey / x86_64 | OK | OK | OK | OK | |||||||||
| kjohnson3 | macOS 13.7.7 Ventura / arm64 | OK | OK | OK | OK | |||||||||
| taishan | Linux (openEuler 24.03 LTS) / aarch64 | OK | OK | ERROR | ||||||||||
|
To the developers/maintainers of the spaSim package: - Allow up to 24 hours (and sometimes 48 hours) for your latest push to git@git.bioconductor.org:packages/spaSim.git to reflect on this report. See Troubleshooting Build Report for more information. - Use the following Renviron settings to reproduce errors and warnings. - If 'R CMD check' started to fail recently on the Linux builder(s) over a missing dependency, add the missing dependency to 'Suggests:' in your DESCRIPTION file. See Renviron.bioc for more information. - See Martin Grigorov's blog post for how to debug Linux ARM64 related issues on a x86_64 host. |
| Package: spaSim |
| Version: 1.11.0 |
| Command: /home/biocbuild/R/R/bin/R CMD check --install=check:spaSim.install-out.txt --library=/home/biocbuild/R/R/site-library --no-vignettes --timings spaSim_1.11.0.tar.gz |
| StartedAt: 2025-10-17 13:54:29 -0000 (Fri, 17 Oct 2025) |
| EndedAt: 2025-10-17 14:01:25 -0000 (Fri, 17 Oct 2025) |
| EllapsedTime: 415.5 seconds |
| RetCode: 1 |
| Status: ERROR |
| CheckDir: spaSim.Rcheck |
| Warnings: NA |
##############################################################################
##############################################################################
###
### Running command:
###
### /home/biocbuild/R/R/bin/R CMD check --install=check:spaSim.install-out.txt --library=/home/biocbuild/R/R/site-library --no-vignettes --timings spaSim_1.11.0.tar.gz
###
##############################################################################
##############################################################################
* using log directory ‘/home/biocbuild/bbs-3.22-bioc/meat/spaSim.Rcheck’
* using R version 4.5.0 (2025-04-11)
* using platform: aarch64-unknown-linux-gnu
* R was compiled by
aarch64-unknown-linux-gnu-gcc (GCC) 14.2.0
GNU Fortran (GCC) 14.2.0
* running under: openEuler 24.03 (LTS)
* using session charset: UTF-8
* using option ‘--no-vignettes’
* checking for file ‘spaSim/DESCRIPTION’ ... OK
* this is package ‘spaSim’ version ‘1.11.0’
* package encoding: UTF-8
* checking package namespace information ... OK
* checking package dependencies ... OK
* checking if this is a source package ... OK
* checking if there is a namespace ... OK
* checking for hidden files and directories ... OK
* checking for portable file names ... OK
* checking for sufficient/correct file permissions ... OK
* checking whether package ‘spaSim’ can be installed ... OK
* checking installed package size ... OK
* checking package directory ... OK
* checking ‘build’ directory ... OK
* checking DESCRIPTION meta-information ... OK
* checking top-level files ... OK
* checking for left-over files ... OK
* checking index information ... OK
* checking package subdirectories ... OK
* checking code files for non-ASCII characters ... OK
* checking R files for syntax errors ... OK
* checking whether the package can be loaded ... OK
* checking whether the package can be loaded with stated dependencies ... OK
* checking whether the package can be unloaded cleanly ... OK
* checking whether the namespace can be loaded with stated dependencies ... OK
* checking whether the namespace can be unloaded cleanly ... OK
* checking loading without being on the library search path ... OK
* checking dependencies in R code ... OK
* checking S3 generic/method consistency ... OK
* checking replacement functions ... OK
* checking foreign function calls ... OK
* checking R code for possible problems ... OK
* checking Rd files ... OK
* checking Rd metadata ... OK
* checking Rd cross-references ... NOTE
Found the following Rd file(s) with Rd \link{} targets missing package
anchors:
simulate_background_cells.Rd: spatstat.random
Please provide package anchors for all Rd \link{} targets not in the
package itself and the base packages.
* checking for missing documentation entries ... OK
* checking for code/documentation mismatches ... OK
* checking Rd \usage sections ... OK
* checking Rd contents ... OK
* checking for unstated dependencies in examples ... OK
* checking contents of ‘data’ directory ... OK
* checking data for non-ASCII characters ... OK
* checking LazyData ... OK
* checking data for ASCII and uncompressed saves ... OK
* checking R/sysdata.rda ... OK
* checking files in ‘vignettes’ ... OK
* checking examples ... OK
Examples with CPU (user + system) or elapsed time > 5s
user system elapsed
multiple_images_with_immune_rings 81.441 0.523 84.192
multiple_images_with_clusters 18.561 0.259 18.928
simulate_background_cells 8.232 0.008 8.324
* checking for unstated dependencies in ‘tests’ ... OK
* checking tests ...
Running ‘testthat.R’
ERROR
Running the tests in ‘tests/testthat.R’ failed.
Last 13 lines of output:
[4949] "Others" | "Others" [4949]
[4950] "Others" | "Others" [4950]
[4951] "Others" | "Others" [4951]
[4952] "Others" -
[4953] "Others" -
[4954] "Others" -
[4955] "Others" -
[4956] "Others" -
[4957] "Others" -
[4958] "Others" -
... ... ... and 21 more ...
[ FAIL 1 | WARN 0 | SKIP 0 | PASS 44 ]
Error: Test failures
Execution halted
* checking for unstated dependencies in vignettes ... OK
* checking package vignettes ... OK
* checking running R code from vignettes ... SKIPPED
* checking re-building of vignette outputs ... SKIPPED
* checking PDF version of manual ... OK
* DONE
Status: 1 ERROR, 1 NOTE
See
‘/home/biocbuild/bbs-3.22-bioc/meat/spaSim.Rcheck/00check.log’
for details.
spaSim.Rcheck/00install.out
############################################################################## ############################################################################## ### ### Running command: ### ### /home/biocbuild/R/R/bin/R CMD INSTALL spaSim ### ############################################################################## ############################################################################## * installing to library ‘/home/biocbuild/R/R-4.5.0/site-library’ * installing *source* package ‘spaSim’ ... ** this is package ‘spaSim’ version ‘1.11.0’ ** using staged installation ** R ** data *** moving datasets to lazyload DB ** inst ** byte-compile and prepare package for lazy loading ** help *** installing help indices *** copying figures ** building package indices ** installing vignettes ** testing if installed package can be loaded from temporary location ** testing if installed package can be loaded from final location ** testing if installed package keeps a record of temporary installation path * DONE (spaSim)
spaSim.Rcheck/tests/testthat.Rout.fail
R version 4.5.0 (2025-04-11) -- "How About a Twenty-Six"
Copyright (C) 2025 The R Foundation for Statistical Computing
Platform: aarch64-unknown-linux-gnu
R is free software and comes with ABSOLUTELY NO WARRANTY.
You are welcome to redistribute it under certain conditions.
Type 'license()' or 'licence()' for distribution details.
R is a collaborative project with many contributors.
Type 'contributors()' for more information and
'citation()' on how to cite R or R packages in publications.
Type 'demo()' for some demos, 'help()' for on-line help, or
'help.start()' for an HTML browser interface to help.
Type 'q()' to quit R.
> library(testthat)
> library(spaSim)
>
> test_check("spaSim")
[ FAIL 1 | WARN 0 | SKIP 0 | PASS 44 ]
══ Failed tests ════════════════════════════════════════════════════════════════
── Failure ('test-simulate_background.R:11:5'): simulate_background_cells works for Hardcore process ──
`bg` (`actual`) not identical to `bg1` (`expected`).
attr(actual, 'row.names') | attr(expected, 'row.names')
[4949] "Cell_4949" | "Cell_4949" [4949]
[4950] "Cell_4950" | "Cell_4950" [4950]
[4951] "Cell_4951" | "Cell_4951" [4951]
[4952] "Cell_4952" -
[4953] "Cell_4953" -
[4954] "Cell_4954" -
[4955] "Cell_4955" -
[4956] "Cell_4956" -
[4957] "Cell_4957" -
[4958] "Cell_4958" -
... ... ... and 21 more ...
actual vs expected
Cell.X.Position Cell.Y.Position Cell.Type
actual[46, ] 128.7677155 319.6793518 Others
actual[47, ] 62.0900726 195.3087006 Others
actual[48, ] 83.4779816 295.7505798 Others
actual[49, ] 76.3350983 249.9768982 Others
+ expected[50, ] 61.7452049 381.5972900 Others
actual[50, ] 42.9729958 199.5641327 Others
actual[51, ] 65.2134933 298.7705688 Others
actual[52, ] 97.0651550 384.3177490 Others
actual vs expected
Cell.X.Position Cell.Y.Position Cell.Type
actual[108, ] 77.1011200 535.0444946 Others
actual[109, ] 55.4405174 527.5219116 Others
actual[110, ] 10.5937204 487.3841553 Others
- actual[111, ] 58.1798439 388.3677979 Others
actual[112, ] 141.0652008 466.9771729 Others
actual[113, ] 89.4173126 553.1541748 Others
actual[114, ] 123.7356720 488.3157654 Others
actual vs expected
Cell.X.Position Cell.Y.Position Cell.Type
actual[503, ] 220.5695801 332.6430664 Others
actual[504, ] 196.8149719 225.8818970 Others
actual[505, ] 215.2580414 194.1876984 Others
actual[506, ] 277.0427551 241.4259186 Others
+ expected[507, ] 384.2930908 256.4021606 Others
actual[507, ] 306.1981812 262.0721436 Others
actual[508, ] 236.1878510 324.5481567 Others
actual[509, ] 227.5475311 295.8927612 Others
actual vs expected
Cell.X.Position Cell.Y.Position Cell.Type
actual[554, ] 207.1155548 464.5774536 Others
actual[555, ] 223.3898010 546.3944702 Others
actual[556, ] 369.2137756 532.9970703 Others
- actual[557, ] 187.9738312 489.3551941 Others
actual[558, ] 281.4464417 527.3257446 Others
actual[559, ] 349.4067688 399.2135010 Others
actual[560, ] 250.0331573 410.3858032 Others
actual vs expected
Cell.X.Position Cell.Y.Position Cell.Type
actual[765, ] 210.4130859 1207.6275635 Others
actual[766, ] 233.9028931 1204.4854736 Others
actual[767, ] 275.4116211 1323.0677490 Others
- actual[768, ] 184.2422485 1241.4833984 Others
actual[769, ] 336.8035278 1349.3464355 Others
actual[770, ] 304.5002136 1224.7008057 Others
actual[771, ] 366.1994934 1295.9289551 Others
actual vs expected
Cell.X.Position Cell.Y.Position Cell.Type
actual[1019, ] 516.1099243 314.0836792 Others
actual[1020, ] 516.6972046 226.7049408 Others
actual[1021, ] 473.7750549 340.7442627 Others
- actual[1022, ] 393.4239807 257.3317566 Others
actual[1023, ] 530.5396118 334.8387756 Others
- actual[1024, ] 539.2775269 186.4662018 Others
actual[1025, ] 389.6985474 299.3848572 Others
actual[1026, ] 489.5129395 272.3795776 Others
actual[1027, ] 401.6421814 302.9504700 Others
actual vs expected
Cell.X.Position Cell.Y.Position Cell.Type
actual[1126, ] 441.0190735 734.9520874 Others
actual[1127, ] 551.1669312 722.5149536 Others
actual[1128, ] 541.2044678 688.4266968 Others
- actual[1129, ] 389.5696411 715.3533936 Others
actual[1130, ] 434.6368713 600.5881348 Others
actual[1131, ] 520.0786743 858.6530762 Others
actual[1132, ] 392.3287354 985.9552002 Others
actual vs expected
Cell.X.Position Cell.Y.Position Cell.Type
actual[1284, ] 546.1581421 1535.7220459 Others
actual[1285, ] 494.5289917 1589.3121338 Others
actual[1286, ] 588.0824585 1517.7208252 Others
- actual[1287, ] 389.8825378 1575.5723877 Others
actual[1288, ] 470.1453857 1524.0040283 Others
actual[1289, ] 419.2307434 1588.2467041 Others
actual[1290, ] 541.4992065 1556.1668701 Others
actual vs expected
Cell.X.Position Cell.Y.Position Cell.Type
actual[1477, ] 757.3628540 62.7438850 Others
actual[1478, ] 787.8898926 141.9643097 Others
actual[1479, ] 696.2254028 178.0562592 Others
- actual[1480, ] 597.3064575 123.5485077 Others
actual[1481, ] 625.5590210 50.3245926 Others
actual[1482, ] 694.3567505 6.8193326 Others
actual[1483, ] 778.2352295 97.3971329 Others
actual[1484, ] 761.9438477 45.2809105 Others
actual[1485, ] 592.1354980 258.6318970 Others
- actual[1486, ] 597.5304565 354.7535400 Others
and 3 more ...
actual vs expected
Cell.X.Position Cell.Y.Position Cell.Type
actual[1569, ] 704.5344238 430.1154785 Others
actual[1570, ] 784.5316162 411.2306213 Others
actual[1571, ] 743.1408691 563.2519531 Others
- actual[1572, ] 595.1342773 476.7586975 Others
actual[1573, ] 646.4849243 483.4380493 Others
actual[1574, ] 721.5853882 578.0559082 Others
actual[1575, ] 673.7061768 522.7404175 Others
actual vs expected
Cell.X.Position Cell.Y.Position Cell.Type
actual[1725, ] 614.0510254 1121.3604736 Others
actual[1726, ] 723.9122925 1019.8914795 Others
actual[1727, ] 743.1536255 1123.3966064 Others
- actual[1728, ] 593.7444458 1134.7886963 Others
actual[1729, ] 732.2966309 1080.9381104 Others
actual[1730, ] 774.2605591 1123.6066895 Others
actual[1731, ] 649.6819458 1028.1701660 Others
actual vs expected
Cell.X.Position Cell.Y.Position Cell.Type
actual[1943, ] 763.8715820 1816.3057861 Others
actual[1944, ] 594.7595215 1820.8940430 Others
actual[1945, ] 781.6585693 1826.3150635 Others
actual[1946, ] 616.2819214 1986.0731201 Others
+ expected[1938, ] 619.8206787 1819.0422363 Others
actual[1947, ] 688.9835205 1972.5880127 Others
actual[1948, ] 712.4190063 1968.1361084 Others
actual[1949, ] 687.0950928 1830.3857422 Others
actual vs expected
Cell.X.Position Cell.Y.Position Cell.Type
actual[1984, ] 847.0556641 64.3829041 Others
actual[1985, ] 893.3720703 25.5465641 Others
actual[1986, ] 890.7385254 155.2764587 Others
- actual[1987, ] 804.7874146 166.8594666 Others
actual[1988, ] 844.5679321 120.8421326 Others
actual[1989, ] 934.9536133 69.5224457 Others
actual[1990, ] 930.9768066 110.8222656 Others
actual vs expected
Cell.X.Position Cell.Y.Position Cell.Type
actual[2056, ] 859.1127319 576.3984985 Others
actual[2057, ] 904.6018066 512.2345581 Others
actual[2058, ] 999.9973145 494.5140686 Others
actual[2059, ] 985.5714722 472.5223083 Others
+ expected[2051, ] 881.5802612 396.1886597 Others
actual[2060, ] 844.4851685 571.5670166 Others
actual[2061, ] 829.3065796 424.5945129 Others
actual[2062, ] 924.6006470 544.5386963 Others
actual vs expected
Cell.X.Position Cell.Y.Position Cell.Type
actual[2067, ] 956.7146606 521.7921143 Others
actual[2068, ] 956.9347534 481.6430969 Others
actual[2069, ] 906.7795410 432.3229065 Others
- actual[2070, ] 879.5607910 392.2422791 Others
actual[2071, ] 818.9979248 390.0215759 Others
actual[2072, ] 948.5382690 536.9536743 Others
actual[2073, ] 819.6496582 415.5007935 Others
actual vs expected
Cell.X.Position Cell.Y.Position Cell.Type
actual[2230, ] 990.7998047 1195.6302490 Others
actual[2231, ] 927.7538452 1118.2724609 Others
actual[2232, ] 848.3425293 1165.0339355 Others
- actual[2233, ] 796.7222900 1186.2656250 Others
actual[2234, ] 915.6160889 1180.3184814 Others
actual[2235, ] 859.8941650 1141.2955322 Others
actual[2236, ] 804.3708496 1024.6828613 Others
actual vs expected
Cell.X.Position Cell.Y.Position Cell.Type
actual[2353, ] 973.0367432 1564.4714355 Others
actual[2354, ] 944.2985840 1465.0773926 Others
actual[2355, ] 999.6900024 1540.2983398 Others
actual[2356, ] 916.8162842 1562.8496094 Others
+ expected[2347, ] 996.9174194 1644.9822998 Others
actual[2357, ] 899.3265381 1737.8696289 Others
actual[2358, ] 863.4553833 1753.0959473 Others
actual[2359, ] 872.1160278 1783.3337402 Others
actual vs expected
Cell.X.Position Cell.Y.Position Cell.Type
actual[2389, ] 827.7869263 1653.8414307 Others
actual[2390, ] 840.6483765 1676.8869629 Others
actual[2391, ] 841.7125854 1630.7365723 Others
actual[2392, ] 884.0106201 1717.1334229 Others
+ expected[2384, ] 800.5117188 1769.0267334 Others
actual[2393, ] 894.5170898 1746.6394043 Others
actual[2394, ] 998.5486450 1754.3605957 Others
actual[2395, ] 827.8668823 1791.7835693 Others
actual vs expected
Cell.X.Position Cell.Y.Position Cell.Type
actual[2489, ] 1154.0770264 124.2110443 Others
actual[2490, ] 1159.4091797 23.1454792 Others
actual[2491, ] 1079.0627441 171.7861786 Others
actual[2492, ] 1136.7467041 117.2469406 Others
+ expected[2485, ] 1130.2224121 183.6942291 Others
actual[2493, ] 1070.2613525 134.3453369 Others
actual[2494, ] 1051.8366699 29.5010185 Others
actual[2495, ] 1008.2790527 30.1457520 Others
actual vs expected
Cell.X.Position Cell.Y.Position Cell.Type
actual[2531, ] 1033.0858154 256.6370239 Others
actual[2532, ] 1154.7000732 309.8927612 Others
actual[2533, ] 1058.3295898 188.6563263 Others
- actual[2534, ] 1132.5528564 196.0170898 Others
actual[2535, ] 1038.3809814 205.1802826 Others
actual[2536, ] 1186.5584717 286.7092896 Others
actual[2537, ] 1178.4729004 360.8463745 Others
actual vs expected
Cell.X.Position Cell.Y.Position Cell.Type
actual[2565, ] 1046.3856201 321.1271973 Others
actual[2566, ] 1193.8969727 362.8059998 Others
actual[2567, ] 1177.1944580 226.6869202 Others
actual[2568, ] 1008.6770630 223.4573669 Others
+ expected[2561, ] 1140.1956787 188.4387207 Others
actual[2569, ] 1073.4544678 279.6296997 Others
actual[2570, ] 1004.4765015 271.9946594 Others
actual[2571, ] 1011.0289307 259.1523743 Others
actual vs expected
Cell.X.Position Cell.Y.Position Cell.Type
actual[2740, ] 1064.1958008 893.3872070 Others
actual[2741, ] 1099.5637207 915.9512329 Others
actual[2742, ] 1166.5100098 1012.4747925 Others
- actual[2743, ] 1000.6275024 1197.0808105 Others
actual[2744, ] 1038.6989746 1199.5997314 Others
actual[2745, ] 1101.0906982 1162.3858643 Others
actual[2746, ] 1118.6293945 1159.1638184 Others
actual vs expected
Cell.X.Position Cell.Y.Position Cell.Type
actual[2753, ] 1032.8834229 1053.0163574 Others
actual[2754, ] 1161.2009277 1100.6660156 Others
actual[2755, ] 1028.9849854 1119.1107178 Others
- actual[2756, ] 1003.1895752 1009.8110962 Others
actual[2757, ] 1007.6738281 1095.7447510 Others
actual[2758, ] 1032.1221924 1179.6088867 Others
actual[2759, ] 1138.2946777 1152.7009277 Others
actual[2760, ] 1005.2062378 1111.8035889 Others
actual[2761, ] 1022.5645142 1022.3267212 Others
- actual[2762, ] 1002.5022583 1021.9406738 Others
and 3 more ...
actual vs expected
Cell.X.Position Cell.Y.Position Cell.Type
actual[2842, ] 1077.9438477 1595.8062744 Others
actual[2843, ] 1156.4392090 1571.4240723 Others
actual[2844, ] 1064.4995117 1562.4360352 Others
- actual[2845, ] 1002.1791992 1439.1373291 Others
actual[2846, ] 1144.3220215 1462.8503418 Others
actual[2847, ] 1037.7672119 1499.1065674 Others
actual[2848, ] 1136.8311768 1534.9714355 Others
actual vs expected
Cell.X.Position Cell.Y.Position Cell.Type
actual[2884, ] 1147.2319336 1590.7650146 Others
actual[2885, ] 1086.6251221 1514.9228516 Others
actual[2886, ] 1147.9438477 1440.4287109 Others
- actual[2887, ] 1101.8564453 1408.0714111 Others
actual[2888, ] 1010.5289917 1536.2156982 Others
actual[2889, ] 1020.4631958 1462.8254395 Others
actual[2890, ] 1070.2910156 1510.7147217 Others
actual vs expected
Cell.X.Position Cell.Y.Position Cell.Type
actual[2936, ] 1146.6092529 1655.7482910 Others
actual[2937, ] 1165.1973877 1751.3851318 Others
actual[2938, ] 1038.1088867 1723.4509277 Others
- actual[2939, ] 1003.9356079 1643.0631104 Others
actual[2940, ] 1162.1494141 1790.4130859 Others
actual[2941, ] 1182.6776123 1720.0416260 Others
actual[2942, ] 1182.6378174 1747.9475098 Others
actual vs expected
Cell.X.Position Cell.Y.Position Cell.Type
actual[2996, ] 1337.0559082 183.1339264 Others
actual[2997, ] 1245.4616699 94.8547897 Others
actual[2998, ] 1386.7456055 68.5583801 Others
- actual[2999, ] 1206.3251953 174.1246796 Others
actual[3000, ] 1352.8666992 157.3320160 Others
actual[3001, ] 1404.9387207 92.0625534 Others
actual[3002, ] 1293.8074951 117.2431335 Others
actual vs expected
Cell.X.Position Cell.Y.Position Cell.Type
actual[3094, ] 1404.2569580 491.6167908 Others
actual[3095, ] 1348.2731934 585.1469727 Others
actual[3096, ] 1285.6888428 525.6340942 Others
- actual[3097, ] 1380.9106445 391.4326782 Others
actual[3098, ] 1293.8073730 440.7530823 Others
actual[3099, ] 1227.7646484 413.1984558 Others
actual[3100, ] 1350.0230713 468.2446594 Others
actual vs expected
Cell.X.Position Cell.Y.Position Cell.Type
actual[3420, ] 1238.1276855 1682.5460205 Others
actual[3421, ] 1206.2612305 1739.5838623 Others
actual[3422, ] 1252.9063721 1743.6497803 Others
- actual[3423, ] 1209.5927734 1798.9246826 Others
actual[3424, ] 1307.9447021 1723.4671631 Others
actual[3425, ] 1312.9005127 1749.6336670 Others
actual[3426, ] 1228.2686768 1669.5832520 Others
actual vs expected
Cell.X.Position Cell.Y.Position Cell.Type
actual[3512, ] 1604.4664307 102.7514343 Others
actual[3513, ] 1532.1588135 153.3008270 Others
actual[3514, ] 1462.0039062 140.9181061 Others
- actual[3515, ] 1414.1518555 180.2478485 Others
actual[3516, ] 1490.8955078 136.5892639 Others
actual[3517, ] 1584.4528809 98.0465622 Others
actual[3518, ] 1490.6174316 111.7797089 Others
actual vs expected
Cell.X.Position Cell.Y.Position Cell.Type
actual[3621, ] 1438.4960938 428.4813538 Others
actual[3622, ] 1597.5382080 428.4982910 Others
actual[3623, ] 1438.3879395 504.8468323 Others
- actual[3624, ] 1445.6285400 389.8545837 Others
actual[3625, ] 1476.8310547 450.4155273 Others
actual[3626, ] 1432.6711426 560.0658569 Others
actual[3627, ] 1606.5997314 474.7116089 Others
actual vs expected
Cell.X.Position Cell.Y.Position Cell.Type
actual[3675, ] 1465.9501953 770.3379517 Others
actual[3676, ] 1433.8273926 787.1261597 Others
actual[3677, ] 1536.6076660 788.6150513 Others
actual[3678, ] 1526.1495361 778.9528809 Others
+ expected[3661, ] 1584.3338623 593.3778687 Others
actual[3679, ] 1512.8640137 654.9677124 Others
actual[3680, ] 1440.8449707 610.4157715 Others
actual[3681, ] 1508.2020264 745.7037964 Others
actual vs expected
Cell.X.Position Cell.Y.Position Cell.Type
actual[3684, ] 1437.9799805 663.7654419 Others
actual[3685, ] 1418.0673828 723.6473999 Others
actual[3686, ] 1582.8405762 763.6654663 Others
- actual[3687, ] 1411.0521240 645.4741211 Others
actual[3688, ] 1575.8876953 714.1192017 Others
actual[3689, ] 1599.0855713 755.0051270 Others
actual[3690, ] 1437.6552734 708.5570679 Others
actual vs expected
Cell.X.Position Cell.Y.Position Cell.Type
actual[3710, ] 1599.5946045 636.8201904 Others
actual[3711, ] 1515.2597656 639.6508789 Others
actual[3712, ] 1501.8081055 662.1412964 Others
- actual[3713, ] 1588.7304688 592.2186279 Others
actual[3714, ] 1474.1743164 963.6513672 Others
actual[3715, ] 1478.7534180 992.6701050 Others
actual[3716, ] 1503.5865479 902.1303711 Others
actual vs expected
Cell.X.Position Cell.Y.Position Cell.Type
actual[3724, ] 1557.6402588 982.8854980 Others
actual[3725, ] 1431.4327393 872.1657715 Others
actual[3726, ] 1451.5451660 943.1025391 Others
- actual[3727, ] 1414.0627441 916.8738403 Others
actual[3728, ] 1548.5462646 888.4134521 Others
actual[3729, ] 1474.2110596 910.6785889 Others
actual[3730, ] 1514.0748291 992.4402466 Others
actual vs expected
Cell.X.Position Cell.Y.Position Cell.Type
actual[3771, ] 1528.5523682 1036.7169189 Others
actual[3772, ] 1512.2170410 1203.6523438 Others
actual[3773, ] 1562.5789795 1082.1396484 Others
- actual[3774, ] 1565.2351074 1001.9686890 Others
actual[3775, ] 1592.1370850 1000.8421631 Others
actual[3776, ] 1609.7696533 1027.3896484 Others
actual[3777, ] 1488.6638184 1142.3442383 Others
actual vs expected
Cell.X.Position Cell.Y.Position Cell.Type
actual[3937, ] 1463.4609375 1781.0649414 Others
actual[3938, ] 1573.6715088 1688.5504150 Others
actual[3939, ] 1518.5478516 1685.6997070 Others
- actual[3940, ] 1534.1566162 1614.9642334 Others
actual[3941, ] 1438.9012451 1778.5710449 Others
actual[3942, ] 1411.8188477 1677.1280518 Others
actual[3943, ] 1568.5014648 1780.7355957 Others
actual vs expected
Cell.X.Position Cell.Y.Position Cell.Type
actual[3950, ] 1438.8651123 1735.9420166 Others
actual[3951, ] 1420.7305908 1795.4267578 Others
actual[3952, ] 1582.0089111 1780.2523193 Others
- actual[3953, ] 1573.7163086 1612.8948975 Others
actual[3954, ] 1525.0201416 1654.0627441 Others
actual[3955, ] 1611.4570312 1698.4161377 Others
actual[3956, ] 1487.5631104 1722.4731445 Others
actual vs expected
Cell.X.Position Cell.Y.Position Cell.Type
actual[4245, ] 1615.1514893 855.4407959 Others
actual[4246, ] 1786.2674561 819.8124390 Others
actual[4247, ] 1732.9020996 831.1376953 Others
- actual[4248, ] 1692.0168457 799.1292725 Others
actual[4249, ] 1761.9234619 935.6410522 Others
actual[4250, ] 1811.0817871 859.9086914 Others
actual[4251, ] 1771.9886475 920.4961548 Others
actual vs expected
Cell.X.Position Cell.Y.Position Cell.Type
actual[4387, ] 1658.9049072 1495.3487549 Others
actual[4388, ] 1740.1105957 1584.1405029 Others
actual[4389, ] 1636.8630371 1422.6668701 Others
actual[4390, ] 1701.8621826 1503.5776367 Others
+ expected[4367, ] 1815.8752441 1524.7050781 Others
actual[4391, ] 1676.3729248 1437.3289795 Others
actual[4392, ] 1803.1903076 1477.9827881 Others
actual[4393, ] 1756.8682861 1608.0244141 Others
actual vs expected
Cell.X.Position Cell.Y.Position Cell.Type
actual[4405, ] 1771.8491211 1438.6882324 Others
actual[4406, ] 1686.5495605 1572.3710938 Others
actual[4407, ] 1693.8962402 1429.3017578 Others
- actual[4408, ] 1758.0646973 1410.5577393 Others
actual[4409, ] 1777.0202637 1489.1651611 Others
actual[4410, ] 1668.8807373 1568.5201416 Others
actual[4411, ] 1684.5991211 1495.3922119 Others
actual vs expected
Cell.X.Position Cell.Y.Position Cell.Type
actual[4619, ] 1822.6657715 232.9281311 Others
actual[4620, ] 1862.8774414 210.2946472 Others
actual[4621, ] 1978.4654541 215.5654449 Others
- actual[4622, ] 1820.7611084 342.0500183 Others
actual[4623, ] 1948.8657227 343.7408752 Others
actual[4624, ] 1951.8947754 200.6559448 Others
actual[4625, ] 1921.9470215 299.6156006 Others
actual vs expected
Cell.X.Position Cell.Y.Position Cell.Type
actual[4752, ] 1958.6114502 1061.1823730 Others
actual[4753, ] 1893.0313721 1148.6165771 Others
actual[4754, ] 1830.8901367 1074.7543945 Others
actual[4755, ] 1998.5244141 1006.8511963 Others
+ expected[4731, ] 1871.4117432 1016.5778198 Others
actual[4756, ] 1822.9497070 1059.4071045 Others
actual[4757, ] 1969.5759277 1160.1311035 Others
actual[4758, ] 1969.9996338 1079.2666016 Others
actual vs expected
Cell.X.Position Cell.Y.Position Cell.Type
actual[4761, ] 1847.0639648 1036.2580566 Others
actual[4762, ] 1876.9541016 1026.6151123 Others
actual[4763, ] 1961.5311279 1145.9710693 Others
- actual[4764, ] 1823.0578613 1015.2510376 Others
actual[4765, ] 1843.3836670 1105.4547119 Others
actual[4766, ] 1897.0756836 1194.2739258 Others
actual[4767, ] 1941.6114502 1092.8283691 Others
actual vs expected
Cell.X.Position Cell.Y.Position Cell.Type
actual[4776, ] 1893.4549561 1001.4285278 Others
actual[4777, ] 1833.0173340 1090.5164795 Others
actual[4778, ] 1866.4233398 1057.9298096 Others
- actual[4779, ] 1868.3164062 1012.1953125 Others
actual[4780, ] 1838.3990479 1182.6414795 Others
actual[4781, ] 1857.1961670 1053.1397705 Others
actual[4782, ] 1926.6785889 1173.7106934 Others
actual vs expected
Cell.X.Position Cell.Y.Position Cell.Type
actual[4842, ] 1966.9289551 1373.4211426 Others
actual[4843, ] 1964.0030518 1235.1507568 Others
actual[4844, ] 1952.3139648 1263.4589844 Others
- actual[4845, ] 1861.7053223 1204.4128418 Others
actual[4846, ] 1958.1883545 1250.6721191 Others
actual[4847, ] 1935.3090820 1441.3004150 Others
actual[4848, ] 1841.3131104 1484.9542236 Others
actual vs expected
Cell.X.Position Cell.Y.Position Cell.Type
actual[4954, ] 1948.4626465 1855.6210938 Others
actual[4955, ] 1885.6589355 1821.4703369 Others
actual[4956, ] 1869.9228516 1823.8790283 Others
- actual[4957, ] 1817.6676025 1886.7496338 Others
actual[4958, ] 1817.8201904 1849.4233398 Others
actual[4959, ] 1832.9484863 1921.4641113 Others
actual[4960, ] 1912.2938232 1828.5970459 Others
actual$Cell.X.Position | expected$Cell.X.Position
[47] 62.0900726318359 | 62.0900726318359 [47]
[48] 83.4779815673828 | 83.4779815673828 [48]
[49] 76.3350982666016 | 76.3350982666016 [49]
- 61.7452049255371 [50]
[50] 42.9729957580566 | 42.9729957580566 [51]
[51] 65.213493347168 | 65.213493347168 [52]
[52] 97.0651550292969 | 97.0651550292969 [53]
actual$Cell.X.Position | expected$Cell.X.Position
[108] 77.1011199951172 | 77.1011199951172 [109]
[109] 55.4405174255371 | 55.4405174255371 [110]
[110] 10.5937204360962 | 10.5937204360962 [111]
[111] 58.1798439025879 -
[112] 141.065200805664 | 141.065200805664 [112]
[113] 89.4173126220703 | 89.4173126220703 [113]
[114] 123.73567199707 | 123.73567199707 [114]
actual$Cell.X.Position | expected$Cell.X.Position
[504] 196.814971923828 | 196.814971923828 [504]
[505] 215.258041381836 | 215.258041381836 [505]
[506] 277.042755126953 | 277.042755126953 [506]
- 384.293090820312 [507]
[507] 306.198181152344 | 306.198181152344 [508]
[508] 236.187850952148 | 236.187850952148 [509]
[509] 227.54753112793 | 227.54753112793 [510]
actual$Cell.X.Position | expected$Cell.X.Position
[554] 207.11555480957 | 207.11555480957 [555]
[555] 223.389801025391 | 223.389801025391 [556]
[556] 369.213775634766 | 369.213775634766 [557]
[557] 187.973831176758 -
[558] 281.446441650391 | 281.446441650391 [558]
[559] 349.406768798828 | 349.406768798828 [559]
[560] 250.033157348633 | 250.033157348633 [560]
actual$Cell.X.Position | expected$Cell.X.Position
[765] 210.4130859375 | 210.4130859375 [765]
[766] 233.902893066406 | 233.902893066406 [766]
[767] 275.41162109375 | 275.41162109375 [767]
[768] 184.242248535156 -
[769] 336.803527832031 | 336.803527832031 [768]
[770] 304.500213623047 | 304.500213623047 [769]
[771] 366.199493408203 | 366.199493408203 [770]
actual$Cell.X.Position | expected$Cell.X.Position
[1019] 516.109924316406 | 516.109924316406 [1018]
[1020] 516.697204589844 | 516.697204589844 [1019]
[1021] 473.775054931641 | 473.775054931641 [1020]
[1022] 393.423980712891 -
[1023] 530.539611816406 | 530.539611816406 [1021]
[1024] 539.277526855469 -
[1025] 389.698547363281 | 389.698547363281 [1022]
[1026] 489.512939453125 | 489.512939453125 [1023]
[1027] 401.642181396484 | 401.642181396484 [1024]
actual$Cell.X.Position | expected$Cell.X.Position
[1126] 441.019073486328 | 441.019073486328 [1123]
[1127] 551.166931152344 | 551.166931152344 [1124]
[1128] 541.204467773438 | 541.204467773438 [1125]
[1129] 389.569641113281 -
[1130] 434.636871337891 | 434.636871337891 [1126]
[1131] 520.078674316406 | 520.078674316406 [1127]
[1132] 392.328735351562 | 392.328735351562 [1128]
actual$Cell.X.Position | expected$Cell.X.Position
[1284] 546.158142089844 | 546.158142089844 [1280]
[1285] 494.528991699219 | 494.528991699219 [1281]
[1286] 588.082458496094 | 588.082458496094 [1282]
[1287] 389.882537841797 -
[1288] 470.145385742188 | 470.145385742188 [1283]
[1289] 419.230743408203 | 419.230743408203 [1284]
[1290] 541.499206542969 | 541.499206542969 [1285]
actual$Cell.X.Position | expected$Cell.X.Position
[1477] 757.362854003906 | 757.362854003906 [1472]
[1478] 787.889892578125 | 787.889892578125 [1473]
[1479] 696.225402832031 | 696.225402832031 [1474]
[1480] 597.306457519531 -
[1481] 625.559020996094 | 625.559020996094 [1475]
[1482] 694.356750488281 | 694.356750488281 [1476]
[1483] 778.235229492188 | 778.235229492188 [1477]
[1484] 761.94384765625 | 761.94384765625 [1478]
[1485] 592.135498046875 | 592.135498046875 [1479]
[1486] 597.530456542969 -
... ... ... and 3 more ...
actual$Cell.X.Position | expected$Cell.X.Position
[1569] 704.534423828125 | 704.534423828125 [1562]
[1570] 784.531616210938 | 784.531616210938 [1563]
[1571] 743.140869140625 | 743.140869140625 [1564]
[1572] 595.13427734375 -
[1573] 646.484924316406 | 646.484924316406 [1565]
[1574] 721.585388183594 | 721.585388183594 [1566]
[1575] 673.706176757812 | 673.706176757812 [1567]
actual$Cell.X.Position | expected$Cell.X.Position
[1725] 614.051025390625 | 614.051025390625 [1717]
[1726] 723.912292480469 | 723.912292480469 [1718]
[1727] 743.153625488281 | 743.153625488281 [1719]
[1728] 593.744445800781 -
[1729] 732.296630859375 | 732.296630859375 [1720]
[1730] 774.260559082031 | 774.260559082031 [1721]
[1731] 649.681945800781 | 649.681945800781 [1722]
actual$Cell.X.Position | expected$Cell.X.Position
[1944] 594.759521484375 | 594.759521484375 [1935]
[1945] 781.658569335938 | 781.658569335938 [1936]
[1946] 616.281921386719 | 616.281921386719 [1937]
- 619.820678710938 [1938]
[1947] 688.983520507812 | 688.983520507812 [1939]
[1948] 712.419006347656 | 712.419006347656 [1940]
[1949] 687.095092773438 | 687.095092773438 [1941]
actual$Cell.X.Position | expected$Cell.X.Position
[1984] 847.0556640625 | 847.0556640625 [1976]
[1985] 893.3720703125 | 893.3720703125 [1977]
[1986] 890.738525390625 | 890.738525390625 [1978]
[1987] 804.787414550781 -
[1988] 844.567932128906 | 844.567932128906 [1979]
[1989] 934.95361328125 | 934.95361328125 [1980]
[1990] 930.976806640625 | 930.976806640625 [1981]
actual$Cell.X.Position | expected$Cell.X.Position
[2057] 904.601806640625 | 904.601806640625 [2048]
[2058] 999.997314453125 | 999.997314453125 [2049]
[2059] 985.571472167969 | 985.571472167969 [2050]
- 881.580261230469 [2051]
[2060] 844.485168457031 | 844.485168457031 [2052]
[2061] 829.306579589844 | 829.306579589844 [2053]
[2062] 924.600646972656 | 924.600646972656 [2054]
actual$Cell.X.Position | expected$Cell.X.Position
[2067] 956.714660644531 | 956.714660644531 [2059]
[2068] 956.934753417969 | 956.934753417969 [2060]
[2069] 906.779541015625 | 906.779541015625 [2061]
[2070] 879.560791015625 -
[2071] 818.997924804688 | 818.997924804688 [2062]
[2072] 948.538269042969 | 948.538269042969 [2063]
[2073] 819.649658203125 | 819.649658203125 [2064]
actual$Cell.X.Position | expected$Cell.X.Position
[2230] 990.7998046875 | 990.7998046875 [2221]
[2231] 927.753845214844 | 927.753845214844 [2222]
[2232] 848.342529296875 | 848.342529296875 [2223]
[2233] 796.722290039062 -
[2234] 915.616088867188 | 915.616088867188 [2224]
[2235] 859.894165039062 | 859.894165039062 [2225]
[2236] 804.370849609375 | 804.370849609375 [2226]
actual$Cell.X.Position | expected$Cell.X.Position
[2354] 944.298583984375 | 944.298583984375 [2344]
[2355] 999.690002441406 | 999.690002441406 [2345]
[2356] 916.816284179688 | 916.816284179688 [2346]
- 996.917419433594 [2347]
[2357] 899.326538085938 | 899.326538085938 [2348]
[2358] 863.455383300781 | 863.455383300781 [2349]
[2359] 872.116027832031 | 872.116027832031 [2350]
actual$Cell.X.Position | expected$Cell.X.Position
[2390] 840.648376464844 | 840.648376464844 [2381]
[2391] 841.712585449219 | 841.712585449219 [2382]
[2392] 884.010620117188 | 884.010620117188 [2383]
- 800.51171875 [2384]
[2393] 894.51708984375 | 894.51708984375 [2385]
[2394] 998.548645019531 | 998.548645019531 [2386]
[2395] 827.866882324219 | 827.866882324219 [2387]
actual$Cell.X.Position | expected$Cell.X.Position
[2490] 1159.4091796875 | 1159.4091796875 [2482]
[2491] 1079.06274414062 | 1079.06274414062 [2483]
[2492] 1136.74670410156 | 1136.74670410156 [2484]
- 1130.22241210938 [2485]
[2493] 1070.26135253906 | 1070.26135253906 [2486]
[2494] 1051.83666992188 | 1051.83666992188 [2487]
[2495] 1008.27905273438 | 1008.27905273438 [2488]
actual$Cell.X.Position | expected$Cell.X.Position
[2531] 1033.08581542969 | 1033.08581542969 [2524]
[2532] 1154.70007324219 | 1154.70007324219 [2525]
[2533] 1058.32958984375 | 1058.32958984375 [2526]
[2534] 1132.55285644531 -
[2535] 1038.38098144531 | 1038.38098144531 [2527]
[2536] 1186.55847167969 | 1186.55847167969 [2528]
[2537] 1178.47290039062 | 1178.47290039062 [2529]
actual$Cell.X.Position | expected$Cell.X.Position
[2566] 1193.89697265625 | 1193.89697265625 [2558]
[2567] 1177.19445800781 | 1177.19445800781 [2559]
[2568] 1008.67706298828 | 1008.67706298828 [2560]
- 1140.19567871094 [2561]
[2569] 1073.45446777344 | 1073.45446777344 [2562]
[2570] 1004.47650146484 | 1004.47650146484 [2563]
[2571] 1011.02893066406 | 1011.02893066406 [2564]
actual$Cell.X.Position | expected$Cell.X.Position
[2740] 1064.19580078125 | 1064.19580078125 [2733]
[2741] 1099.56372070312 | 1099.56372070312 [2734]
[2742] 1166.51000976562 | 1166.51000976562 [2735]
[2743] 1000.62750244141 -
[2744] 1038.69897460938 | 1038.69897460938 [2736]
[2745] 1101.09069824219 | 1101.09069824219 [2737]
[2746] 1118.62939453125 | 1118.62939453125 [2738]
actual$Cell.X.Position | expected$Cell.X.Position
[2753] 1032.88342285156 | 1032.88342285156 [2745]
[2754] 1161.20092773438 | 1161.20092773438 [2746]
[2755] 1028.98498535156 | 1028.98498535156 [2747]
[2756] 1003.18957519531 -
[2757] 1007.673828125 | 1007.673828125 [2748]
[2758] 1032.12219238281 | 1032.12219238281 [2749]
[2759] 1138.29467773438 | 1138.29467773438 [2750]
[2760] 1005.20623779297 | 1005.20623779297 [2751]
[2761] 1022.56451416016 | 1022.56451416016 [2752]
[2762] 1002.50225830078 -
... ... ... and 3 more ...
actual$Cell.X.Position | expected$Cell.X.Position
[2842] 1077.94384765625 | 1077.94384765625 [2832]
[2843] 1156.43920898438 | 1156.43920898438 [2833]
[2844] 1064.49951171875 | 1064.49951171875 [2834]
[2845] 1002.17919921875 -
[2846] 1144.32202148438 | 1144.32202148438 [2835]
[2847] 1037.76721191406 | 1037.76721191406 [2836]
[2848] 1136.83117675781 | 1136.83117675781 [2837]
actual$Cell.X.Position | expected$Cell.X.Position
[2884] 1147.23193359375 | 1147.23193359375 [2873]
[2885] 1086.62512207031 | 1086.62512207031 [2874]
[2886] 1147.94384765625 | 1147.94384765625 [2875]
[2887] 1101.8564453125 -
[2888] 1010.52899169922 | 1010.52899169922 [2876]
[2889] 1020.46319580078 | 1020.46319580078 [2877]
[2890] 1070.291015625 | 1070.291015625 [2878]
actual$Cell.X.Position | expected$Cell.X.Position
[2936] 1146.60925292969 | 1146.60925292969 [2924]
[2937] 1165.19738769531 | 1165.19738769531 [2925]
[2938] 1038.10888671875 | 1038.10888671875 [2926]
[2939] 1003.93560791016 -
[2940] 1162.1494140625 | 1162.1494140625 [2927]
[2941] 1182.67761230469 | 1182.67761230469 [2928]
[2942] 1182.63781738281 | 1182.63781738281 [2929]
actual$Cell.X.Position | expected$Cell.X.Position
[2996] 1337.05590820312 | 1337.05590820312 [2983]
[2997] 1245.46166992188 | 1245.46166992188 [2984]
[2998] 1386.74560546875 | 1386.74560546875 [2985]
[2999] 1206.3251953125 -
[3000] 1352.86669921875 | 1352.86669921875 [2986]
[3001] 1404.93872070312 | 1404.93872070312 [2987]
[3002] 1293.80749511719 | 1293.80749511719 [2988]
actual$Cell.X.Position | expected$Cell.X.Position
[3094] 1404.25695800781 | 1404.25695800781 [3080]
[3095] 1348.27319335938 | 1348.27319335938 [3081]
[3096] 1285.68884277344 | 1285.68884277344 [3082]
[3097] 1380.91064453125 -
[3098] 1293.80737304688 | 1293.80737304688 [3083]
[3099] 1227.7646484375 | 1227.7646484375 [3084]
[3100] 1350.02307128906 | 1350.02307128906 [3085]
actual$Cell.X.Position | expected$Cell.X.Position
[3420] 1238.12768554688 | 1238.12768554688 [3405]
[3421] 1206.26123046875 | 1206.26123046875 [3406]
[3422] 1252.90637207031 | 1252.90637207031 [3407]
[3423] 1209.5927734375 -
[3424] 1307.94470214844 | 1307.94470214844 [3408]
[3425] 1312.90051269531 | 1312.90051269531 [3409]
[3426] 1228.26867675781 | 1228.26867675781 [3410]
actual$Cell.X.Position | expected$Cell.X.Position
[3512] 1604.46643066406 | 1604.46643066406 [3496]
[3513] 1532.15881347656 | 1532.15881347656 [3497]
[3514] 1462.00390625 | 1462.00390625 [3498]
[3515] 1414.15185546875 -
[3516] 1490.8955078125 | 1490.8955078125 [3499]
[3517] 1584.45288085938 | 1584.45288085938 [3500]
[3518] 1490.61743164062 | 1490.61743164062 [3501]
actual$Cell.X.Position | expected$Cell.X.Position
[3621] 1438.49609375 | 1438.49609375 [3604]
[3622] 1597.53820800781 | 1597.53820800781 [3605]
[3623] 1438.38793945312 | 1438.38793945312 [3606]
[3624] 1445.62854003906 -
[3625] 1476.8310546875 | 1476.8310546875 [3607]
[3626] 1432.67114257812 | 1432.67114257812 [3608]
[3627] 1606.59973144531 | 1606.59973144531 [3609]
actual$Cell.X.Position | expected$Cell.X.Position
[3676] 1433.82739257812 | 1433.82739257812 [3658]
[3677] 1536.60766601562 | 1536.60766601562 [3659]
[3678] 1526.14953613281 | 1526.14953613281 [3660]
- 1584.33386230469 [3661]
[3679] 1512.86401367188 | 1512.86401367188 [3662]
[3680] 1440.84497070312 | 1440.84497070312 [3663]
[3681] 1508.20202636719 | 1508.20202636719 [3664]
actual$Cell.X.Position | expected$Cell.X.Position
[3684] 1437.97998046875 | 1437.97998046875 [3667]
[3685] 1418.0673828125 | 1418.0673828125 [3668]
[3686] 1582.84057617188 | 1582.84057617188 [3669]
[3687] 1411.05212402344 -
[3688] 1575.8876953125 | 1575.8876953125 [3670]
[3689] 1599.08557128906 | 1599.08557128906 [3671]
[3690] 1437.6552734375 | 1437.6552734375 [3672]
actual$Cell.X.Position | expected$Cell.X.Position
[3710] 1599.59460449219 | 1599.59460449219 [3692]
[3711] 1515.259765625 | 1515.259765625 [3693]
[3712] 1501.80810546875 | 1501.80810546875 [3694]
[3713] 1588.73046875 -
[3714] 1474.17431640625 | 1474.17431640625 [3695]
[3715] 1478.75341796875 | 1478.75341796875 [3696]
[3716] 1503.58654785156 | 1503.58654785156 [3697]
actual$Cell.X.Position | expected$Cell.X.Position
[3724] 1557.64025878906 | 1557.64025878906 [3705]
[3725] 1431.43273925781 | 1431.43273925781 [3706]
[3726] 1451.54516601562 | 1451.54516601562 [3707]
[3727] 1414.06274414062 -
[3728] 1548.54626464844 | 1548.54626464844 [3708]
[3729] 1474.21105957031 | 1474.21105957031 [3709]
[3730] 1514.07482910156 | 1514.07482910156 [3710]
actual$Cell.X.Position | expected$Cell.X.Position
[3771] 1528.55236816406 | 1528.55236816406 [3751]
[3772] 1512.21704101562 | 1512.21704101562 [3752]
[3773] 1562.57897949219 | 1562.57897949219 [3753]
[3774] 1565.23510742188 -
[3775] 1592.13708496094 | 1592.13708496094 [3754]
[3776] 1609.76965332031 | 1609.76965332031 [3755]
[3777] 1488.66381835938 | 1488.66381835938 [3756]
actual$Cell.X.Position | expected$Cell.X.Position
[3937] 1463.4609375 | 1463.4609375 [3916]
[3938] 1573.67150878906 | 1573.67150878906 [3917]
[3939] 1518.5478515625 | 1518.5478515625 [3918]
[3940] 1534.15661621094 -
[3941] 1438.90124511719 | 1438.90124511719 [3919]
[3942] 1411.81884765625 | 1411.81884765625 [3920]
[3943] 1568.50146484375 | 1568.50146484375 [3921]
actual$Cell.X.Position | expected$Cell.X.Position
[3950] 1438.86511230469 | 1438.86511230469 [3928]
[3951] 1420.73059082031 | 1420.73059082031 [3929]
[3952] 1582.00891113281 | 1582.00891113281 [3930]
[3953] 1573.71630859375 -
[3954] 1525.02014160156 | 1525.02014160156 [3931]
[3955] 1611.45703125 | 1611.45703125 [3932]
[3956] 1487.56311035156 | 1487.56311035156 [3933]
actual$Cell.X.Position | expected$Cell.X.Position
[4245] 1615.15148925781 | 1615.15148925781 [4222]
[4246] 1786.26745605469 | 1786.26745605469 [4223]
[4247] 1732.90209960938 | 1732.90209960938 [4224]
[4248] 1692.01684570312 -
[4249] 1761.92346191406 | 1761.92346191406 [4225]
[4250] 1811.08178710938 | 1811.08178710938 [4226]
[4251] 1771.98864746094 | 1771.98864746094 [4227]
actual$Cell.X.Position | expected$Cell.X.Position
[4388] 1740.11059570312 | 1740.11059570312 [4364]
[4389] 1636.86303710938 | 1636.86303710938 [4365]
[4390] 1701.86218261719 | 1701.86218261719 [4366]
- 1815.87524414062 [4367]
[4391] 1676.37292480469 | 1676.37292480469 [4368]
[4392] 1803.19030761719 | 1803.19030761719 [4369]
[4393] 1756.86828613281 | 1756.86828613281 [4370]
actual$Cell.X.Position | expected$Cell.X.Position
[4405] 1771.84912109375 | 1771.84912109375 [4382]
[4406] 1686.54956054688 | 1686.54956054688 [4383]
[4407] 1693.89624023438 | 1693.89624023438 [4384]
[4408] 1758.06469726562 -
[4409] 1777.02026367188 | 1777.02026367188 [4385]
[4410] 1668.88073730469 | 1668.88073730469 [4386]
[4411] 1684.59912109375 | 1684.59912109375 [4387]
actual$Cell.X.Position | expected$Cell.X.Position
[4619] 1822.66577148438 | 1822.66577148438 [4595]
[4620] 1862.87744140625 | 1862.87744140625 [4596]
[4621] 1978.46545410156 | 1978.46545410156 [4597]
[4622] 1820.76110839844 -
[4623] 1948.86572265625 | 1948.86572265625 [4598]
[4624] 1951.89477539062 | 1951.89477539062 [4599]
[4625] 1921.94702148438 | 1921.94702148438 [4600]
actual$Cell.X.Position | expected$Cell.X.Position
[4753] 1893.03137207031 | 1893.03137207031 [4728]
[4754] 1830.89013671875 | 1830.89013671875 [4729]
[4755] 1998.5244140625 | 1998.5244140625 [4730]
- 1871.41174316406 [4731]
[4756] 1822.94970703125 | 1822.94970703125 [4732]
[4757] 1969.57592773438 | 1969.57592773438 [4733]
[4758] 1969.99963378906 | 1969.99963378906 [4734]
actual$Cell.X.Position | expected$Cell.X.Position
[4761] 1847.06396484375 | 1847.06396484375 [4737]
[4762] 1876.9541015625 | 1876.9541015625 [4738]
[4763] 1961.53112792969 | 1961.53112792969 [4739]
[4764] 1823.05786132812 -
[4765] 1843.38366699219 | 1843.38366699219 [4740]
[4766] 1897.07568359375 | 1897.07568359375 [4741]
[4767] 1941.61145019531 | 1941.61145019531 [4742]
actual$Cell.X.Position | expected$Cell.X.Position
[4776] 1893.45495605469 | 1893.45495605469 [4751]
[4777] 1833.01733398438 | 1833.01733398438 [4752]
[4778] 1866.42333984375 | 1866.42333984375 [4753]
[4779] 1868.31640625 -
[4780] 1838.39904785156 | 1838.39904785156 [4754]
[4781] 1857.19616699219 | 1857.19616699219 [4755]
[4782] 1926.67858886719 | 1926.67858886719 [4756]
actual$Cell.X.Position | expected$Cell.X.Position
[4842] 1966.92895507812 | 1966.92895507812 [4816]
[4843] 1964.00305175781 | 1964.00305175781 [4817]
[4844] 1952.31396484375 | 1952.31396484375 [4818]
[4845] 1861.70532226562 -
[4846] 1958.18835449219 | 1958.18835449219 [4819]
[4847] 1935.30908203125 | 1935.30908203125 [4820]
[4848] 1841.31311035156 | 1841.31311035156 [4821]
actual$Cell.X.Position | expected$Cell.X.Position
[4954] 1948.46264648438 | 1948.46264648438 [4927]
[4955] 1885.65893554688 | 1885.65893554688 [4928]
[4956] 1869.9228515625 | 1869.9228515625 [4929]
[4957] 1817.66760253906 -
[4958] 1817.82019042969 | 1817.82019042969 [4930]
[4959] 1832.94848632812 | 1832.94848632812 [4931]
[4960] 1912.29382324219 | 1912.29382324219 [4932]
actual$Cell.Y.Position | expected$Cell.Y.Position
[47] 195.308700561523 | 195.308700561523 [47]
[48] 295.750579833984 | 295.750579833984 [48]
[49] 249.976898193359 | 249.976898193359 [49]
- 381.597290039062 [50]
[50] 199.56413269043 | 199.56413269043 [51]
[51] 298.770568847656 | 298.770568847656 [52]
[52] 384.317749023438 | 384.317749023438 [53]
actual$Cell.Y.Position | expected$Cell.Y.Position
[108] 535.044494628906 | 535.044494628906 [109]
[109] 527.521911621094 | 527.521911621094 [110]
[110] 487.384155273438 | 487.384155273438 [111]
[111] 388.367797851562 -
[112] 466.977172851562 | 466.977172851562 [112]
[113] 553.154174804688 | 553.154174804688 [113]
[114] 488.315765380859 | 488.315765380859 [114]
actual$Cell.Y.Position | expected$Cell.Y.Position
[504] 225.881896972656 | 225.881896972656 [504]
[505] 194.187698364258 | 194.187698364258 [505]
[506] 241.425918579102 | 241.425918579102 [506]
- 256.402160644531 [507]
[507] 262.072143554688 | 262.072143554688 [508]
[508] 324.548156738281 | 324.548156738281 [509]
[509] 295.892761230469 | 295.892761230469 [510]
actual$Cell.Y.Position | expected$Cell.Y.Position
[554] 464.577453613281 | 464.577453613281 [555]
[555] 546.394470214844 | 546.394470214844 [556]
[556] 532.9970703125 | 532.9970703125 [557]
[557] 489.355194091797 -
[558] 527.325744628906 | 527.325744628906 [558]
[559] 399.213500976562 | 399.213500976562 [559]
[560] 410.385803222656 | 410.385803222656 [560]
actual$Cell.Y.Position | expected$Cell.Y.Position
[765] 1207.62756347656 | 1207.62756347656 [765]
[766] 1204.48547363281 | 1204.48547363281 [766]
[767] 1323.06774902344 | 1323.06774902344 [767]
[768] 1241.4833984375 -
[769] 1349.34643554688 | 1349.34643554688 [768]
[770] 1224.70080566406 | 1224.70080566406 [769]
[771] 1295.92895507812 | 1295.92895507812 [770]
actual$Cell.Y.Position | expected$Cell.Y.Position
[1019] 314.083679199219 | 314.083679199219 [1018]
[1020] 226.704940795898 | 226.704940795898 [1019]
[1021] 340.744262695312 | 340.744262695312 [1020]
[1022] 257.331756591797 -
[1023] 334.838775634766 | 334.838775634766 [1021]
[1024] 186.466201782227 -
[1025] 299.384857177734 | 299.384857177734 [1022]
[1026] 272.379577636719 | 272.379577636719 [1023]
[1027] 302.950469970703 | 302.950469970703 [1024]
actual$Cell.Y.Position | expected$Cell.Y.Position
[1126] 734.952087402344 | 734.952087402344 [1123]
[1127] 722.514953613281 | 722.514953613281 [1124]
[1128] 688.426696777344 | 688.426696777344 [1125]
[1129] 715.353393554688 -
[1130] 600.588134765625 | 600.588134765625 [1126]
[1131] 858.653076171875 | 858.653076171875 [1127]
[1132] 985.955200195312 | 985.955200195312 [1128]
actual$Cell.Y.Position | expected$Cell.Y.Position
[1284] 1535.72204589844 | 1535.72204589844 [1280]
[1285] 1589.31213378906 | 1589.31213378906 [1281]
[1286] 1517.72082519531 | 1517.72082519531 [1282]
[1287] 1575.57238769531 -
[1288] 1524.00402832031 | 1524.00402832031 [1283]
[1289] 1588.24670410156 | 1588.24670410156 [1284]
[1290] 1556.16687011719 | 1556.16687011719 [1285]
actual$Cell.Y.Position | expected$Cell.Y.Position
[1477] 62.7438850402832 | 62.7438850402832 [1472]
[1478] 141.964309692383 | 141.964309692383 [1473]
[1479] 178.056259155273 | 178.056259155273 [1474]
[1480] 123.54850769043 -
[1481] 50.324592590332 | 50.324592590332 [1475]
[1482] 6.81933259963989 | 6.81933259963989 [1476]
[1483] 97.3971328735352 | 97.3971328735352 [1477]
[1484] 45.2809104919434 | 45.2809104919434 [1478]
[1485] 258.631896972656 | 258.631896972656 [1479]
[1486] 354.753540039062 -
... ... ... and 3 more ...
actual$Cell.Y.Position | expected$Cell.Y.Position
[1569] 430.115478515625 | 430.115478515625 [1562]
[1570] 411.230621337891 | 411.230621337891 [1563]
[1571] 563.251953125 | 563.251953125 [1564]
[1572] 476.758697509766 -
[1573] 483.438049316406 | 483.438049316406 [1565]
[1574] 578.055908203125 | 578.055908203125 [1566]
[1575] 522.740417480469 | 522.740417480469 [1567]
actual$Cell.Y.Position | expected$Cell.Y.Position
[1725] 1121.36047363281 | 1121.36047363281 [1717]
[1726] 1019.89147949219 | 1019.89147949219 [1718]
[1727] 1123.39660644531 | 1123.39660644531 [1719]
[1728] 1134.78869628906 -
[1729] 1080.93811035156 | 1080.93811035156 [1720]
[1730] 1123.60668945312 | 1123.60668945312 [1721]
[1731] 1028.17016601562 | 1028.17016601562 [1722]
actual$Cell.Y.Position | expected$Cell.Y.Position
[1944] 1820.89404296875 | 1820.89404296875 [1935]
[1945] 1826.31506347656 | 1826.31506347656 [1936]
[1946] 1986.07312011719 | 1986.07312011719 [1937]
- 1819.04223632812 [1938]
[1947] 1972.58801269531 | 1972.58801269531 [1939]
[1948] 1968.13610839844 | 1968.13610839844 [1940]
[1949] 1830.3857421875 | 1830.3857421875 [1941]
actual$Cell.Y.Position | expected$Cell.Y.Position
[1984] 64.3829040527344 | 64.3829040527344 [1976]
[1985] 25.5465641021729 | 25.5465641021729 [1977]
[1986] 155.276458740234 | 155.276458740234 [1978]
[1987] 166.859466552734 -
[1988] 120.842132568359 | 120.842132568359 [1979]
[1989] 69.5224456787109 | 69.5224456787109 [1980]
[1990] 110.822265625 | 110.822265625 [1981]
actual$Cell.Y.Position | expected$Cell.Y.Position
[2057] 512.234558105469 | 512.234558105469 [2048]
[2058] 494.514068603516 | 494.514068603516 [2049]
[2059] 472.522308349609 | 472.522308349609 [2050]
- 396.188659667969 [2051]
[2060] 571.567016601562 | 571.567016601562 [2052]
[2061] 424.594512939453 | 424.594512939453 [2053]
[2062] 544.538696289062 | 544.538696289062 [2054]
actual$Cell.Y.Position | expected$Cell.Y.Position
[2067] 521.792114257812 | 521.792114257812 [2059]
[2068] 481.643096923828 | 481.643096923828 [2060]
[2069] 432.322906494141 | 432.322906494141 [2061]
[2070] 392.242279052734 -
[2071] 390.021575927734 | 390.021575927734 [2062]
[2072] 536.953674316406 | 536.953674316406 [2063]
[2073] 415.500793457031 | 415.500793457031 [2064]
actual$Cell.Y.Position | expected$Cell.Y.Position
[2230] 1195.63024902344 | 1195.63024902344 [2221]
[2231] 1118.2724609375 | 1118.2724609375 [2222]
[2232] 1165.03393554688 | 1165.03393554688 [2223]
[2233] 1186.265625 -
[2234] 1180.31848144531 | 1180.31848144531 [2224]
[2235] 1141.29553222656 | 1141.29553222656 [2225]
[2236] 1024.68286132812 | 1024.68286132812 [2226]
actual$Cell.Y.Position | expected$Cell.Y.Position
[2354] 1465.07739257812 | 1465.07739257812 [2344]
[2355] 1540.29833984375 | 1540.29833984375 [2345]
[2356] 1562.849609375 | 1562.849609375 [2346]
- 1644.98229980469 [2347]
[2357] 1737.86962890625 | 1737.86962890625 [2348]
[2358] 1753.09594726562 | 1753.09594726562 [2349]
[2359] 1783.33374023438 | 1783.33374023438 [2350]
actual$Cell.Y.Position | expected$Cell.Y.Position
[2390] 1676.88696289062 | 1676.88696289062 [2381]
[2391] 1630.73657226562 | 1630.73657226562 [2382]
[2392] 1717.13342285156 | 1717.13342285156 [2383]
- 1769.02673339844 [2384]
[2393] 1746.63940429688 | 1746.63940429688 [2385]
[2394] 1754.36059570312 | 1754.36059570312 [2386]
[2395] 1791.78356933594 | 1791.78356933594 [2387]
actual$Cell.Y.Position | expected$Cell.Y.Position
[2490] 23.1454792022705 | 23.1454792022705 [2482]
[2491] 171.786178588867 | 171.786178588867 [2483]
[2492] 117.246940612793 | 117.246940612793 [2484]
- 183.694229125977 [2485]
[2493] 134.345336914062 | 134.345336914062 [2486]
[2494] 29.5010185241699 | 29.5010185241699 [2487]
[2495] 30.145751953125 | 30.145751953125 [2488]
actual$Cell.Y.Position | expected$Cell.Y.Position
[2531] 256.637023925781 | 256.637023925781 [2524]
[2532] 309.892761230469 | 309.892761230469 [2525]
[2533] 188.656326293945 | 188.656326293945 [2526]
[2534] 196.01708984375 -
[2535] 205.180282592773 | 205.180282592773 [2527]
[2536] 286.709289550781 | 286.709289550781 [2528]
[2537] 360.846374511719 | 360.846374511719 [2529]
actual$Cell.Y.Position | expected$Cell.Y.Position
[2566] 362.805999755859 | 362.805999755859 [2558]
[2567] 226.686920166016 | 226.686920166016 [2559]
[2568] 223.457366943359 | 223.457366943359 [2560]
- 188.438720703125 [2561]
[2569] 279.629699707031 | 279.629699707031 [2562]
[2570] 271.994659423828 | 271.994659423828 [2563]
[2571] 259.152374267578 | 259.152374267578 [2564]
actual$Cell.Y.Position | expected$Cell.Y.Position
[2740] 893.38720703125 | 893.38720703125 [2733]
[2741] 915.951232910156 | 915.951232910156 [2734]
[2742] 1012.47479248047 | 1012.47479248047 [2735]
[2743] 1197.08081054688 -
[2744] 1199.59973144531 | 1199.59973144531 [2736]
[2745] 1162.38586425781 | 1162.38586425781 [2737]
[2746] 1159.16381835938 | 1159.16381835938 [2738]
actual$Cell.Y.Position | expected$Cell.Y.Position
[2753] 1053.01635742188 | 1053.01635742188 [2745]
[2754] 1100.666015625 | 1100.666015625 [2746]
[2755] 1119.11071777344 | 1119.11071777344 [2747]
[2756] 1009.81109619141 -
[2757] 1095.74475097656 | 1095.74475097656 [2748]
[2758] 1179.60888671875 | 1179.60888671875 [2749]
[2759] 1152.70092773438 | 1152.70092773438 [2750]
[2760] 1111.80358886719 | 1111.80358886719 [2751]
[2761] 1022.32672119141 | 1022.32672119141 [2752]
[2762] 1021.94067382812 -
... ... ... and 3 more ...
actual$Cell.Y.Position | expected$Cell.Y.Position
[2842] 1595.80627441406 | 1595.80627441406 [2832]
[2843] 1571.42407226562 | 1571.42407226562 [2833]
[2844] 1562.43603515625 | 1562.43603515625 [2834]
[2845] 1439.13732910156 -
[2846] 1462.85034179688 | 1462.85034179688 [2835]
[2847] 1499.10656738281 | 1499.10656738281 [2836]
[2848] 1534.97143554688 | 1534.97143554688 [2837]
actual$Cell.Y.Position | expected$Cell.Y.Position
[2884] 1590.76501464844 | 1590.76501464844 [2873]
[2885] 1514.9228515625 | 1514.9228515625 [2874]
[2886] 1440.4287109375 | 1440.4287109375 [2875]
[2887] 1408.07141113281 -
[2888] 1536.21569824219 | 1536.21569824219 [2876]
[2889] 1462.82543945312 | 1462.82543945312 [2877]
[2890] 1510.71472167969 | 1510.71472167969 [2878]
actual$Cell.Y.Position | expected$Cell.Y.Position
[2936] 1655.74829101562 | 1655.74829101562 [2924]
[2937] 1751.38513183594 | 1751.38513183594 [2925]
[2938] 1723.45092773438 | 1723.45092773438 [2926]
[2939] 1643.06311035156 -
[2940] 1790.4130859375 | 1790.4130859375 [2927]
[2941] 1720.04162597656 | 1720.04162597656 [2928]
[2942] 1747.94750976562 | 1747.94750976562 [2929]
actual$Cell.Y.Position | expected$Cell.Y.Position
[2996] 183.133926391602 | 183.133926391602 [2983]
[2997] 94.8547897338867 | 94.8547897338867 [2984]
[2998] 68.5583801269531 | 68.5583801269531 [2985]
[2999] 174.12467956543 -
[3000] 157.332015991211 | 157.332015991211 [2986]
[3001] 92.0625534057617 | 92.0625534057617 [2987]
[3002] 117.243133544922 | 117.243133544922 [2988]
actual$Cell.Y.Position | expected$Cell.Y.Position
[3094] 491.616790771484 | 491.616790771484 [3080]
[3095] 585.14697265625 | 585.14697265625 [3081]
[3096] 525.634094238281 | 525.634094238281 [3082]
[3097] 391.432678222656 -
[3098] 440.753082275391 | 440.753082275391 [3083]
[3099] 413.198455810547 | 413.198455810547 [3084]
[3100] 468.244659423828 | 468.244659423828 [3085]
actual$Cell.Y.Position | expected$Cell.Y.Position
[3420] 1682.54602050781 | 1682.54602050781 [3405]
[3421] 1739.58386230469 | 1739.58386230469 [3406]
[3422] 1743.64978027344 | 1743.64978027344 [3407]
[3423] 1798.92468261719 -
[3424] 1723.46716308594 | 1723.46716308594 [3408]
[3425] 1749.63366699219 | 1749.63366699219 [3409]
[3426] 1669.58325195312 | 1669.58325195312 [3410]
actual$Cell.Y.Position | expected$Cell.Y.Position
[3512] 102.751434326172 | 102.751434326172 [3496]
[3513] 153.300827026367 | 153.300827026367 [3497]
[3514] 140.918106079102 | 140.918106079102 [3498]
[3515] 180.247848510742 -
[3516] 136.589263916016 | 136.589263916016 [3499]
[3517] 98.0465621948242 | 98.0465621948242 [3500]
[3518] 111.779708862305 | 111.779708862305 [3501]
actual$Cell.Y.Position | expected$Cell.Y.Position
[3621] 428.481353759766 | 428.481353759766 [3604]
[3622] 428.498291015625 | 428.498291015625 [3605]
[3623] 504.846832275391 | 504.846832275391 [3606]
[3624] 389.854583740234 -
[3625] 450.41552734375 | 450.41552734375 [3607]
[3626] 560.065856933594 | 560.065856933594 [3608]
[3627] 474.711608886719 | 474.711608886719 [3609]
actual$Cell.Y.Position | expected$Cell.Y.Position
[3676] 787.126159667969 | 787.126159667969 [3658]
[3677] 788.615051269531 | 788.615051269531 [3659]
[3678] 778.952880859375 | 778.952880859375 [3660]
- 593.377868652344 [3661]
[3679] 654.967712402344 | 654.967712402344 [3662]
[3680] 610.415771484375 | 610.415771484375 [3663]
[3681] 745.703796386719 | 745.703796386719 [3664]
actual$Cell.Y.Position | expected$Cell.Y.Position
[3684] 663.765441894531 | 663.765441894531 [3667]
[3685] 723.647399902344 | 723.647399902344 [3668]
[3686] 763.665466308594 | 763.665466308594 [3669]
[3687] 645.47412109375 -
[3688] 714.119201660156 | 714.119201660156 [3670]
[3689] 755.005126953125 | 755.005126953125 [3671]
[3690] 708.557067871094 | 708.557067871094 [3672]
actual$Cell.Y.Position | expected$Cell.Y.Position
[3710] 636.820190429688 | 636.820190429688 [3692]
[3711] 639.65087890625 | 639.65087890625 [3693]
[3712] 662.141296386719 | 662.141296386719 [3694]
[3713] 592.218627929688 -
[3714] 963.6513671875 | 963.6513671875 [3695]
[3715] 992.670104980469 | 992.670104980469 [3696]
[3716] 902.13037109375 | 902.13037109375 [3697]
actual$Cell.Y.Position | expected$Cell.Y.Position
[3724] 982.885498046875 | 982.885498046875 [3705]
[3725] 872.165771484375 | 872.165771484375 [3706]
[3726] 943.1025390625 | 943.1025390625 [3707]
[3727] 916.873840332031 -
[3728] 888.413452148438 | 888.413452148438 [3708]
[3729] 910.678588867188 | 910.678588867188 [3709]
[3730] 992.440246582031 | 992.440246582031 [3710]
actual$Cell.Y.Position | expected$Cell.Y.Position
[3771] 1036.71691894531 | 1036.71691894531 [3751]
[3772] 1203.65234375 | 1203.65234375 [3752]
[3773] 1082.1396484375 | 1082.1396484375 [3753]
[3774] 1001.96868896484 -
[3775] 1000.84216308594 | 1000.84216308594 [3754]
[3776] 1027.3896484375 | 1027.3896484375 [3755]
[3777] 1142.34423828125 | 1142.34423828125 [3756]
actual$Cell.Y.Position | expected$Cell.Y.Position
[3937] 1781.06494140625 | 1781.06494140625 [3916]
[3938] 1688.55041503906 | 1688.55041503906 [3917]
[3939] 1685.69970703125 | 1685.69970703125 [3918]
[3940] 1614.96423339844 -
[3941] 1778.57104492188 | 1778.57104492188 [3919]
[3942] 1677.12805175781 | 1677.12805175781 [3920]
[3943] 1780.73559570312 | 1780.73559570312 [3921]
actual$Cell.Y.Position | expected$Cell.Y.Position
[3950] 1735.94201660156 | 1735.94201660156 [3928]
[3951] 1795.4267578125 | 1795.4267578125 [3929]
[3952] 1780.25231933594 | 1780.25231933594 [3930]
[3953] 1612.89489746094 -
[3954] 1654.06274414062 | 1654.06274414062 [3931]
[3955] 1698.41613769531 | 1698.41613769531 [3932]
[3956] 1722.47314453125 | 1722.47314453125 [3933]
actual$Cell.Y.Position | expected$Cell.Y.Position
[4245] 855.440795898438 | 855.440795898438 [4222]
[4246] 819.812438964844 | 819.812438964844 [4223]
[4247] 831.1376953125 | 831.1376953125 [4224]
[4248] 799.129272460938 -
[4249] 935.641052246094 | 935.641052246094 [4225]
[4250] 859.90869140625 | 859.90869140625 [4226]
[4251] 920.496154785156 | 920.496154785156 [4227]
actual$Cell.Y.Position | expected$Cell.Y.Position
[4388] 1584.14050292969 | 1584.14050292969 [4364]
[4389] 1422.66687011719 | 1422.66687011719 [4365]
[4390] 1503.57763671875 | 1503.57763671875 [4366]
- 1524.705078125 [4367]
[4391] 1437.32897949219 | 1437.32897949219 [4368]
[4392] 1477.98278808594 | 1477.98278808594 [4369]
[4393] 1608.0244140625 | 1608.0244140625 [4370]
actual$Cell.Y.Position | expected$Cell.Y.Position
[4405] 1438.68823242188 | 1438.68823242188 [4382]
[4406] 1572.37109375 | 1572.37109375 [4383]
[4407] 1429.3017578125 | 1429.3017578125 [4384]
[4408] 1410.55773925781 -
[4409] 1489.16516113281 | 1489.16516113281 [4385]
[4410] 1568.52014160156 | 1568.52014160156 [4386]
[4411] 1495.39221191406 | 1495.39221191406 [4387]
actual$Cell.Y.Position | expected$Cell.Y.Position
[4619] 232.928131103516 | 232.928131103516 [4595]
[4620] 210.294647216797 | 210.294647216797 [4596]
[4621] 215.565444946289 | 215.565444946289 [4597]
[4622] 342.050018310547 -
[4623] 343.740875244141 | 343.740875244141 [4598]
[4624] 200.655944824219 | 200.655944824219 [4599]
[4625] 299.615600585938 | 299.615600585938 [4600]
actual$Cell.Y.Position | expected$Cell.Y.Position
[4753] 1148.61657714844 | 1148.61657714844 [4728]
[4754] 1074.75439453125 | 1074.75439453125 [4729]
[4755] 1006.85119628906 | 1006.85119628906 [4730]
- 1016.57781982422 [4731]
[4756] 1059.40710449219 | 1059.40710449219 [4732]
[4757] 1160.13110351562 | 1160.13110351562 [4733]
[4758] 1079.2666015625 | 1079.2666015625 [4734]
actual$Cell.Y.Position | expected$Cell.Y.Position
[4761] 1036.25805664062 | 1036.25805664062 [4737]
[4762] 1026.61511230469 | 1026.61511230469 [4738]
[4763] 1145.97106933594 | 1145.97106933594 [4739]
[4764] 1015.25103759766 -
[4765] 1105.45471191406 | 1105.45471191406 [4740]
[4766] 1194.27392578125 | 1194.27392578125 [4741]
[4767] 1092.82836914062 | 1092.82836914062 [4742]
actual$Cell.Y.Position | expected$Cell.Y.Position
[4776] 1001.42852783203 | 1001.42852783203 [4751]
[4777] 1090.51647949219 | 1090.51647949219 [4752]
[4778] 1057.92980957031 | 1057.92980957031 [4753]
[4779] 1012.1953125 -
[4780] 1182.64147949219 | 1182.64147949219 [4754]
[4781] 1053.13977050781 | 1053.13977050781 [4755]
[4782] 1173.71069335938 | 1173.71069335938 [4756]
actual$Cell.Y.Position | expected$Cell.Y.Position
[4842] 1373.42114257812 | 1373.42114257812 [4816]
[4843] 1235.15075683594 | 1235.15075683594 [4817]
[4844] 1263.458984375 | 1263.458984375 [4818]
[4845] 1204.41284179688 -
[4846] 1250.67211914062 | 1250.67211914062 [4819]
[4847] 1441.30041503906 | 1441.30041503906 [4820]
[4848] 1484.95422363281 | 1484.95422363281 [4821]
actual$Cell.Y.Position | expected$Cell.Y.Position
[4954] 1855.62109375 | 1855.62109375 [4927]
[4955] 1821.47033691406 | 1821.47033691406 [4928]
[4956] 1823.87902832031 | 1823.87902832031 [4929]
[4957] 1886.74963378906 -
[4958] 1849.42333984375 | 1849.42333984375 [4930]
[4959] 1921.46411132812 | 1921.46411132812 [4931]
[4960] 1828.59704589844 | 1828.59704589844 [4932]
actual$Cell.Type | expected$Cell.Type
[4949] "Others" | "Others" [4949]
[4950] "Others" | "Others" [4950]
[4951] "Others" | "Others" [4951]
[4952] "Others" -
[4953] "Others" -
[4954] "Others" -
[4955] "Others" -
[4956] "Others" -
[4957] "Others" -
[4958] "Others" -
... ... ... and 21 more ...
[ FAIL 1 | WARN 0 | SKIP 0 | PASS 44 ]
Error: Test failures
Execution halted
spaSim.Rcheck/spaSim-Ex.timings
| name | user | system | elapsed | |
| TIS | 1.698 | 0.059 | 1.857 | |
| multiple_background_images | 4.733 | 0.120 | 4.986 | |
| multiple_images_with_clusters | 18.561 | 0.259 | 18.928 | |
| multiple_images_with_immune_rings | 81.441 | 0.523 | 84.192 | |
| simulate_background_cells | 8.232 | 0.008 | 8.324 | |
| simulate_clusters | 1.792 | 0.008 | 1.803 | |
| simulate_double_rings | 2.070 | 0.020 | 2.094 | |
| simulate_immune_rings | 2.097 | 0.016 | 2.120 | |
| simulate_mixing | 0.975 | 0.036 | 1.012 | |
| simulate_stripes | 2.151 | 0.040 | 2.323 | |