This page was generated on 2007-10-07 23:58:52 -0700 (Sun, 07 Oct 2007).
This is the "Multiple platform build/check report" for BioC 2.1:
- Snapshot Date: 2007-10-07 12:06:50 -0700 (Sun, 07 Oct 2007)
- URL: https://hedgehog.fhcrc.org/bioconductor/branches/RELEASE_2_1/madman/Rpacks
- Revision: 27832
- Last Changed Date: 2007-10-07 09:22:50 -0700 (Sun, 07 Oct 2007)
| Hostname | OS | Arch (*) | Platform label (**) | R version | Installed pkgs |
|---|---|---|---|---|---|
| lamb1 | Linux (SUSE 10.1) | x86_64 | x86_64-suse-linux | 2.6.0 (2007-10-03) | 449 |
| wellington | Linux (SUSE 9.2) | i686 | i586-suse-linux | 2.6.0 (2007-10-03) | 437 |
| liverpool | Windows Server 2003 R2 (32-bit) | x64 | mingw32 | 2.6.0 (2007-10-03) | 436 |
| pitt | Mac OS X (10.4.10) | i386 | i686-apple-darwin8 | 2.6.0 (2007-10-03) | 445 |
| Click on any hostname to see more info about the system (e.g. compilers) (*) as reported by 'uname -p', except on Windows (**) as reported by 'gcc -v' | |||||
| GLYPH TABLE - These are the glyphs used in this report to indicate the following package status: | |
| - TIMEOUT | BUILD, CHECK or BUILD BIN of package took more than 40 minutes |
| - ERROR | BUILD, CHECK or BUILD BIN of package returned an error |
| - WARNINGS | CHECK of package produced warnings |
| - OK | BUILD, CHECK or BUILD BIN of package was OK |
| - skipped | CHECK or BUILD BIN of package was skipped because the BUILD step failed (or because something bad happened with the Build System itself) |
| Click on any glyph in the report below to see the status details (command output). | |
| SUMMARY | OS | Arch | BUILD | CHECK | BUILD BIN | |||||||||||
| lamb1 | Linux (SUSE 10.1) | x86_64 |
|
| ||||||||||||
| wellington | Linux (SUSE 9.2) | i686 |
|
| ||||||||||||
| liverpool | Windows Server 2003 R2 (32-bit) | x64 |
|
|
| |||||||||||
| pitt | Mac OS X (10.4.10) | i386 |
|
|
| |||||||||||
| Package 1/234 | Hostname | OS | Arch | BUILD | CHECK | BUILD BIN | ||||||||||
| ABarray 1.6.0 Yongming Andrew Sun Last Changed Date: 2007-10-02 17:41:09 -0700 Last Changed Rev: 27709 | lamb1 | Linux (SUSE 10.1) | x86_64 | OK | OK | |||||||||||
| wellington | Linux (SUSE 9.2) | i686 | OK | OK | ||||||||||||
| liverpool | Windows Server 2003 R2 (32-bit) | x64 | OK | OK | OK | |||||||||||
| pitt | Mac OS X (10.4.10) | i386 | OK | OK | OK | |||||||||||
| Package 2/234 | Hostname | OS | Arch | BUILD | CHECK | BUILD BIN | ||||||||||
| aCGH 1.12.0 Jane Fridlyand Last Changed Date: 2007-10-02 17:41:09 -0700 Last Changed Rev: 27709 | lamb1 | Linux (SUSE 10.1) | x86_64 | OK | WARNINGS | |||||||||||
| wellington | Linux (SUSE 9.2) | i686 | OK | WARNINGS | ||||||||||||
| liverpool | Windows Server 2003 R2 (32-bit) | x64 | OK | WARNINGS | OK | |||||||||||
| pitt | Mac OS X (10.4.10) | i386 | OK | WARNINGS | OK | |||||||||||
| Package 3/234 | Hostname | OS | Arch | BUILD | CHECK | BUILD BIN | ||||||||||
| ACME 1.4.0 Sean Davis Last Changed Date: 2007-10-02 17:41:09 -0700 Last Changed Rev: 27709 | lamb1 | Linux (SUSE 10.1) | x86_64 | OK | OK | |||||||||||
| wellington | Linux (SUSE 9.2) | i686 | OK | OK | ||||||||||||
| liverpool | Windows Server 2003 R2 (32-bit) | x64 | OK | OK | OK | |||||||||||
| pitt | Mac OS X (10.4.10) | i386 | OK | OK | OK | |||||||||||
| Package 4/234 | Hostname | OS | Arch | BUILD | CHECK | BUILD BIN | ||||||||||
| adSplit 1.8.0 Claudio Lottaz Last Changed Date: 2007-10-02 17:41:09 -0700 Last Changed Rev: 27709 | lamb1 | Linux (SUSE 10.1) | x86_64 | OK | OK | |||||||||||
| wellington | Linux (SUSE 9.2) | i686 | OK | OK | ||||||||||||
| liverpool | Windows Server 2003 R2 (32-bit) | x64 | OK | OK | OK | |||||||||||
| pitt | Mac OS X (10.4.10) | i386 | OK | OK | OK | |||||||||||
| Package 5/234 | Hostname | OS | Arch | BUILD | CHECK | BUILD BIN | ||||||||||
| affxparser 1.10.0 Kasper Daniel Hansen Last Changed Date: 2007-10-02 17:41:09 -0700 Last Changed Rev: 27709 | lamb1 | Linux (SUSE 10.1) | x86_64 | OK | OK | |||||||||||
| wellington | Linux (SUSE 9.2) | i686 | OK | OK | ||||||||||||
| liverpool | Windows Server 2003 R2 (32-bit) | x64 | OK | OK | OK | |||||||||||
| pitt | Mac OS X (10.4.10) | i386 | OK | OK | OK | |||||||||||
| Package 6/234 | Hostname | OS | Arch | BUILD | CHECK | BUILD BIN | ||||||||||
| affy 1.16.0 Rafael A. Irizarry Last Changed Date: 2007-10-02 17:41:09 -0700 Last Changed Rev: 27709 | lamb1 | Linux (SUSE 10.1) | x86_64 | OK | OK | |||||||||||
| wellington | Linux (SUSE 9.2) | i686 | OK | OK | ||||||||||||
| liverpool | Windows Server 2003 R2 (32-bit) | x64 | OK | OK | OK | |||||||||||
| pitt | Mac OS X (10.4.10) | i386 | OK | OK | OK | |||||||||||
| Package 7/234 | Hostname | OS | Arch | BUILD | CHECK | BUILD BIN | ||||||||||
| affycomp 1.14.0 Rafael A. Irizarry Last Changed Date: 2007-10-02 17:41:09 -0700 Last Changed Rev: 27709 | lamb1 | Linux (SUSE 10.1) | x86_64 | OK | OK | |||||||||||
| wellington | Linux (SUSE 9.2) | i686 | OK | OK | ||||||||||||
| liverpool | Windows Server 2003 R2 (32-bit) | x64 | OK | OK | OK | |||||||||||
| pitt | Mac OS X (10.4.10) | i386 | OK | OK | OK | |||||||||||
| Package 8/234 | Hostname | OS | Arch | BUILD | CHECK | BUILD BIN | ||||||||||
| affycoretools 1.10.0 James W. MacDonald Last Changed Date: 2007-10-02 17:41:09 -0700 Last Changed Rev: 27709 | lamb1 | Linux (SUSE 10.1) | x86_64 | OK | OK | |||||||||||
| wellington | Linux (SUSE 9.2) | i686 | OK | OK | ||||||||||||
| liverpool | Windows Server 2003 R2 (32-bit) | x64 | OK | OK | OK | |||||||||||
| pitt | Mac OS X (10.4.10) | i386 | OK | OK | OK | |||||||||||
| Package 9/234 | Hostname | OS | Arch | BUILD | CHECK | BUILD BIN | ||||||||||
| AffyExpress 1.2.0 Xuejun Arthur Li Last Changed Date: 2007-10-02 17:41:09 -0700 Last Changed Rev: 27709 | lamb1 | Linux (SUSE 10.1) | x86_64 | OK | OK | |||||||||||
| wellington | Linux (SUSE 9.2) | i686 | OK | OK | ||||||||||||
| liverpool | Windows Server 2003 R2 (32-bit) | x64 | OK | OK | OK | |||||||||||
| pitt | Mac OS X (10.4.10) | i386 | OK | OK | OK | |||||||||||
| Package 10/234 | Hostname | OS | Arch | BUILD | CHECK | BUILD BIN | ||||||||||
| affyio 1.6.0 Benjamin Milo Bolstad Last Changed Date: 2007-10-02 17:41:09 -0700 Last Changed Rev: 27709 | lamb1 | Linux (SUSE 10.1) | x86_64 | OK | OK | |||||||||||
| wellington | Linux (SUSE 9.2) | i686 | OK | OK | ||||||||||||
| liverpool | Windows Server 2003 R2 (32-bit) | x64 | OK | OK | OK | |||||||||||
| pitt | Mac OS X (10.4.10) | i386 | OK | OK | OK | |||||||||||
| Package 11/234 | Hostname | OS | Arch | BUILD | CHECK | BUILD BIN | ||||||||||
| affylmGUI 1.12.0 Keith Satterley Last Changed Date: 2007-10-02 17:41:09 -0700 Last Changed Rev: 27709 | lamb1 | Linux (SUSE 10.1) | x86_64 | OK | OK | |||||||||||
| wellington | Linux (SUSE 9.2) | i686 | OK | OK | ||||||||||||
| liverpool | Windows Server 2003 R2 (32-bit) | x64 | OK | OK | OK | |||||||||||
| pitt | Mac OS X (10.4.10) | i386 | OK | OK | OK | |||||||||||
| Package 12/234 | Hostname | OS | Arch | BUILD | CHECK | BUILD BIN | ||||||||||
| affypdnn 1.12.0 Laurent Gautier Last Changed Date: 2007-10-02 17:41:09 -0700 Last Changed Rev: 27709 | lamb1 | Linux (SUSE 10.1) | x86_64 | OK | OK | |||||||||||
| wellington | Linux (SUSE 9.2) | i686 | OK | OK | ||||||||||||
| liverpool | Windows Server 2003 R2 (32-bit) | x64 | OK | OK | OK | |||||||||||
| pitt | Mac OS X (10.4.10) | i386 | OK | OK | OK | |||||||||||
| Package 13/234 | Hostname | OS | Arch | BUILD | CHECK | BUILD BIN | ||||||||||
| affyPLM 1.14.0 Ben Bolstad Last Changed Date: 2007-10-02 17:41:09 -0700 Last Changed Rev: 27709 | lamb1 | Linux (SUSE 10.1) | x86_64 | OK | OK | |||||||||||
| wellington | Linux (SUSE 9.2) | i686 | OK | OK | ||||||||||||
| liverpool | Windows Server 2003 R2 (32-bit) | x64 | OK | OK | OK | |||||||||||
| pitt | Mac OS X (10.4.10) | i386 | OK | OK | OK | |||||||||||
| Package 14/234 | Hostname | OS | Arch | BUILD | CHECK | BUILD BIN | ||||||||||
| affyQCReport 1.16.0 Craig Parman Last Changed Date: 2007-10-02 17:41:09 -0700 Last Changed Rev: 27709 | lamb1 | Linux (SUSE 10.1) | x86_64 | OK | OK | |||||||||||
| wellington | Linux (SUSE 9.2) | i686 | OK | OK | ||||||||||||
| liverpool | Windows Server 2003 R2 (32-bit) | x64 | OK | OK | OK | |||||||||||
| pitt | Mac OS X (10.4.10) | i386 | OK | OK | OK | |||||||||||
| Package 15/234 | Hostname | OS | Arch | BUILD | CHECK | BUILD BIN | ||||||||||
| altcdfenvs 1.12.0 Laurent Gautier Last Changed Date: 2007-10-02 17:41:09 -0700 Last Changed Rev: 27709 | lamb1 | Linux (SUSE 10.1) | x86_64 | OK | OK | |||||||||||
| wellington | Linux (SUSE 9.2) | i686 | OK | OK | ||||||||||||
| liverpool | Windows Server 2003 R2 (32-bit) | x64 | OK | OK | OK | |||||||||||
| pitt | Mac OS X (10.4.10) | i386 | OK | OK | OK | |||||||||||
| Package 16/234 | Hostname | OS | Arch | BUILD | CHECK | BUILD BIN | ||||||||||
| annaffy 1.10.0 Colin A. Smith Last Changed Date: 2007-10-02 17:41:09 -0700 Last Changed Rev: 27709 | lamb1 | Linux (SUSE 10.1) | x86_64 | OK | OK | |||||||||||
| wellington | Linux (SUSE 9.2) | i686 | OK | OK | ||||||||||||
| liverpool | Windows Server 2003 R2 (32-bit) | x64 | OK | OK | OK | |||||||||||
| pitt | Mac OS X (10.4.10) | i386 | OK | OK | OK | |||||||||||
| Package 17/234 | Hostname | OS | Arch | BUILD | CHECK | BUILD BIN | ||||||||||
| AnnBuilder 1.16.0 J. Zhang Last Changed Date: 2007-10-02 17:41:09 -0700 Last Changed Rev: 27709 | lamb1 | Linux (SUSE 10.1) | x86_64 | OK | OK | |||||||||||
| wellington | Linux (SUSE 9.2) | i686 | OK | OK | ||||||||||||
| liverpool | Windows Server 2003 R2 (32-bit) | x64 | OK | OK | OK | |||||||||||
| pitt | Mac OS X (10.4.10) | i386 | OK | OK | OK | |||||||||||
| Package 18/234 | Hostname | OS | Arch | BUILD | CHECK | BUILD BIN | ||||||||||
| annotate 1.16.0 Biocore Team c/o BioC user list Last Changed Date: 2007-10-02 17:41:09 -0700 Last Changed Rev: 27709 | lamb1 | Linux (SUSE 10.1) | x86_64 | OK | OK | |||||||||||
| wellington | Linux (SUSE 9.2) | i686 | OK | OK | ||||||||||||
| liverpool | Windows Server 2003 R2 (32-bit) | x64 | OK | OK | OK | |||||||||||
| pitt | Mac OS X (10.4.10) | i386 | OK | OK | OK | |||||||||||
| Package 19/234 | Hostname | OS | Arch | BUILD | CHECK | BUILD BIN | ||||||||||
| AnnotationDbi 1.0.4 Biocore Team c/o BioC user list Last Changed Date: 2007-10-05 13:15:28 -0700 Last Changed Rev: 27793 | lamb1 | Linux (SUSE 10.1) | x86_64 | OK | OK | |||||||||||
| wellington | Linux (SUSE 9.2) | i686 | OK | OK | ||||||||||||
| liverpool | Windows Server 2003 R2 (32-bit) | x64 | OK | OK | OK | |||||||||||
| pitt | Mac OS X (10.4.10) | i386 | OK | OK | OK | |||||||||||
| Package 20/234 | Hostname | OS | Arch | BUILD | CHECK | BUILD BIN | ||||||||||
| annotationTools 1.8.0 Alexandre Kuhn Last Changed Date: 2007-10-02 17:41:09 -0700 Last Changed Rev: 27709 | lamb1 | Linux (SUSE 10.1) | x86_64 | OK | OK | |||||||||||
| wellington | Linux (SUSE 9.2) | i686 | OK | OK | ||||||||||||
| liverpool | Windows Server 2003 R2 (32-bit) | x64 | OK | OK | OK | |||||||||||
| pitt | Mac OS X (10.4.10) | i386 | OK | OK | OK | |||||||||||
| Package 21/234 | Hostname | OS | Arch | BUILD | CHECK | BUILD BIN | ||||||||||
| apComplex 2.4.0 Denise Scholtens Last Changed Date: 2007-10-02 17:41:09 -0700 Last Changed Rev: 27709 | lamb1 | Linux (SUSE 10.1) | x86_64 | OK | OK | |||||||||||
| wellington | Linux (SUSE 9.2) | i686 | OK | OK | ||||||||||||
| liverpool | Windows Server 2003 R2 (32-bit) | x64 | OK | OK | OK | |||||||||||
| pitt | Mac OS X (10.4.10) | i386 | OK | OK | OK | |||||||||||
| Package 22/234 | Hostname | OS | Arch | BUILD | CHECK | BUILD BIN | ||||||||||
| aroma.light 1.6.0 Henrik Bengtsson Last Changed Date: 2007-10-02 17:41:09 -0700 Last Changed Rev: 27709 | lamb1 | Linux (SUSE 10.1) | x86_64 | OK | OK | |||||||||||
| wellington | Linux (SUSE 9.2) | i686 | OK | OK | ||||||||||||
| liverpool | Windows Server 2003 R2 (32-bit) | x64 | OK | OK | OK | |||||||||||
| pitt | Mac OS X (10.4.10) | i386 | OK | OK | OK | |||||||||||
| Package 23/234 | Hostname | OS | Arch | BUILD | CHECK | BUILD BIN | ||||||||||
| arrayMagic 1.16.0 Andreas Buness Last Changed Date: 2007-10-02 17:41:09 -0700 Last Changed Rev: 27709 | lamb1 | Linux (SUSE 10.1) | x86_64 | OK | OK | |||||||||||
| wellington | Linux (SUSE 9.2) | i686 | OK | OK | ||||||||||||
| liverpool | Windows Server 2003 R2 (32-bit) | x64 | OK | OK | OK | |||||||||||
| pitt | Mac OS X (10.4.10) | i386 | OK | OK | OK | |||||||||||
| Package 24/234 | Hostname | OS | Arch | BUILD | CHECK | BUILD BIN | ||||||||||
| arrayQuality 1.14.0 Agnes Paquet Last Changed Date: 2007-10-02 17:41:09 -0700 Last Changed Rev: 27709 | lamb1 | Linux (SUSE 10.1) | x86_64 | OK | OK | |||||||||||
| wellington | Linux (SUSE 9.2) | i686 | OK | OK | ||||||||||||
| liverpool | Windows Server 2003 R2 (32-bit) | x64 | OK | OK | OK | |||||||||||
| pitt | Mac OS X (10.4.10) | i386 | OK | OK | OK | |||||||||||
| Package 25/234 | Hostname | OS | Arch | BUILD | CHECK | BUILD BIN | ||||||||||
| arrayQualityMetrics 1.2.0 Audrey Kauffmann Last Changed Date: 2007-10-02 17:41:09 -0700 Last Changed Rev: 27709 | lamb1 | Linux (SUSE 10.1) | x86_64 | OK | OK | |||||||||||
| wellington | Linux (SUSE 9.2) | i686 | OK | OK | ||||||||||||
| liverpool | Windows Server 2003 R2 (32-bit) | x64 | OK | OK | OK | |||||||||||
| pitt | Mac OS X (10.4.10) | i386 | OK | OK | OK | |||||||||||
| Package 26/234 | Hostname | OS | Arch | BUILD | CHECK | BUILD BIN | ||||||||||
| beadarray 1.6.0 Mark Dunning Last Changed Date: 2007-10-02 17:41:09 -0700 Last Changed Rev: 27709 | lamb1 | Linux (SUSE 10.1) | x86_64 | OK | OK | |||||||||||
| wellington | Linux (SUSE 9.2) | i686 | OK | OK | ||||||||||||
| liverpool | Windows Server 2003 R2 (32-bit) | x64 | OK | OK | OK | |||||||||||
| pitt | Mac OS X (10.4.10) | i386 | OK | OK | OK | |||||||||||
| Package 27/234 | Hostname | OS | Arch | BUILD | CHECK | BUILD BIN | ||||||||||
| beadarraySNP 1.4.0 Jan Oosting Last Changed Date: 2007-10-02 17:41:09 -0700 Last Changed Rev: 27709 | lamb1 | Linux (SUSE 10.1) | x86_64 | OK | OK | |||||||||||
| wellington | Linux (SUSE 9.2) | i686 | OK | OK | ||||||||||||
| liverpool | Windows Server 2003 R2 (32-bit) | x64 | OK | OK | OK | |||||||||||
| pitt | Mac OS X (10.4.10) | i386 | OK | OK | OK | |||||||||||
| Package 28/234 | Hostname | OS | Arch | BUILD | CHECK | BUILD BIN | ||||||||||
| BeadExplorer 1.4.0 Gareth Elvidge Last Changed Date: 2007-10-02 17:41:09 -0700 Last Changed Rev: 27709 | lamb1 | Linux (SUSE 10.1) | x86_64 | OK | OK | |||||||||||
| wellington | Linux (SUSE 9.2) | i686 | OK | OK | ||||||||||||
| liverpool | Windows Server 2003 R2 (32-bit) | x64 | OK | OK | OK | |||||||||||
| pitt | Mac OS X (10.4.10) | i386 | OK | OK | OK | |||||||||||
| Package 29/234 | Hostname | OS | Arch | BUILD | CHECK | BUILD BIN | ||||||||||
| bgafun 1.0.0 Iain Wallace Last Changed Date: 2007-10-02 17:41:09 -0700 Last Changed Rev: 27709 | lamb1 | Linux (SUSE 10.1) | x86_64 | OK | OK | |||||||||||
| wellington | Linux (SUSE 9.2) | i686 | OK | OK | ||||||||||||
| liverpool | Windows Server 2003 R2 (32-bit) | x64 | OK | OK | OK | |||||||||||
| pitt | Mac OS X (10.4.10) | i386 | OK | OK | OK | |||||||||||
| Package 30/234 | Hostname | OS | Arch | BUILD | CHECK | BUILD BIN | ||||||||||
| bgx 1.2.0 Ernest Turro Last Changed Date: 2007-10-02 17:41:09 -0700 Last Changed Rev: 27709 | lamb1 | Linux (SUSE 10.1) | x86_64 | OK | OK | |||||||||||
| wellington | Linux (SUSE 9.2) | i686 | OK | OK | ||||||||||||
| liverpool | Windows Server 2003 R2 (32-bit) | x64 | OK | OK | OK | |||||||||||
| pitt | Mac OS X (10.4.10) | i386 | OK | OK | OK | |||||||||||
| Package 31/234 | Hostname | OS | Arch | BUILD | CHECK | BUILD BIN | ||||||||||
| Biobase 1.16.0 Biocore Team c/o BioC user list Last Changed Date: 2007-10-02 17:41:09 -0700 Last Changed Rev: 27709 | lamb1 | Linux (SUSE 10.1) | x86_64 | OK | OK | |||||||||||
| wellington | Linux (SUSE 9.2) | i686 | OK | OK | ||||||||||||
| liverpool | Windows Server 2003 R2 (32-bit) | x64 | OK | OK | OK | |||||||||||
| pitt | Mac OS X (10.4.10) | i386 | OK | OK | OK | |||||||||||
| Package 32/234 | Hostname | OS | Arch | BUILD | CHECK | BUILD BIN | ||||||||||
| biocGraph 1.0.0 Li Long Last Changed Date: 2007-10-05 18:29:06 -0700 Last Changed Rev: 27811 | lamb1 | Linux (SUSE 10.1) | x86_64 | OK | OK | |||||||||||
| wellington | Linux (SUSE 9.2) | i686 | OK | OK | ||||||||||||
| liverpool | Windows Server 2003 R2 (32-bit) | x64 | OK | OK | OK | |||||||||||
| pitt | Mac OS X (10.4.10) | i386 | OK | OK | OK | |||||||||||
| Package 33/234 | Hostname | OS | Arch | BUILD | CHECK | BUILD BIN | ||||||||||
| biocViews 1.6.0 Biocore Team c/o BioC user list Last Changed Date: 2007-10-02 17:41:09 -0700 Last Changed Rev: 27709 | lamb1 | Linux (SUSE 10.1) | x86_64 | OK | OK | |||||||||||
| wellington | Linux (SUSE 9.2) | i686 | OK | OK | ||||||||||||
| liverpool | Windows Server 2003 R2 (32-bit) | x64 | OK | OK | OK | |||||||||||
| pitt | Mac OS X (10.4.10) | i386 | OK | OK | OK | |||||||||||
| Package 34/234 | Hostname | OS | Arch | BUILD | CHECK | BUILD BIN | ||||||||||
| bioDist 1.10.0 Biocore Team c/o BioC user list Last Changed Date: 2007-10-02 17:41:09 -0700 Last Changed Rev: 27709 | lamb1 | Linux (SUSE 10.1) | x86_64 | OK | OK | |||||||||||
| wellington | Linux (SUSE 9.2) | i686 | OK | OK | ||||||||||||
| liverpool | Windows Server 2003 R2 (32-bit) | x64 | OK | OK | OK | |||||||||||
| pitt | Mac OS X (10.4.10) | i386 | OK | OK | OK | |||||||||||
| Package 35/234 | Hostname | OS | Arch | BUILD | CHECK | BUILD BIN | ||||||||||
| biomaRt 1.12.0 Steffen Durinck Last Changed Date: 2007-10-02 17:41:09 -0700 Last Changed Rev: 27709 | lamb1 | Linux (SUSE 10.1) | x86_64 | OK | OK | |||||||||||
| wellington | Linux (SUSE 9.2) | i686 | OK | OK | ||||||||||||
| liverpool | Windows Server 2003 R2 (32-bit) | x64 | OK | WARNINGS | OK | |||||||||||
| pitt | Mac OS X (10.4.10) | i386 | OK | OK | OK | |||||||||||
| Package 36/234 | Hostname | OS | Arch | BUILD | CHECK | BUILD BIN | ||||||||||
| BioMVCClass 1.6.0 Elizabeth Whalen Last Changed Date: 2007-10-02 17:41:09 -0700 Last Changed Rev: 27709 | lamb1 | Linux (SUSE 10.1) | x86_64 | OK | OK | |||||||||||
| wellington | Linux (SUSE 9.2) | i686 | OK | OK | ||||||||||||
| liverpool | Windows Server 2003 R2 (32-bit) | x64 | OK | OK | OK | |||||||||||
| pitt | Mac OS X (10.4.10) | i386 | OK | OK | OK | |||||||||||
| Package 37/234 | Hostname | OS | Arch | BUILD | CHECK | BUILD BIN | ||||||||||
| Biostrings 2.6.0 H. Pages Last Changed Date: 2007-10-02 17:41:09 -0700 Last Changed Rev: 27709 | lamb1 | Linux (SUSE 10.1) | x86_64 | OK | OK | |||||||||||
| wellington | Linux (SUSE 9.2) | i686 | OK | OK | ||||||||||||
| liverpool | Windows Server 2003 R2 (32-bit) | x64 | OK | OK | OK | |||||||||||
| pitt | Mac OS X (10.4.10) | i386 | OK | OK | OK | |||||||||||
| Package 38/234 | Hostname | OS | Arch | BUILD | CHECK | BUILD BIN | ||||||||||
| bridge 1.10.0 Raphael Gottardo Last Changed Date: 2007-10-02 17:41:09 -0700 Last Changed Rev: 27709 | lamb1 | Linux (SUSE 10.1) | x86_64 | OK | OK | |||||||||||
| wellington | Linux (SUSE 9.2) | i686 | OK | OK | ||||||||||||
| liverpool | Windows Server 2003 R2 (32-bit) | x64 | OK | OK | OK | |||||||||||
| pitt | Mac OS X (10.4.10) | i386 | OK | OK | OK | |||||||||||
| Package 39/234 | Hostname | OS | Arch | BUILD | CHECK | BUILD BIN | ||||||||||
| BSgenome 1.6.0 H. Pages Last Changed Date: 2007-10-02 17:41:09 -0700 Last Changed Rev: 27709 | lamb1 | Linux (SUSE 10.1) | x86_64 | OK | OK | |||||||||||
| wellington | Linux (SUSE 9.2) | i686 | OK | OK | ||||||||||||
| liverpool | Windows Server 2003 R2 (32-bit) | x64 | OK | OK | OK | |||||||||||
| pitt | Mac OS X (10.4.10) | i386 | OK | OK | OK | |||||||||||
| Package 40/234 | Hostname | OS | Arch | BUILD | CHECK | BUILD BIN | ||||||||||
| BufferedMatrix 1.2.0 Benjamin Milo Bolstad Last Changed Date: 2007-10-02 17:41:09 -0700 Last Changed Rev: 27709 | lamb1 | Linux (SUSE 10.1) | x86_64 | OK | OK | |||||||||||
| wellington | Linux (SUSE 9.2) | i686 | OK | OK | ||||||||||||
| liverpool | Windows Server 2003 R2 (32-bit) | x64 | OK | OK | OK | |||||||||||
| pitt | Mac OS X (10.4.10) | i386 | OK | OK | OK | |||||||||||
| Package 41/234 | Hostname | OS | Arch | BUILD | CHECK | BUILD BIN | ||||||||||
| BufferedMatrixMethods 1.2.0 B. M. Bolstad Last Changed Date: 2007-10-02 17:41:09 -0700 Last Changed Rev: 27709 | lamb1 | Linux (SUSE 10.1) | x86_64 | OK | OK | |||||||||||
| wellington | Linux (SUSE 9.2) | i686 | OK | OK | ||||||||||||
| liverpool | Windows Server 2003 R2 (32-bit) | x64 | OK | OK | OK | |||||||||||
| pitt | Mac OS X (10.4.10) | i386 | OK | OK | OK | |||||||||||
| Package 42/234 | Hostname | OS | Arch | BUILD | CHECK | BUILD BIN | ||||||||||
| CALIB 1.4.0 Hui Zhao Last Changed Date: 2007-10-02 17:41:09 -0700 Last Changed Rev: 27709 | lamb1 | Linux (SUSE 10.1) | x86_64 | OK | OK | |||||||||||
| wellington | Linux (SUSE 9.2) | i686 | OK | OK | ||||||||||||
| liverpool | Windows Server 2003 R2 (32-bit) | x64 | OK | OK | OK | |||||||||||
| pitt | Mac OS X (10.4.10) | i386 | OK | OK | OK | |||||||||||
| Package 43/234 | Hostname | OS | Arch | BUILD | CHECK | BUILD BIN | ||||||||||
| Category 2.4.0 Robert Gentleman Last Changed Date: 2007-10-02 17:41:09 -0700 Last Changed Rev: 27709 | lamb1 | Linux (SUSE 10.1) | x86_64 | OK | OK | |||||||||||
| wellington | Linux (SUSE 9.2) | i686 | OK | OK | ||||||||||||
| liverpool | Windows Server 2003 R2 (32-bit) | x64 | OK | OK | OK | |||||||||||
| pitt | Mac OS X (10.4.10) | i386 | OK | OK | OK | |||||||||||
| Package 44/234 | Hostname | OS | Arch | BUILD | CHECK | BUILD BIN | ||||||||||
| cellHTS 1.8.0 Ligia Bras Last Changed Date: 2007-10-02 17:41:09 -0700 Last Changed Rev: 27709 | lamb1 | Linux (SUSE 10.1) | x86_64 | OK | OK | |||||||||||
| wellington | Linux (SUSE 9.2) | i686 | OK | OK | ||||||||||||
| liverpool | Windows Server 2003 R2 (32-bit) | x64 | OK | OK | OK | |||||||||||
| pitt | Mac OS X (10.4.10) | i386 | OK | OK | OK | |||||||||||
| Package 45/234 | Hostname | OS | Arch | BUILD | CHECK | BUILD BIN | ||||||||||
| cellHTS2 2.2.0 Ligia Bras Last Changed Date: 2007-10-02 17:41:09 -0700 Last Changed Rev: 27709 | lamb1 | Linux (SUSE 10.1) | x86_64 | OK | OK | |||||||||||
| wellington | Linux (SUSE 9.2) | i686 | OK | OK | ||||||||||||
| liverpool | Windows Server 2003 R2 (32-bit) | x64 | OK | OK | OK | |||||||||||
| pitt | Mac OS X (10.4.10) | i386 | OK | OK | OK | |||||||||||
| Package 46/234 | Hostname | OS | Arch | BUILD | CHECK | BUILD BIN | ||||||||||
| CGHcall 1.0.0 Sjoerd Vosse Last Changed Date: 2007-10-02 17:41:09 -0700 Last Changed Rev: 27709 | lamb1 | Linux (SUSE 10.1) | x86_64 | OK | OK | |||||||||||
| wellington | Linux (SUSE 9.2) | i686 | OK | OK | ||||||||||||
| liverpool | Windows Server 2003 R2 (32-bit) | x64 | OK | OK | OK | |||||||||||
| pitt | Mac OS X (10.4.10) | i386 | OK | OK | OK | |||||||||||
| Package 47/234 | Hostname | OS | Arch | BUILD | CHECK | BUILD BIN | ||||||||||
| cghMCR 1.8.0 J. Zhang Last Changed Date: 2007-10-02 17:41:09 -0700 Last Changed Rev: 27709 | lamb1 | Linux (SUSE 10.1) | x86_64 | OK | OK | |||||||||||
| wellington | Linux (SUSE 9.2) | i686 | OK | OK | ||||||||||||
| liverpool | Windows Server 2003 R2 (32-bit) | x64 | OK | OK | OK | |||||||||||
| pitt | Mac OS X (10.4.10) | i386 | OK | OK | OK | |||||||||||
| Package 48/234 | Hostname | OS | Arch | BUILD | CHECK | BUILD BIN | ||||||||||
| ChromoViz 1.10.0 Jihoon Kim Last Changed Date: 2007-10-02 17:41:09 -0700 Last Changed Rev: 27709 | lamb1 | Linux (SUSE 10.1) | x86_64 | OK | WARNINGS | |||||||||||
| wellington | Linux (SUSE 9.2) | i686 | OK | WARNINGS | ||||||||||||
| liverpool | Windows Server 2003 R2 (32-bit) | x64 | OK | WARNINGS | OK | |||||||||||
| pitt | Mac OS X (10.4.10) | i386 | OK | WARNINGS | OK | |||||||||||
| Package 49/234 | Hostname | OS | Arch | BUILD | CHECK | BUILD BIN | ||||||||||
| clusterStab 1.10.0 James W. MacDonald Last Changed Date: 2007-10-02 17:41:09 -0700 Last Changed Rev: 27709 | lamb1 | Linux (SUSE 10.1) | x86_64 | OK | OK | |||||||||||
| wellington | Linux (SUSE 9.2) | i686 | OK | OK | ||||||||||||
| liverpool | Windows Server 2003 R2 (32-bit) | x64 | OK | OK | OK | |||||||||||
| pitt | Mac OS X (10.4.10) | i386 | OK | OK | OK | |||||||||||
| Package 50/234 | Hostname | OS | Arch | BUILD | CHECK | BUILD BIN | ||||||||||
| CoCiteStats 1.10.0 R. Gentleman Last Changed Date: 2007-10-02 17:41:09 -0700 Last Changed Rev: 27709 | lamb1 | Linux (SUSE 10.1) | x86_64 | OK | OK | |||||||||||
| wellington | Linux (SUSE 9.2) | i686 | OK | OK | ||||||||||||
| liverpool | Windows Server 2003 R2 (32-bit) | x64 | OK | OK | OK | |||||||||||
| pitt | Mac OS X (10.4.10) | i386 | OK | OK | OK | |||||||||||
| Package 51/234 | Hostname | OS | Arch | BUILD | CHECK | BUILD BIN | ||||||||||
| codelink 1.6.0 Diego Diez Last Changed Date: 2007-10-02 17:41:09 -0700 Last Changed Rev: 27709 | lamb1 | Linux (SUSE 10.1) | x86_64 | OK | OK | |||||||||||
| wellington | Linux (SUSE 9.2) | i686 | OK | OK | ||||||||||||
| liverpool | Windows Server 2003 R2 (32-bit) | x64 | OK | OK | OK | |||||||||||
| pitt | Mac OS X (10.4.10) | i386 | OK | OK | OK | |||||||||||
| Package 52/234 | Hostname | OS | Arch | BUILD | CHECK | BUILD BIN | ||||||||||
| convert 1.14.0 Yee Hwa (Jean) Yang Last Changed Date: 2007-10-02 17:41:09 -0700 Last Changed Rev: 27709 | lamb1 | Linux (SUSE 10.1) | x86_64 | OK | OK | |||||||||||
| wellington | Linux (SUSE 9.2) | i686 | OK | OK | ||||||||||||
| liverpool | Windows Server 2003 R2 (32-bit) | x64 | OK | OK | OK | |||||||||||
| pitt | Mac OS X (10.4.10) | i386 | OK | OK | OK | |||||||||||
| Package 53/234 | Hostname | OS | Arch | BUILD | CHECK | BUILD BIN | ||||||||||
| copa 1.6.0 James W. MacDonald Last Changed Date: 2007-10-02 17:41:09 -0700 Last Changed Rev: 27709 | lamb1 | Linux (SUSE 10.1) | x86_64 | OK | OK | |||||||||||
| wellington | Linux (SUSE 9.2) | i686 | OK | OK | ||||||||||||
| liverpool | Windows Server 2003 R2 (32-bit) | x64 | OK | OK | OK | |||||||||||
| pitt | Mac OS X (10.4.10) | i386 | OK | OK | OK | |||||||||||
| Package 54/234 | Hostname | OS | Arch | BUILD | CHECK | BUILD BIN | ||||||||||
| CORREP 1.4.0 Dongxiao Zhu Last Changed Date: 2007-10-02 17:41:09 -0700 Last Changed Rev: 27709 | lamb1 | Linux (SUSE 10.1) | x86_64 | OK | OK | |||||||||||
| wellington | Linux (SUSE 9.2) | i686 | OK | OK | ||||||||||||
| liverpool | Windows Server 2003 R2 (32-bit) | x64 | OK | OK | OK | |||||||||||
| pitt | Mac OS X (10.4.10) | i386 | OK | OK | OK | |||||||||||
| Package 55/234 | Hostname | OS | Arch | BUILD | CHECK | BUILD BIN | ||||||||||
| cosmo 1.4.0 Oliver Bembom Last Changed Date: 2007-10-02 17:41:09 -0700 Last Changed Rev: 27709 | lamb1 | Linux (SUSE 10.1) | x86_64 | OK | OK | |||||||||||
| wellington | Linux (SUSE 9.2) | i686 | OK | OK | ||||||||||||
| liverpool | Windows Server 2003 R2 (32-bit) | x64 | OK | OK | OK | |||||||||||
| pitt | Mac OS X (10.4.10) | i386 | OK | OK | OK | |||||||||||
| Package 56/234 | Hostname | OS | Arch | BUILD | CHECK | BUILD BIN | ||||||||||
| cosmoGUI 1.4.0 Oliver Bembom Last Changed Date: 2007-10-02 17:41:09 -0700 Last Changed Rev: 27709 | lamb1 | Linux (SUSE 10.1) | x86_64 | OK | OK | |||||||||||
| wellington | Linux (SUSE 9.2) | i686 | OK | OK | ||||||||||||
| liverpool | Windows Server 2003 R2 (32-bit) | x64 | OK | OK | OK | |||||||||||
| pitt | Mac OS X (10.4.10) | i386 | OK | OK | OK | |||||||||||
| Package 57/234 | Hostname | OS | Arch | BUILD | CHECK | BUILD BIN | ||||||||||
| ctc 1.12.0 Antoine Lucas Last Changed Date: 2007-10-02 17:41:09 -0700 Last Changed Rev: 27709 | lamb1 | Linux (SUSE 10.1) | x86_64 | OK | OK | |||||||||||
| wellington | Linux (SUSE 9.2) | i686 | OK | OK | ||||||||||||
| liverpool | Windows Server 2003 R2 (32-bit) | x64 | OK | OK | OK | |||||||||||
| pitt | Mac OS X (10.4.10) | i386 | OK | OK | OK | |||||||||||
| Package 58/234 | Hostname | OS | Arch | BUILD | CHECK | BUILD BIN | ||||||||||
| daMA 1.10.0 Jobst Landgrebe Last Changed Date: 2007-10-02 17:41:09 -0700 Last Changed Rev: 27709 | lamb1 | Linux (SUSE 10.1) | x86_64 | OK | OK | |||||||||||
| wellington | Linux (SUSE 9.2) | i686 | OK | OK | ||||||||||||
| liverpool | Windows Server 2003 R2 (32-bit) | x64 | OK | OK | OK | |||||||||||
| pitt | Mac OS X (10.4.10) | i386 | OK | OK | OK | |||||||||||
| Package 59/234 | Hostname | OS | Arch | BUILD | CHECK | BUILD BIN | ||||||||||
| DEDS 1.12.0 Yuanyuan Xiao Last Changed Date: 2007-10-02 17:41:09 -0700 Last Changed Rev: 27709 | lamb1 | Linux (SUSE 10.1) | x86_64 | OK | WARNINGS | |||||||||||
| wellington | Linux (SUSE 9.2) | i686 | OK | OK | ||||||||||||
| liverpool | Windows Server 2003 R2 (32-bit) | x64 | OK | WARNINGS | OK | |||||||||||
| pitt | Mac OS X (10.4.10) | i386 | OK | WARNINGS | OK | |||||||||||
| Package 60/234 | Hostname | OS | Arch | BUILD | CHECK | BUILD BIN | ||||||||||
| diffGeneAnalysis 1.20.0 Choudary Jagarlamudi Last Changed Date: 2007-10-02 17:41:09 -0700 Last Changed Rev: 27709 | lamb1 | Linux (SUSE 10.1) | x86_64 | OK | OK | |||||||||||
| wellington | Linux (SUSE 9.2) | i686 | OK | OK | ||||||||||||
| liverpool | Windows Server 2003 R2 (32-bit) | x64 | OK | OK | OK | |||||||||||
| pitt | Mac OS X (10.4.10) | i386 | OK | OK | OK | |||||||||||
| Package 61/234 | Hostname | OS | Arch | BUILD | CHECK | BUILD BIN | ||||||||||
| DNAcopy 1.12.0 Venkatraman E. Seshan Last Changed Date: 2007-10-02 17:41:09 -0700 Last Changed Rev: 27709 | lamb1 | Linux (SUSE 10.1) | x86_64 | OK | OK | |||||||||||
| wellington | Linux (SUSE 9.2) | i686 | OK | OK | ||||||||||||
| liverpool | Windows Server 2003 R2 (32-bit) | x64 | OK | OK | OK | |||||||||||
| pitt | Mac OS X (10.4.10) | i386 | OK | OK | OK | |||||||||||
| Package 62/234 | Hostname | OS | Arch | BUILD | CHECK | BUILD BIN | ||||||||||
| DynDoc 1.16.0 Biocore Team c/o BioC user list Last Changed Date: 2007-10-02 17:41:09 -0700 Last Changed Rev: 27709 | lamb1 | Linux (SUSE 10.1) | x86_64 | OK | OK | |||||||||||
| wellington | Linux (SUSE 9.2) | i686 | OK | OK | ||||||||||||
| liverpool | Windows Server 2003 R2 (32-bit) | x64 | OK | OK | OK | |||||||||||
| pitt | Mac OS X (10.4.10) | i386 | OK | OK | OK | |||||||||||
| Package 63/234 | Hostname | OS | Arch | BUILD | CHECK | BUILD BIN | ||||||||||
| EBarrays 2.2.0 Ming Yuan Last Changed Date: 2007-10-02 17:41:09 -0700 Last Changed Rev: 27709 | lamb1 | Linux (SUSE 10.1) | x86_64 | OK | OK | |||||||||||
| wellington | Linux (SUSE 9.2) | i686 | OK | OK | ||||||||||||
| liverpool | Windows Server 2003 R2 (32-bit) | x64 | OK | OK | OK | |||||||||||
| pitt | Mac OS X (10.4.10) | i386 | OK | OK | OK | |||||||||||
| Package 64/234 | Hostname | OS | Arch | BUILD | CHECK | BUILD BIN | ||||||||||
| EBImage 2.2.0 Oleg Sklyar Last Changed Date: 2007-10-02 17:41:09 -0700 Last Changed Rev: 27709 | lamb1 | Linux (SUSE 10.1) | x86_64 | OK | OK | |||||||||||
| wellington | Linux (SUSE 9.2) | i686 | OK | OK | ||||||||||||
| liverpool | Windows Server 2003 R2 (32-bit) | x64 | OK | WARNINGS | OK | |||||||||||
| pitt | Mac OS X (10.4.10) | i386 | OK | OK | OK | |||||||||||
| Package 65/234 | Hostname | OS | Arch | BUILD | CHECK | BUILD BIN | ||||||||||
| ecolitk 1.10.0 Laurent Last Changed Date: 2007-10-02 17:41:09 -0700 Last Changed Rev: 27709 | lamb1 | Linux (SUSE 10.1) | x86_64 | OK | WARNINGS | |||||||||||
| wellington | Linux (SUSE 9.2) | i686 | OK | WARNINGS | ||||||||||||
| liverpool | Windows Server 2003 R2 (32-bit) | x64 | OK | WARNINGS | OK | |||||||||||
| pitt | Mac OS X (10.4.10) | i386 | OK | WARNINGS | OK | |||||||||||
| Package 66/234 | Hostname | OS | Arch | BUILD | CHECK | BUILD BIN | ||||||||||
| edd 1.16.0 Vince Carey Last Changed Date: 2007-10-02 17:41:09 -0700 Last Changed Rev: 27709 | lamb1 | Linux (SUSE 10.1) | x86_64 | OK | OK | |||||||||||
| wellington | Linux (SUSE 9.2) | i686 | OK | OK | ||||||||||||
| liverpool | Windows Server 2003 R2 (32-bit) | x64 | OK | OK | OK | |||||||||||
| pitt | Mac OS X (10.4.10) | i386 | OK | OK | OK | |||||||||||
| Package 67/234 | Hostname | OS | Arch | BUILD | CHECK | BUILD BIN | ||||||||||
| exonmap 1.2.01 Michal Okoniewski Last Changed Date: 2007-10-05 12:38:25 -0700 Last Changed Rev: 27788 | lamb1 | Linux (SUSE 10.1) | x86_64 | OK | OK | |||||||||||
| wellington | Linux (SUSE 9.2) | i686 | N O T S U P P O R T E D | |||||||||||||
| liverpool | Windows Server 2003 R2 (32-bit) | x64 | OK | ERROR | ERROR | |||||||||||
| pitt | Mac OS X (10.4.10) | i386 | OK | OK | OK | |||||||||||
| Package 68/234 | Hostname | OS | Arch | BUILD | CHECK | BUILD BIN | ||||||||||
| explorase 1.2.0 Michael Lawrence Last Changed Date: 2007-10-02 17:41:09 -0700 Last Changed Rev: 27709 | lamb1 | Linux (SUSE 10.1) | x86_64 | OK | OK | |||||||||||
| wellington | Linux (SUSE 9.2) | i686 | N O T S U P P O R T E D | |||||||||||||
| liverpool | Windows Server 2003 R2 (32-bit) | x64 | ERROR | skipped | skipped | |||||||||||
| pitt | Mac OS X (10.4.10) | i386 | OK | WARNINGS | OK | |||||||||||
| Package 69/234 | Hostname | OS | Arch | BUILD | CHECK | BUILD BIN | ||||||||||
| factDesign 1.12.0 Denise Scholtens Last Changed Date: 2007-10-02 17:41:09 -0700 Last Changed Rev: 27709 | lamb1 | Linux (SUSE 10.1) | x86_64 | OK | OK | |||||||||||
| wellington | Linux (SUSE 9.2) | i686 | OK | OK | ||||||||||||
| liverpool | Windows Server 2003 R2 (32-bit) | x64 | OK | OK | OK | |||||||||||
| pitt | Mac OS X (10.4.10) | i386 | OK | OK | OK | |||||||||||
| Package 70/234 | Hostname | OS | Arch | BUILD | CHECK | BUILD BIN | ||||||||||
| fbat 1.2.0 Weiliang Qiu Last Changed Date: 2007-10-02 17:41:09 -0700 Last Changed Rev: 27709 | lamb1 | Linux (SUSE 10.1) | x86_64 | OK | OK | |||||||||||
| wellington | Linux (SUSE 9.2) | i686 | OK | OK | ||||||||||||
| liverpool | Windows Server 2003 R2 (32-bit) | x64 | OK | OK | OK | |||||||||||
| pitt | Mac OS X (10.4.10) | i386 | OK | OK | OK | |||||||||||
| Package 71/234 | Hostname | OS | Arch | BUILD | CHECK | BUILD BIN | ||||||||||
| fdrame 1.10.0 Effi Kenigsberg Last Changed Date: 2007-10-02 17:41:09 -0700 Last Changed Rev: 27709 | lamb1 | Linux (SUSE 10.1) | x86_64 | OK | WARNINGS | |||||||||||
| wellington | Linux (SUSE 9.2) | i686 | OK | WARNINGS | ||||||||||||
| liverpool | Windows Server 2003 R2 (32-bit) | x64 | OK | WARNINGS | OK | |||||||||||
| pitt | Mac OS X (10.4.10) | i386 | OK | WARNINGS | OK | |||||||||||
| Package 72/234 | Hostname | OS | Arch | BUILD | CHECK | BUILD BIN | ||||||||||
| flowCore 1.4.0 Nolwenn Le Meur Last Changed Date: 2007-10-02 17:41:09 -0700 Last Changed Rev: 27709 | lamb1 | Linux (SUSE 10.1) | x86_64 | OK | OK | |||||||||||
| wellington | Linux (SUSE 9.2) | i686 | OK | OK | ||||||||||||
| liverpool | Windows Server 2003 R2 (32-bit) | x64 | OK | OK | OK | |||||||||||
| pitt | Mac OS X (10.4.10) | i386 | OK | OK | OK | |||||||||||
| Package 73/234 | Hostname | OS | Arch | BUILD | CHECK | BUILD BIN | ||||||||||
| flowViz 1.2.0 Florian Hahne Last Changed Date: 2007-10-02 17:41:09 -0700 Last Changed Rev: 27709 | lamb1 | Linux (SUSE 10.1) | x86_64 | OK | OK | |||||||||||
| wellington | Linux (SUSE 9.2) | i686 | OK | OK | ||||||||||||
| liverpool | Windows Server 2003 R2 (32-bit) | x64 | OK | OK | OK | |||||||||||
| pitt | Mac OS X (10.4.10) | i386 | OK | OK | OK | |||||||||||
| Package 74/234 | Hostname | OS | Arch | BUILD | CHECK | BUILD BIN | ||||||||||
| gaggle 1.6.0 Paul Shannon Last Changed Date: 2007-10-02 17:41:09 -0700 Last Changed Rev: 27709 | lamb1 | Linux (SUSE 10.1) | x86_64 | OK | OK | |||||||||||
| wellington | Linux (SUSE 9.2) | i686 | OK | OK | ||||||||||||
| liverpool | Windows Server 2003 R2 (32-bit) | x64 | OK | OK | OK | |||||||||||
| pitt | Mac OS X (10.4.10) | i386 | OK | OK | OK | |||||||||||
| Package 75/234 | Hostname | OS | Arch | BUILD | CHECK | BUILD BIN | ||||||||||
| gcrma 2.10.0 Z. Wu Last Changed Date: 2007-10-02 17:41:09 -0700 Last Changed Rev: 27709 | lamb1 | Linux (SUSE 10.1) | x86_64 | OK | OK | |||||||||||
| wellington | Linux (SUSE 9.2) | i686 | OK | OK | ||||||||||||
| liverpool | Windows Server 2003 R2 (32-bit) | x64 | OK | OK | OK | |||||||||||
| pitt | Mac OS X (10.4.10) | i386 | OK | OK | OK | |||||||||||
| Package 76/234 | Hostname | OS | Arch | BUILD | CHECK | BUILD BIN | ||||||||||
| genArise 1.14.0 IFC Development Team Last Changed Date: 2007-10-02 17:41:09 -0700 Last Changed Rev: 27709 | lamb1 | Linux (SUSE 10.1) | x86_64 | OK | OK | |||||||||||
| wellington | Linux (SUSE 9.2) | i686 | OK | OK | ||||||||||||
| liverpool | Windows Server 2003 R2 (32-bit) | x64 | OK | OK | OK | |||||||||||
| pitt | Mac OS X (10.4.10) | i386 | OK | OK | OK | |||||||||||
| Package 77/234 | Hostname | OS | Arch | BUILD | CHECK | BUILD BIN | ||||||||||
| genefilter 1.16.0 Biocore Team c/o BioC user list Last Changed Date: 2007-10-02 17:41:09 -0700 Last Changed Rev: 27709 | lamb1 | Linux (SUSE 10.1) | x86_64 | OK | OK | |||||||||||
| wellington | Linux (SUSE 9.2) | i686 | OK | OK | ||||||||||||
| liverpool | Windows Server 2003 R2 (32-bit) | x64 | OK | OK | OK | |||||||||||
| pitt | Mac OS X (10.4.10) | i386 | OK | OK | OK | |||||||||||
| Package 78/234 | Hostname | OS | Arch | BUILD | CHECK | BUILD BIN | ||||||||||
| GeneMeta 1.10.0 Biocore Team c/o BioC user list Last Changed Date: 2007-10-02 17:41:09 -0700 Last Changed Rev: 27709 | lamb1 | Linux (SUSE 10.1) | x86_64 | OK | OK | |||||||||||
| wellington | Linux (SUSE 9.2) | i686 | OK | OK | ||||||||||||
| liverpool | Windows Server 2003 R2 (32-bit) | x64 | OK | OK | OK | |||||||||||
| pitt | Mac OS X (10.4.10) | i386 | OK | OK | OK | |||||||||||
| Package 79/234 | Hostname | OS | Arch | BUILD | CHECK | BUILD BIN | ||||||||||
| geneplotter 1.16.0 Biocore Team c/o BioC user list Last Changed Date: 2007-10-02 17:41:09 -0700 Last Changed Rev: 27709 | lamb1 | Linux (SUSE 10.1) | x86_64 | OK | OK | |||||||||||
| wellington | Linux (SUSE 9.2) | i686 | OK | OK | ||||||||||||
| liverpool | Windows Server 2003 R2 (32-bit) | x64 | OK | OK | OK | |||||||||||
| pitt | Mac OS X (10.4.10) | i386 | OK | OK | OK | |||||||||||
| Package 80/234 | Hostname | OS | Arch | BUILD | CHECK | BUILD BIN | ||||||||||
| GeneR 2.8.0 Y. d'Aubenton-Carafa Last Changed Date: 2007-10-02 17:41:09 -0700 Last Changed Rev: 27709 | lamb1 | Linux (SUSE 10.1) | x86_64 | OK | OK | |||||||||||
| wellington | Linux (SUSE 9.2) | i686 | OK | OK | ||||||||||||
| liverpool | Windows Server 2003 R2 (32-bit) | x64 | OK | OK | OK | |||||||||||
| pitt | Mac OS X (10.4.10) | i386 | OK | OK | OK | |||||||||||
| Package 81/234 | Hostname | OS | Arch | BUILD | CHECK | BUILD BIN | ||||||||||
| geneRecommender 1.10.0 Greg Hather Last Changed Date: 2007-10-02 17:41:09 -0700 Last Changed Rev: 27709 | lamb1 | Linux (SUSE 10.1) | x86_64 | OK | OK | |||||||||||
| wellington | Linux (SUSE 9.2) | i686 | OK | OK | ||||||||||||
| liverpool | Windows Server 2003 R2 (32-bit) | x64 | OK | OK | OK | |||||||||||
| pitt | Mac OS X (10.4.10) | i386 | OK | OK | OK | |||||||||||
| Package 82/234 | Hostname | OS | Arch | BUILD | CHECK | BUILD BIN | ||||||||||
| GeneSpring 2.12.0 Thon de Boer Last Changed Date: 2007-10-02 17:41:09 -0700 Last Changed Rev: 27709 | lamb1 | Linux (SUSE 10.1) | x86_64 | OK | OK | |||||||||||
| wellington | Linux (SUSE 9.2) | i686 | OK | OK | ||||||||||||
| liverpool | Windows Server 2003 R2 (32-bit) | x64 | OK | OK | OK | |||||||||||
| pitt | Mac OS X (10.4.10) | i386 | OK | OK | OK | |||||||||||
| Package 83/234 | Hostname | OS | Arch | BUILD | CHECK | BUILD BIN | ||||||||||
| GeneticsBase 1.2.0 Gregory Warnes Last Changed Date: 2007-10-02 17:41:09 -0700 Last Changed Rev: 27709 | lamb1 | Linux (SUSE 10.1) | x86_64 | OK | OK | |||||||||||
| wellington | Linux (SUSE 9.2) | i686 | OK | OK | ||||||||||||
| liverpool | Windows Server 2003 R2 (32-bit) | x64 | OK | OK | OK | |||||||||||
| pitt | Mac OS X (10.4.10) | i386 | OK | OK | OK | |||||||||||
| Package 84/234 | Hostname | OS | Arch | BUILD | CHECK | BUILD BIN | ||||||||||
| GeneticsDesign 1.4.0 Weiliang Qiu Last Changed Date: 2007-10-02 17:41:09 -0700 Last Changed Rev: 27709 | lamb1 | Linux (SUSE 10.1) | x86_64 | OK | OK | |||||||||||
| wellington | Linux (SUSE 9.2) | i686 | OK | OK | ||||||||||||
| liverpool | Windows Server 2003 R2 (32-bit) | x64 | OK | OK | OK | |||||||||||
| pitt | Mac OS X (10.4.10) | i386 | OK | OK | OK | |||||||||||
| Package 85/234 | Hostname | OS | Arch | BUILD | CHECK | BUILD BIN | ||||||||||
| GeneTraffic 1.10.0 Daniel Iordan Last Changed Date: 2007-10-02 17:41:09 -0700 Last Changed Rev: 27709 | lamb1 | Linux (SUSE 10.1) | x86_64 | OK | OK | |||||||||||
| wellington | Linux (SUSE 9.2) | i686 | OK | OK | ||||||||||||
| liverpool | Windows Server 2003 R2 (32-bit) | x64 | OK | OK | OK | |||||||||||
| pitt | Mac OS X (10.4.10) | i386 | OK | OK | OK | |||||||||||
| Package 86/234 | Hostname | OS | Arch | BUILD | CHECK | BUILD BIN | ||||||||||
| GeneTS 2.16.0 Korbinian Strimmer Last Changed Date: 2007-10-02 17:41:09 -0700 Last Changed Rev: 27709 | lamb1 | Linux (SUSE 10.1) | x86_64 | OK | OK | |||||||||||
| wellington | Linux (SUSE 9.2) | i686 | OK | OK | ||||||||||||
| liverpool | Windows Server 2003 R2 (32-bit) | x64 | OK | OK | OK | |||||||||||
| pitt | Mac OS X (10.4.10) | i386 | OK | OK | OK | |||||||||||
| Package 87/234 | Hostname | OS | Arch | BUILD | CHECK | BUILD BIN | ||||||||||
| GEOquery 2.2.0 Sean Davis Last Changed Date: 2007-10-02 17:41:09 -0700 Last Changed Rev: 27709 | lamb1 | Linux (SUSE 10.1) | x86_64 | OK | OK | |||||||||||
| wellington | Linux (SUSE 9.2) | i686 | ERROR | skipped | ||||||||||||
| liverpool | Windows Server 2003 R2 (32-bit) | x64 | OK | OK | OK | |||||||||||
| pitt | Mac OS X (10.4.10) | i386 | ERROR | skipped | skipped | |||||||||||
| Package 88/234 | Hostname | OS | Arch | BUILD | CHECK | BUILD BIN | ||||||||||
| GGtools 1.6.0 Vince Carey Last Changed Date: 2007-10-02 17:41:09 -0700 Last Changed Rev: 27709 | lamb1 | Linux (SUSE 10.1) | x86_64 | OK | OK | |||||||||||
| wellington | Linux (SUSE 9.2) | i686 | OK | OK | ||||||||||||
| liverpool | Windows Server 2003 R2 (32-bit) | x64 | OK | TIMEOUT | OK | |||||||||||
| pitt | Mac OS X (10.4.10) | i386 | OK | OK | OK | |||||||||||
| Package 89/234 | Hostname | OS | Arch | BUILD | CHECK | BUILD BIN | ||||||||||
| GLAD 1.12.0 Philippe Hupe Last Changed Date: 2007-10-02 17:41:09 -0700 Last Changed Rev: 27709 | lamb1 | Linux (SUSE 10.1) | x86_64 | OK | OK | |||||||||||
| wellington | Linux (SUSE 9.2) | i686 | OK | OK | ||||||||||||
| liverpool | Windows Server 2003 R2 (32-bit) | x64 | OK | OK | OK | |||||||||||
| pitt | Mac OS X (10.4.10) | i386 | OK | OK | OK | |||||||||||
| Package 90/234 | Hostname | OS | Arch | BUILD | CHECK | BUILD BIN | ||||||||||
| GlobalAncova 3.4.0 R. Meister Last Changed Date: 2007-10-02 17:41:09 -0700 Last Changed Rev: 27709 | lamb1 | Linux (SUSE 10.1) | x86_64 | OK | OK | |||||||||||
| wellington | Linux (SUSE 9.2) | i686 | OK | OK | ||||||||||||
| liverpool | Windows Server 2003 R2 (32-bit) | x64 | OK | OK | OK | |||||||||||
| pitt | Mac OS X (10.4.10) | i386 | OK | OK | OK | |||||||||||
| Package 91/234 | Hostname | OS | Arch | BUILD | CHECK | BUILD BIN | ||||||||||
| globaltest 4.8.0 Jelle Goeman Last Changed Date: 2007-10-02 17:41:09 -0700 Last Changed Rev: 27709 | lamb1 | Linux (SUSE 10.1) | x86_64 | OK | OK | |||||||||||
| wellington | Linux (SUSE 9.2) | i686 | OK | OK | ||||||||||||
| liverpool | Windows Server 2003 R2 (32-bit) | x64 | OK | OK | OK | |||||||||||
| pitt | Mac OS X (10.4.10) | i386 | OK | OK | OK | |||||||||||
| Package 92/234 | Hostname | OS | Arch | BUILD | CHECK | BUILD BIN | ||||||||||
| GOstats 2.4.0 Robert Gentleman Last Changed Date: 2007-10-02 17:41:09 -0700 Last Changed Rev: 27709 | lamb1 | Linux (SUSE 10.1) | x86_64 | OK | OK | |||||||||||
| wellington | Linux (SUSE 9.2) | i686 | OK | OK | ||||||||||||
| liverpool | Windows Server 2003 R2 (32-bit) | x64 | OK | OK | OK | |||||||||||
| pitt | Mac OS X (10.4.10) | i386 | OK | OK | OK | |||||||||||
| Package 93/234 | Hostname | OS | Arch | BUILD | CHECK | BUILD BIN | ||||||||||
| goTools 1.10.0 Agnes Paquet Last Changed Date: 2007-10-02 17:41:09 -0700 Last Changed Rev: 27709 | lamb1 | Linux (SUSE 10.1) | x86_64 | OK | TIMEOUT | |||||||||||
| wellington | Linux (SUSE 9.2) | i686 | OK | OK | ||||||||||||
| liverpool | Windows Server 2003 R2 (32-bit) | x64 | OK | OK | OK | |||||||||||
| pitt | Mac OS X (10.4.10) | i386 | OK | OK | OK | |||||||||||
| Package 94/234 | Hostname | OS | Arch | BUILD | CHECK | BUILD BIN | ||||||||||
| gpls 1.10.0 Biocore Team c/o BioC user list Last Changed Date: 2007-10-02 17:41:09 -0700 Last Changed Rev: 27709 | lamb1 | Linux (SUSE 10.1) | x86_64 | OK | OK | |||||||||||
| wellington | Linux (SUSE 9.2) | i686 | OK | OK | ||||||||||||
| liverpool | Windows Server 2003 R2 (32-bit) | x64 | OK | OK | OK | |||||||||||
| pitt | Mac OS X (10.4.10) | i386 | OK | OK | OK | |||||||||||
| Package 95/234 | Hostname | OS | Arch | BUILD | CHECK | BUILD BIN | ||||||||||
| graph 1.16.1 Robert Gentleman Last Changed Date: 2007-10-03 22:18:37 -0700 Last Changed Rev: 27742 | lamb1 | Linux (SUSE 10.1) | x86_64 | OK | OK | |||||||||||
| wellington | Linux (SUSE 9.2) | i686 | OK | OK | ||||||||||||
| liverpool | Windows Server 2003 R2 (32-bit) | x64 | OK | OK | OK | |||||||||||
| pitt | Mac OS X (10.4.10) | i386 | OK | OK | OK | |||||||||||
| Package 96/234 | Hostname | OS | Arch | BUILD | CHECK | BUILD BIN | ||||||||||
| GraphAT 1.10.0 Thomas LaFramboise Last Changed Date: 2007-10-02 17:41:09 -0700 Last Changed Rev: 27709 | lamb1 | Linux (SUSE 10.1) | x86_64 | OK | OK | |||||||||||
| wellington | Linux (SUSE 9.2) | i686 | N O T S U P P O R T E D | |||||||||||||
| liverpool | Windows Server 2003 R2 (32-bit) | x64 | OK | OK | OK | |||||||||||
| pitt | Mac OS X (10.4.10) | i386 | OK | OK | OK | |||||||||||
| Package 97/234 | Hostname | OS | Arch | BUILD | CHECK | BUILD BIN | ||||||||||
| GSEABase 1.0.1 Biocore Team c/o BioC user list Last Changed Date: 2007-10-05 12:41:11 -0700 Last Changed Rev: 27791 | lamb1 | Linux (SUSE 10.1) | x86_64 | OK | OK | |||||||||||
| wellington | Linux (SUSE 9.2) | i686 | OK | OK | ||||||||||||
| liverpool | Windows Server 2003 R2 (32-bit) | x64 | OK | WARNINGS | OK | |||||||||||
| pitt | Mac OS X (10.4.10) | i386 | OK | OK | OK | |||||||||||
| Package 98/234 | Hostname | OS | Arch | BUILD | CHECK | BUILD BIN | ||||||||||
| Harshlight 1.8.0 Maurizio Pellegrino Last Changed Date: 2007-10-02 17:41:09 -0700 Last Changed Rev: 27709 | lamb1 | Linux (SUSE 10.1) | x86_64 | OK | OK | |||||||||||
| wellington | Linux (SUSE 9.2) | i686 | OK | OK | ||||||||||||
| liverpool | Windows Server 2003 R2 (32-bit) | x64 | OK | OK | OK | |||||||||||
| pitt | Mac OS X (10.4.10) | i386 | OK | OK | OK | |||||||||||
| Package 99/234 | Hostname | OS | Arch | BUILD | CHECK | BUILD BIN | ||||||||||
| Heatplus 1.8.0 Alexander Ploner Last Changed Date: 2007-10-02 17:41:09 -0700 Last Changed Rev: 27709 | lamb1 | Linux (SUSE 10.1) | x86_64 | OK | OK | |||||||||||
| wellington | Linux (SUSE 9.2) | i686 | OK | OK | ||||||||||||
| liverpool | Windows Server 2003 R2 (32-bit) | x64 | OK | OK | OK | |||||||||||
| pitt | Mac OS X (10.4.10) | i386 | OK | OK | OK | |||||||||||
| Package 100/234 | Hostname | OS | Arch | BUILD | CHECK | BUILD BIN | ||||||||||
| HEM 1.10.0 HyungJun Cho Last Changed Date: 2007-10-02 17:41:09 -0700 Last Changed Rev: 27709 | lamb1 | Linux (SUSE 10.1) | x86_64 | OK | OK | |||||||||||
| wellington | Linux (SUSE 9.2) | i686 | OK | OK | ||||||||||||
| liverpool | Windows Server 2003 R2 (32-bit) | x64 | OK | OK | OK | |||||||||||
| pitt | Mac OS X (10.4.10) | i386 | OK | OK | OK | |||||||||||
| Package 101/234 | Hostname | OS | Arch | BUILD | CHECK | BUILD BIN | ||||||||||
| hexbin 1.12.0 Nicholas Lewin-Koh Last Changed Date: 2007-10-02 17:41:09 -0700 Last Changed Rev: 27709 | lamb1 | Linux (SUSE 10.1) | x86_64 | OK | OK | |||||||||||
| wellington | Linux (SUSE 9.2) | i686 | OK | OK | ||||||||||||
| liverpool | Windows Server 2003 R2 (32-bit) | x64 | OK | OK | OK | |||||||||||
| pitt | Mac OS X (10.4.10) | i386 | OK | OK | OK | |||||||||||
| Package 102/234 | Hostname | OS | Arch | BUILD | CHECK | BUILD BIN | ||||||||||
| hopach 1.12.0 Katherine S. Pollard Last Changed Date: 2007-10-02 17:41:09 -0700 Last Changed Rev: 27709 | lamb1 | Linux (SUSE 10.1) | x86_64 | OK | OK | |||||||||||
| wellington | Linux (SUSE 9.2) | i686 | OK | OK | ||||||||||||
| liverpool | Windows Server 2003 R2 (32-bit) | x64 | OK | OK | OK | |||||||||||
| pitt | Mac OS X (10.4.10) | i386 | OK | OK | OK | |||||||||||
| Package 103/234 | Hostname | OS | Arch | BUILD | CHECK | BUILD BIN | ||||||||||
| hypergraph 1.10.0 Robert Gentleman Last Changed Date: 2007-10-02 17:41:09 -0700 Last Changed Rev: 27709 | lamb1 | Linux (SUSE 10.1) | x86_64 | OK | OK | |||||||||||
| wellington | Linux (SUSE 9.2) | i686 | OK | OK | ||||||||||||
| liverpool | Windows Server 2003 R2 (32-bit) | x64 | OK | OK | OK | |||||||||||
| pitt | Mac OS X (10.4.10) | i386 | OK | OK | OK | |||||||||||
| Package 104/234 | Hostname | OS | Arch | BUILD | CHECK | BUILD BIN | ||||||||||
| Icens 1.10.0 Biocore Team c/o BioC user list Last Changed Date: 2007-10-02 17:41:09 -0700 Last Changed Rev: 27709 | lamb1 | Linux (SUSE 10.1) | x86_64 | OK | OK | |||||||||||
| wellington | Linux (SUSE 9.2) | i686 | OK | OK | ||||||||||||
| liverpool | Windows Server 2003 R2 (32-bit) | x64 | OK | OK | OK | |||||||||||
| pitt | Mac OS X (10.4.10) | i386 | OK | OK | OK | |||||||||||
| Package 105/234 | Hostname | OS | Arch | BUILD | CHECK | BUILD BIN | ||||||||||
| idiogram 1.12.0 Karl J. Dykema Last Changed Date: 2007-10-02 17:41:09 -0700 Last Changed Rev: 27709 | lamb1 | Linux (SUSE 10.1) | x86_64 | OK | OK | |||||||||||
| wellington | Linux (SUSE 9.2) | i686 | OK | OK | ||||||||||||
| liverpool | Windows Server 2003 R2 (32-bit) | x64 | OK | OK | OK | |||||||||||
| pitt | Mac OS X (10.4.10) | i386 | OK | OK | OK | |||||||||||
| Package 106/234 | Hostname | OS | Arch | BUILD | CHECK | BUILD BIN | ||||||||||
| impute 1.10.0 Balasubramanian Narasimhan Last Changed Date: 2007-10-02 17:41:09 -0700 Last Changed Rev: 27709 | lamb1 | Linux (SUSE 10.1) | x86_64 | OK | OK | |||||||||||
| wellington | Linux (SUSE 9.2) | i686 | OK | OK | ||||||||||||
| liverpool | Windows Server 2003 R2 (32-bit) | x64 | OK | OK | OK | |||||||||||
| pitt | Mac OS X (10.4.10) | i386 | OK | OK | OK | |||||||||||
| Package 107/234 | Hostname | OS | Arch | BUILD | CHECK | BUILD BIN | ||||||||||
| iSNetwork 1.8.0 Elizabeth Whalen Last Changed Date: 2007-10-02 17:41:09 -0700 Last Changed Rev: 27709 | lamb1 | Linux (SUSE 10.1) | x86_64 | OK | WARNINGS | |||||||||||
| wellington | Linux (SUSE 9.2) | i686 | ERROR | skipped | ||||||||||||
| liverpool | Windows Server 2003 R2 (32-bit) | x64 | N O T S U P P O R T E D | |||||||||||||
| pitt | Mac OS X (10.4.10) | i386 | OK | OK | OK | |||||||||||
| Package 108/234 | Hostname | OS | Arch | BUILD | CHECK | BUILD BIN | ||||||||||
| iSPlot 1.12.0 Elizabeth Whalen Last Changed Date: 2007-10-02 17:41:09 -0700 Last Changed Rev: 27709 | lamb1 | Linux (SUSE 10.1) | x86_64 | OK | OK | |||||||||||
| wellington | Linux (SUSE 9.2) | i686 | ERROR | skipped | ||||||||||||
| liverpool | Windows Server 2003 R2 (32-bit) | x64 | N O T S U P P O R T E D | |||||||||||||
| pitt | Mac OS X (10.4.10) | i386 | OK | OK | OK | |||||||||||
| Package 109/234 | Hostname | OS | Arch | BUILD | CHECK | BUILD BIN | ||||||||||
| keggorth 1.0.0 VJ Carey Last Changed Date: 2007-10-05 18:31:53 -0700 Last Changed Rev: 27814 | lamb1 | Linux (SUSE 10.1) | x86_64 | OK | OK | |||||||||||
| wellington | Linux (SUSE 9.2) | i686 | OK | OK | ||||||||||||
| liverpool | Windows Server 2003 R2 (32-bit) | x64 | OK | OK | OK | |||||||||||
| pitt | Mac OS X (10.4.10) | i386 | OK | OK | OK | |||||||||||
| Package 110/234 | Hostname | OS | Arch | BUILD | CHECK | BUILD BIN | ||||||||||
| KEGGSOAP 1.12.0 Robert Gentleman Last Changed Date: 2007-10-02 17:41:09 -0700 Last Changed Rev: 27709 | lamb1 | Linux (SUSE 10.1) | x86_64 | OK | OK | |||||||||||
| wellington | Linux (SUSE 9.2) | i686 | OK | OK | ||||||||||||
| liverpool | Windows Server 2003 R2 (32-bit) | x64 | OK | WARNINGS | OK | |||||||||||
| pitt | Mac OS X (10.4.10) | i386 | OK | OK | OK | |||||||||||
| Package 111/234 | Hostname | OS | Arch | BUILD | CHECK | BUILD BIN | ||||||||||
| lapmix 1.4.0 Yann Ruffieux Last Changed Date: 2007-10-02 17:41:09 -0700 Last Changed Rev: 27709 | lamb1 | Linux (SUSE 10.1) | x86_64 | OK | OK | |||||||||||
| wellington | Linux (SUSE 9.2) | i686 | OK | OK | ||||||||||||
| liverpool | Windows Server 2003 R2 (32-bit) | x64 | OK | OK | OK | |||||||||||
| pitt | Mac OS X (10.4.10) | i386 | OK | OK | OK | |||||||||||
| Package 112/234 | Hostname | OS | Arch | BUILD | CHECK | BUILD BIN | ||||||||||
| LBE 1.6.0 Cyril Dalmasso Last Changed Date: 2007-10-02 17:41:09 -0700 Last Changed Rev: 27709 | lamb1 | Linux (SUSE 10.1) | x86_64 | OK | OK | |||||||||||
| wellington | Linux (SUSE 9.2) | i686 | OK | OK | ||||||||||||
| liverpool | Windows Server 2003 R2 (32-bit) | x64 | OK | OK | OK | |||||||||||
| pitt | Mac OS X (10.4.10) | i386 | OK | OK | OK | |||||||||||
| Package 113/234 | Hostname | OS | Arch | BUILD | CHECK | BUILD BIN | ||||||||||
| limma 2.12.0 Gordon Smyth Last Changed Date: 2007-10-02 17:41:09 -0700 Last Changed Rev: 27709 | lamb1 | Linux (SUSE 10.1) | x86_64 | OK | OK | |||||||||||
| wellington | Linux (SUSE 9.2) | i686 | OK | OK | ||||||||||||
| liverpool | Windows Server 2003 R2 (32-bit) | x64 | OK | OK | OK | |||||||||||
| pitt | Mac OS X (10.4.10) | i386 | OK | OK | OK | |||||||||||
| Package 114/234 | Hostname | OS | Arch | BUILD | CHECK | BUILD BIN | ||||||||||
| limmaGUI 1.14.1 Keith Satterley Last Changed Date: 2007-10-03 19:51:29 -0700 Last Changed Rev: 27741 | lamb1 | Linux (SUSE 10.1) | x86_64 | OK | OK | |||||||||||
| wellington | Linux (SUSE 9.2) | i686 | OK | OK | ||||||||||||
| liverpool | Windows Server 2003 R2 (32-bit) | x64 | OK | OK | OK | |||||||||||
| pitt | Mac OS X (10.4.10) | i386 | OK | OK | OK | |||||||||||
| Package 115/234 | Hostname | OS | Arch | BUILD | CHECK | BUILD BIN | ||||||||||
| LMGene 1.8.0 John Tillinghast Last Changed Date: 2007-10-02 17:41:09 -0700 Last Changed Rev: 27709 | lamb1 | Linux (SUSE 10.1) | x86_64 | OK | OK | |||||||||||
| wellington | Linux (SUSE 9.2) | i686 | OK | OK | ||||||||||||
| liverpool | Windows Server 2003 R2 (32-bit) | x64 | OK | OK | OK | |||||||||||
| pitt | Mac OS X (10.4.10) | i386 | OK | OK | OK | |||||||||||
| Package 116/234 | Hostname | OS | Arch | BUILD | CHECK | BUILD BIN | ||||||||||
| logicFS 1.8.0 Holger Schwender Last Changed Date: 2007-10-02 17:41:09 -0700 Last Changed Rev: 27709 | lamb1 | Linux (SUSE 10.1) | x86_64 | OK | OK | |||||||||||
| wellington | Linux (SUSE 9.2) | i686 | OK | OK | ||||||||||||
| liverpool | Windows Server 2003 R2 (32-bit) | x64 | OK | OK | OK | |||||||||||
| pitt | Mac OS X (10.4.10) | i386 | OK | OK | OK | |||||||||||
| Package 117/234 | Hostname | OS | Arch | BUILD | CHECK | BUILD BIN | ||||||||||
| LPE 1.12.0 Nitin Jain Last Changed Date: 2007-10-02 17:41:09 -0700 Last Changed Rev: 27709 | lamb1 | Linux (SUSE 10.1) | x86_64 | OK | OK | |||||||||||
| wellington | Linux (SUSE 9.2) | i686 | OK | OK | ||||||||||||
| liverpool | Windows Server 2003 R2 (32-bit) | x64 | OK | OK | OK | |||||||||||
| pitt | Mac OS X (10.4.10) | i386 | OK | OK | OK | |||||||||||
| Package 118/234 | Hostname | OS | Arch | BUILD | CHECK | BUILD BIN | ||||||||||
| lumi 1.4.0 Pan Du Last Changed Date: 2007-10-02 17:41:09 -0700 Last Changed Rev: 27709 | lamb1 | Linux (SUSE 10.1) | x86_64 | OK | OK | |||||||||||
| wellington | Linux (SUSE 9.2) | i686 | OK | OK | ||||||||||||
| liverpool | Windows Server 2003 R2 (32-bit) | x64 | OK | OK | OK | |||||||||||
| pitt | Mac OS X (10.4.10) | i386 | OK | OK | OK | |||||||||||
| Package 119/234 | Hostname | OS | Arch | BUILD | CHECK | BUILD BIN | ||||||||||
| maanova 1.8.0 Hyuna Yang Last Changed Date: 2007-10-02 17:41:09 -0700 Last Changed Rev: 27709 | lamb1 | Linux (SUSE 10.1) | x86_64 | OK | WARNINGS | |||||||||||
| wellington | Linux (SUSE 9.2) | i686 | OK | WARNINGS | ||||||||||||
| liverpool | Windows Server 2003 R2 (32-bit) | x64 | OK | WARNINGS | OK | |||||||||||
| pitt | Mac OS X (10.4.10) | i386 | OK | WARNINGS | OK | |||||||||||
| Package 120/234 | Hostname | OS | Arch | BUILD | CHECK | BUILD BIN | ||||||||||
| macat 1.12.0 Joern Toedling Last Changed Date: 2007-10-02 17:41:09 -0700 Last Changed Rev: 27709 | lamb1 | Linux (SUSE 10.1) | x86_64 | OK | OK | |||||||||||
| wellington | Linux (SUSE 9.2) | i686 | OK | OK | ||||||||||||
| liverpool | Windows Server 2003 R2 (32-bit) | x64 | OK | OK | OK | |||||||||||
| pitt | Mac OS X (10.4.10) | i386 | OK | OK | OK | |||||||||||
| Package 121/234 | Hostname | OS | Arch | BUILD | CHECK | BUILD BIN | ||||||||||
| maCorrPlot 1.8.0 Alexander Ploner Last Changed Date: 2007-10-02 17:41:09 -0700 Last Changed Rev: 27709 | lamb1 | Linux (SUSE 10.1) | x86_64 | OK | OK | |||||||||||
| wellington | Linux (SUSE 9.2) | i686 | OK | OK | ||||||||||||
| liverpool | Windows Server 2003 R2 (32-bit) | x64 | OK | OK | OK | |||||||||||
| pitt | Mac OS X (10.4.10) | i386 | OK | OK | OK | |||||||||||
| Package 122/234 | Hostname | OS | Arch | BUILD | CHECK | BUILD BIN | ||||||||||
| maDB 1.10.0 Johannes Rainer Last Changed Date: 2007-10-02 17:41:09 -0700 Last Changed Rev: 27709 | lamb1 | Linux (SUSE 10.1) | x86_64 | OK | OK | |||||||||||
| wellington | Linux (SUSE 9.2) | i686 | OK | OK | ||||||||||||
| liverpool | Windows Server 2003 R2 (32-bit) | x64 | N O T S U P P O R T E D | |||||||||||||
| pitt | Mac OS X (10.4.10) | i386 | OK | OK | OK | |||||||||||
| Package 123/234 | Hostname | OS | Arch | BUILD | CHECK | BUILD BIN | ||||||||||
| made4 1.12.1 Aedin Culhane Last Changed Date: 2007-10-03 18:19:17 -0700 Last Changed Rev: 27740 | lamb1 | Linux (SUSE 10.1) | x86_64 | OK | OK | |||||||||||
| wellington | Linux (SUSE 9.2) | i686 | OK | OK | ||||||||||||
| liverpool | Windows Server 2003 R2 (32-bit) | x64 | OK | OK | OK | |||||||||||
| pitt | Mac OS X (10.4.10) | i386 | OK | OK | OK | |||||||||||
| Package 124/234 | Hostname | OS | Arch | BUILD | CHECK | BUILD BIN | ||||||||||
| maigesPack 1.2.0 Gustavo H. Esteves Last Changed Date: 2007-10-02 17:41:09 -0700 Last Changed Rev: 27709 | lamb1 | Linux (SUSE 10.1) | x86_64 | OK | OK | |||||||||||
| wellington | Linux (SUSE 9.2) | i686 | OK | OK | ||||||||||||
| liverpool | Windows Server 2003 R2 (32-bit) | x64 | OK | OK | OK | |||||||||||
| pitt | Mac OS X (10.4.10) | i386 | OK | ERROR | OK | |||||||||||
| Package 125/234 | Hostname | OS | Arch | BUILD | CHECK | BUILD BIN | ||||||||||
| makecdfenv 1.16.0 James W. MacDonald Last Changed Date: 2007-10-02 17:41:09 -0700 Last Changed Rev: 27709 | lamb1 | Linux (SUSE 10.1) | x86_64 | OK | OK | |||||||||||
| wellington | Linux (SUSE 9.2) | i686 | OK | OK | ||||||||||||
| liverpool | Windows Server 2003 R2 (32-bit) | x64 | OK | OK | OK | |||||||||||
| pitt | Mac OS X (10.4.10) | i386 | OK | OK | OK | |||||||||||
| Package 126/234 | Hostname | OS | Arch | BUILD | CHECK | BUILD BIN | ||||||||||
| makePlatformDesign 1.2.0 Benilton Carvalho Last Changed Date: 2007-10-02 17:41:09 -0700 Last Changed Rev: 27709 | lamb1 | Linux (SUSE 10.1) | x86_64 | OK | OK | |||||||||||
| wellington | Linux (SUSE 9.2) | i686 | OK | OK | ||||||||||||
| liverpool | Windows Server 2003 R2 (32-bit) | x64 | OK | OK | OK | |||||||||||
| pitt | Mac OS X (10.4.10) | i386 | OK | OK | OK | |||||||||||
| Package 127/234 | Hostname | OS | Arch | BUILD | CHECK | BUILD BIN | ||||||||||
| MANOR 1.10.0 Pierre Neuvial Last Changed Date: 2007-10-02 17:41:09 -0700 Last Changed Rev: 27709 | lamb1 | Linux (SUSE 10.1) | x86_64 | OK | OK | |||||||||||
| wellington | Linux (SUSE 9.2) | i686 | OK | OK | ||||||||||||
| liverpool | Windows Server 2003 R2 (32-bit) | x64 | OK | OK | OK | |||||||||||
| pitt | Mac OS X (10.4.10) | i386 | OK | OK | OK | |||||||||||
| Package 128/234 | Hostname | OS | Arch | BUILD | CHECK | BUILD BIN | ||||||||||
| MantelCorr 1.8.0 Brian Steinmeyer Last Changed Date: 2007-10-02 17:41:09 -0700 Last Changed Rev: 27709 | lamb1 | Linux (SUSE 10.1) | x86_64 | OK | OK | |||||||||||
| wellington | Linux (SUSE 9.2) | i686 | OK | OK | ||||||||||||
| liverpool | Windows Server 2003 R2 (32-bit) | x64 | OK | OK | OK | |||||||||||
| pitt | Mac OS X (10.4.10) | i386 | OK | OK | OK | |||||||||||
| Package 129/234 | Hostname | OS | Arch | BUILD | CHECK | BUILD BIN | ||||||||||
| marray 1.16.0 Yee Hwa (Jean) Yang Last Changed Date: 2007-10-02 17:41:09 -0700 Last Changed Rev: 27709 | lamb1 | Linux (SUSE 10.1) | x86_64 | OK | OK | |||||||||||
| wellington | Linux (SUSE 9.2) | i686 | OK | OK | ||||||||||||
| liverpool | Windows Server 2003 R2 (32-bit) | x64 | OK | OK | OK | |||||||||||
| pitt | Mac OS X (10.4.10) | i386 | OK | OK | OK | |||||||||||
| Package 130/234 | Hostname | OS | Arch | BUILD | CHECK | BUILD BIN | ||||||||||
| maSigPro 1.10.0 Ana Conesa Last Changed Date: 2007-10-02 17:41:09 -0700 Last Changed Rev: 27709 | lamb1 | Linux (SUSE 10.1) | x86_64 | OK | OK | |||||||||||
| wellington | Linux (SUSE 9.2) | i686 | OK | OK | ||||||||||||
| liverpool | Windows Server 2003 R2 (32-bit) | x64 | OK | OK | OK | |||||||||||
| pitt | Mac OS X (10.4.10) | i386 | OK | OK | OK | |||||||||||
| Package 131/234 | Hostname | OS | Arch | BUILD | CHECK | BUILD BIN | ||||||||||
| MassSpecWavelet 1.4.0 Pan Du Last Changed Date: 2007-10-02 17:41:09 -0700 Last Changed Rev: 27709 | lamb1 | Linux (SUSE 10.1) | x86_64 | OK | OK | |||||||||||
| wellington | Linux (SUSE 9.2) | i686 | OK | OK | ||||||||||||
| liverpool | Windows Server 2003 R2 (32-bit) | x64 | OK | OK | OK | |||||||||||
| pitt | Mac OS X (10.4.10) | i386 | OK | OK | OK | |||||||||||
| Package 132/234 | Hostname | OS | Arch | BUILD | CHECK | BUILD BIN | ||||||||||
| matchprobes 1.10.0 Biocore Team c/o BioC user list Last Changed Date: 2007-10-02 17:41:09 -0700 Last Changed Rev: 27709 | lamb1 | Linux (SUSE 10.1) | x86_64 | OK | OK | |||||||||||
| wellington | Linux (SUSE 9.2) | i686 | OK | OK | ||||||||||||
| liverpool | Windows Server 2003 R2 (32-bit) | x64 | OK | OK | OK | |||||||||||
| pitt | Mac OS X (10.4.10) | i386 | OK | OK | OK | |||||||||||
| Package 133/234 | Hostname | OS | Arch | BUILD | CHECK | BUILD BIN | ||||||||||
| MCRestimate 1.10.0 Markus Ruschhaupt Last Changed Date: 2007-10-02 17:41:09 -0700 Last Changed Rev: 27709 | lamb1 | Linux (SUSE 10.1) | x86_64 | OK | OK | |||||||||||
| wellington | Linux (SUSE 9.2) | i686 | OK | OK | ||||||||||||
| liverpool | Windows Server 2003 R2 (32-bit) | x64 | OK | OK | OK | |||||||||||
| pitt | Mac OS X (10.4.10) | i386 | OK | OK | OK | |||||||||||
| Package 134/234 | Hostname | OS | Arch | BUILD | CHECK | BUILD BIN | ||||||||||
| MeasurementError.cor 1.10.0 Beiying Ding Last Changed Date: 2007-10-02 17:41:09 -0700 Last Changed Rev: 27709 | lamb1 | Linux (SUSE 10.1) | x86_64 | OK | OK | |||||||||||
| wellington | Linux (SUSE 9.2) | i686 | OK | OK | ||||||||||||
| liverpool | Windows Server 2003 R2 (32-bit) | x64 | OK | OK | OK | |||||||||||
| pitt | Mac OS X (10.4.10) | i386 | OK | OK | OK | |||||||||||
| Package 135/234 | Hostname | OS | Arch | BUILD | CHECK | BUILD BIN | ||||||||||
| MergeMaid 2.10.0 Xiaogang Zhong Last Changed Date: 2007-10-02 17:41:09 -0700 Last Changed Rev: 27709 | lamb1 | Linux (SUSE 10.1) | x86_64 | OK | OK | |||||||||||
| wellington | Linux (SUSE 9.2) | i686 | OK | OK | ||||||||||||
| liverpool | Windows Server 2003 R2 (32-bit) | x64 | OK | OK | OK | |||||||||||
| pitt | Mac OS X (10.4.10) | i386 | OK | OK | OK | |||||||||||
| Package 136/234 | Hostname | OS | Arch | BUILD | CHECK | BUILD BIN | ||||||||||
| metaArray 1.12.0 Hyungwon Choi Last Changed Date: 2007-10-02 17:41:09 -0700 Last Changed Rev: 27709 | lamb1 | Linux (SUSE 10.1) | x86_64 | OK | OK | |||||||||||
| wellington | Linux (SUSE 9.2) | i686 | OK | OK | ||||||||||||
| liverpool | Windows Server 2003 R2 (32-bit) | x64 | OK | OK | OK | |||||||||||
| pitt | Mac OS X (10.4.10) | i386 | OK | OK | OK | |||||||||||
| Package 137/234 | Hostname | OS | Arch | BUILD | CHECK | BUILD BIN | ||||||||||
| Mfuzz 1.8.0 Matthias Futschik Last Changed Date: 2007-10-02 17:41:09 -0700 Last Changed Rev: 27709 | lamb1 | Linux (SUSE 10.1) | x86_64 | OK | OK | |||||||||||
| wellington | Linux (SUSE 9.2) | i686 | OK | OK | ||||||||||||
| liverpool | Windows Server 2003 R2 (32-bit) | x64 | OK | OK | OK | |||||||||||
| pitt | Mac OS X (10.4.10) | i386 | OK | OK | OK | |||||||||||
| Package 138/234 | Hostname | OS | Arch | BUILD | CHECK | BUILD BIN | ||||||||||
| MiPP 1.10.0 Sukwoo Kim Last Changed Date: 2007-10-02 17:41:09 -0700 Last Changed Rev: 27709 | lamb1 | Linux (SUSE 10.1) | x86_64 | OK | OK | |||||||||||
| wellington | Linux (SUSE 9.2) | i686 | OK | OK | ||||||||||||
| liverpool | Windows Server 2003 R2 (32-bit) | x64 | OK | OK | OK | |||||||||||
| pitt | Mac OS X (10.4.10) | i386 | OK | OK | OK | |||||||||||
| Package 139/234 | Hostname | OS | Arch | BUILD | CHECK | BUILD BIN | ||||||||||
| MLInterfaces 1.12.0 V. Carey Last Changed Date: 2007-10-02 17:41:09 -0700 Last Changed Rev: 27709 | lamb1 | Linux (SUSE 10.1) | x86_64 | OK | OK | |||||||||||
| wellington | Linux (SUSE 9.2) | i686 | OK | OK | ||||||||||||
| liverpool | Windows Server 2003 R2 (32-bit) | x64 | OK | OK | OK | |||||||||||
| pitt | Mac OS X (10.4.10) | i386 | OK | OK | OK | |||||||||||
| Package 140/234 | Hostname | OS | Arch | BUILD | CHECK | BUILD BIN | ||||||||||
| multtest 1.18.0 Katherine S. Pollard Last Changed Date: 2007-10-02 17:41:09 -0700 Last Changed Rev: 27709 | lamb1 | Linux (SUSE 10.1) | x86_64 | OK | OK | |||||||||||
| wellington | Linux (SUSE 9.2) | i686 | OK | OK | ||||||||||||
| liverpool | Windows Server 2003 R2 (32-bit) | x64 | OK | OK | OK | |||||||||||
| pitt | Mac OS X (10.4.10) | i386 | OK | OK | OK | |||||||||||
| Package 141/234 | Hostname | OS | Arch | BUILD | CHECK | BUILD BIN | ||||||||||
| MVCClass 1.12.0 Elizabeth Whalen Last Changed Date: 2007-10-02 17:41:09 -0700 Last Changed Rev: 27709 | lamb1 | Linux (SUSE 10.1) | x86_64 | OK | OK | |||||||||||
| wellington | Linux (SUSE 9.2) | i686 | OK | OK | ||||||||||||
| liverpool | Windows Server 2003 R2 (32-bit) | x64 | OK | OK | OK | |||||||||||
| pitt | Mac OS X (10.4.10) | i386 | OK | OK | OK | |||||||||||
| Package 142/234 | Hostname | OS | Arch | BUILD | CHECK | BUILD BIN | ||||||||||
| nem 2.2.1 Florian Markowetz Last Changed Date: 2007-10-05 17:10:29 -0700 Last Changed Rev: 27801 | lamb1 | Linux (SUSE 10.1) | x86_64 | OK | OK | |||||||||||
| wellington | Linux (SUSE 9.2) | i686 | OK | OK | ||||||||||||
| liverpool | Windows Server 2003 R2 (32-bit) | x64 | OK | OK | OK | |||||||||||
| pitt | Mac OS X (10.4.10) | i386 | OK | OK | OK | |||||||||||
| Package 143/234 | Hostname | OS | Arch | BUILD | CHECK | BUILD BIN | ||||||||||
| nnNorm 2.2.0 Adi Laurentiu Tarca Last Changed Date: 2007-10-02 17:41:09 -0700 Last Changed Rev: 27709 | lamb1 | Linux (SUSE 10.1) | x86_64 | OK | OK | |||||||||||
| wellington | Linux (SUSE 9.2) | i686 | OK | OK | ||||||||||||
| liverpool | Windows Server 2003 R2 (32-bit) | x64 | OK | OK | OK | |||||||||||
| pitt | Mac OS X (10.4.10) | i386 | OK | OK | OK | |||||||||||
| Package 144/234 | Hostname | OS | Arch | BUILD | CHECK | BUILD BIN | ||||||||||
| nudge 1.5.1 N. Dean Last Changed Date: 2007-04-19 15:27:45 -0700 Last Changed Rev: 24052 | lamb1 | Linux (SUSE 10.1) | x86_64 | OK | ERROR | |||||||||||
| wellington | Linux (SUSE 9.2) | i686 | OK | ERROR | ||||||||||||
| liverpool | Windows Server 2003 R2 (32-bit) | x64 | OK | ERROR | OK | |||||||||||
| pitt | Mac OS X (10.4.10) | i386 | OK | ERROR | OK | |||||||||||
| Package 145/234 | Hostname | OS | Arch | BUILD | CHECK | BUILD BIN | ||||||||||
| OCplus 1.12.0 Alexander Ploner Last Changed Date: 2007-10-02 17:41:09 -0700 Last Changed Rev: 27709 | lamb1 | Linux (SUSE 10.1) | x86_64 | OK | OK | |||||||||||
| wellington | Linux (SUSE 9.2) | i686 | OK | OK | ||||||||||||
| liverpool | Windows Server 2003 R2 (32-bit) | x64 | OK | OK | OK | |||||||||||
| pitt | Mac OS X (10.4.10) | i386 | OK | OK | OK | |||||||||||
| Package 146/234 | Hostname | OS | Arch | BUILD | CHECK | BUILD BIN | ||||||||||
| oligo 1.2.1 Benilton Carvalho Last Changed Date: 2007-10-07 09:22:50 -0700 Last Changed Rev: 27832 | lamb1 | Linux (SUSE 10.1) | x86_64 | OK | OK | |||||||||||
| wellington | Linux (SUSE 9.2) | i686 | OK | OK | ||||||||||||
| liverpool | Windows Server 2003 R2 (32-bit) | x64 | OK | OK | OK | |||||||||||
| pitt | Mac OS X (10.4.10) | i386 | OK | OK | OK | |||||||||||
| Package 147/234 | Hostname | OS | Arch | BUILD | CHECK | BUILD BIN | ||||||||||
| oligoClasses 1.0.1 Benilton Carvalho Last Changed Date: 2007-10-07 09:22:26 -0700 Last Changed Rev: 27831 | lamb1 | Linux (SUSE 10.1) | x86_64 | OK | OK | |||||||||||
| wellington | Linux (SUSE 9.2) | i686 | OK | OK | ||||||||||||
| liverpool | Windows Server 2003 R2 (32-bit) | x64 | OK | WARNINGS | OK | |||||||||||
| pitt | Mac OS X (10.4.10) | i386 | OK | OK | OK | |||||||||||
| Package 148/234 | Hostname | OS | Arch | BUILD | CHECK | BUILD BIN | ||||||||||
| OLIN 1.14.0 Matthias Futschik Last Changed Date: 2007-10-02 17:41:09 -0700 Last Changed Rev: 27709 | lamb1 | Linux (SUSE 10.1) | x86_64 | OK | OK | |||||||||||
| wellington | Linux (SUSE 9.2) | i686 | OK | OK | ||||||||||||
| liverpool | Windows Server 2003 R2 (32-bit) | x64 | OK | OK | OK | |||||||||||
| pitt | Mac OS X (10.4.10) | i386 | OK | OK | OK | |||||||||||
| Package 149/234 | Hostname | OS | Arch | BUILD | CHECK | BUILD BIN | ||||||||||
| OLINgui 1.12.0 Matthias Futschik Last Changed Date: 2007-10-02 17:41:09 -0700 Last Changed Rev: 27709 | lamb1 | Linux (SUSE 10.1) | x86_64 | OK | OK | |||||||||||
| wellington | Linux (SUSE 9.2) | i686 | OK | OK | ||||||||||||
| liverpool | Windows Server 2003 R2 (32-bit) | x64 | OK | OK | OK | |||||||||||
| pitt | Mac OS X (10.4.10) | i386 | OK | OK | OK | |||||||||||
| Package 150/234 | Hostname | OS | Arch | BUILD | CHECK | BUILD BIN | ||||||||||
| oneChannelGUI 1.4.0 Raffaele A Calogero Last Changed Date: 2007-10-02 17:41:09 -0700 Last Changed Rev: 27709 | lamb1 | Linux (SUSE 10.1) | x86_64 | OK | OK | |||||||||||
| wellington | Linux (SUSE 9.2) | i686 | OK | OK | ||||||||||||
| liverpool | Windows Server 2003 R2 (32-bit) | x64 | OK | OK | OK | |||||||||||
| pitt | Mac OS X (10.4.10) | i386 | OK | OK | OK | |||||||||||
| Package 151/234 | Hostname | OS | Arch | BUILD | CHECK | BUILD BIN | ||||||||||
| ontoTools 1.14.0 Vince Carey Last Changed Date: 2007-10-02 17:41:09 -0700 Last Changed Rev: 27709 | lamb1 | Linux (SUSE 10.1) | x86_64 | OK | OK | |||||||||||
| wellington | Linux (SUSE 9.2) | i686 | OK | OK | ||||||||||||
| liverpool | Windows Server 2003 R2 (32-bit) | x64 | OK | OK | OK | |||||||||||
| pitt | Mac OS X (10.4.10) | i386 | OK | OK | OK | |||||||||||
| Package 152/234 | Hostname | OS | Arch | BUILD | CHECK | BUILD BIN | ||||||||||
| OrderedList 1.10.0 Claudio Lottaz Last Changed Date: 2007-10-02 17:41:09 -0700 Last Changed Rev: 27709 | lamb1 | Linux (SUSE 10.1) | x86_64 | OK | OK | |||||||||||
| wellington | Linux (SUSE 9.2) | i686 | OK | OK | ||||||||||||
| liverpool | Windows Server 2003 R2 (32-bit) | x64 | OK | OK | OK | |||||||||||
| pitt | Mac OS X (10.4.10) | i386 | OK | OK | OK | |||||||||||
| Package 153/234 | Hostname | OS | Arch | BUILD | CHECK | BUILD BIN | ||||||||||
| OutlierD 1.2.0 Sukwoo Kim Last Changed Date: 2007-10-02 17:41:09 -0700 Last Changed Rev: 27709 | lamb1 | Linux (SUSE 10.1) | x86_64 | OK | OK | |||||||||||
| wellington | Linux (SUSE 9.2) | i686 | OK | OK | ||||||||||||
| liverpool | Windows Server 2003 R2 (32-bit) | x64 | OK | OK | OK | |||||||||||
| pitt | Mac OS X (10.4.10) | i386 | OK | OK | OK | |||||||||||
| Package 154/234 | Hostname | OS | Arch | BUILD | CHECK | BUILD BIN | ||||||||||
| pamr 1.36.0 Rob Tibshirani Last Changed Date: 2007-10-02 17:41:09 -0700 Last Changed Rev: 27709 | lamb1 | Linux (SUSE 10.1) | x86_64 | OK | OK | |||||||||||
| wellington | Linux (SUSE 9.2) | i686 | OK | OK | ||||||||||||
| liverpool | Windows Server 2003 R2 (32-bit) | x64 | OK | WARNINGS | OK | |||||||||||
| pitt | Mac OS X (10.4.10) | i386 | OK | WARNINGS | OK | |||||||||||
| Package 155/234 | Hostname | OS | Arch | BUILD | CHECK | BUILD BIN | ||||||||||
| panp 1.8.0 Peter Warren Last Changed Date: 2007-10-02 17:41:09 -0700 Last Changed Rev: 27709 | lamb1 | Linux (SUSE 10.1) | x86_64 | OK | OK | |||||||||||
| wellington | Linux (SUSE 9.2) | i686 | OK | OK | ||||||||||||
| liverpool | Windows Server 2003 R2 (32-bit) | x64 | OK | OK | OK | |||||||||||
| pitt | Mac OS X (10.4.10) | i386 | OK | OK | OK | |||||||||||
| Package 156/234 | Hostname | OS | Arch | BUILD | CHECK | BUILD BIN | ||||||||||
| pathRender 1.6.0 Li Long Last Changed Date: 2007-10-02 17:41:09 -0700 Last Changed Rev: 27709 | lamb1 | Linux (SUSE 10.1) | x86_64 | OK | OK | |||||||||||
| wellington | Linux (SUSE 9.2) | i686 | OK | OK | ||||||||||||
| liverpool | Windows Server 2003 R2 (32-bit) | x64 | OK | WARNINGS | OK | |||||||||||
| pitt | Mac OS X (10.4.10) | i386 | OK | OK | OK | |||||||||||
| Package 157/234 | Hostname | OS | Arch | BUILD | CHECK | BUILD BIN | ||||||||||
| pcaMethods 1.14.0 Wolfram Stacklies Last Changed Date: 2007-10-02 17:41:09 -0700 Last Changed Rev: 27709 | lamb1 | Linux (SUSE 10.1) | x86_64 | OK | OK | |||||||||||
| wellington | Linux (SUSE 9.2) | i686 | OK | OK | ||||||||||||
| liverpool | Windows Server 2003 R2 (32-bit) | x64 | OK | OK | OK | |||||||||||
| pitt | Mac OS X (10.4.10) | i386 | OK | OK | OK | |||||||||||
| Package 158/234 | Hostname | OS | Arch | BUILD | CHECK | BUILD BIN | ||||||||||
| pcot2 1.6.0 Sarah Song Last Changed Date: 2007-10-02 17:41:09 -0700 Last Changed Rev: 27709 | lamb1 | Linux (SUSE 10.1) | x86_64 | OK | OK | |||||||||||
| wellington | Linux (SUSE 9.2) | i686 | OK | OK | ||||||||||||
| liverpool | Windows Server 2003 R2 (32-bit) | x64 | OK | OK | OK | |||||||||||
| pitt | Mac OS X (10.4.10) | i386 | OK | OK | OK | |||||||||||
| Package 159/234 | Hostname | OS | Arch | BUILD | CHECK | BUILD BIN | ||||||||||
| pdInfoBuilder 1.2.0 Vince Carey Last Changed Date: 2007-10-02 17:41:09 -0700 Last Changed Rev: 27709 | lamb1 | Linux (SUSE 10.1) | x86_64 | OK | OK | |||||||||||
| wellington | Linux (SUSE 9.2) | i686 | OK | OK | ||||||||||||
| liverpool | Windows Server 2003 R2 (32-bit) | x64 | OK | OK | OK | |||||||||||
| pitt | Mac OS X (10.4.10) | i386 | OK | OK | OK | |||||||||||
| Package 160/234 | Hostname | OS | Arch | BUILD | CHECK | BUILD BIN | ||||||||||
| pdmclass 1.10.0 James W. MacDonald Last Changed Date: 2007-10-02 17:41:09 -0700 Last Changed Rev: 27709 | lamb1 | Linux (SUSE 10.1) | x86_64 | OK | OK | |||||||||||
| wellington | Linux (SUSE 9.2) | i686 | OK | OK | ||||||||||||
| liverpool | Windows Server 2003 R2 (32-bit) | x64 | OK | OK | OK | |||||||||||
| pitt | Mac OS X (10.4.10) | i386 | OK | OK | OK | |||||||||||
| Package 161/234 | Hostname | OS | Arch | BUILD | CHECK | BUILD BIN | ||||||||||
| PGSEA 1.6.0 Karl Dykema Last Changed Date: 2007-10-02 17:41:09 -0700 Last Changed Rev: 27709 | lamb1 | Linux (SUSE 10.1) | x86_64 | OK | OK | |||||||||||
| wellington | Linux (SUSE 9.2) | i686 | OK | OK | ||||||||||||
| liverpool | Windows Server 2003 R2 (32-bit) | x64 | OK | OK | OK | |||||||||||
| pitt | Mac OS X (10.4.10) | i386 | OK | OK | OK | |||||||||||
| Package 162/234 | Hostname | OS | Arch | BUILD | CHECK | BUILD BIN | ||||||||||
| pgUtils 1.10.0 Johannes Rainer Last Changed Date: 2007-10-02 17:41:09 -0700 Last Changed Rev: 27709 | lamb1 | Linux (SUSE 10.1) | x86_64 | OK | OK | |||||||||||
| wellington | Linux (SUSE 9.2) | i686 | OK | OK | ||||||||||||
| liverpool | Windows Server 2003 R2 (32-bit) | x64 | N O T S U P P O R T E D | |||||||||||||
| pitt | Mac OS X (10.4.10) | i386 | OK | OK | OK | |||||||||||
| Package 163/234 | Hostname | OS | Arch | BUILD | CHECK | BUILD BIN | ||||||||||
| pickgene 1.10.0 Brian S. Yandell Last Changed Date: 2007-10-02 17:41:09 -0700 Last Changed Rev: 27709 | lamb1 | Linux (SUSE 10.1) | x86_64 | OK | OK | |||||||||||
| wellington | Linux (SUSE 9.2) | i686 | OK | OK | ||||||||||||
| liverpool | Windows Server 2003 R2 (32-bit) | x64 | OK | OK | OK | |||||||||||
| pitt | Mac OS X (10.4.10) | i386 | OK | OK | OK | |||||||||||
| Package 164/234 | Hostname | OS | Arch | BUILD | CHECK | BUILD BIN | ||||||||||
| pkgDepTools 1.4.0 Seth Falcon Last Changed Date: 2007-10-02 17:41:09 -0700 Last Changed Rev: 27709 | lamb1 | Linux (SUSE 10.1) | x86_64 | OK | OK | |||||||||||
| wellington | Linux (SUSE 9.2) | i686 | OK | OK | ||||||||||||
| liverpool | Windows Server 2003 R2 (32-bit) | x64 | TIMEOUT | skipped | skipped | |||||||||||
| pitt | Mac OS X (10.4.10) | i386 | ERROR | skipped | skipped | |||||||||||
| Package 165/234 | Hostname | OS | Arch | BUILD | CHECK | BUILD BIN | ||||||||||
| plgem 1.10.0 Mattia Pelizzola Last Changed Date: 2007-10-02 17:41:09 -0700 Last Changed Rev: 27709 | lamb1 | Linux (SUSE 10.1) | x86_64 | OK | OK | |||||||||||
| wellington | Linux (SUSE 9.2) | i686 | OK | OK | ||||||||||||
| liverpool | Windows Server 2003 R2 (32-bit) | x64 | OK | OK | OK | |||||||||||
| pitt | Mac OS X (10.4.10) | i386 | OK | OK | OK | |||||||||||
| Package 166/234 | Hostname | OS | Arch | BUILD | CHECK | BUILD BIN | ||||||||||
| plier 1.8.0 Crispin Miller Last Changed Date: 2007-10-02 17:41:09 -0700 Last Changed Rev: 27709 | lamb1 | Linux (SUSE 10.1) | x86_64 | OK | OK | |||||||||||
| wellington | Linux (SUSE 9.2) | i686 | OK | OK | ||||||||||||
| liverpool | Windows Server 2003 R2 (32-bit) | x64 | OK | OK | OK | |||||||||||
| pitt | Mac OS X (10.4.10) | i386 | OK | OK | OK | |||||||||||
| Package 167/234 | Hostname | OS | Arch | BUILD | CHECK | BUILD BIN | ||||||||||
| ppiStats 1.4.0 Tony Chiang Last Changed Date: 2007-10-02 17:41:09 -0700 Last Changed Rev: 27709 | lamb1 | Linux (SUSE 10.1) | x86_64 | OK | OK | |||||||||||
| wellington | Linux (SUSE 9.2) | i686 | OK | OK | ||||||||||||
| liverpool | Windows Server 2003 R2 (32-bit) | x64 | OK | WARNINGS | OK | |||||||||||
| pitt | Mac OS X (10.4.10) | i386 | OK | OK | OK | |||||||||||
| Package 168/234 | Hostname | OS | Arch | BUILD | CHECK | BUILD BIN | ||||||||||
| prada 1.14.0 Florian Hahne Last Changed Date: 2007-10-02 17:41:09 -0700 Last Changed Rev: 27709 | lamb1 | Linux (SUSE 10.1) | x86_64 | OK | OK | |||||||||||
| wellington | Linux (SUSE 9.2) | i686 | OK | OK | ||||||||||||
| liverpool | Windows Server 2003 R2 (32-bit) | x64 | OK | OK | OK | |||||||||||
| pitt | Mac OS X (10.4.10) | i386 | OK | OK | OK | |||||||||||
| Package 169/234 | Hostname | OS | Arch | BUILD | CHECK | BUILD BIN | ||||||||||
| preprocessCore 1.0.0 Benjamin Milo Bolstad Last Changed Date: 2007-10-02 17:41:09 -0700 Last Changed Rev: 27709 | lamb1 | Linux (SUSE 10.1) | x86_64 | OK | OK | |||||||||||
| wellington | Linux (SUSE 9.2) | i686 | OK | OK | ||||||||||||
| liverpool | Windows Server 2003 R2 (32-bit) | x64 | OK | OK | OK | |||||||||||
| pitt | Mac OS X (10.4.10) | i386 | OK | OK | OK | |||||||||||
| Package 170/234 | Hostname | OS | Arch | BUILD | CHECK | BUILD BIN | ||||||||||
| PROcess 1.14.0 Xiaochun Li Last Changed Date: 2007-10-02 17:41:09 -0700 Last Changed Rev: 27709 | lamb1 | Linux (SUSE 10.1) | x86_64 | OK | OK | |||||||||||
| wellington | Linux (SUSE 9.2) | i686 | OK | OK | ||||||||||||
| liverpool | Windows Server 2003 R2 (32-bit) | x64 | OK | OK | OK | |||||||||||
| pitt | Mac OS X (10.4.10) | i386 | OK | OK | OK | |||||||||||
| Package 171/234 | Hostname | OS | Arch | BUILD | CHECK | BUILD BIN | ||||||||||
| puma 1.4.0 Richard Pearson Last Changed Date: 2007-10-02 17:41:09 -0700 Last Changed Rev: 27709 | lamb1 | Linux (SUSE 10.1) | x86_64 | OK | OK | |||||||||||
| wellington | Linux (SUSE 9.2) | i686 | OK | OK | ||||||||||||
| liverpool | Windows Server 2003 R2 (32-bit) | x64 | OK | OK | OK | |||||||||||
| pitt | Mac OS X (10.4.10) | i386 | OK | OK | OK | |||||||||||
| Package 172/234 | Hostname | OS | Arch | BUILD | CHECK | BUILD BIN | ||||||||||
| quantsmooth 1.4.0 Jan Oosting Last Changed Date: 2007-10-02 17:41:09 -0700 Last Changed Rev: 27709 | lamb1 | Linux (SUSE 10.1) | x86_64 | OK | OK | |||||||||||
| wellington | Linux (SUSE 9.2) | i686 | OK | OK | ||||||||||||
| liverpool | Windows Server 2003 R2 (32-bit) | x64 | OK | OK | OK | |||||||||||
| pitt | Mac OS X (10.4.10) | i386 | OK | OK | OK | |||||||||||
| Package 173/234 | Hostname | OS | Arch | BUILD | CHECK | BUILD BIN | ||||||||||
| qvalue 1.12.0 John D. Storey Last Changed Date: 2007-10-02 17:41:09 -0700 Last Changed Rev: 27709 | lamb1 | Linux (SUSE 10.1) | x86_64 | OK | OK | |||||||||||
| wellington | Linux (SUSE 9.2) | i686 | OK | OK | ||||||||||||
| liverpool | Windows Server 2003 R2 (32-bit) | x64 | OK | OK | OK | |||||||||||
| pitt | Mac OS X (10.4.10) | i386 | OK | OK | OK | |||||||||||
| Package 174/234 | Hostname | OS | Arch | BUILD | CHECK | BUILD BIN | ||||||||||
| rama 1.10.0 Raphael Gottardo Last Changed Date: 2007-10-02 17:41:09 -0700 Last Changed Rev: 27709 | lamb1 | Linux (SUSE 10.1) | x86_64 | OK | OK | |||||||||||
| wellington | Linux (SUSE 9.2) | i686 | OK | OK | ||||||||||||
| liverpool | Windows Server 2003 R2 (32-bit) | x64 | OK | OK | OK | |||||||||||
| pitt | Mac OS X (10.4.10) | i386 | OK | OK | OK | |||||||||||
| Package 175/234 | Hostname | OS | Arch | BUILD | CHECK | BUILD BIN | ||||||||||
| RankProd 2.10.0 Fangxin Hong Last Changed Date: 2007-10-02 17:41:09 -0700 Last Changed Rev: 27709 | lamb1 | Linux (SUSE 10.1) | x86_64 | OK | OK | |||||||||||
| wellington | Linux (SUSE 9.2) | i686 | OK | OK | ||||||||||||
| liverpool | Windows Server 2003 R2 (32-bit) | x64 | OK | OK | OK | |||||||||||
| pitt | Mac OS X (10.4.10) | i386 | OK | OK | OK | |||||||||||
| Package 176/234 | Hostname | OS | Arch | BUILD | CHECK | BUILD BIN | ||||||||||
| RbcBook1 1.6.0 Vince Carey Last Changed Date: 2007-10-02 17:41:09 -0700 Last Changed Rev: 27709 | lamb1 | Linux (SUSE 10.1) | x86_64 | OK | OK | |||||||||||
| wellington | Linux (SUSE 9.2) | i686 | OK | OK | ||||||||||||
| liverpool | Windows Server 2003 R2 (32-bit) | x64 | OK | OK | OK | |||||||||||
| pitt | Mac OS X (10.4.10) | i386 | OK | OK | OK | |||||||||||
| Package 177/234 | Hostname | OS | Arch | BUILD | CHECK | BUILD BIN | ||||||||||
| RBGL 1.14.0 Li Long Last Changed Date: 2007-10-02 17:41:09 -0700 Last Changed Rev: 27709 | lamb1 | Linux (SUSE 10.1) | x86_64 | OK | WARNINGS | |||||||||||
| wellington | Linux (SUSE 9.2) | i686 | OK | OK | ||||||||||||
| liverpool | Windows Server 2003 R2 (32-bit) | x64 | OK | WARNINGS | OK | |||||||||||
| pitt | Mac OS X (10.4.10) | i386 | OK | WARNINGS | OK | |||||||||||
| Package 178/234 | Hostname | OS | Arch | BUILD | CHECK | BUILD BIN | ||||||||||
| rbsurv 1.4.0 Sukwoo Kim Last Changed Date: 2007-10-02 17:41:09 -0700 Last Changed Rev: 27709 | lamb1 | Linux (SUSE 10.1) | x86_64 | OK | OK | |||||||||||
| wellington | Linux (SUSE 9.2) | i686 | OK | OK | ||||||||||||
| liverpool | Windows Server 2003 R2 (32-bit) | x64 | OK | OK | OK | |||||||||||
| pitt | Mac OS X (10.4.10) | i386 | OK | OK | OK | |||||||||||
| Package 179/234 | Hostname | OS | Arch | BUILD | CHECK | BUILD BIN | ||||||||||
| Rdbi 1.12.0 Jianhua Zhang Last Changed Date: 2007-10-02 17:41:09 -0700 Last Changed Rev: 27709 | lamb1 | Linux (SUSE 10.1) | x86_64 | OK | OK | |||||||||||
| wellington | Linux (SUSE 9.2) | i686 | OK | OK | ||||||||||||
| liverpool | Windows Server 2003 R2 (32-bit) | x64 | OK | OK | OK | |||||||||||
| pitt | Mac OS X (10.4.10) | i386 | OK | OK | OK | |||||||||||
| Package 180/234 | Hostname | OS | Arch | BUILD | CHECK | BUILD BIN | ||||||||||
| RdbiPgSQL 1.12.0 Jianhua Zhang Last Changed Date: 2007-10-02 17:41:09 -0700 Last Changed Rev: 27709 | lamb1 | Linux (SUSE 10.1) | x86_64 | OK | OK | |||||||||||
| wellington | Linux (SUSE 9.2) | i686 | OK | OK | ||||||||||||
| liverpool | Windows Server 2003 R2 (32-bit) | x64 | N O T S U P P O R T E D | |||||||||||||
| pitt | Mac OS X (10.4.10) | i386 | OK | OK | OK | |||||||||||
| Package 181/234 | Hostname | OS | Arch | BUILD | CHECK | BUILD BIN | ||||||||||
| reb 1.12.0 Karl J. Dykema Last Changed Date: 2007-10-02 17:41:09 -0700 Last Changed Rev: 27709 | lamb1 | Linux (SUSE 10.1) | x86_64 | OK | OK | |||||||||||
| wellington | Linux (SUSE 9.2) | i686 | OK | OK | ||||||||||||
| liverpool | Windows Server 2003 R2 (32-bit) | x64 | OK | OK | OK | |||||||||||
| pitt | Mac OS X (10.4.10) | i386 | OK | OK | OK | |||||||||||
| Package 182/234 | Hostname | OS | Arch | BUILD | CHECK | BUILD BIN | ||||||||||
| RefPlus 1.8.1 Kai-Ming Chang Last Changed Date: 2007-10-06 15:08:31 -0700 Last Changed Rev: 27822 | lamb1 | Linux (SUSE 10.1) | x86_64 | OK | OK | |||||||||||
| wellington | Linux (SUSE 9.2) | i686 | OK | OK | ||||||||||||
| liverpool | Windows Server 2003 R2 (32-bit) | x64 | OK | OK | OK | |||||||||||
| pitt | Mac OS X (10.4.10) | i386 | OK | OK | OK | |||||||||||
| Package 183/234 | Hostname | OS | Arch | BUILD | CHECK | BUILD BIN | ||||||||||
| Resourcerer 1.12.0 Jianhua Zhang Last Changed Date: 2007-10-02 17:41:09 -0700 Last Changed Rev: 27709 | lamb1 | Linux (SUSE 10.1) | x86_64 | OK | OK | |||||||||||
| wellington | Linux (SUSE 9.2) | i686 | OK | OK | ||||||||||||
| liverpool | Windows Server 2003 R2 (32-bit) | x64 | OK | OK | OK | |||||||||||
| pitt | Mac OS X (10.4.10) | i386 | OK | OK | OK | |||||||||||
| Package 184/234 | Hostname | OS | Arch | BUILD | CHECK | BUILD BIN | ||||||||||
| rflowcyt 1.10.0 N. LeMeur Last Changed Date: 2007-10-02 17:41:09 -0700 Last Changed Rev: 27709 | lamb1 | Linux (SUSE 10.1) | x86_64 | OK | OK | |||||||||||
| wellington | Linux (SUSE 9.2) | i686 | OK | OK | ||||||||||||
| liverpool | Windows Server 2003 R2 (32-bit) | x64 | OK | OK | OK | |||||||||||
| pitt | Mac OS X (10.4.10) | i386 | OK | OK | OK | |||||||||||
| Package 185/234 | Hostname | OS | Arch | BUILD | CHECK | BUILD BIN | ||||||||||
| Rgraphviz 1.16.0 Li Long Last Changed Date: 2007-10-02 17:41:09 -0700 Last Changed Rev: 27709 | lamb1 | Linux (SUSE 10.1) | x86_64 | OK | OK | |||||||||||
| wellington | Linux (SUSE 9.2) | i686 | OK | OK | ||||||||||||
| liverpool | Windows Server 2003 R2 (32-bit) | x64 | N O T S U P P O R T E D | |||||||||||||
| pitt | Mac OS X (10.4.10) | i386 | OK | OK | OK | |||||||||||
| Package 186/234 | Hostname | OS | Arch | BUILD | CHECK | BUILD BIN | ||||||||||
| rHVDM 1.4.0 Martino Barenco Last Changed Date: 2007-10-02 17:41:09 -0700 Last Changed Rev: 27709 | lamb1 | Linux (SUSE 10.1) | x86_64 | OK | OK | |||||||||||
| wellington | Linux (SUSE 9.2) | i686 | OK | OK | ||||||||||||
| liverpool | Windows Server 2003 R2 (32-bit) | x64 | OK | OK | OK | |||||||||||
| pitt | Mac OS X (10.4.10) | i386 | OK | OK | OK | |||||||||||
| Package 187/234 | Hostname | OS | Arch | BUILD | CHECK | BUILD BIN | ||||||||||
| Ringo 1.2.0 J. Toedling Last Changed Date: 2007-10-02 17:41:09 -0700 Last Changed Rev: 27709 | lamb1 | Linux (SUSE 10.1) | x86_64 | OK | OK | |||||||||||
| wellington | Linux (SUSE 9.2) | i686 | OK | OK | ||||||||||||
| liverpool | Windows Server 2003 R2 (32-bit) | x64 | OK | OK | OK | |||||||||||
| pitt | Mac OS X (10.4.10) | i386 | OK | OK | OK | |||||||||||
| Package 188/234 | Hostname | OS | Arch | BUILD | CHECK | BUILD BIN | ||||||||||
| Rintact 1.0.0 Tony Chiang Last Changed Date: 2007-10-05 18:27:16 -0700 Last Changed Rev: 27809 | lamb1 | Linux (SUSE 10.1) | x86_64 | OK | OK | |||||||||||
| wellington | Linux (SUSE 9.2) | i686 | OK | OK | ||||||||||||
| liverpool | Windows Server 2003 R2 (32-bit) | x64 | OK | OK | OK | |||||||||||
| pitt | Mac OS X (10.4.10) | i386 | OK | OK | OK | |||||||||||
| Package 189/234 | Hostname | OS | Arch | BUILD | CHECK | BUILD BIN | ||||||||||
| RLMM 1.0.0 Nusrat Rabbee Last Changed Date: 2007-10-05 18:35:11 -0700 Last Changed Rev: 27815 | lamb1 | Linux (SUSE 10.1) | x86_64 | OK | OK | |||||||||||
| wellington | Linux (SUSE 9.2) | i686 | OK | OK | ||||||||||||
| liverpool | Windows Server 2003 R2 (32-bit) | x64 | OK | OK | OK | |||||||||||
| pitt | Mac OS X (10.4.10) | i386 | OK | OK | OK | |||||||||||
| Package 190/234 | Hostname | OS | Arch | BUILD | CHECK | BUILD BIN | ||||||||||
| RMAGEML 2.12.0 Steffen Durinck Last Changed Date: 2007-10-02 17:41:09 -0700 Last Changed Rev: 27709 | lamb1 | Linux (SUSE 10.1) | x86_64 | OK | OK | |||||||||||
| wellington | Linux (SUSE 9.2) | i686 | OK | OK | ||||||||||||
| liverpool | Windows Server 2003 R2 (32-bit) | x64 | N O T S U P P O R T E D | |||||||||||||
| pitt | Mac OS X (10.4.10) | i386 | N O T S U P P O R T E D | |||||||||||||
| Package 191/234 | Hostname | OS | Arch | BUILD | CHECK | BUILD BIN | ||||||||||
| RMAPPER 1.8.0 VJ Carey Last Changed Date: 2007-10-02 17:41:09 -0700 Last Changed Rev: 27709 | lamb1 | Linux (SUSE 10.1) | x86_64 | OK | OK | |||||||||||
| wellington | Linux (SUSE 9.2) | i686 | OK | OK | ||||||||||||
| liverpool | Windows Server 2003 R2 (32-bit) | x64 | OK | OK | OK | |||||||||||
| pitt | Mac OS X (10.4.10) | i386 | OK | OK | OK | |||||||||||
| Package 192/234 | Hostname | OS | Arch | BUILD | CHECK | BUILD BIN | ||||||||||
| ROC 1.12.0 Vince Carey Last Changed Date: 2007-10-02 17:41:09 -0700 Last Changed Rev: 27709 | lamb1 | Linux (SUSE 10.1) | x86_64 | OK | OK | |||||||||||
| wellington | Linux (SUSE 9.2) | i686 | OK | OK | ||||||||||||
| liverpool | Windows Server 2003 R2 (32-bit) | x64 | OK | OK | OK | |||||||||||
| pitt | Mac OS X (10.4.10) | i386 | OK | OK | OK | |||||||||||
| Package 193/234 | Hostname | OS | Arch | BUILD | CHECK | BUILD BIN | ||||||||||
| rsbml 1.4.0 Michael Lawrence Last Changed Date: 2007-10-02 17:41:09 -0700 Last Changed Rev: 27709 | lamb1 | Linux (SUSE 10.1) | x86_64 | OK | OK | |||||||||||
| wellington | Linux (SUSE 9.2) | i686 | N O T S U P P O R T E D | |||||||||||||
| liverpool | Windows Server 2003 R2 (32-bit) | x64 | OK | WARNINGS | OK | |||||||||||
| pitt | Mac OS X (10.4.10) | i386 | N O T S U P P O R T E D | |||||||||||||
| Package 194/234 | Hostname | OS | Arch | BUILD | CHECK | BUILD BIN | ||||||||||
| RSNPper 1.12.0 VJ Carey Last Changed Date: 2007-10-02 17:41:09 -0700 Last Changed Rev: 27709 | lamb1 | Linux (SUSE 10.1) | x86_64 | OK | OK | |||||||||||
| wellington | Linux (SUSE 9.2) | i686 | OK | OK | ||||||||||||
| liverpool | Windows Server 2003 R2 (32-bit) | x64 | OK | OK | OK | |||||||||||
| pitt | Mac OS X (10.4.10) | i386 | OK | OK | OK | |||||||||||
| Package 195/234 | Hostname | OS | Arch | BUILD | CHECK | BUILD BIN | ||||||||||
| Ruuid 1.16.1 Biocore Team c/o BioC user list Last Changed Date: 2007-10-06 15:08:14 -0700 Last Changed Rev: 27821 | lamb1 | Linux (SUSE 10.1) | x86_64 | OK | OK | |||||||||||
| wellington | Linux (SUSE 9.2) | i686 | OK | OK | ||||||||||||
| liverpool | Windows Server 2003 R2 (32-bit) | x64 | OK | OK | OK | |||||||||||
| pitt | Mac OS X (10.4.10) | i386 | OK | OK | OK | |||||||||||
| Package 196/234 | Hostname | OS | Arch | BUILD | CHECK | BUILD BIN | ||||||||||
| RWebServices 1.2.0 Biocore Team c/o BioC user list Last Changed Date: 2007-10-02 17:41:09 -0700 Last Changed Rev: 27709 | lamb1 | Linux (SUSE 10.1) | x86_64 | OK | OK | |||||||||||
| wellington | Linux (SUSE 9.2) | i686 | OK | OK | ||||||||||||
| liverpool | Windows Server 2003 R2 (32-bit) | x64 | N O T S U P P O R T E D | |||||||||||||
| pitt | Mac OS X (10.4.10) | i386 | N O T S U P P O R T E D | |||||||||||||
| Package 197/234 | Hostname | OS | Arch | BUILD | CHECK | BUILD BIN | ||||||||||
| safe 1.10.0 William T. Barry Last Changed Date: 2007-10-02 17:41:09 -0700 Last Changed Rev: 27709 | lamb1 | Linux (SUSE 10.1) | x86_64 | OK | OK | |||||||||||
| wellington | Linux (SUSE 9.2) | i686 | OK | OK | ||||||||||||
| liverpool | Windows Server 2003 R2 (32-bit) | x64 | OK | OK | OK | |||||||||||
| pitt | Mac OS X (10.4.10) | i386 | OK | OK | OK | |||||||||||
| Package 198/234 | Hostname | OS | Arch | BUILD | CHECK | BUILD BIN | ||||||||||
| SAGElyzer 1.16.0 Jianhua Zhang Last Changed Date: 2007-10-02 17:41:09 -0700 Last Changed Rev: 27709 | lamb1 | Linux (SUSE 10.1) | x86_64 | OK | WARNINGS | |||||||||||
| wellington | Linux (SUSE 9.2) | i686 | OK | WARNINGS | ||||||||||||
| liverpool | Windows Server 2003 R2 (32-bit) | x64 | OK | WARNINGS | OK | |||||||||||
| pitt | Mac OS X (10.4.10) | i386 | OK | WARNINGS | OK | |||||||||||
| Package 199/234 | Hostname | OS | Arch | BUILD | CHECK | BUILD BIN | ||||||||||
| sagenhaft 1.8.0 Tim Beissbarth Last Changed Date: 2007-10-04 18:59:04 -0700 Last Changed Rev: 27771 | lamb1 | Linux (SUSE 10.1) | x86_64 | OK | OK | |||||||||||
| wellington | Linux (SUSE 9.2) | i686 | OK | OK | ||||||||||||
| liverpool | Windows Server 2003 R2 (32-bit) | x64 | OK | OK | OK | |||||||||||
| pitt | Mac OS X (10.4.10) | i386 | OK | OK | OK | |||||||||||
| Package 200/234 | Hostname | OS | Arch | BUILD | CHECK | BUILD BIN | ||||||||||
| SAGx 1.12.0 Per Broberg Last Changed Date: 2007-10-02 17:41:09 -0700 Last Changed Rev: 27709 | lamb1 | Linux (SUSE 10.1) | x86_64 | OK | OK | |||||||||||
| wellington | Linux (SUSE 9.2) | i686 | OK | OK | ||||||||||||
| liverpool | Windows Server 2003 R2 (32-bit) | x64 | OK | OK | OK | |||||||||||
| pitt | Mac OS X (10.4.10) | i386 | OK | OK | OK | |||||||||||
| Package 201/234 | Hostname | OS | Arch | BUILD | CHECK | BUILD BIN | ||||||||||
| SBMLR 1.32.0 Tomas Radivoyevitch Last Changed Date: 2007-10-02 17:41:09 -0700 Last Changed Rev: 27709 | lamb1 | Linux (SUSE 10.1) | x86_64 | OK | OK | |||||||||||
| wellington | Linux (SUSE 9.2) | i686 | OK | OK | ||||||||||||
| liverpool | Windows Server 2003 R2 (32-bit) | x64 | OK | OK | OK | |||||||||||
| pitt | Mac OS X (10.4.10) | i386 | OK | OK | OK | |||||||||||
| Package 202/234 | Hostname | OS | Arch | BUILD | CHECK | BUILD BIN | ||||||||||
| ScISI 1.10.0 Tony Chiang Last Changed Date: 2007-10-02 17:41:09 -0700 Last Changed Rev: 27709 | lamb1 | Linux (SUSE 10.1) | x86_64 | OK | OK | |||||||||||
| wellington | Linux (SUSE 9.2) | i686 | OK | OK | ||||||||||||
| liverpool | Windows Server 2003 R2 (32-bit) | x64 | OK | OK | OK | |||||||||||
| pitt | Mac OS X (10.4.10) | i386 | OK | OK | OK | |||||||||||
| Package 203/234 | Hostname | OS | Arch | BUILD | CHECK | BUILD BIN | ||||||||||
| SemSim 1.4.0 Xiang Guo Last Changed Date: 2007-10-02 17:41:09 -0700 Last Changed Rev: 27709 | lamb1 | Linux (SUSE 10.1) | x86_64 | OK | OK | |||||||||||
| wellington | Linux (SUSE 9.2) | i686 | OK | OK | ||||||||||||
| liverpool | Windows Server 2003 R2 (32-bit) | x64 | OK | OK | OK | |||||||||||
| pitt | Mac OS X (10.4.10) | i386 | OK | OK | OK | |||||||||||
| Package 204/234 | Hostname | OS | Arch | BUILD | CHECK | BUILD BIN | ||||||||||
| seqLogo 1.4.0 Oliver Bembom Last Changed Date: 2007-10-02 17:41:09 -0700 Last Changed Rev: 27709 | lamb1 | Linux (SUSE 10.1) | x86_64 | OK | OK | |||||||||||
| wellington | Linux (SUSE 9.2) | i686 | OK | OK | ||||||||||||
| liverpool | Windows Server 2003 R2 (32-bit) | x64 | OK | OK | OK | |||||||||||
| pitt | Mac OS X (10.4.10) | i386 | OK | OK | OK | |||||||||||
| Package 205/234 | Hostname | OS | Arch | BUILD | CHECK | BUILD BIN | ||||||||||
| siggenes 1.12.0 Holger Schwender Last Changed Date: 2007-10-02 17:41:09 -0700 Last Changed Rev: 27709 | lamb1 | Linux (SUSE 10.1) | x86_64 | OK | OK | |||||||||||
| wellington | Linux (SUSE 9.2) | i686 | OK | OK | ||||||||||||
| liverpool | Windows Server 2003 R2 (32-bit) | x64 | OK | OK | OK | |||||||||||
| pitt | Mac OS X (10.4.10) | i386 | OK | OK | OK | |||||||||||
| Package 206/234 | Hostname | OS | Arch | BUILD | CHECK | BUILD BIN | ||||||||||
| sigPathway 1.6.0 Weil Lai Last Changed Date: 2007-10-02 17:41:09 -0700 Last Changed Rev: 27709 | lamb1 | Linux (SUSE 10.1) | x86_64 | OK | OK | |||||||||||
| wellington | Linux (SUSE 9.2) | i686 | OK | OK | ||||||||||||
| liverpool | Windows Server 2003 R2 (32-bit) | x64 | OK | OK | OK | |||||||||||
| pitt | Mac OS X (10.4.10) | i386 | OK | OK | OK | |||||||||||
| Package 207/234 | Hostname | OS | Arch | BUILD | CHECK | BUILD BIN | ||||||||||
| simpleaffy 2.14.01 Crispin Miller Last Changed Date: 2007-10-05 12:36:45 -0700 Last Changed Rev: 27787 | lamb1 | Linux (SUSE 10.1) | x86_64 | OK | OK | |||||||||||
| wellington | Linux (SUSE 9.2) | i686 | OK | OK | ||||||||||||
| liverpool | Windows Server 2003 R2 (32-bit) | x64 | OK | OK | OK | |||||||||||
| pitt | Mac OS X (10.4.10) | i386 | OK | OK | OK | |||||||||||
| Package 208/234 | Hostname | OS | Arch | BUILD | CHECK | BUILD BIN | ||||||||||
| simulatorAPMS 1.10.0 Tony Chiang Last Changed Date: 2007-10-02 17:41:09 -0700 Last Changed Rev: 27709 | lamb1 | Linux (SUSE 10.1) | x86_64 | OK | OK | |||||||||||
| wellington | Linux (SUSE 9.2) | i686 | OK | OK | ||||||||||||
| liverpool | Windows Server 2003 R2 (32-bit) | x64 | OK | OK | OK | |||||||||||
| pitt | Mac OS X (10.4.10) | i386 | OK | OK | OK | |||||||||||
| Package 209/234 | Hostname | OS | Arch | BUILD | CHECK | BUILD BIN | ||||||||||
| sizepower 1.8.0 Weiliang Qiu Last Changed Date: 2007-10-02 17:41:09 -0700 Last Changed Rev: 27709 | lamb1 | Linux (SUSE 10.1) | x86_64 | OK | OK | |||||||||||
| wellington | Linux (SUSE 9.2) | i686 | OK | OK | ||||||||||||
| liverpool | Windows Server 2003 R2 (32-bit) | x64 | OK | OK | OK | |||||||||||
| pitt | Mac OS X (10.4.10) | i386 | OK | OK | OK | |||||||||||
| Package 210/234 | Hostname | OS | Arch | BUILD | CHECK | BUILD BIN | ||||||||||
| SLqPCR 1.4.0 Matthias Kohl Last Changed Date: 2007-10-02 17:41:09 -0700 Last Changed Rev: 27709 | lamb1 | Linux (SUSE 10.1) | x86_64 | OK | OK | |||||||||||
| wellington | Linux (SUSE 9.2) | i686 | OK | OK | ||||||||||||
| liverpool | Windows Server 2003 R2 (32-bit) | x64 | OK | OK | OK | |||||||||||
| pitt | Mac OS X (10.4.10) | i386 | OK | OK | OK | |||||||||||
| Package 211/234 | Hostname | OS | Arch | BUILD | CHECK | BUILD BIN | ||||||||||
| SMAP 1.2.0 Robin Andersson Last Changed Date: 2007-10-02 17:41:09 -0700 Last Changed Rev: 27709 | lamb1 | Linux (SUSE 10.1) | x86_64 | OK | OK | |||||||||||
| wellington | Linux (SUSE 9.2) | i686 | OK | OK | ||||||||||||
| liverpool | Windows Server 2003 R2 (32-bit) | x64 | OK | OK | OK | |||||||||||
| pitt | Mac OS X (10.4.10) | i386 | OK | OK | OK | |||||||||||
| Package 212/234 | Hostname | OS | Arch | BUILD | CHECK | BUILD BIN | ||||||||||
| snapCGH 1.6.0 John Marioni Last Changed Date: 2007-10-02 17:41:09 -0700 Last Changed Rev: 27709 | lamb1 | Linux (SUSE 10.1) | x86_64 | OK | OK | |||||||||||
| wellington | Linux (SUSE 9.2) | i686 | OK | OK | ||||||||||||
| liverpool | Windows Server 2003 R2 (32-bit) | x64 | OK | OK | OK | |||||||||||
| pitt | Mac OS X (10.4.10) | i386 | OK | OK | OK | |||||||||||
| Package 213/234 | Hostname | OS | Arch | BUILD | CHECK | BUILD BIN | ||||||||||
| SNPchip 1.2.1 Robert Scharpf Last Changed Date: 2007-10-03 06:02:47 -0700 Last Changed Rev: 27724 | lamb1 | Linux (SUSE 10.1) | x86_64 | OK | OK | |||||||||||
| wellington | Linux (SUSE 9.2) | i686 | OK | OK | ||||||||||||
| liverpool | Windows Server 2003 R2 (32-bit) | x64 | OK | OK | OK | |||||||||||
| pitt | Mac OS X (10.4.10) | i386 | OK | OK | OK | |||||||||||
| Package 214/234 | Hostname | OS | Arch | BUILD | CHECK | BUILD BIN | ||||||||||
| spikeLI 1.6.0 Enrico Carlon Last Changed Date: 2007-10-02 17:41:09 -0700 Last Changed Rev: 27709 | lamb1 | Linux (SUSE 10.1) | x86_64 | OK | OK | |||||||||||
| wellington | Linux (SUSE 9.2) | i686 | OK | OK | ||||||||||||
| liverpool | Windows Server 2003 R2 (32-bit) | x64 | OK | OK | OK | |||||||||||
| pitt | Mac OS X (10.4.10) | i386 | OK | OK | OK | |||||||||||
| Package 215/234 | Hostname | OS | Arch | BUILD | CHECK | BUILD BIN | ||||||||||
| splicegear 1.10.0 Laurent Last Changed Date: 2007-10-02 17:41:09 -0700 Last Changed Rev: 27709 | lamb1 | Linux (SUSE 10.1) | x86_64 | OK | OK | |||||||||||
| wellington | Linux (SUSE 9.2) | i686 | OK | OK | ||||||||||||
| liverpool | Windows Server 2003 R2 (32-bit) | x64 | OK | OK | OK | |||||||||||
| pitt | Mac OS X (10.4.10) | i386 | OK | OK | OK | |||||||||||
| Package 216/234 | Hostname | OS | Arch | BUILD | CHECK | BUILD BIN | ||||||||||
| splots 1.4.0 Oleg Sklyar Last Changed Date: 2007-10-02 17:41:09 -0700 Last Changed Rev: 27709 | lamb1 | Linux (SUSE 10.1) | x86_64 | OK | OK | |||||||||||
| wellington | Linux (SUSE 9.2) | i686 | OK | OK | ||||||||||||
| liverpool | Windows Server 2003 R2 (32-bit) | x64 | OK | OK | OK | |||||||||||
| pitt | Mac OS X (10.4.10) | i386 | OK | OK | OK | |||||||||||
| Package 217/234 | Hostname | OS | Arch | BUILD | CHECK | BUILD BIN | ||||||||||
| spotSegmentation 1.12.0 Chris Fraley Last Changed Date: 2007-10-02 17:41:09 -0700 Last Changed Rev: 27709 | lamb1 | Linux (SUSE 10.1) | x86_64 | OK | OK | |||||||||||
| wellington | Linux (SUSE 9.2) | i686 | OK | OK | ||||||||||||
| liverpool | Windows Server 2003 R2 (32-bit) | x64 | OK | OK | OK | |||||||||||
| pitt | Mac OS X (10.4.10) | i386 | OK | OK | OK | |||||||||||
| Package 218/234 | Hostname | OS | Arch | BUILD | CHECK | BUILD BIN | ||||||||||
| sscore 1.10.0 Richard Kennedy Last Changed Date: 2007-10-02 17:41:09 -0700 Last Changed Rev: 27709 | lamb1 | Linux (SUSE 10.1) | x86_64 | OK | OK | |||||||||||
| wellington | Linux (SUSE 9.2) | i686 | OK | OK | ||||||||||||
| liverpool | Windows Server 2003 R2 (32-bit) | x64 | OK | OK | OK | |||||||||||
| pitt | Mac OS X (10.4.10) | i386 | OK | OK | OK | |||||||||||
| Package 219/234 | Hostname | OS | Arch | BUILD | CHECK | BUILD BIN | ||||||||||
| ssize 1.10.0 Gregory R. Warnes Last Changed Date: 2007-10-02 17:41:09 -0700 Last Changed Rev: 27709 | lamb1 | Linux (SUSE 10.1) | x86_64 | OK | OK | |||||||||||
| wellington | Linux (SUSE 9.2) | i686 | OK | OK | ||||||||||||
| liverpool | Windows Server 2003 R2 (32-bit) | x64 | OK | OK | OK | |||||||||||
| pitt | Mac OS X (10.4.10) | i386 | OK | OK | OK | |||||||||||
| Package 220/234 | Hostname | OS | Arch | BUILD | CHECK | BUILD BIN | ||||||||||
| stepNorm 1.10.0 Yuanyuan Xiao Last Changed Date: 2007-10-02 17:41:09 -0700 Last Changed Rev: 27709 | lamb1 | Linux (SUSE 10.1) | x86_64 | OK | OK | |||||||||||
| wellington | Linux (SUSE 9.2) | i686 | OK | OK | ||||||||||||
| liverpool | Windows Server 2003 R2 (32-bit) | x64 | OK | OK | OK | |||||||||||
| pitt | Mac OS X (10.4.10) | i386 | OK | OK | OK | |||||||||||
| Package 221/234 | Hostname | OS | Arch | BUILD | CHECK | BUILD BIN | ||||||||||
| tilingArray 1.16.0 W. Huber Last Changed Date: 2007-10-02 17:41:09 -0700 Last Changed Rev: 27709 | lamb1 | Linux (SUSE 10.1) | x86_64 | OK | OK | |||||||||||
| wellington | Linux (SUSE 9.2) | i686 | OK | OK | ||||||||||||
| liverpool | Windows Server 2003 R2 (32-bit) | x64 | OK | OK | OK | |||||||||||
| pitt | Mac OS X (10.4.10) | i386 | OK | OK | OK | |||||||||||
| Package 222/234 | Hostname | OS | Arch | BUILD | CHECK | BUILD BIN | ||||||||||
| timecourse 1.10.0 Yu Chuan Tai Last Changed Date: 2007-10-02 17:41:09 -0700 Last Changed Rev: 27709 | lamb1 | Linux (SUSE 10.1) | x86_64 | OK | OK | |||||||||||
| wellington | Linux (SUSE 9.2) | i686 | OK | OK | ||||||||||||
| liverpool | Windows Server 2003 R2 (32-bit) | x64 | OK | OK | OK | |||||||||||
| pitt | Mac OS X (10.4.10) | i386 | OK | OK | OK | |||||||||||
| Package 223/234 | Hostname | OS | Arch | BUILD | CHECK | BUILD BIN | ||||||||||
| tkWidgets 1.16.0 J. Zhang Last Changed Date: 2007-10-02 17:41:09 -0700 Last Changed Rev: 27709 | lamb1 | Linux (SUSE 10.1) | x86_64 | OK | OK | |||||||||||
| wellington | Linux (SUSE 9.2) | i686 | OK | OK | ||||||||||||
| liverpool | Windows Server 2003 R2 (32-bit) | x64 | OK | OK | OK | |||||||||||
| pitt | Mac OS X (10.4.10) | i386 | OK | OK | OK | |||||||||||
| Package 224/234 | Hostname | OS | Arch | BUILD | CHECK | BUILD BIN | ||||||||||
| topGO 1.4.0 Adrian Alexa Last Changed Date: 2007-10-02 17:41:09 -0700 Last Changed Rev: 27709 | lamb1 | Linux (SUSE 10.1) | x86_64 | OK | OK | |||||||||||
| wellington | Linux (SUSE 9.2) | i686 | OK | OK | ||||||||||||
| liverpool | Windows Server 2003 R2 (32-bit) | x64 | OK | OK | OK | |||||||||||
| pitt | Mac OS X (10.4.10) | i386 | OK | OK | OK | |||||||||||
| Package 225/234 | Hostname | OS | Arch | BUILD | CHECK | BUILD BIN | ||||||||||
| twilight 1.14.1 Stefanie Scheid Last Changed Date: 2007-10-05 10:47:46 -0700 Last Changed Rev: 27779 | lamb1 | Linux (SUSE 10.1) | x86_64 | OK | OK | |||||||||||
| wellington | Linux (SUSE 9.2) | i686 | OK | OK | ||||||||||||
| liverpool | Windows Server 2003 R2 (32-bit) | x64 | OK | OK | OK | |||||||||||
| pitt | Mac OS X (10.4.10) | i386 | OK | OK | OK | |||||||||||
| Package 226/234 | Hostname | OS | Arch | BUILD | CHECK | BUILD BIN | ||||||||||
| TypeInfo 1.4.0 Duncan Temple Lang Last Changed Date: 2007-10-02 17:41:09 -0700 Last Changed Rev: 27709 | lamb1 | Linux (SUSE 10.1) | x86_64 | OK | OK | |||||||||||
| wellington | Linux (SUSE 9.2) | i686 | OK | OK | ||||||||||||
| liverpool | Windows Server 2003 R2 (32-bit) | x64 | OK | OK | OK | |||||||||||
| pitt | Mac OS X (10.4.10) | i386 | OK | OK | OK | |||||||||||
| Package 227/234 | Hostname | OS | Arch | BUILD | CHECK | BUILD BIN | ||||||||||
| VanillaICE 1.0.0 Robert Scharpf Last Changed Date: 2007-10-02 17:41:09 -0700 Last Changed Rev: 27709 | lamb1 | Linux (SUSE 10.1) | x86_64 | OK | OK | |||||||||||
| wellington | Linux (SUSE 9.2) | i686 | OK | OK | ||||||||||||
| liverpool | Windows Server 2003 R2 (32-bit) | x64 | OK | OK | OK | |||||||||||
| pitt | Mac OS X (10.4.10) | i386 | OK | OK | OK | |||||||||||
| Package 228/234 | Hostname | OS | Arch | BUILD | CHECK | BUILD BIN | ||||||||||
| vbmp 1.6.0 Nicola Lama Last Changed Date: 2007-10-02 17:41:09 -0700 Last Changed Rev: 27709 | lamb1 | Linux (SUSE 10.1) | x86_64 | OK | OK | |||||||||||
| wellington | Linux (SUSE 9.2) | i686 | OK | OK | ||||||||||||
| liverpool | Windows Server 2003 R2 (32-bit) | x64 | OK | OK | OK | |||||||||||
| pitt | Mac OS X (10.4.10) | i386 | OK | OK | OK | |||||||||||
| Package 229/234 | Hostname | OS | Arch | BUILD | CHECK | BUILD BIN | ||||||||||
| vsn 3.2.1 Wolfgang Huber Last Changed Date: 2007-10-03 05:46:44 -0700 Last Changed Rev: 27722 | lamb1 | Linux (SUSE 10.1) | x86_64 | OK | OK | |||||||||||
| wellington | Linux (SUSE 9.2) | i686 | OK | OK | ||||||||||||
| liverpool | Windows Server 2003 R2 (32-bit) | x64 | OK | OK | OK | |||||||||||
| pitt | Mac OS X (10.4.10) | i386 | OK | OK | OK | |||||||||||
| Package 230/234 | Hostname | OS | Arch | BUILD | CHECK | BUILD BIN | ||||||||||
| weaver 1.4.0 Seth Falcon Last Changed Date: 2007-10-02 17:41:09 -0700 Last Changed Rev: 27709 | lamb1 | Linux (SUSE 10.1) | x86_64 | OK | OK | |||||||||||
| wellington | Linux (SUSE 9.2) | i686 | OK | OK | ||||||||||||
| liverpool | Windows Server 2003 R2 (32-bit) | x64 | OK | OK | OK | |||||||||||
| pitt | Mac OS X (10.4.10) | i386 | OK | OK | OK | |||||||||||
| Package 231/234 | Hostname | OS | Arch | BUILD | CHECK | BUILD BIN | ||||||||||
| webbioc 1.10.0 Colin A. Smith Last Changed Date: 2007-10-02 17:41:09 -0700 Last Changed Rev: 27709 | lamb1 | Linux (SUSE 10.1) | x86_64 | OK | OK | |||||||||||
| wellington | Linux (SUSE 9.2) | i686 | OK | OK | ||||||||||||
| liverpool | Windows Server 2003 R2 (32-bit) | x64 | OK | OK | OK | |||||||||||
| pitt | Mac OS X (10.4.10) | i386 | OK | OK | OK | |||||||||||
| Package 232/234 | Hostname | OS | Arch | BUILD | CHECK | BUILD BIN | ||||||||||
| widgetInvoke 1.10.0 Jeff Gentry Last Changed Date: 2007-10-02 17:41:09 -0700 Last Changed Rev: 27709 | lamb1 | Linux (SUSE 10.1) | x86_64 | OK | OK | |||||||||||
| wellington | Linux (SUSE 9.2) | i686 | ERROR | skipped | ||||||||||||
| liverpool | Windows Server 2003 R2 (32-bit) | x64 | N O T S U P P O R T E D | |||||||||||||
| pitt | Mac OS X (10.4.10) | i386 | OK | OK | OK | |||||||||||
| Package 233/234 | Hostname | OS | Arch | BUILD | CHECK | BUILD BIN | ||||||||||
| widgetTools 1.14.0 Jianhua Zhang Last Changed Date: 2007-10-02 17:41:09 -0700 Last Changed Rev: 27709 | lamb1 | Linux (SUSE 10.1) | x86_64 | OK | OK | |||||||||||
| wellington | Linux (SUSE 9.2) | i686 | OK | OK | ||||||||||||
| liverpool | Windows Server 2003 R2 (32-bit) | x64 | OK | OK | OK | |||||||||||
| pitt | Mac OS X (10.4.10) | i386 | OK | OK | OK | |||||||||||
| Package 234/234 | Hostname | OS | Arch | BUILD | CHECK | BUILD BIN | ||||||||||
| xcms 1.10.0 Colin A. Smith Last Changed Date: 2007-10-02 17:41:09 -0700 Last Changed Rev: 27709 | lamb1 | Linux (SUSE 10.1) | x86_64 | OK | OK | |||||||||||
| wellington | Linux (SUSE 9.2) | i686 | OK | OK | ||||||||||||
| liverpool | Windows Server 2003 R2 (32-bit) | x64 | OK | OK | OK | |||||||||||
| pitt | Mac OS X (10.4.10) | i386 | OK | OK | OK | |||||||||||