Back to the "Multiple platform build/check report"
| Package 230/234 | Hostname | OS | Arch | BUILD | CHECK | BUILD BIN | 
| weaver 1.4.0 Seth Falcon Last Changed Date: 2007-10-02 17:41:09 -0700 Last Changed Rev: 27709  | lamb1 | Linux (SUSE 10.1) | x86_64 | OK | OK | |
| wellington | Linux (SUSE 9.2) | i686 | OK | OK | ||
| liverpool | Windows Server 2003 R2 (32-bit) | x64 | OK | OK | OK | |
| pitt | Mac OS X (10.4.10) | i386 | OK | OK | [ OK ] | 
| Package: weaver | 
| Version: 1.4.0 | 
| Command: /Users/biocbuild/BBS/utils/build-universal.sh weaver_1.4.0.tar.gz /Library/Frameworks/R.framework/Resources/bin/R weaver.buildbin-libdir | 
| RetCode: 0 | 
| Time: 5.0 seconds | 
| Status: OK | 
| PackageFile: weaver_1.4.0.tgz | 
                    INSTALLATION WITH 'R CMD INSTALL weaver_1.4.0.tar.gz'
* Installing to library 'weaver.buildbin-libdir'
* Installing *source* package 'weaver' ...
** R
** inst
** preparing package for lazy loading
Loading required package: digest
Loading required package: tools
Loading required package: codetools
** help
 >>> Building/Updating help pages for package 'weaver'
     Formats: text html latex example 
  internal                          text    html    latex
  weaver                            text    html    latex   example
** building package indices ...
* DONE (weaver)