Back to the "Multiple platform build/check report"
| Package 230/234 | Hostname | OS | Arch | BUILD | CHECK | BUILD BIN | 
| weaver 1.4.0 Seth Falcon Last Changed Date: 2007-10-02 17:41:09 -0700 Last Changed Rev: 27709  | lamb1 | Linux (SUSE 10.1) | x86_64 | OK | OK | |
| wellington | Linux (SUSE 9.2) | i686 | OK | OK | ||
| liverpool | Windows Server 2003 R2 (32-bit) | x64 | [ OK ] | OK | OK | |
| pitt | Mac OS X (10.4.10) | i386 | OK | OK | OK | 
| Package: weaver | 
| Version: 1.4.0 | 
| Command: E:\biocbld\bbs-2.1-bioc\R\bin\R.exe CMD build weaver | 
| RetCode: 0 | 
| Time: 21.7 seconds | 
| Status: OK | 
| PackageFile: weaver_1.4.0.tar.gz | 
* checking for file 'weaver/DESCRIPTION' ... OK
* preparing 'weaver':
* checking DESCRIPTION meta-information ... OK
* installing the package to re-build vignettes
installing R.css in E:/biocbld/bbs-2.1-bioc/tmpdir/Rinst359665573
---------- Making package weaver ------------
  adding build stamp to DESCRIPTION
  installing R files
  installing inst files
  preparing package weaver for lazy loading
Loading required package: digest
Loading required package: tools
Loading required package: codetools
  installing man source files
  installing indices
  installing help
 >>> Building/Updating help pages for package 'weaver'
     Formats: text html latex example chm 
  internal                          text    html    latex           chm
  weaver                            text    html    latex   example chm
Microsoft HTML Help Compiler 4.74.8702
Compiling e:\biocbld\bbs-2.1-bioc\meat\weaver\chm\weaver.chm
Compile time: 0 minutes, 0 seconds
3	Topics
23	Local links
1	Internet link
1	Graphic
Created e:\biocbld\bbs-2.1-bioc\meat\weaver\chm\weaver.chm, 22,059 bytes
Compression increased file by 1,056 bytes.
  adding MD5 sums
* DONE (weaver)
* creating vignettes ... OK
* removing junk files
* checking for LF line-endings in source and make files
* checking for empty or unneeded directories
* building 'weaver_1.4.0.tar.gz'