Back to the "Multiple platform build/check report"
| Package 134/234 | Hostname | OS | Arch | BUILD | CHECK | BUILD BIN | 
| MeasurementError.cor 1.10.0 Beiying Ding Last Changed Date: 2007-10-02 17:41:09 -0700 Last Changed Rev: 27709  | lamb1 | Linux (SUSE 10.1) | x86_64 | OK | OK | |
| wellington | Linux (SUSE 9.2) | i686 | OK | OK | ||
| liverpool | Windows Server 2003 R2 (32-bit) | x64 | OK | OK | [ OK ] | |
| pitt | Mac OS X (10.4.10) | i386 | OK | OK | OK | 
| Package: MeasurementError.cor | 
| Version: 1.10.0 | 
| Command: E:\biocbld\bbs-2.1-bioc\R\bin\R.exe CMD INSTALL --build --library=MeasurementError.cor.buildbin-libdir MeasurementError.cor_1.10.0.tar.gz | 
| RetCode: 0 | 
| Time: 15.1 seconds | 
| Status: OK | 
| PackageFile: MeasurementError.cor_1.10.0.zip | 
installing R.css in E:/biocbld/bbs-2.1-bioc/meat/MeasurementError.cor.buildbin-libdir
Using auto-selected zip options ''
---------- Making package MeasurementError.cor ------------
  adding build stamp to DESCRIPTION
  installing NAMESPACE file and metadata
  installing R files
  installing inst files
  installing man source files
  installing indices
  installing help
 >>> Building/Updating help pages for package 'MeasurementError.cor'
     Formats: text html latex example chm 
  cor.me.matrix                     text    html    latex   example chm
  cor.me.vector                     text    html    latex   example chm
Microsoft HTML Help Compiler 4.74.8702
Compiling e:\biocbld\bbs-2.1-bioc\meat\R.INSTALL.4904\MeasurementError.cor\chm\MeasurementError.cor.chm
Compile time: 0 minutes, 0 seconds
3	Topics
4	Local links
0	Internet links
1	Graphic
Created e:\biocbld\bbs-2.1-bioc\meat\R.INSTALL.4904\MeasurementError.cor\chm\MeasurementError.cor.chm, 18,391 bytes
Compression increased file by 6,502 bytes.
  adding MD5 sums
packaged installation of package 'MeasurementError.cor' as MeasurementError.cor_1.10.0.zip
* DONE (MeasurementError.cor)