Back to the "Multiple platform build/check report"
| Package 167/234 | Hostname | OS | Arch | BUILD | CHECK | BUILD BIN |
| ppiStats 1.4.0 Tony Chiang Last Changed Date: 2007-10-02 17:41:09 -0700 Last Changed Rev: 27709 | lamb1 | Linux (SUSE 10.1) | x86_64 | OK | OK | |
| wellington | Linux (SUSE 9.2) | i686 | OK | OK | ||
| liverpool | Windows Server 2003 R2 (32-bit) | x64 | OK | WARNINGS | OK | |
| pitt | Mac OS X (10.4.10) | i386 | OK | OK | [ OK ] |
| Package: ppiStats |
| Version: 1.4.0 |
| Command: /Users/biocbuild/BBS/utils/build-universal.sh ppiStats_1.4.0.tar.gz /Library/Frameworks/R.framework/Resources/bin/R ppiStats.buildbin-libdir |
| RetCode: 0 |
| Time: 3.8 seconds |
| Status: OK |
| PackageFile: ppiStats_1.4.0.tgz |
INSTALLATION WITH 'R CMD INSTALL ppiStats_1.4.0.tar.gz'
* Installing to library 'ppiStats.buildbin-libdir'
* Installing *source* package 'ppiStats' ...
** R
** inst
** help
>>> Building/Updating help pages for package 'ppiStats'
Formats: text html latex example
assessSymmetry text html latex example
bpMatrix text html latex example
calcInOutDegStats text html latex example
degreeEstimates text html latex example
estErrProbMethodOfMoments text html latex example
genBPGraph text html latex example
hgParams text html latex example
hgTests text html latex example
idProteinErrorType text html latex example
idProteinType text html latex example
nullDistDoublyTestedEdges text html latex example
twPERM text html latex example
** building package indices ...
* DONE (ppiStats)